{"text_format":"1","workbook":"xlsx","n_sheets":8,"sheets":["Raza","Arma","Proteccion","Metahabilidad","Objeto","Transporte","ByM","Area"],"not_rendered":{"charts":0,"images":0,"macros":1,"external_links":0,"defined_names":0,"comments":0,"pivot_tables":0},"unopened":[],"bounds":{"document_bytes":16777216,"sheet_cells":100000,"rows_first":2000,"rows_last":500,"rows_between":2000,"halvings":0,"cell_chars":16384,"cell_head_chars":4096},"cells_cut":0,"cells_raw":0,"read":"whole","date_system":"1900"}

{"sheet":"Raza","index":0,"n_rows":279,"n_cols":17,"rows_kept":279,"cut":false,"hidden":false,"merged":[]}
[]
[null,"Nombre:","Nombre",null,"Atributos:",null,null,null,null,null,"Coste del arquetipo:",null,null,null,"Coste de atributos:",1,-10]
[null,"Bonus 1:","-",{"$f":"LOOKUP(C3,ByM!$A$2:$B$462)","v":0},"CON","AGI","INT","VOL",null,null,{"$f":"IF(SUM(D3:D7,E5:H5)<1,1,SUM(D3:D7,E5:H5))","v":1},{"$f":"LOOKUP(C3,ByM!$A$2:$C$462)","v":"-"},null,null,null,2,-5]
[null,"Bonus 2:","-",{"$f":"LOOKUP(C4,ByM!$A$2:$B$462)","v":0},3,3,3,3,null,null,null,{"$f":"LOOKUP(C4,ByM!$A$2:$C$462)","v":"-"},null,null,null,3,0]
[null,"Bonus 3:","-",{"$f":"LOOKUP(C5,ByM!$A$2:$B$462)","v":0},{"$f":"LOOKUP(E4,$P$2:$Q$11)","v":0},{"$f":"LOOKUP(F4,$P$2:$Q$11)","v":0},{"$f":"LOOKUP(G4,$P$2:$Q$11)","v":0},{"$f":"LOOKUP(H4,$P$2:$Q$11)","v":0},null,null,null,{"$f":"LOOKUP(C5,ByM!$A$2:$C$462)","v":"-"},null,null,null,4,5]
[null,"Bonus 4:","-",{"$f":"LOOKUP(C6,ByM!$A$2:$B$462)","v":0},null,null,null,null,null,null,null,{"$f":"LOOKUP(C6,ByM!$A$2:$C$462)","v":"-"},null,null,null,5,10]
[null,"Bonus 5:","-",{"$f":"LOOKUP(C7,ByM!$A$2:$B$462)","v":0},null,null,null,null,null,null,null,{"$f":"LOOKUP(C7,ByM!$A$2:$C$462)","v":"-"},null,null,null,6,20]
[null,"Descripción:",null,null,null,null,null,null,null,null,null,null,null,null,null,7,40]
[null,null,null,null,null,null,null,null,null,null,null,null,null,null,null,8,80]
[null,null,null,null,null,null,null,null,null,null,null,null,null,null,null,9,150]
[null,null,null,null,null,null,null,null,null,null,null,null,null,null,null,10,300]
[]
[]
[null,"Tipo","Nombre","Desc","CON","AGI","INT","VOL","PTS",".","Bonus 1","Bonus 2","Bonus 3","Bonus 4","Bonus 5","Pts Atr.","Pts ByM"]
[null,"Raza","Androide curioso",null,4,4,6,4,58,null,"Silencioso","Maestría (mecanismos)","Otra oportunidad","Sentido arácnido","Vulnerable",{"$f":"IF(C15=\"\",\"\",LOOKUP(E15,$P$2:$Q$11)+LOOKUP(F15,$P$2:$Q$11)+LOOKUP(G15,$P$2:$Q$11)+LOOKUP(H15,$P$2:$Q$11))","v":35},{"$f":"IF(C15=\"\",\"\",LOOKUP(K15,ByM!$A$2:$B$462)+LOOKUP(L15,ByM!$A$2:$B$462)+LOOKUP(M15,ByM!$A$2:$B$462)+LOOKUP(N15,ByM!$A$2:$B$462)+LOOKUP(O15,ByM!$A$2:$B$462))","v":23}]
[null,"Raza","Androide encubierto",null,6,6,4,3,81,null,"Neuromante","Maestría (mecanismos)","Élite valiente","Profesión bárbaro","Vulnerable",{"$f":"IF(C16=\"\",\"\",LOOKUP(E16,$P$2:$Q$11)+LOOKUP(F16,$P$2:$Q$11)+LOOKUP(G16,$P$2:$Q$11)+LOOKUP(H16,$P$2:$Q$11))","v":45},{"$f":"IF(C16=\"\",\"\",LOOKUP(K16,ByM!$A$2:$B$462)+LOOKUP(L16,ByM!$A$2:$B$462)+LOOKUP(M16,ByM!$A$2:$B$462)+LOOKUP(N16,ByM!$A$2:$B$462)+LOOKUP(O16,ByM!$A$2:$B$462))","v":36}]
[null,"Raza","Androide Matón",null,6,5,4,3,59,null,"Neuromante","Duro","Absorción de impacto","Silencioso","Vulnerable",{"$f":"IF(C17=\"\",\"\",LOOKUP(E17,$P$2:$Q$11)+LOOKUP(F17,$P$2:$Q$11)+LOOKUP(G17,$P$2:$Q$11)+LOOKUP(H17,$P$2:$Q$11))","v":35},{"$f":"IF(C17=\"\",\"\",LOOKUP(K17,ByM!$A$2:$B$462)+LOOKUP(L17,ByM!$A$2:$B$462)+LOOKUP(M17,ByM!$A$2:$B$462)+LOOKUP(N17,ByM!$A$2:$B$462)+LOOKUP(O17,ByM!$A$2:$B$462))","v":24}]
[null,"Raza","Androide reconstruido",null,6,6,4,3,61,null,"Maestría (mecanismos)","Meta visión","Neuromante","Piloto evasivo (un vehículo)\t\t\t","Vulnerable",{"$f":"IF(C18=\"\",\"\",LOOKUP(E18,$P$2:$Q$11)+LOOKUP(F18,$P$2:$Q$11)+LOOKUP(G18,$P$2:$Q$11)+LOOKUP(H18,$P$2:$Q$11))","v":45},{"$f":"IF(C18=\"\",\"\",LOOKUP(K18,ByM!$A$2:$B$462)+LOOKUP(L18,ByM!$A$2:$B$462)+LOOKUP(M18,ByM!$A$2:$B$462)+LOOKUP(N18,ByM!$A$2:$B$462)+LOOKUP(O18,ByM!$A$2:$B$462))","v":16}]
[null,"Raza","Astartes",null,6,6,6,6,125,null,"Élite valiente","Maestría en combate (bólter)","Maestro carnicero (cargando)","-","-",{"$f":"IF(C19=\"\",\"\",LOOKUP(E19,$P$2:$Q$11)+LOOKUP(F19,$P$2:$Q$11)+LOOKUP(G19,$P$2:$Q$11)+LOOKUP(H19,$P$2:$Q$11))","v":80},{"$f":"IF(C19=\"\",\"\",LOOKUP(K19,ByM!$A$2:$B$462)+LOOKUP(L19,ByM!$A$2:$B$462)+LOOKUP(M19,ByM!$A$2:$B$462)+LOOKUP(N19,ByM!$A$2:$B$462)+LOOKUP(O19,ByM!$A$2:$B$462))","v":45}]
[null,"Raza","Atlante",null,5,5,5,5,50,null,"Veterano","-","-","-","-",{"$f":"IF(C20=\"\",\"\",LOOKUP(E20,$P$2:$Q$11)+LOOKUP(F20,$P$2:$Q$11)+LOOKUP(G20,$P$2:$Q$11)+LOOKUP(H20,$P$2:$Q$11))","v":40},{"$f":"IF(C20=\"\",\"\",LOOKUP(K20,ByM!$A$2:$B$462)+LOOKUP(L20,ByM!$A$2:$B$462)+LOOKUP(M20,ByM!$A$2:$B$462)+LOOKUP(N20,ByM!$A$2:$B$462)+LOOKUP(O20,ByM!$A$2:$B$462))","v":10}]
[null,"Raza","Atlante marino",null,5,5,5,5,52,null,"Pez","Tropas tras las líneas enemigas","-","-","-",{"$f":"IF(C21=\"\",\"\",LOOKUP(E21,$P$2:$Q$11)+LOOKUP(F21,$P$2:$Q$11)+LOOKUP(G21,$P$2:$Q$11)+LOOKUP(H21,$P$2:$Q$11))","v":40},{"$f":"IF(C21=\"\",\"\",LOOKUP(K21,ByM!$A$2:$B$462)+LOOKUP(L21,ByM!$A$2:$B$462)+LOOKUP(M21,ByM!$A$2:$B$462)+LOOKUP(N21,ByM!$A$2:$B$462)+LOOKUP(O21,ByM!$A$2:$B$462))","v":12}]
[null,"Raza","Bárbara",null,5,4,3,4,25,null,"Berserker","-","-","-","-",{"$f":"IF(C22=\"\",\"\",LOOKUP(E22,$P$2:$Q$11)+LOOKUP(F22,$P$2:$Q$11)+LOOKUP(G22,$P$2:$Q$11)+LOOKUP(H22,$P$2:$Q$11))","v":20},{"$f":"IF(C22=\"\",\"\",LOOKUP(K22,ByM!$A$2:$B$462)+LOOKUP(L22,ByM!$A$2:$B$462)+LOOKUP(M22,ByM!$A$2:$B$462)+LOOKUP(N22,ByM!$A$2:$B$462)+LOOKUP(O22,ByM!$A$2:$B$462))","v":5}]
[null,"Raza","Bestia del páramo",null,7,3,2,2,25,null,"Animal","Garras y dientes","-","-","-",{"$f":"IF(C23=\"\",\"\",LOOKUP(E23,$P$2:$Q$11)+LOOKUP(F23,$P$2:$Q$11)+LOOKUP(G23,$P$2:$Q$11)+LOOKUP(H23,$P$2:$Q$11))","v":30},{"$f":"IF(C23=\"\",\"\",LOOKUP(K23,ByM!$A$2:$B$462)+LOOKUP(L23,ByM!$A$2:$B$462)+LOOKUP(M23,ByM!$A$2:$B$462)+LOOKUP(N23,ByM!$A$2:$B$462)+LOOKUP(O23,ByM!$A$2:$B$462))","v":-5}]
[null,"Raza","Boss final",null,5,5,5,5,40,null,"-","-","-","-","-",{"$f":"IF(C24=\"\",\"\",LOOKUP(E24,$P$2:$Q$11)+LOOKUP(F24,$P$2:$Q$11)+LOOKUP(G24,$P$2:$Q$11)+LOOKUP(H24,$P$2:$Q$11))","v":40},{"$f":"IF(C24=\"\",\"\",LOOKUP(K24,ByM!$A$2:$B$462)+LOOKUP(L24,ByM!$A$2:$B$462)+LOOKUP(M24,ByM!$A$2:$B$462)+LOOKUP(N24,ByM!$A$2:$B$462)+LOOKUP(O24,ByM!$A$2:$B$462))","v":0}]
[null,"Raza","Cimeria",null,5,4,4,5,35,null,"Frenesí","-","-","-","-",{"$f":"IF(C25=\"\",\"\",LOOKUP(E25,$P$2:$Q$11)+LOOKUP(F25,$P$2:$Q$11)+LOOKUP(G25,$P$2:$Q$11)+LOOKUP(H25,$P$2:$Q$11))","v":30},{"$f":"IF(C25=\"\",\"\",LOOKUP(K25,ByM!$A$2:$B$462)+LOOKUP(L25,ByM!$A$2:$B$462)+LOOKUP(M25,ByM!$A$2:$B$462)+LOOKUP(N25,ByM!$A$2:$B$462)+LOOKUP(O25,ByM!$A$2:$B$462))","v":5}]
[null,"Raza","Cimeria - Conan",null,6,5,4,5,73,null,"Fatality","Frenesí","Profesión acróbata","Silencioso","Todo terreno",{"$f":"IF(C26=\"\",\"\",LOOKUP(E26,$P$2:$Q$11)+LOOKUP(F26,$P$2:$Q$11)+LOOKUP(G26,$P$2:$Q$11)+LOOKUP(H26,$P$2:$Q$11))","v":45},{"$f":"IF(C26=\"\",\"\",LOOKUP(K26,ByM!$A$2:$B$462)+LOOKUP(L26,ByM!$A$2:$B$462)+LOOKUP(M26,ByM!$A$2:$B$462)+LOOKUP(N26,ByM!$A$2:$B$462)+LOOKUP(O26,ByM!$A$2:$B$462))","v":28}]
[null,"Raza","Demonio",null,6,5,5,6,85,null,"Berserker","Señor de Medusa","-","-","-",{"$f":"IF(C27=\"\",\"\",LOOKUP(E27,$P$2:$Q$11)+LOOKUP(F27,$P$2:$Q$11)+LOOKUP(G27,$P$2:$Q$11)+LOOKUP(H27,$P$2:$Q$11))","v":60},{"$f":"IF(C27=\"\",\"\",LOOKUP(K27,ByM!$A$2:$B$462)+LOOKUP(L27,ByM!$A$2:$B$462)+LOOKUP(M27,ByM!$A$2:$B$462)+LOOKUP(N27,ByM!$A$2:$B$462)+LOOKUP(O27,ByM!$A$2:$B$462))","v":25}]
[null,"Raza","Demonio mayor",null,7,6,6,5,96,null,"Neuromante","Terror","-","-","-",{"$f":"IF(C28=\"\",\"\",LOOKUP(E28,$P$2:$Q$11)+LOOKUP(F28,$P$2:$Q$11)+LOOKUP(G28,$P$2:$Q$11)+LOOKUP(H28,$P$2:$Q$11))","v":90},{"$f":"IF(C28=\"\",\"\",LOOKUP(K28,ByM!$A$2:$B$462)+LOOKUP(L28,ByM!$A$2:$B$462)+LOOKUP(M28,ByM!$A$2:$B$462)+LOOKUP(N28,ByM!$A$2:$B$462)+LOOKUP(O28,ByM!$A$2:$B$462))","v":6}]
[null,"Raza","Demonio menor",null,5,5,5,5,45,null,"Horror","-","-","-","-",{"$f":"IF(C29=\"\",\"\",LOOKUP(E29,$P$2:$Q$11)+LOOKUP(F29,$P$2:$Q$11)+LOOKUP(G29,$P$2:$Q$11)+LOOKUP(H29,$P$2:$Q$11))","v":40},{"$f":"IF(C29=\"\",\"\",LOOKUP(K29,ByM!$A$2:$B$462)+LOOKUP(L29,ByM!$A$2:$B$462)+LOOKUP(M29,ByM!$A$2:$B$462)+LOOKUP(N29,ByM!$A$2:$B$462)+LOOKUP(O29,ByM!$A$2:$B$462))","v":5}]
[null,"Raza","Demonio volador",null,5,6,4,4,56,null,"Garras y dientes","Retirada ordenada","Rápido","Vuelo","-",{"$f":"IF(C30=\"\",\"\",LOOKUP(E30,$P$2:$Q$11)+LOOKUP(F30,$P$2:$Q$11)+LOOKUP(G30,$P$2:$Q$11)+LOOKUP(H30,$P$2:$Q$11))","v":40},{"$f":"IF(C30=\"\",\"\",LOOKUP(K30,ByM!$A$2:$B$462)+LOOKUP(L30,ByM!$A$2:$B$462)+LOOKUP(M30,ByM!$A$2:$B$462)+LOOKUP(N30,ByM!$A$2:$B$462)+LOOKUP(O30,ByM!$A$2:$B$462))","v":16}]
[null,"Raza","Dotado",null,5,5,5,5,85,null,"Maestría en combate (bólter)","Maestro carnicero (cargando)","Élite valiente","-","-",{"$f":"IF(C31=\"\",\"\",LOOKUP(E31,$P$2:$Q$11)+LOOKUP(F31,$P$2:$Q$11)+LOOKUP(G31,$P$2:$Q$11)+LOOKUP(H31,$P$2:$Q$11))","v":40},{"$f":"IF(C31=\"\",\"\",LOOKUP(K31,ByM!$A$2:$B$462)+LOOKUP(L31,ByM!$A$2:$B$462)+LOOKUP(M31,ByM!$A$2:$B$462)+LOOKUP(N31,ByM!$A$2:$B$462)+LOOKUP(O31,ByM!$A$2:$B$462))","v":45}]
[null,"Raza","El enjambre",null,4,3,2,3,1,null,"-","-","-","-","-",{"$f":"IF(C32=\"\",\"\",LOOKUP(E32,$P$2:$Q$11)+LOOKUP(F32,$P$2:$Q$11)+LOOKUP(G32,$P$2:$Q$11)+LOOKUP(H32,$P$2:$Q$11))","v":0},{"$f":"IF(C32=\"\",\"\",LOOKUP(K32,ByM!$A$2:$B$462)+LOOKUP(L32,ByM!$A$2:$B$462)+LOOKUP(M32,ByM!$A$2:$B$462)+LOOKUP(N32,ByM!$A$2:$B$462)+LOOKUP(O32,ByM!$A$2:$B$462))","v":0}]
[null,"Raza","Engendro - División científica",null,7,3,1,2,27,null,"Desafiante","Garras y dientes","Pusilánime (Tierdoktor)","-","-",{"$f":"IF(C33=\"\",\"\",LOOKUP(E33,$P$2:$Q$11)+LOOKUP(F33,$P$2:$Q$11)+LOOKUP(G33,$P$2:$Q$11)+LOOKUP(H33,$P$2:$Q$11))","v":25},{"$f":"IF(C33=\"\",\"\",LOOKUP(K33,ByM!$A$2:$B$462)+LOOKUP(L33,ByM!$A$2:$B$462)+LOOKUP(M33,ByM!$A$2:$B$462)+LOOKUP(N33,ByM!$A$2:$B$462)+LOOKUP(O33,ByM!$A$2:$B$462))","v":2}]
[null,"Raza","Escorpión de Tanakan de agua",null,4,4,2,3,23,null,"Silencioso","Garras y dientes","Meta visión","-","-",{"$f":"IF(C34=\"\",\"\",LOOKUP(E34,$P$2:$Q$11)+LOOKUP(F34,$P$2:$Q$11)+LOOKUP(G34,$P$2:$Q$11)+LOOKUP(H34,$P$2:$Q$11))","v":5},{"$f":"IF(C34=\"\",\"\",LOOKUP(K34,ByM!$A$2:$B$462)+LOOKUP(L34,ByM!$A$2:$B$462)+LOOKUP(M34,ByM!$A$2:$B$462)+LOOKUP(N34,ByM!$A$2:$B$462)+LOOKUP(O34,ByM!$A$2:$B$462))","v":18}]
[null,"Raza","Escorpión de Tanakan de tierra",null,4,3,2,3,12,null,"Silencioso","Garras y dientes","Radar","-","-",{"$f":"IF(C35=\"\",\"\",LOOKUP(E35,$P$2:$Q$11)+LOOKUP(F35,$P$2:$Q$11)+LOOKUP(G35,$P$2:$Q$11)+LOOKUP(H35,$P$2:$Q$11))","v":0},{"$f":"IF(C35=\"\",\"\",LOOKUP(K35,ByM!$A$2:$B$462)+LOOKUP(L35,ByM!$A$2:$B$462)+LOOKUP(M35,ByM!$A$2:$B$462)+LOOKUP(N35,ByM!$A$2:$B$462)+LOOKUP(O35,ByM!$A$2:$B$462))","v":12}]
[null,"Raza","Espíritu máquina",null,3,5,4,5,20,null,"Vulnerable","-","-","-","-",{"$f":"IF(C36=\"\",\"\",LOOKUP(E36,$P$2:$Q$11)+LOOKUP(F36,$P$2:$Q$11)+LOOKUP(G36,$P$2:$Q$11)+LOOKUP(H36,$P$2:$Q$11))","v":25},{"$f":"IF(C36=\"\",\"\",LOOKUP(K36,ByM!$A$2:$B$462)+LOOKUP(L36,ByM!$A$2:$B$462)+LOOKUP(M36,ByM!$A$2:$B$462)+LOOKUP(N36,ByM!$A$2:$B$462)+LOOKUP(O36,ByM!$A$2:$B$462))","v":-5}]
[null,"Raza","Esqueleto",null,4,4,3,3,21,null,"Ave fénix","No vivo","-","-","-",{"$f":"IF(C37=\"\",\"\",LOOKUP(E37,$P$2:$Q$11)+LOOKUP(F37,$P$2:$Q$11)+LOOKUP(G37,$P$2:$Q$11)+LOOKUP(H37,$P$2:$Q$11))","v":10},{"$f":"IF(C37=\"\",\"\",LOOKUP(K37,ByM!$A$2:$B$462)+LOOKUP(L37,ByM!$A$2:$B$462)+LOOKUP(M37,ByM!$A$2:$B$462)+LOOKUP(N37,ByM!$A$2:$B$462)+LOOKUP(O37,ByM!$A$2:$B$462))","v":11}]
[null,"Raza","Estigia",null,4,4,5,5,35,null,"Orador","-","-","-","-",{"$f":"IF(C38=\"\",\"\",LOOKUP(E38,$P$2:$Q$11)+LOOKUP(F38,$P$2:$Q$11)+LOOKUP(G38,$P$2:$Q$11)+LOOKUP(H38,$P$2:$Q$11))","v":30},{"$f":"IF(C38=\"\",\"\",LOOKUP(K38,ByM!$A$2:$B$462)+LOOKUP(L38,ByM!$A$2:$B$462)+LOOKUP(M38,ByM!$A$2:$B$462)+LOOKUP(N38,ByM!$A$2:$B$462)+LOOKUP(O38,ByM!$A$2:$B$462))","v":5}]
[null,"Raza","Fantasma",null,2,4,4,4,36,null,"Hálito de miedo","No vivo","-","-","-",{"$f":"IF(C39=\"\",\"\",LOOKUP(E39,$P$2:$Q$11)+LOOKUP(F39,$P$2:$Q$11)+LOOKUP(G39,$P$2:$Q$11)+LOOKUP(H39,$P$2:$Q$11))","v":10},{"$f":"IF(C39=\"\",\"\",LOOKUP(K39,ByM!$A$2:$B$462)+LOOKUP(L39,ByM!$A$2:$B$462)+LOOKUP(M39,ByM!$A$2:$B$462)+LOOKUP(N39,ByM!$A$2:$B$462)+LOOKUP(O39,ByM!$A$2:$B$462))","v":26}]
[null,"Raza","Farsun",null,4,5,5,4,35,null,"Rápido","-","-","-","-",{"$f":"IF(C40=\"\",\"\",LOOKUP(E40,$P$2:$Q$11)+LOOKUP(F40,$P$2:$Q$11)+LOOKUP(G40,$P$2:$Q$11)+LOOKUP(H40,$P$2:$Q$11))","v":30},{"$f":"IF(C40=\"\",\"\",LOOKUP(K40,ByM!$A$2:$B$462)+LOOKUP(L40,ByM!$A$2:$B$462)+LOOKUP(M40,ByM!$A$2:$B$462)+LOOKUP(N40,ByM!$A$2:$B$462)+LOOKUP(O40,ByM!$A$2:$B$462))","v":5}]
[null,"Raza","Gólem de casco rojo",null,4,5,4,4,25,null,"-","-","-","-","-",{"$f":"IF(C41=\"\",\"\",LOOKUP(E41,$P$2:$Q$11)+LOOKUP(F41,$P$2:$Q$11)+LOOKUP(G41,$P$2:$Q$11)+LOOKUP(H41,$P$2:$Q$11))","v":25},{"$f":"IF(C41=\"\",\"\",LOOKUP(K41,ByM!$A$2:$B$462)+LOOKUP(L41,ByM!$A$2:$B$462)+LOOKUP(M41,ByM!$A$2:$B$462)+LOOKUP(N41,ByM!$A$2:$B$462)+LOOKUP(O41,ByM!$A$2:$B$462))","v":0}]
[null,"Raza","Gólem del páramo",null,6,4,4,4,35,null,"-","-","-","-","-",{"$f":"IF(C42=\"\",\"\",LOOKUP(E42,$P$2:$Q$11)+LOOKUP(F42,$P$2:$Q$11)+LOOKUP(G42,$P$2:$Q$11)+LOOKUP(H42,$P$2:$Q$11))","v":35},{"$f":"IF(C42=\"\",\"\",LOOKUP(K42,ByM!$A$2:$B$462)+LOOKUP(L42,ByM!$A$2:$B$462)+LOOKUP(M42,ByM!$A$2:$B$462)+LOOKUP(N42,ByM!$A$2:$B$462)+LOOKUP(O42,ByM!$A$2:$B$462))","v":0}]
[null,"Raza","Gran demonio",null,7,7,7,7,215,null,"Despertando del letargo","Fortuna","Gran demonio","Horror","Señor del sometimiento",{"$f":"IF(C43=\"\",\"\",LOOKUP(E43,$P$2:$Q$11)+LOOKUP(F43,$P$2:$Q$11)+LOOKUP(G43,$P$2:$Q$11)+LOOKUP(H43,$P$2:$Q$11))","v":160},{"$f":"IF(C43=\"\",\"\",LOOKUP(K43,ByM!$A$2:$B$462)+LOOKUP(L43,ByM!$A$2:$B$462)+LOOKUP(M43,ByM!$A$2:$B$462)+LOOKUP(N43,ByM!$A$2:$B$462)+LOOKUP(O43,ByM!$A$2:$B$462))","v":55}]
[null,"Raza","Gran pantera",null,5,4,2,4,20,null,"Animal","Garras y dientes","Rápido","Todo terreno","-",{"$f":"IF(C44=\"\",\"\",LOOKUP(E44,$P$2:$Q$11)+LOOKUP(F44,$P$2:$Q$11)+LOOKUP(G44,$P$2:$Q$11)+LOOKUP(H44,$P$2:$Q$11))","v":15},{"$f":"IF(C44=\"\",\"\",LOOKUP(K44,ByM!$A$2:$B$462)+LOOKUP(L44,ByM!$A$2:$B$462)+LOOKUP(M44,ByM!$A$2:$B$462)+LOOKUP(N44,ByM!$A$2:$B$462)+LOOKUP(O44,ByM!$A$2:$B$462))","v":5}]
[null,"Raza","Grondariana",null,5,5,3,4,30,null,"Fatality","-","-","-","-",{"$f":"IF(C45=\"\",\"\",LOOKUP(E45,$P$2:$Q$11)+LOOKUP(F45,$P$2:$Q$11)+LOOKUP(G45,$P$2:$Q$11)+LOOKUP(H45,$P$2:$Q$11))","v":25},{"$f":"IF(C45=\"\",\"\",LOOKUP(K45,ByM!$A$2:$B$462)+LOOKUP(L45,ByM!$A$2:$B$462)+LOOKUP(M45,ByM!$A$2:$B$462)+LOOKUP(N45,ByM!$A$2:$B$462)+LOOKUP(O45,ByM!$A$2:$B$462))","v":5}]
[null,"Raza","Gusano león",null,4,3,2,3,12,null,"Silencioso","Garras y dientes","Radar","-","-",{"$f":"IF(C46=\"\",\"\",LOOKUP(E46,$P$2:$Q$11)+LOOKUP(F46,$P$2:$Q$11)+LOOKUP(G46,$P$2:$Q$11)+LOOKUP(H46,$P$2:$Q$11))","v":0},{"$f":"IF(C46=\"\",\"\",LOOKUP(K46,ByM!$A$2:$B$462)+LOOKUP(L46,ByM!$A$2:$B$462)+LOOKUP(M46,ByM!$A$2:$B$462)+LOOKUP(N46,ByM!$A$2:$B$462)+LOOKUP(O46,ByM!$A$2:$B$462))","v":12}]
[null,"Raza","Harvester",null,6,3,2,3,23,null,"Garras y dientes","Silencioso","-","-","-",{"$f":"IF(C47=\"\",\"\",LOOKUP(E47,$P$2:$Q$11)+LOOKUP(F47,$P$2:$Q$11)+LOOKUP(G47,$P$2:$Q$11)+LOOKUP(H47,$P$2:$Q$11))","v":15},{"$f":"IF(C47=\"\",\"\",LOOKUP(K47,ByM!$A$2:$B$462)+LOOKUP(L47,ByM!$A$2:$B$462)+LOOKUP(M47,ByM!$A$2:$B$462)+LOOKUP(N47,ByM!$A$2:$B$462)+LOOKUP(O47,ByM!$A$2:$B$462))","v":8}]
[null,"Raza","Harvester joven",null,3,3,2,3,8,null,"Silencioso","Garras y dientes","Sangre de ácido (máx 1)\t\t\t","-","-",{"$f":"IF(C48=\"\",\"\",LOOKUP(E48,$P$2:$Q$11)+LOOKUP(F48,$P$2:$Q$11)+LOOKUP(G48,$P$2:$Q$11)+LOOKUP(H48,$P$2:$Q$11))","v":-5},{"$f":"IF(C48=\"\",\"\",LOOKUP(K48,ByM!$A$2:$B$462)+LOOKUP(L48,ByM!$A$2:$B$462)+LOOKUP(M48,ByM!$A$2:$B$462)+LOOKUP(N48,ByM!$A$2:$B$462)+LOOKUP(O48,ByM!$A$2:$B$462))","v":13}]
[null,"Raza","Hiena",null,4,4,3,3,30,null,"Garras y dientes","Rápido","Retirada ordenada","Saltador","-",{"$f":"IF(C49=\"\",\"\",LOOKUP(E49,$P$2:$Q$11)+LOOKUP(F49,$P$2:$Q$11)+LOOKUP(G49,$P$2:$Q$11)+LOOKUP(H49,$P$2:$Q$11))","v":10},{"$f":"IF(C49=\"\",\"\",LOOKUP(K49,ByM!$A$2:$B$462)+LOOKUP(L49,ByM!$A$2:$B$462)+LOOKUP(M49,ByM!$A$2:$B$462)+LOOKUP(N49,ByM!$A$2:$B$462)+LOOKUP(O49,ByM!$A$2:$B$462))","v":20}]
[null,"Raza","Hirkana",null,4,5,4,4,30,null,"Maestría (a caballo)","-","-","-","-",{"$f":"IF(C50=\"\",\"\",LOOKUP(E50,$P$2:$Q$11)+LOOKUP(F50,$P$2:$Q$11)+LOOKUP(G50,$P$2:$Q$11)+LOOKUP(H50,$P$2:$Q$11))","v":25},{"$f":"IF(C50=\"\",\"\",LOOKUP(K50,ByM!$A$2:$B$462)+LOOKUP(L50,ByM!$A$2:$B$462)+LOOKUP(M50,ByM!$A$2:$B$462)+LOOKUP(N50,ByM!$A$2:$B$462)+LOOKUP(O50,ByM!$A$2:$B$462))","v":5}]
[null,"Raza","Hombre mono",null,5,5,3,4,45,null,"Gran bestia","Mulo","Saltador","-","-",{"$f":"IF(C51=\"\",\"\",LOOKUP(E51,$P$2:$Q$11)+LOOKUP(F51,$P$2:$Q$11)+LOOKUP(G51,$P$2:$Q$11)+LOOKUP(H51,$P$2:$Q$11))","v":25},{"$f":"IF(C51=\"\",\"\",LOOKUP(K51,ByM!$A$2:$B$462)+LOOKUP(L51,ByM!$A$2:$B$462)+LOOKUP(M51,ByM!$A$2:$B$462)+LOOKUP(N51,ByM!$A$2:$B$462)+LOOKUP(O51,ByM!$A$2:$B$462))","v":20}]
[null,"Raza","Hombre serpiente",null,4,4,5,5,32,null,"Desafiante","-","-","-","-",{"$f":"IF(C52=\"\",\"\",LOOKUP(E52,$P$2:$Q$11)+LOOKUP(F52,$P$2:$Q$11)+LOOKUP(G52,$P$2:$Q$11)+LOOKUP(H52,$P$2:$Q$11))","v":30},{"$f":"IF(C52=\"\",\"\",LOOKUP(K52,ByM!$A$2:$B$462)+LOOKUP(L52,ByM!$A$2:$B$462)+LOOKUP(M52,ByM!$A$2:$B$462)+LOOKUP(N52,ByM!$A$2:$B$462)+LOOKUP(O52,ByM!$A$2:$B$462))","v":2}]
[null,"Raza","Humana",null,4,4,4,4,20,null,"-","-","-","-","-",{"$f":"IF(C53=\"\",\"\",LOOKUP(E53,$P$2:$Q$11)+LOOKUP(F53,$P$2:$Q$11)+LOOKUP(G53,$P$2:$Q$11)+LOOKUP(H53,$P$2:$Q$11))","v":20},{"$f":"IF(C53=\"\",\"\",LOOKUP(K53,ByM!$A$2:$B$462)+LOOKUP(L53,ByM!$A$2:$B$462)+LOOKUP(M53,ByM!$A$2:$B$462)+LOOKUP(N53,ByM!$A$2:$B$462)+LOOKUP(O53,ByM!$A$2:$B$462))","v":0}]
[null,"Raza","Humana - anciano",null,3,3,3,3,1,null,"-","-","-","-","-",{"$f":"IF(C54=\"\",\"\",LOOKUP(E54,$P$2:$Q$11)+LOOKUP(F54,$P$2:$Q$11)+LOOKUP(G54,$P$2:$Q$11)+LOOKUP(H54,$P$2:$Q$11))","v":0},{"$f":"IF(C54=\"\",\"\",LOOKUP(K54,ByM!$A$2:$B$462)+LOOKUP(L54,ByM!$A$2:$B$462)+LOOKUP(M54,ByM!$A$2:$B$462)+LOOKUP(N54,ByM!$A$2:$B$462)+LOOKUP(O54,ByM!$A$2:$B$462))","v":0}]
[null,"Raza","Humana - niño",null,3,4,3,3,5,null,"-","-","-","-","-",{"$f":"IF(C55=\"\",\"\",LOOKUP(E55,$P$2:$Q$11)+LOOKUP(F55,$P$2:$Q$11)+LOOKUP(G55,$P$2:$Q$11)+LOOKUP(H55,$P$2:$Q$11))","v":5},{"$f":"IF(C55=\"\",\"\",LOOKUP(K55,ByM!$A$2:$B$462)+LOOKUP(L55,ByM!$A$2:$B$462)+LOOKUP(M55,ByM!$A$2:$B$462)+LOOKUP(N55,ByM!$A$2:$B$462)+LOOKUP(O55,ByM!$A$2:$B$462))","v":0}]
[null,"Raza","Humana ágil",null,4,5,4,4,25,null,"-","-","-","-","-",{"$f":"IF(C56=\"\",\"\",LOOKUP(E56,$P$2:$Q$11)+LOOKUP(F56,$P$2:$Q$11)+LOOKUP(G56,$P$2:$Q$11)+LOOKUP(H56,$P$2:$Q$11))","v":25},{"$f":"IF(C56=\"\",\"\",LOOKUP(K56,ByM!$A$2:$B$462)+LOOKUP(L56,ByM!$A$2:$B$462)+LOOKUP(M56,ByM!$A$2:$B$462)+LOOKUP(N56,ByM!$A$2:$B$462)+LOOKUP(O56,ByM!$A$2:$B$462))","v":0}]
[null,"Raza","Humana cazatesoros",null,4,5,5,5,55,null,"Fortuna","Sentido arácnido","-","-","-",{"$f":"IF(C57=\"\",\"\",LOOKUP(E57,$P$2:$Q$11)+LOOKUP(F57,$P$2:$Q$11)+LOOKUP(G57,$P$2:$Q$11)+LOOKUP(H57,$P$2:$Q$11))","v":35},{"$f":"IF(C57=\"\",\"\",LOOKUP(K57,ByM!$A$2:$B$462)+LOOKUP(L57,ByM!$A$2:$B$462)+LOOKUP(M57,ByM!$A$2:$B$462)+LOOKUP(N57,ByM!$A$2:$B$462)+LOOKUP(O57,ByM!$A$2:$B$462))","v":20}]
[null,"Raza","Humana jefe",null,4,4,4,5,50,null,"Anulador de voluntad","Órdenes","-","-","-",{"$f":"IF(C58=\"\",\"\",LOOKUP(E58,$P$2:$Q$11)+LOOKUP(F58,$P$2:$Q$11)+LOOKUP(G58,$P$2:$Q$11)+LOOKUP(H58,$P$2:$Q$11))","v":25},{"$f":"IF(C58=\"\",\"\",LOOKUP(K58,ByM!$A$2:$B$462)+LOOKUP(L58,ByM!$A$2:$B$462)+LOOKUP(M58,ByM!$A$2:$B$462)+LOOKUP(N58,ByM!$A$2:$B$462)+LOOKUP(O58,ByM!$A$2:$B$462))","v":25}]
[null,"Raza","Humana maga",null,4,4,5,5,41,null,"Neuromante","Profesión mago","-","-","-",{"$f":"IF(C59=\"\",\"\",LOOKUP(E59,$P$2:$Q$11)+LOOKUP(F59,$P$2:$Q$11)+LOOKUP(G59,$P$2:$Q$11)+LOOKUP(H59,$P$2:$Q$11))","v":30},{"$f":"IF(C59=\"\",\"\",LOOKUP(K59,ByM!$A$2:$B$462)+LOOKUP(L59,ByM!$A$2:$B$462)+LOOKUP(M59,ByM!$A$2:$B$462)+LOOKUP(N59,ByM!$A$2:$B$462)+LOOKUP(O59,ByM!$A$2:$B$462))","v":11}]
[null,"Raza","Humana modificada - Fuerte Thule",null,6,4,3,3,25,null,"-","-","-","-","-",{"$f":"IF(C60=\"\",\"\",LOOKUP(E60,$P$2:$Q$11)+LOOKUP(F60,$P$2:$Q$11)+LOOKUP(G60,$P$2:$Q$11)+LOOKUP(H60,$P$2:$Q$11))","v":25},{"$f":"IF(C60=\"\",\"\",LOOKUP(K60,ByM!$A$2:$B$462)+LOOKUP(L60,ByM!$A$2:$B$462)+LOOKUP(M60,ByM!$A$2:$B$462)+LOOKUP(N60,ByM!$A$2:$B$462)+LOOKUP(O60,ByM!$A$2:$B$462))","v":0}]
[null,"Raza","Humana oficial",null,5,5,4,5,38,null,"Líder","-","-","-","-",{"$f":"IF(C61=\"\",\"\",LOOKUP(E61,$P$2:$Q$11)+LOOKUP(F61,$P$2:$Q$11)+LOOKUP(G61,$P$2:$Q$11)+LOOKUP(H61,$P$2:$Q$11))","v":35},{"$f":"IF(C61=\"\",\"\",LOOKUP(K61,ByM!$A$2:$B$462)+LOOKUP(L61,ByM!$A$2:$B$462)+LOOKUP(M61,ByM!$A$2:$B$462)+LOOKUP(N61,ByM!$A$2:$B$462)+LOOKUP(O61,ByM!$A$2:$B$462))","v":3}]
[null,"Raza","Humana pandillera",null,4,5,4,4,25,null,"-","-","-","-","-",{"$f":"IF(C62=\"\",\"\",LOOKUP(E62,$P$2:$Q$11)+LOOKUP(F62,$P$2:$Q$11)+LOOKUP(G62,$P$2:$Q$11)+LOOKUP(H62,$P$2:$Q$11))","v":25},{"$f":"IF(C62=\"\",\"\",LOOKUP(K62,ByM!$A$2:$B$462)+LOOKUP(L62,ByM!$A$2:$B$462)+LOOKUP(M62,ByM!$A$2:$B$462)+LOOKUP(N62,ByM!$A$2:$B$462)+LOOKUP(O62,ByM!$A$2:$B$462))","v":0}]
[null,"Raza","Humana soldado",null,5,5,4,4,30,null,"-","-","-","-","-",{"$f":"IF(C63=\"\",\"\",LOOKUP(E63,$P$2:$Q$11)+LOOKUP(F63,$P$2:$Q$11)+LOOKUP(G63,$P$2:$Q$11)+LOOKUP(H63,$P$2:$Q$11))","v":30},{"$f":"IF(C63=\"\",\"\",LOOKUP(K63,ByM!$A$2:$B$462)+LOOKUP(L63,ByM!$A$2:$B$462)+LOOKUP(M63,ByM!$A$2:$B$462)+LOOKUP(N63,ByM!$A$2:$B$462)+LOOKUP(O63,ByM!$A$2:$B$462))","v":0}]
[null,"Raza","Humana superviviente",null,4,5,5,4,30,null,"-","-","-","-","-",{"$f":"IF(C64=\"\",\"\",LOOKUP(E64,$P$2:$Q$11)+LOOKUP(F64,$P$2:$Q$11)+LOOKUP(G64,$P$2:$Q$11)+LOOKUP(H64,$P$2:$Q$11))","v":30},{"$f":"IF(C64=\"\",\"\",LOOKUP(K64,ByM!$A$2:$B$462)+LOOKUP(L64,ByM!$A$2:$B$462)+LOOKUP(M64,ByM!$A$2:$B$462)+LOOKUP(N64,ByM!$A$2:$B$462)+LOOKUP(O64,ByM!$A$2:$B$462))","v":0}]
[null,"Raza","IA A.P.O.L.L.O",null,2,2,4,3,10,null,"Maestría (mecanismos)","Piloto evasivo (un vehículo)\t\t\t","Sentido arácnido","-","-",{"$f":"IF(C65=\"\",\"\",LOOKUP(E65,$P$2:$Q$11)+LOOKUP(F65,$P$2:$Q$11)+LOOKUP(G65,$P$2:$Q$11)+LOOKUP(H65,$P$2:$Q$11))","v":-5},{"$f":"IF(C65=\"\",\"\",LOOKUP(K65,ByM!$A$2:$B$462)+LOOKUP(L65,ByM!$A$2:$B$462)+LOOKUP(M65,ByM!$A$2:$B$462)+LOOKUP(N65,ByM!$A$2:$B$462)+LOOKUP(O65,ByM!$A$2:$B$462))","v":15}]
[null,"Raza","IA MU/TH/UR 6000",null,2,2,4,4,15,null,"Maestría (mecanismos)","Piloto evasivo (un vehículo)\t\t\t","Sentido arácnido","-","-",{"$f":"IF(C66=\"\",\"\",LOOKUP(E66,$P$2:$Q$11)+LOOKUP(F66,$P$2:$Q$11)+LOOKUP(G66,$P$2:$Q$11)+LOOKUP(H66,$P$2:$Q$11))","v":0},{"$f":"IF(C66=\"\",\"\",LOOKUP(K66,ByM!$A$2:$B$462)+LOOKUP(L66,ByM!$A$2:$B$462)+LOOKUP(M66,ByM!$A$2:$B$462)+LOOKUP(N66,ByM!$A$2:$B$462)+LOOKUP(O66,ByM!$A$2:$B$462))","v":15}]
[null,"Raza","IA MU/TH/UR 6500",null,2,2,5,5,20,null,"Neuromante","Piloto evasivo (un vehículo)\t\t\t","Radar","-","-",{"$f":"IF(C67=\"\",\"\",LOOKUP(E67,$P$2:$Q$11)+LOOKUP(F67,$P$2:$Q$11)+LOOKUP(G67,$P$2:$Q$11)+LOOKUP(H67,$P$2:$Q$11))","v":10},{"$f":"IF(C67=\"\",\"\",LOOKUP(K67,ByM!$A$2:$B$462)+LOOKUP(L67,ByM!$A$2:$B$462)+LOOKUP(M67,ByM!$A$2:$B$462)+LOOKUP(N67,ByM!$A$2:$B$462)+LOOKUP(O67,ByM!$A$2:$B$462))","v":10}]
[null,"Raza","IA MU/TH/UR 7000",null,2,2,5,6,30,null,"Neuromante","Piloto evasivo","Radar","-","-",{"$f":"IF(C68=\"\",\"\",LOOKUP(E68,$P$2:$Q$11)+LOOKUP(F68,$P$2:$Q$11)+LOOKUP(G68,$P$2:$Q$11)+LOOKUP(H68,$P$2:$Q$11))","v":20},{"$f":"IF(C68=\"\",\"\",LOOKUP(K68,ByM!$A$2:$B$462)+LOOKUP(L68,ByM!$A$2:$B$462)+LOOKUP(M68,ByM!$A$2:$B$462)+LOOKUP(N68,ByM!$A$2:$B$462)+LOOKUP(O68,ByM!$A$2:$B$462))","v":10}]
[null,"Raza","IA MU/TH/UR 9000",null,2,2,6,7,66,null,"Meta visión","Neuromante","Piloto evasivo","-","-",{"$f":"IF(C69=\"\",\"\",LOOKUP(E69,$P$2:$Q$11)+LOOKUP(F69,$P$2:$Q$11)+LOOKUP(G69,$P$2:$Q$11)+LOOKUP(H69,$P$2:$Q$11))","v":50},{"$f":"IF(C69=\"\",\"\",LOOKUP(K69,ByM!$A$2:$B$462)+LOOKUP(L69,ByM!$A$2:$B$462)+LOOKUP(M69,ByM!$A$2:$B$462)+LOOKUP(N69,ByM!$A$2:$B$462)+LOOKUP(O69,ByM!$A$2:$B$462))","v":16}]
[null,"Raza","Irradiada",null,4,4,4,4,38,null,"Área permanente","Bomba viviente ( radiactiva )","Invulnerable ( radiación )","-","-",{"$f":"IF(C70=\"\",\"\",LOOKUP(E70,$P$2:$Q$11)+LOOKUP(F70,$P$2:$Q$11)+LOOKUP(G70,$P$2:$Q$11)+LOOKUP(H70,$P$2:$Q$11))","v":20},{"$f":"IF(C70=\"\",\"\",LOOKUP(K70,ByM!$A$2:$B$462)+LOOKUP(L70,ByM!$A$2:$B$462)+LOOKUP(M70,ByM!$A$2:$B$462)+LOOKUP(N70,ByM!$A$2:$B$462)+LOOKUP(O70,ByM!$A$2:$B$462))","v":18}]
[null,"Raza","Lemuria",null,4,5,4,3,22,null,"Explorador","-","-","-","-",{"$f":"IF(C71=\"\",\"\",LOOKUP(E71,$P$2:$Q$11)+LOOKUP(F71,$P$2:$Q$11)+LOOKUP(G71,$P$2:$Q$11)+LOOKUP(H71,$P$2:$Q$11))","v":20},{"$f":"IF(C71=\"\",\"\",LOOKUP(K71,ByM!$A$2:$B$462)+LOOKUP(L71,ByM!$A$2:$B$462)+LOOKUP(M71,ByM!$A$2:$B$462)+LOOKUP(N71,ByM!$A$2:$B$462)+LOOKUP(O71,ByM!$A$2:$B$462))","v":2}]
[null,"Raza","Mangalor",null,5,4,3,3,15,null,"-","-","-","-","-",{"$f":"IF(C72=\"\",\"\",LOOKUP(E72,$P$2:$Q$11)+LOOKUP(F72,$P$2:$Q$11)+LOOKUP(G72,$P$2:$Q$11)+LOOKUP(H72,$P$2:$Q$11))","v":15},{"$f":"IF(C72=\"\",\"\",LOOKUP(K72,ByM!$A$2:$B$462)+LOOKUP(L72,ByM!$A$2:$B$462)+LOOKUP(M72,ByM!$A$2:$B$462)+LOOKUP(N72,ByM!$A$2:$B$462)+LOOKUP(O72,ByM!$A$2:$B$462))","v":0}]
[null,"Raza","Marciana",null,4,5,4,4,25,null,"-","-","-","-","-",{"$f":"IF(C73=\"\",\"\",LOOKUP(E73,$P$2:$Q$11)+LOOKUP(F73,$P$2:$Q$11)+LOOKUP(G73,$P$2:$Q$11)+LOOKUP(H73,$P$2:$Q$11))","v":25},{"$f":"IF(C73=\"\",\"\",LOOKUP(K73,ByM!$A$2:$B$462)+LOOKUP(L73,ByM!$A$2:$B$462)+LOOKUP(M73,ByM!$A$2:$B$462)+LOOKUP(N73,ByM!$A$2:$B$462)+LOOKUP(O73,ByM!$A$2:$B$462))","v":0}]
[null,"Raza","Marciana superior",null,4,5,5,4,45,null,"Fortuna","-","-","-","-",{"$f":"IF(C74=\"\",\"\",LOOKUP(E74,$P$2:$Q$11)+LOOKUP(F74,$P$2:$Q$11)+LOOKUP(G74,$P$2:$Q$11)+LOOKUP(H74,$P$2:$Q$11))","v":30},{"$f":"IF(C74=\"\",\"\",LOOKUP(K74,ByM!$A$2:$B$462)+LOOKUP(L74,ByM!$A$2:$B$462)+LOOKUP(M74,ByM!$A$2:$B$462)+LOOKUP(N74,ByM!$A$2:$B$462)+LOOKUP(O74,ByM!$A$2:$B$462))","v":15}]
[null,"Raza","Mascota del páramo",null,4,3,1,1,1,null,"-","-","-","-","-",{"$f":"IF(C75=\"\",\"\",LOOKUP(E75,$P$2:$Q$11)+LOOKUP(F75,$P$2:$Q$11)+LOOKUP(G75,$P$2:$Q$11)+LOOKUP(H75,$P$2:$Q$11))","v":-15},{"$f":"IF(C75=\"\",\"\",LOOKUP(K75,ByM!$A$2:$B$462)+LOOKUP(L75,ByM!$A$2:$B$462)+LOOKUP(M75,ByM!$A$2:$B$462)+LOOKUP(N75,ByM!$A$2:$B$462)+LOOKUP(O75,ByM!$A$2:$B$462))","v":0}]
[null,"Raza","Mente colectiva",null,4,4,4,4,21,null,"Neuromante","-","-","-","-",{"$f":"IF(C76=\"\",\"\",LOOKUP(E76,$P$2:$Q$11)+LOOKUP(F76,$P$2:$Q$11)+LOOKUP(G76,$P$2:$Q$11)+LOOKUP(H76,$P$2:$Q$11))","v":20},{"$f":"IF(C76=\"\",\"\",LOOKUP(K76,ByM!$A$2:$B$462)+LOOKUP(L76,ByM!$A$2:$B$462)+LOOKUP(M76,ByM!$A$2:$B$462)+LOOKUP(N76,ByM!$A$2:$B$462)+LOOKUP(O76,ByM!$A$2:$B$462))","v":1}]
[null,"Raza","Mondoshawan",null,6,4,5,6,55,null,"-","-","-","-","-",{"$f":"IF(C77=\"\",\"\",LOOKUP(E77,$P$2:$Q$11)+LOOKUP(F77,$P$2:$Q$11)+LOOKUP(G77,$P$2:$Q$11)+LOOKUP(H77,$P$2:$Q$11))","v":55},{"$f":"IF(C77=\"\",\"\",LOOKUP(K77,ByM!$A$2:$B$462)+LOOKUP(L77,ByM!$A$2:$B$462)+LOOKUP(M77,ByM!$A$2:$B$462)+LOOKUP(N77,ByM!$A$2:$B$462)+LOOKUP(O77,ByM!$A$2:$B$462))","v":0}]
[null,"Raza","Mutante",null,4,4,4,4,28,null,"Invulnerable ( contaminación )","-","-","-","-",{"$f":"IF(C78=\"\",\"\",LOOKUP(E78,$P$2:$Q$11)+LOOKUP(F78,$P$2:$Q$11)+LOOKUP(G78,$P$2:$Q$11)+LOOKUP(H78,$P$2:$Q$11))","v":20},{"$f":"IF(C78=\"\",\"\",LOOKUP(K78,ByM!$A$2:$B$462)+LOOKUP(L78,ByM!$A$2:$B$462)+LOOKUP(M78,ByM!$A$2:$B$462)+LOOKUP(N78,ByM!$A$2:$B$462)+LOOKUP(O78,ByM!$A$2:$B$462))","v":8}]
[null,"Raza","Mutante cabezón",null,3,4,5,4,29,null,"Invulnerable ( contaminación )","Neuromante","-","-","-",{"$f":"IF(C79=\"\",\"\",LOOKUP(E79,$P$2:$Q$11)+LOOKUP(F79,$P$2:$Q$11)+LOOKUP(G79,$P$2:$Q$11)+LOOKUP(H79,$P$2:$Q$11))","v":20},{"$f":"IF(C79=\"\",\"\",LOOKUP(K79,ByM!$A$2:$B$462)+LOOKUP(L79,ByM!$A$2:$B$462)+LOOKUP(M79,ByM!$A$2:$B$462)+LOOKUP(N79,ByM!$A$2:$B$462)+LOOKUP(O79,ByM!$A$2:$B$462))","v":9}]
[null,"Raza","Mutante de pozo",null,5,4,3,4,28,null,"Invulnerable ( contaminación )","-","-","-","-",{"$f":"IF(C80=\"\",\"\",LOOKUP(E80,$P$2:$Q$11)+LOOKUP(F80,$P$2:$Q$11)+LOOKUP(G80,$P$2:$Q$11)+LOOKUP(H80,$P$2:$Q$11))","v":20},{"$f":"IF(C80=\"\",\"\",LOOKUP(K80,ByM!$A$2:$B$462)+LOOKUP(L80,ByM!$A$2:$B$462)+LOOKUP(M80,ByM!$A$2:$B$462)+LOOKUP(N80,ByM!$A$2:$B$462)+LOOKUP(O80,ByM!$A$2:$B$462))","v":8}]
[null,"Raza","Neomorfo adulto",null,4,3,2,3,8,null,"Silencioso","Garras y dientes","-","-","-",{"$f":"IF(C81=\"\",\"\",LOOKUP(E81,$P$2:$Q$11)+LOOKUP(F81,$P$2:$Q$11)+LOOKUP(G81,$P$2:$Q$11)+LOOKUP(H81,$P$2:$Q$11))","v":0},{"$f":"IF(C81=\"\",\"\",LOOKUP(K81,ByM!$A$2:$B$462)+LOOKUP(L81,ByM!$A$2:$B$462)+LOOKUP(M81,ByM!$A$2:$B$462)+LOOKUP(N81,ByM!$A$2:$B$462)+LOOKUP(O81,ByM!$A$2:$B$462))","v":8}]
[null,"Raza","Neomorfo neófito",null,3,4,2,3,8,null,"Silencioso","Garras y dientes","-","-","-",{"$f":"IF(C82=\"\",\"\",LOOKUP(E82,$P$2:$Q$11)+LOOKUP(F82,$P$2:$Q$11)+LOOKUP(G82,$P$2:$Q$11)+LOOKUP(H82,$P$2:$Q$11))","v":0},{"$f":"IF(C82=\"\",\"\",LOOKUP(K82,ByM!$A$2:$B$462)+LOOKUP(L82,ByM!$A$2:$B$462)+LOOKUP(M82,ByM!$A$2:$B$462)+LOOKUP(N82,ByM!$A$2:$B$462)+LOOKUP(O82,ByM!$A$2:$B$462))","v":8}]
[null,"Raza","Nordheimer",null,5,4,4,4,30,null,"Sed de sangre","-","-","-","-",{"$f":"IF(C83=\"\",\"\",LOOKUP(E83,$P$2:$Q$11)+LOOKUP(F83,$P$2:$Q$11)+LOOKUP(G83,$P$2:$Q$11)+LOOKUP(H83,$P$2:$Q$11))","v":25},{"$f":"IF(C83=\"\",\"\",LOOKUP(K83,ByM!$A$2:$B$462)+LOOKUP(L83,ByM!$A$2:$B$462)+LOOKUP(M83,ByM!$A$2:$B$462)+LOOKUP(N83,ByM!$A$2:$B$462)+LOOKUP(O83,ByM!$A$2:$B$462))","v":5}]
[null,"Raza","Perro demoníaco",null,4,6,3,3,31,null,"Garras y dientes","No vivo","-","-","-",{"$f":"IF(C84=\"\",\"\",LOOKUP(E84,$P$2:$Q$11)+LOOKUP(F84,$P$2:$Q$11)+LOOKUP(G84,$P$2:$Q$11)+LOOKUP(H84,$P$2:$Q$11))","v":25},{"$f":"IF(C84=\"\",\"\",LOOKUP(K84,ByM!$A$2:$B$462)+LOOKUP(L84,ByM!$A$2:$B$462)+LOOKUP(M84,ByM!$A$2:$B$462)+LOOKUP(N84,ByM!$A$2:$B$462)+LOOKUP(O84,ByM!$A$2:$B$462))","v":6}]
[null,"Raza","Perromórfida",null,3,4,1,2,1,null,"Animal","Rápido","-","-","-",{"$f":"IF(C85=\"\",\"\",LOOKUP(E85,$P$2:$Q$11)+LOOKUP(F85,$P$2:$Q$11)+LOOKUP(G85,$P$2:$Q$11)+LOOKUP(H85,$P$2:$Q$11))","v":-10},{"$f":"IF(C85=\"\",\"\",LOOKUP(K85,ByM!$A$2:$B$462)+LOOKUP(L85,ByM!$A$2:$B$462)+LOOKUP(M85,ByM!$A$2:$B$462)+LOOKUP(N85,ByM!$A$2:$B$462)+LOOKUP(O85,ByM!$A$2:$B$462))","v":-5}]
[null,"Raza","Picta",null,5,5,3,4,40,null,"Profesión bárbaro","Saltador","-","-","-",{"$f":"IF(C86=\"\",\"\",LOOKUP(E86,$P$2:$Q$11)+LOOKUP(F86,$P$2:$Q$11)+LOOKUP(G86,$P$2:$Q$11)+LOOKUP(H86,$P$2:$Q$11))","v":25},{"$f":"IF(C86=\"\",\"\",LOOKUP(K86,ByM!$A$2:$B$462)+LOOKUP(L86,ByM!$A$2:$B$462)+LOOKUP(M86,ByM!$A$2:$B$462)+LOOKUP(N86,ByM!$A$2:$B$462)+LOOKUP(O86,ByM!$A$2:$B$462))","v":15}]
[null,"Raza","Picta maga",null,4,5,4,6,46,null,"Neuromante","Saltador","-","-","-",{"$f":"IF(C87=\"\",\"\",LOOKUP(E87,$P$2:$Q$11)+LOOKUP(F87,$P$2:$Q$11)+LOOKUP(G87,$P$2:$Q$11)+LOOKUP(H87,$P$2:$Q$11))","v":40},{"$f":"IF(C87=\"\",\"\",LOOKUP(K87,ByM!$A$2:$B$462)+LOOKUP(L87,ByM!$A$2:$B$462)+LOOKUP(M87,ByM!$A$2:$B$462)+LOOKUP(N87,ByM!$A$2:$B$462)+LOOKUP(O87,ByM!$A$2:$B$462))","v":6}]
[null,"Raza","Pocha",null,3,2,1,1,1,null,"Lento","Silencioso","-","-","-",{"$f":"IF(C88=\"\",\"\",LOOKUP(E88,$P$2:$Q$11)+LOOKUP(F88,$P$2:$Q$11)+LOOKUP(G88,$P$2:$Q$11)+LOOKUP(H88,$P$2:$Q$11))","v":-25},{"$f":"IF(C88=\"\",\"\",LOOKUP(K88,ByM!$A$2:$B$462)+LOOKUP(L88,ByM!$A$2:$B$462)+LOOKUP(M88,ByM!$A$2:$B$462)+LOOKUP(N88,ByM!$A$2:$B$462)+LOOKUP(O88,ByM!$A$2:$B$462))","v":-7}]
[null,"Raza","Primarca",null,8,8,8,8,338,null,"Fortuna","Líder","-","-","-",{"$f":"IF(C89=\"\",\"\",LOOKUP(E89,$P$2:$Q$11)+LOOKUP(F89,$P$2:$Q$11)+LOOKUP(G89,$P$2:$Q$11)+LOOKUP(H89,$P$2:$Q$11))","v":320},{"$f":"IF(C89=\"\",\"\",LOOKUP(K89,ByM!$A$2:$B$462)+LOOKUP(L89,ByM!$A$2:$B$462)+LOOKUP(M89,ByM!$A$2:$B$462)+LOOKUP(N89,ByM!$A$2:$B$462)+LOOKUP(O89,ByM!$A$2:$B$462))","v":18}]
[null,"Raza","Primaris",null,7,7,7,7,208,null,"Élite valiente","Líder","Maestría en combate (bólter)","Maestro carnicero (cargando)","-",{"$f":"IF(C90=\"\",\"\",LOOKUP(E90,$P$2:$Q$11)+LOOKUP(F90,$P$2:$Q$11)+LOOKUP(G90,$P$2:$Q$11)+LOOKUP(H90,$P$2:$Q$11))","v":160},{"$f":"IF(C90=\"\",\"\",LOOKUP(K90,ByM!$A$2:$B$462)+LOOKUP(L90,ByM!$A$2:$B$462)+LOOKUP(M90,ByM!$A$2:$B$462)+LOOKUP(N90,ByM!$A$2:$B$462)+LOOKUP(O90,ByM!$A$2:$B$462))","v":48}]
[null,"Raza","Quimeria",null,4,4,5,4,33,null,"Devora almas","-","-","-","-",{"$f":"IF(C91=\"\",\"\",LOOKUP(E91,$P$2:$Q$11)+LOOKUP(F91,$P$2:$Q$11)+LOOKUP(G91,$P$2:$Q$11)+LOOKUP(H91,$P$2:$Q$11))","v":25},{"$f":"IF(C91=\"\",\"\",LOOKUP(K91,ByM!$A$2:$B$462)+LOOKUP(L91,ByM!$A$2:$B$462)+LOOKUP(M91,ByM!$A$2:$B$462)+LOOKUP(N91,ByM!$A$2:$B$462)+LOOKUP(O91,ByM!$A$2:$B$462))","v":8}]
[null,"Raza","Ser de luz",null,4,8,8,8,260,null,"Ave fénix","Rápido","-","-","-",{"$f":"IF(C92=\"\",\"\",LOOKUP(E92,$P$2:$Q$11)+LOOKUP(F92,$P$2:$Q$11)+LOOKUP(G92,$P$2:$Q$11)+LOOKUP(H92,$P$2:$Q$11))","v":245},{"$f":"IF(C92=\"\",\"\",LOOKUP(K92,ByM!$A$2:$B$462)+LOOKUP(L92,ByM!$A$2:$B$462)+LOOKUP(M92,ByM!$A$2:$B$462)+LOOKUP(N92,ByM!$A$2:$B$462)+LOOKUP(O92,ByM!$A$2:$B$462))","v":15}]
[null,"Raza","Serpiente gigante",null,8,6,5,5,140,null,"Berserker","Garras y dientes","Revientamuros","-","-",{"$f":"IF(C93=\"\",\"\",LOOKUP(E93,$P$2:$Q$11)+LOOKUP(F93,$P$2:$Q$11)+LOOKUP(G93,$P$2:$Q$11)+LOOKUP(H93,$P$2:$Q$11))","v":120},{"$f":"IF(C93=\"\",\"\",LOOKUP(K93,ByM!$A$2:$B$462)+LOOKUP(L93,ByM!$A$2:$B$462)+LOOKUP(M93,ByM!$A$2:$B$462)+LOOKUP(N93,ByM!$A$2:$B$462)+LOOKUP(O93,ByM!$A$2:$B$462))","v":20}]
[null,"Raza","Servidor",null,4,3,4,4,10,null,"Vulnerable","-","-","-","-",{"$f":"IF(C94=\"\",\"\",LOOKUP(E94,$P$2:$Q$11)+LOOKUP(F94,$P$2:$Q$11)+LOOKUP(G94,$P$2:$Q$11)+LOOKUP(H94,$P$2:$Q$11))","v":15},{"$f":"IF(C94=\"\",\"\",LOOKUP(K94,ByM!$A$2:$B$462)+LOOKUP(L94,ByM!$A$2:$B$462)+LOOKUP(M94,ByM!$A$2:$B$462)+LOOKUP(N94,ByM!$A$2:$B$462)+LOOKUP(O94,ByM!$A$2:$B$462))","v":-5}]
[null,"Raza","Subhumana",null,3,3,1,1,1,null,"Desafiante","Garras y dientes","Venganza","-","-",{"$f":"IF(C95=\"\",\"\",LOOKUP(E95,$P$2:$Q$11)+LOOKUP(F95,$P$2:$Q$11)+LOOKUP(G95,$P$2:$Q$11)+LOOKUP(H95,$P$2:$Q$11))","v":-20},{"$f":"IF(C95=\"\",\"\",LOOKUP(K95,ByM!$A$2:$B$462)+LOOKUP(L95,ByM!$A$2:$B$462)+LOOKUP(M95,ByM!$A$2:$B$462)+LOOKUP(N95,ByM!$A$2:$B$462)+LOOKUP(O95,ByM!$A$2:$B$462))","v":12}]
[null,"Raza","T-800",null,7,4,7,7,142,null,"Ave fénix","Vulnerable","Invulnerable (fuego)","No vivo","Súper vista",{"$f":"IF(C96=\"\",\"\",LOOKUP(E96,$P$2:$Q$11)+LOOKUP(F96,$P$2:$Q$11)+LOOKUP(G96,$P$2:$Q$11)+LOOKUP(H96,$P$2:$Q$11))","v":125},{"$f":"IF(C96=\"\",\"\",LOOKUP(K96,ByM!$A$2:$B$462)+LOOKUP(L96,ByM!$A$2:$B$462)+LOOKUP(M96,ByM!$A$2:$B$462)+LOOKUP(N96,ByM!$A$2:$B$462)+LOOKUP(O96,ByM!$A$2:$B$462))","v":17}]
[null,"Raza","Troceada",null,4,4,3,3,5,null,"Yonki","-","-","-","-",{"$f":"IF(C97=\"\",\"\",LOOKUP(E97,$P$2:$Q$11)+LOOKUP(F97,$P$2:$Q$11)+LOOKUP(G97,$P$2:$Q$11)+LOOKUP(H97,$P$2:$Q$11))","v":10},{"$f":"IF(C97=\"\",\"\",LOOKUP(K97,ByM!$A$2:$B$462)+LOOKUP(L97,ByM!$A$2:$B$462)+LOOKUP(M97,ByM!$A$2:$B$462)+LOOKUP(N97,ByM!$A$2:$B$462)+LOOKUP(O97,ByM!$A$2:$B$462))","v":-5}]
[null,"Raza","Vendhiana",null,4,5,4,4,35,null,"Ave fénix","-","-","-","-",{"$f":"IF(C98=\"\",\"\",LOOKUP(E98,$P$2:$Q$11)+LOOKUP(F98,$P$2:$Q$11)+LOOKUP(G98,$P$2:$Q$11)+LOOKUP(H98,$P$2:$Q$11))","v":25},{"$f":"IF(C98=\"\",\"\",LOOKUP(K98,ByM!$A$2:$B$462)+LOOKUP(L98,ByM!$A$2:$B$462)+LOOKUP(M98,ByM!$A$2:$B$462)+LOOKUP(N98,ByM!$A$2:$B$462)+LOOKUP(O98,ByM!$A$2:$B$462))","v":10}]
[null,"Raza","Xenomorfo abrazacaras",null,3,3,2,3,8,null,"Sangre de ácido","Pequeño","Silencioso","-","-",{"$f":"IF(C99=\"\",\"\",LOOKUP(E99,$P$2:$Q$11)+LOOKUP(F99,$P$2:$Q$11)+LOOKUP(G99,$P$2:$Q$11)+LOOKUP(H99,$P$2:$Q$11))","v":-5},{"$f":"IF(C99=\"\",\"\",LOOKUP(K99,ByM!$A$2:$B$462)+LOOKUP(L99,ByM!$A$2:$B$462)+LOOKUP(M99,ByM!$A$2:$B$462)+LOOKUP(N99,ByM!$A$2:$B$462)+LOOKUP(O99,ByM!$A$2:$B$462))","v":13}]
[null,"Raza","Xenomorfo acosador",null,4,4,4,3,25,null,"Sangre de ácido","Araña","Pez","Silencioso","Ansia de sangre",{"$f":"IF(C100=\"\",\"\",LOOKUP(E100,$P$2:$Q$11)+LOOKUP(F100,$P$2:$Q$11)+LOOKUP(G100,$P$2:$Q$11)+LOOKUP(H100,$P$2:$Q$11))","v":15},{"$f":"IF(C100=\"\",\"\",LOOKUP(K100,ByM!$A$2:$B$462)+LOOKUP(L100,ByM!$A$2:$B$462)+LOOKUP(M100,ByM!$A$2:$B$462)+LOOKUP(N100,ByM!$A$2:$B$462)+LOOKUP(O100,ByM!$A$2:$B$462))","v":10}]
[null,"Raza","Xenomorfo explorador",null,4,5,4,4,45,null,"Sangre de ácido","Araña","Pez","Silencioso","Sentido arácnido",{"$f":"IF(C101=\"\",\"\",LOOKUP(E101,$P$2:$Q$11)+LOOKUP(F101,$P$2:$Q$11)+LOOKUP(G101,$P$2:$Q$11)+LOOKUP(H101,$P$2:$Q$11))","v":25},{"$f":"IF(C101=\"\",\"\",LOOKUP(K101,ByM!$A$2:$B$462)+LOOKUP(L101,ByM!$A$2:$B$462)+LOOKUP(M101,ByM!$A$2:$B$462)+LOOKUP(N101,ByM!$A$2:$B$462)+LOOKUP(O101,ByM!$A$2:$B$462))","v":20}]
[null,"Raza","Xenomorfo joven",null,4,4,3,3,25,null,"Sangre de ácido","Araña","Pez","Silencioso","-",{"$f":"IF(C102=\"\",\"\",LOOKUP(E102,$P$2:$Q$11)+LOOKUP(F102,$P$2:$Q$11)+LOOKUP(G102,$P$2:$Q$11)+LOOKUP(H102,$P$2:$Q$11))","v":10},{"$f":"IF(C102=\"\",\"\",LOOKUP(K102,ByM!$A$2:$B$462)+LOOKUP(L102,ByM!$A$2:$B$462)+LOOKUP(M102,ByM!$A$2:$B$462)+LOOKUP(N102,ByM!$A$2:$B$462)+LOOKUP(O102,ByM!$A$2:$B$462))","v":15}]
[null,"Raza","Xenomorfo pretoriano",null,6,5,4,5,64,null,"Sangre de ácido","Araña","Pez","Guardaespaldas","Frenesí",{"$f":"IF(C103=\"\",\"\",LOOKUP(E103,$P$2:$Q$11)+LOOKUP(F103,$P$2:$Q$11)+LOOKUP(G103,$P$2:$Q$11)+LOOKUP(H103,$P$2:$Q$11))","v":45},{"$f":"IF(C103=\"\",\"\",LOOKUP(K103,ByM!$A$2:$B$462)+LOOKUP(L103,ByM!$A$2:$B$462)+LOOKUP(M103,ByM!$A$2:$B$462)+LOOKUP(N103,ByM!$A$2:$B$462)+LOOKUP(O103,ByM!$A$2:$B$462))","v":19}]
[null,"Raza","Xenomorfo reina",null,6,3,6,7,118,null,"Sangre de ácido","Escudo coriáceo N05","Líder","Terror","-",{"$f":"IF(C104=\"\",\"\",LOOKUP(E104,$P$2:$Q$11)+LOOKUP(F104,$P$2:$Q$11)+LOOKUP(G104,$P$2:$Q$11)+LOOKUP(H104,$P$2:$Q$11))","v":80},{"$f":"IF(C104=\"\",\"\",LOOKUP(K104,ByM!$A$2:$B$462)+LOOKUP(L104,ByM!$A$2:$B$462)+LOOKUP(M104,ByM!$A$2:$B$462)+LOOKUP(N104,ByM!$A$2:$B$462)+LOOKUP(O104,ByM!$A$2:$B$462))","v":38}]
[null,"Raza","Xenomorfo revientapechos",null,3,3,2,3,8,null,"Sangre de ácido","Rápido","Silencioso","-","-",{"$f":"IF(C105=\"\",\"\",LOOKUP(E105,$P$2:$Q$11)+LOOKUP(F105,$P$2:$Q$11)+LOOKUP(G105,$P$2:$Q$11)+LOOKUP(H105,$P$2:$Q$11))","v":-5},{"$f":"IF(C105=\"\",\"\",LOOKUP(K105,ByM!$A$2:$B$462)+LOOKUP(L105,ByM!$A$2:$B$462)+LOOKUP(M105,ByM!$A$2:$B$462)+LOOKUP(N105,ByM!$A$2:$B$462)+LOOKUP(O105,ByM!$A$2:$B$462))","v":13}]
[null,"Raza","Xenomorfo soldado",null,5,6,5,5,70,null,"Sangre de ácido","Araña","Pez","Rápido","Silencioso",{"$f":"IF(C106=\"\",\"\",LOOKUP(E106,$P$2:$Q$11)+LOOKUP(F106,$P$2:$Q$11)+LOOKUP(G106,$P$2:$Q$11)+LOOKUP(H106,$P$2:$Q$11))","v":50},{"$f":"IF(C106=\"\",\"\",LOOKUP(K106,ByM!$A$2:$B$462)+LOOKUP(L106,ByM!$A$2:$B$462)+LOOKUP(M106,ByM!$A$2:$B$462)+LOOKUP(N106,ByM!$A$2:$B$462)+LOOKUP(O106,ByM!$A$2:$B$462))","v":20}]
[null,"Raza","Xenomorfo trabajador",null,3,3,2,3,10,null,"Sangre de ácido","Araña","Pez","Silencioso","-",{"$f":"IF(C107=\"\",\"\",LOOKUP(E107,$P$2:$Q$11)+LOOKUP(F107,$P$2:$Q$11)+LOOKUP(G107,$P$2:$Q$11)+LOOKUP(H107,$P$2:$Q$11))","v":-5},{"$f":"IF(C107=\"\",\"\",LOOKUP(K107,ByM!$A$2:$B$462)+LOOKUP(L107,ByM!$A$2:$B$462)+LOOKUP(M107,ByM!$A$2:$B$462)+LOOKUP(N107,ByM!$A$2:$B$462)+LOOKUP(O107,ByM!$A$2:$B$462))","v":15}]
[null,"Raza","Zamoria",null,4,4,4,4,25,null,"Retirada ordenada","-","-","-","-",{"$f":"IF(C108=\"\",\"\",LOOKUP(E108,$P$2:$Q$11)+LOOKUP(F108,$P$2:$Q$11)+LOOKUP(G108,$P$2:$Q$11)+LOOKUP(H108,$P$2:$Q$11))","v":20},{"$f":"IF(C108=\"\",\"\",LOOKUP(K108,ByM!$A$2:$B$462)+LOOKUP(L108,ByM!$A$2:$B$462)+LOOKUP(M108,ByM!$A$2:$B$462)+LOOKUP(N108,ByM!$A$2:$B$462)+LOOKUP(O108,ByM!$A$2:$B$462))","v":5}]
[null,null,"*",null,null,null,null,null,null,null,null,null,null,null,null,{"$f":"IF(C109=\"\",\"\",LOOKUP(E109,$P$2:$Q$11)+LOOKUP(F109,$P$2:$Q$11)+LOOKUP(G109,$P$2:$Q$11)+LOOKUP(#REF!,$P$2:$Q$11)+LOOKUP(H109,$P$2:$Q$11))","v":{"$error":"#N/A"}},{"$f":"IF(C109=\"\",\"\",LOOKUP(K109,ByM!$A$2:$B$462)+LOOKUP(L109,ByM!$A$2:$B$462)+LOOKUP(M109,ByM!$A$2:$B$462)+LOOKUP(N109,ByM!$A$2:$B$462)+LOOKUP(O109,ByM!$A$2:$B$462))","v":{"$error":"#N/A"}}]
[null,null,null,null,null,null,null,null,null,null,null,null,null,null,null,{"$f":"IF(C110=\"\",\"\",LOOKUP(E110,$P$2:$Q$11)+LOOKUP(F110,$P$2:$Q$11)+LOOKUP(G110,$P$2:$Q$11)+LOOKUP(#REF!,$P$2:$Q$11)+LOOKUP(H110,$P$2:$Q$11))","v":""},{"$f":"IF(C110=\"\",\"\",LOOKUP(K110,ByM!$A$2:$B$462)+LOOKUP(L110,ByM!$A$2:$B$462)+LOOKUP(M110,ByM!$A$2:$B$462)+LOOKUP(N110,ByM!$A$2:$B$462)+LOOKUP(O110,ByM!$A$2:$B$462))","v":""}]
[null,null,null,null,null,null,null,null,null,null,null,null,null,null,null,{"$f":"IF(C111=\"\",\"\",LOOKUP(E111,$P$2:$Q$11)+LOOKUP(F111,$P$2:$Q$11)+LOOKUP(G111,$P$2:$Q$11)+LOOKUP(#REF!,$P$2:$Q$11)+LOOKUP(H111,$P$2:$Q$11))","v":""},{"$f":"IF(C111=\"\",\"\",LOOKUP(K111,ByM!$A$2:$B$462)+LOOKUP(L111,ByM!$A$2:$B$462)+LOOKUP(M111,ByM!$A$2:$B$462)+LOOKUP(N111,ByM!$A$2:$B$462)+LOOKUP(O111,ByM!$A$2:$B$462))","v":""}]
[null,null,null,null,null,null,null,null,null,null,null,null,null,null,null,{"$f":"IF(C112=\"\",\"\",LOOKUP(E112,$P$2:$Q$11)+LOOKUP(F112,$P$2:$Q$11)+LOOKUP(G112,$P$2:$Q$11)+LOOKUP(#REF!,$P$2:$Q$11)+LOOKUP(H112,$P$2:$Q$11))","v":""},{"$f":"IF(C112=\"\",\"\",LOOKUP(K112,ByM!$A$2:$B$462)+LOOKUP(L112,ByM!$A$2:$B$462)+LOOKUP(M112,ByM!$A$2:$B$462)+LOOKUP(N112,ByM!$A$2:$B$462)+LOOKUP(O112,ByM!$A$2:$B$462))","v":""}]
[null,null,null,null,null,null,null,null,null,null,null,null,null,null,null,{"$f":"IF(C113=\"\",\"\",LOOKUP(E113,$P$2:$Q$11)+LOOKUP(F113,$P$2:$Q$11)+LOOKUP(G113,$P$2:$Q$11)+LOOKUP(#REF!,$P$2:$Q$11)+LOOKUP(H113,$P$2:$Q$11))","v":""},{"$f":"IF(C113=\"\",\"\",LOOKUP(K113,ByM!$A$2:$B$462)+LOOKUP(L113,ByM!$A$2:$B$462)+LOOKUP(M113,ByM!$A$2:$B$462)+LOOKUP(N113,ByM!$A$2:$B$462)+LOOKUP(O113,ByM!$A$2:$B$462))","v":""}]
[null,null,null,null,null,null,null,null,null,null,null,null,null,null,null,{"$f":"IF(C114=\"\",\"\",LOOKUP(E114,$P$2:$Q$11)+LOOKUP(F114,$P$2:$Q$11)+LOOKUP(G114,$P$2:$Q$11)+LOOKUP(#REF!,$P$2:$Q$11)+LOOKUP(H114,$P$2:$Q$11))","v":""},{"$f":"IF(C114=\"\",\"\",LOOKUP(K114,ByM!$A$2:$B$462)+LOOKUP(L114,ByM!$A$2:$B$462)+LOOKUP(M114,ByM!$A$2:$B$462)+LOOKUP(N114,ByM!$A$2:$B$462)+LOOKUP(O114,ByM!$A$2:$B$462))","v":""}]
[null,null,null,null,null,null,null,null,null,null,null,null,null,null,null,{"$f":"IF(C115=\"\",\"\",LOOKUP(E115,$P$2:$Q$11)+LOOKUP(F115,$P$2:$Q$11)+LOOKUP(G115,$P$2:$Q$11)+LOOKUP(#REF!,$P$2:$Q$11)+LOOKUP(H115,$P$2:$Q$11))","v":""},{"$f":"IF(C115=\"\",\"\",LOOKUP(K115,ByM!$A$2:$B$462)+LOOKUP(L115,ByM!$A$2:$B$462)+LOOKUP(M115,ByM!$A$2:$B$462)+LOOKUP(N115,ByM!$A$2:$B$462)+LOOKUP(O115,ByM!$A$2:$B$462))","v":""}]
[null,null,null,null,null,null,null,null,null,null,null,null,null,null,null,{"$f":"IF(C116=\"\",\"\",LOOKUP(E116,$P$2:$Q$11)+LOOKUP(F116,$P$2:$Q$11)+LOOKUP(G116,$P$2:$Q$11)+LOOKUP(#REF!,$P$2:$Q$11)+LOOKUP(H116,$P$2:$Q$11))","v":""},{"$f":"IF(C116=\"\",\"\",LOOKUP(K116,ByM!$A$2:$B$462)+LOOKUP(L116,ByM!$A$2:$B$462)+LOOKUP(M116,ByM!$A$2:$B$462)+LOOKUP(N116,ByM!$A$2:$B$462)+LOOKUP(O116,ByM!$A$2:$B$462))","v":""}]
[null,null,null,null,null,null,null,null,null,null,null,null,null,null,null,{"$f":"IF(C117=\"\",\"\",LOOKUP(E117,$P$2:$Q$11)+LOOKUP(F117,$P$2:$Q$11)+LOOKUP(G117,$P$2:$Q$11)+LOOKUP(#REF!,$P$2:$Q$11)+LOOKUP(H117,$P$2:$Q$11))","v":""},{"$f":"IF(C117=\"\",\"\",LOOKUP(K117,ByM!$A$2:$B$462)+LOOKUP(L117,ByM!$A$2:$B$462)+LOOKUP(M117,ByM!$A$2:$B$462)+LOOKUP(N117,ByM!$A$2:$B$462)+LOOKUP(O117,ByM!$A$2:$B$462))","v":""}]
[null,null,null,null,null,null,null,null,null,null,null,null,null,null,null,{"$f":"IF(C118=\"\",\"\",LOOKUP(E118,$P$2:$Q$11)+LOOKUP(F118,$P$2:$Q$11)+LOOKUP(G118,$P$2:$Q$11)+LOOKUP(#REF!,$P$2:$Q$11)+LOOKUP(H118,$P$2:$Q$11))","v":""},{"$f":"IF(C118=\"\",\"\",LOOKUP(K118,ByM!$A$2:$B$462)+LOOKUP(L118,ByM!$A$2:$B$462)+LOOKUP(M118,ByM!$A$2:$B$462)+LOOKUP(N118,ByM!$A$2:$B$462)+LOOKUP(O118,ByM!$A$2:$B$462))","v":""}]
[null,null,null,null,null,null,null,null,null,null,null,null,null,null,null,{"$f":"IF(C119=\"\",\"\",LOOKUP(E119,$P$2:$Q$11)+LOOKUP(F119,$P$2:$Q$11)+LOOKUP(G119,$P$2:$Q$11)+LOOKUP(#REF!,$P$2:$Q$11)+LOOKUP(H119,$P$2:$Q$11))","v":""},{"$f":"IF(C119=\"\",\"\",LOOKUP(K119,ByM!$A$2:$B$462)+LOOKUP(L119,ByM!$A$2:$B$462)+LOOKUP(M119,ByM!$A$2:$B$462)+LOOKUP(N119,ByM!$A$2:$B$462)+LOOKUP(O119,ByM!$A$2:$B$462))","v":""}]
[null,null,null,null,null,null,null,null,null,null,null,null,null,null,null,{"$f":"IF(C120=\"\",\"\",LOOKUP(E120,$P$2:$Q$11)+LOOKUP(F120,$P$2:$Q$11)+LOOKUP(G120,$P$2:$Q$11)+LOOKUP(#REF!,$P$2:$Q$11)+LOOKUP(H120,$P$2:$Q$11))","v":""},{"$f":"IF(C120=\"\",\"\",LOOKUP(K120,ByM!$A$2:$B$462)+LOOKUP(L120,ByM!$A$2:$B$462)+LOOKUP(M120,ByM!$A$2:$B$462)+LOOKUP(N120,ByM!$A$2:$B$462)+LOOKUP(O120,ByM!$A$2:$B$462))","v":""}]
[null,null,null,null,null,null,null,null,null,null,null,null,null,null,null,{"$f":"IF(C121=\"\",\"\",LOOKUP(E121,$P$2:$Q$11)+LOOKUP(F121,$P$2:$Q$11)+LOOKUP(G121,$P$2:$Q$11)+LOOKUP(#REF!,$P$2:$Q$11)+LOOKUP(H121,$P$2:$Q$11))","v":""},{"$f":"IF(C121=\"\",\"\",LOOKUP(K121,ByM!$A$2:$B$462)+LOOKUP(L121,ByM!$A$2:$B$462)+LOOKUP(M121,ByM!$A$2:$B$462)+LOOKUP(N121,ByM!$A$2:$B$462)+LOOKUP(O121,ByM!$A$2:$B$462))","v":""}]
[null,null,null,null,null,null,null,null,null,null,null,null,null,null,null,{"$f":"IF(C122=\"\",\"\",LOOKUP(E122,$P$2:$Q$11)+LOOKUP(F122,$P$2:$Q$11)+LOOKUP(G122,$P$2:$Q$11)+LOOKUP(#REF!,$P$2:$Q$11)+LOOKUP(H122,$P$2:$Q$11))","v":""},{"$f":"IF(C122=\"\",\"\",LOOKUP(K122,ByM!$A$2:$B$462)+LOOKUP(L122,ByM!$A$2:$B$462)+LOOKUP(M122,ByM!$A$2:$B$462)+LOOKUP(N122,ByM!$A$2:$B$462)+LOOKUP(O122,ByM!$A$2:$B$462))","v":""}]
[null,null,null,null,null,null,null,null,null,null,null,null,null,null,null,{"$f":"IF(C123=\"\",\"\",LOOKUP(E123,$P$2:$Q$11)+LOOKUP(F123,$P$2:$Q$11)+LOOKUP(G123,$P$2:$Q$11)+LOOKUP(#REF!,$P$2:$Q$11)+LOOKUP(H123,$P$2:$Q$11))","v":""},{"$f":"IF(C123=\"\",\"\",LOOKUP(K123,ByM!$A$2:$B$462)+LOOKUP(L123,ByM!$A$2:$B$462)+LOOKUP(M123,ByM!$A$2:$B$462)+LOOKUP(N123,ByM!$A$2:$B$462)+LOOKUP(O123,ByM!$A$2:$B$462))","v":""}]
[null,null,null,null,null,null,null,null,null,null,null,null,null,null,null,{"$f":"IF(C124=\"\",\"\",LOOKUP(E124,$P$2:$Q$11)+LOOKUP(F124,$P$2:$Q$11)+LOOKUP(G124,$P$2:$Q$11)+LOOKUP(#REF!,$P$2:$Q$11)+LOOKUP(H124,$P$2:$Q$11))","v":""},{"$f":"IF(C124=\"\",\"\",LOOKUP(K124,ByM!$A$2:$B$462)+LOOKUP(L124,ByM!$A$2:$B$462)+LOOKUP(M124,ByM!$A$2:$B$462)+LOOKUP(N124,ByM!$A$2:$B$462)+LOOKUP(O124,ByM!$A$2:$B$462))","v":""}]
[null,null,null,null,null,null,null,null,null,null,null,null,null,null,null,{"$f":"IF(C125=\"\",\"\",LOOKUP(E125,$P$2:$Q$11)+LOOKUP(F125,$P$2:$Q$11)+LOOKUP(G125,$P$2:$Q$11)+LOOKUP(#REF!,$P$2:$Q$11)+LOOKUP(H125,$P$2:$Q$11))","v":""},{"$f":"IF(C125=\"\",\"\",LOOKUP(K125,ByM!$A$2:$B$462)+LOOKUP(L125,ByM!$A$2:$B$462)+LOOKUP(M125,ByM!$A$2:$B$462)+LOOKUP(N125,ByM!$A$2:$B$462)+LOOKUP(O125,ByM!$A$2:$B$462))","v":""}]
[null,null,null,null,null,null,null,null,null,null,null,null,null,null,null,{"$f":"IF(C126=\"\",\"\",LOOKUP(E126,$P$2:$Q$11)+LOOKUP(F126,$P$2:$Q$11)+LOOKUP(G126,$P$2:$Q$11)+LOOKUP(#REF!,$P$2:$Q$11)+LOOKUP(H126,$P$2:$Q$11))","v":""},{"$f":"IF(C126=\"\",\"\",LOOKUP(K126,ByM!$A$2:$B$462)+LOOKUP(L126,ByM!$A$2:$B$462)+LOOKUP(M126,ByM!$A$2:$B$462)+LOOKUP(N126,ByM!$A$2:$B$462)+LOOKUP(O126,ByM!$A$2:$B$462))","v":""}]
[null,null,null,null,null,null,null,null,null,null,null,null,null,null,null,{"$f":"IF(C127=\"\",\"\",LOOKUP(E127,$P$2:$Q$11)+LOOKUP(F127,$P$2:$Q$11)+LOOKUP(G127,$P$2:$Q$11)+LOOKUP(#REF!,$P$2:$Q$11)+LOOKUP(H127,$P$2:$Q$11))","v":""},{"$f":"IF(C127=\"\",\"\",LOOKUP(K127,ByM!$A$2:$B$462)+LOOKUP(L127,ByM!$A$2:$B$462)+LOOKUP(M127,ByM!$A$2:$B$462)+LOOKUP(N127,ByM!$A$2:$B$462)+LOOKUP(O127,ByM!$A$2:$B$462))","v":""}]
[null,null,null,null,null,null,null,null,null,null,null,null,null,null,null,{"$f":"IF(C128=\"\",\"\",LOOKUP(E128,$P$2:$Q$11)+LOOKUP(F128,$P$2:$Q$11)+LOOKUP(G128,$P$2:$Q$11)+LOOKUP(#REF!,$P$2:$Q$11)+LOOKUP(H128,$P$2:$Q$11))","v":""},{"$f":"IF(C128=\"\",\"\",LOOKUP(K128,ByM!$A$2:$B$462)+LOOKUP(L128,ByM!$A$2:$B$462)+LOOKUP(M128,ByM!$A$2:$B$462)+LOOKUP(N128,ByM!$A$2:$B$462)+LOOKUP(O128,ByM!$A$2:$B$462))","v":""}]
[null,null,null,null,null,null,null,null,null,null,null,null,null,null,null,{"$f":"IF(C129=\"\",\"\",LOOKUP(E129,$P$2:$Q$11)+LOOKUP(F129,$P$2:$Q$11)+LOOKUP(G129,$P$2:$Q$11)+LOOKUP(#REF!,$P$2:$Q$11)+LOOKUP(H129,$P$2:$Q$11))","v":""},{"$f":"IF(C129=\"\",\"\",LOOKUP(K129,ByM!$A$2:$B$462)+LOOKUP(L129,ByM!$A$2:$B$462)+LOOKUP(M129,ByM!$A$2:$B$462)+LOOKUP(N129,ByM!$A$2:$B$462)+LOOKUP(O129,ByM!$A$2:$B$462))","v":""}]
[null,null,null,null,null,null,null,null,null,null,null,null,null,null,null,{"$f":"IF(C130=\"\",\"\",LOOKUP(E130,$P$2:$Q$11)+LOOKUP(F130,$P$2:$Q$11)+LOOKUP(G130,$P$2:$Q$11)+LOOKUP(#REF!,$P$2:$Q$11)+LOOKUP(H130,$P$2:$Q$11))","v":""},{"$f":"IF(C130=\"\",\"\",LOOKUP(K130,ByM!$A$2:$B$462)+LOOKUP(L130,ByM!$A$2:$B$462)+LOOKUP(M130,ByM!$A$2:$B$462)+LOOKUP(N130,ByM!$A$2:$B$462)+LOOKUP(O130,ByM!$A$2:$B$462))","v":""}]
[null,null,null,null,null,null,null,null,null,null,null,null,null,null,null,{"$f":"IF(C131=\"\",\"\",LOOKUP(E131,$P$2:$Q$11)+LOOKUP(F131,$P$2:$Q$11)+LOOKUP(G131,$P$2:$Q$11)+LOOKUP(#REF!,$P$2:$Q$11)+LOOKUP(H131,$P$2:$Q$11))","v":""},{"$f":"IF(C131=\"\",\"\",LOOKUP(K131,ByM!$A$2:$B$462)+LOOKUP(L131,ByM!$A$2:$B$462)+LOOKUP(M131,ByM!$A$2:$B$462)+LOOKUP(N131,ByM!$A$2:$B$462)+LOOKUP(O131,ByM!$A$2:$B$462))","v":""}]
[null,null,null,null,null,null,null,null,null,null,null,null,null,null,null,{"$f":"IF(C132=\"\",\"\",LOOKUP(E132,$P$2:$Q$11)+LOOKUP(F132,$P$2:$Q$11)+LOOKUP(G132,$P$2:$Q$11)+LOOKUP(#REF!,$P$2:$Q$11)+LOOKUP(H132,$P$2:$Q$11))","v":""},{"$f":"IF(C132=\"\",\"\",LOOKUP(K132,ByM!$A$2:$B$462)+LOOKUP(L132,ByM!$A$2:$B$462)+LOOKUP(M132,ByM!$A$2:$B$462)+LOOKUP(N132,ByM!$A$2:$B$462)+LOOKUP(O132,ByM!$A$2:$B$462))","v":""}]
[null,null,null,null,null,null,null,null,null,null,null,null,null,null,null,{"$f":"IF(C133=\"\",\"\",LOOKUP(E133,$P$2:$Q$11)+LOOKUP(F133,$P$2:$Q$11)+LOOKUP(G133,$P$2:$Q$11)+LOOKUP(#REF!,$P$2:$Q$11)+LOOKUP(H133,$P$2:$Q$11))","v":""},{"$f":"IF(C133=\"\",\"\",LOOKUP(K133,ByM!$A$2:$B$462)+LOOKUP(L133,ByM!$A$2:$B$462)+LOOKUP(M133,ByM!$A$2:$B$462)+LOOKUP(N133,ByM!$A$2:$B$462)+LOOKUP(O133,ByM!$A$2:$B$462))","v":""}]
[null,null,null,null,null,null,null,null,null,null,null,null,null,null,null,{"$f":"IF(C134=\"\",\"\",LOOKUP(E134,$P$2:$Q$11)+LOOKUP(F134,$P$2:$Q$11)+LOOKUP(G134,$P$2:$Q$11)+LOOKUP(#REF!,$P$2:$Q$11)+LOOKUP(H134,$P$2:$Q$11))","v":""},{"$f":"IF(C134=\"\",\"\",LOOKUP(K134,ByM!$A$2:$B$462)+LOOKUP(L134,ByM!$A$2:$B$462)+LOOKUP(M134,ByM!$A$2:$B$462)+LOOKUP(N134,ByM!$A$2:$B$462)+LOOKUP(O134,ByM!$A$2:$B$462))","v":""}]
[null,null,null,null,null,null,null,null,null,null,null,null,null,null,null,{"$f":"IF(C135=\"\",\"\",LOOKUP(E135,$P$2:$Q$11)+LOOKUP(F135,$P$2:$Q$11)+LOOKUP(G135,$P$2:$Q$11)+LOOKUP(#REF!,$P$2:$Q$11)+LOOKUP(H135,$P$2:$Q$11))","v":""},{"$f":"IF(C135=\"\",\"\",LOOKUP(K135,ByM!$A$2:$B$462)+LOOKUP(L135,ByM!$A$2:$B$462)+LOOKUP(M135,ByM!$A$2:$B$462)+LOOKUP(N135,ByM!$A$2:$B$462)+LOOKUP(O135,ByM!$A$2:$B$462))","v":""}]
[null,null,null,null,null,null,null,null,null,null,null,null,null,null,null,{"$f":"IF(C136=\"\",\"\",LOOKUP(E136,$P$2:$Q$11)+LOOKUP(F136,$P$2:$Q$11)+LOOKUP(G136,$P$2:$Q$11)+LOOKUP(#REF!,$P$2:$Q$11)+LOOKUP(H136,$P$2:$Q$11))","v":""},{"$f":"IF(C136=\"\",\"\",LOOKUP(K136,ByM!$A$2:$B$462)+LOOKUP(L136,ByM!$A$2:$B$462)+LOOKUP(M136,ByM!$A$2:$B$462)+LOOKUP(N136,ByM!$A$2:$B$462)+LOOKUP(O136,ByM!$A$2:$B$462))","v":""}]
[null,null,null,null,null,null,null,null,null,null,null,null,null,null,null,{"$f":"IF(C137=\"\",\"\",LOOKUP(E137,$P$2:$Q$11)+LOOKUP(F137,$P$2:$Q$11)+LOOKUP(G137,$P$2:$Q$11)+LOOKUP(#REF!,$P$2:$Q$11)+LOOKUP(H137,$P$2:$Q$11))","v":""},{"$f":"IF(C137=\"\",\"\",LOOKUP(K137,ByM!$A$2:$B$462)+LOOKUP(L137,ByM!$A$2:$B$462)+LOOKUP(M137,ByM!$A$2:$B$462)+LOOKUP(N137,ByM!$A$2:$B$462)+LOOKUP(O137,ByM!$A$2:$B$462))","v":""}]
[null,null,null,null,null,null,null,null,null,null,null,null,null,null,null,{"$f":"IF(C138=\"\",\"\",LOOKUP(E138,$P$2:$Q$11)+LOOKUP(F138,$P$2:$Q$11)+LOOKUP(G138,$P$2:$Q$11)+LOOKUP(#REF!,$P$2:$Q$11)+LOOKUP(H138,$P$2:$Q$11))","v":""},{"$f":"IF(C138=\"\",\"\",LOOKUP(K138,ByM!$A$2:$B$462)+LOOKUP(L138,ByM!$A$2:$B$462)+LOOKUP(M138,ByM!$A$2:$B$462)+LOOKUP(N138,ByM!$A$2:$B$462)+LOOKUP(O138,ByM!$A$2:$B$462))","v":""}]
[null,null,null,null,null,null,null,null,null,null,null,null,null,null,null,{"$f":"IF(C139=\"\",\"\",LOOKUP(E139,$P$2:$Q$11)+LOOKUP(F139,$P$2:$Q$11)+LOOKUP(G139,$P$2:$Q$11)+LOOKUP(#REF!,$P$2:$Q$11)+LOOKUP(H139,$P$2:$Q$11))","v":""},{"$f":"IF(C139=\"\",\"\",LOOKUP(K139,ByM!$A$2:$B$462)+LOOKUP(L139,ByM!$A$2:$B$462)+LOOKUP(M139,ByM!$A$2:$B$462)+LOOKUP(N139,ByM!$A$2:$B$462)+LOOKUP(O139,ByM!$A$2:$B$462))","v":""}]
[null,null,null,null,null,null,null,null,null,null,null,null,null,null,null,{"$f":"IF(C140=\"\",\"\",LOOKUP(E140,$P$2:$Q$11)+LOOKUP(F140,$P$2:$Q$11)+LOOKUP(G140,$P$2:$Q$11)+LOOKUP(#REF!,$P$2:$Q$11)+LOOKUP(H140,$P$2:$Q$11))","v":""},{"$f":"IF(C140=\"\",\"\",LOOKUP(K140,ByM!$A$2:$B$462)+LOOKUP(L140,ByM!$A$2:$B$462)+LOOKUP(M140,ByM!$A$2:$B$462)+LOOKUP(N140,ByM!$A$2:$B$462)+LOOKUP(O140,ByM!$A$2:$B$462))","v":""}]
[null,null,null,null,null,null,null,null,null,null,null,null,null,null,null,{"$f":"IF(C141=\"\",\"\",LOOKUP(E141,$P$2:$Q$11)+LOOKUP(F141,$P$2:$Q$11)+LOOKUP(G141,$P$2:$Q$11)+LOOKUP(#REF!,$P$2:$Q$11)+LOOKUP(H141,$P$2:$Q$11))","v":""},{"$f":"IF(C141=\"\",\"\",LOOKUP(K141,ByM!$A$2:$B$462)+LOOKUP(L141,ByM!$A$2:$B$462)+LOOKUP(M141,ByM!$A$2:$B$462)+LOOKUP(N141,ByM!$A$2:$B$462)+LOOKUP(O141,ByM!$A$2:$B$462))","v":""}]
[null,null,null,null,null,null,null,null,null,null,null,null,null,null,null,{"$f":"IF(C142=\"\",\"\",LOOKUP(E142,$P$2:$Q$11)+LOOKUP(F142,$P$2:$Q$11)+LOOKUP(G142,$P$2:$Q$11)+LOOKUP(#REF!,$P$2:$Q$11)+LOOKUP(H142,$P$2:$Q$11))","v":""},{"$f":"IF(C142=\"\",\"\",LOOKUP(K142,ByM!$A$2:$B$462)+LOOKUP(L142,ByM!$A$2:$B$462)+LOOKUP(M142,ByM!$A$2:$B$462)+LOOKUP(N142,ByM!$A$2:$B$462)+LOOKUP(O142,ByM!$A$2:$B$462))","v":""}]
[null,null,null,null,null,null,null,null,null,null,null,null,null,null,null,{"$f":"IF(C143=\"\",\"\",LOOKUP(E143,$P$2:$Q$11)+LOOKUP(F143,$P$2:$Q$11)+LOOKUP(G143,$P$2:$Q$11)+LOOKUP(#REF!,$P$2:$Q$11)+LOOKUP(H143,$P$2:$Q$11))","v":""},{"$f":"IF(C143=\"\",\"\",LOOKUP(K143,ByM!$A$2:$B$462)+LOOKUP(L143,ByM!$A$2:$B$462)+LOOKUP(M143,ByM!$A$2:$B$462)+LOOKUP(N143,ByM!$A$2:$B$462)+LOOKUP(O143,ByM!$A$2:$B$462))","v":""}]
[null,null,null,null,null,null,null,null,null,null,null,null,null,null,null,{"$f":"IF(C144=\"\",\"\",LOOKUP(E144,$P$2:$Q$11)+LOOKUP(F144,$P$2:$Q$11)+LOOKUP(G144,$P$2:$Q$11)+LOOKUP(#REF!,$P$2:$Q$11)+LOOKUP(H144,$P$2:$Q$11))","v":""},{"$f":"IF(C144=\"\",\"\",LOOKUP(K144,ByM!$A$2:$B$462)+LOOKUP(L144,ByM!$A$2:$B$462)+LOOKUP(M144,ByM!$A$2:$B$462)+LOOKUP(N144,ByM!$A$2:$B$462)+LOOKUP(O144,ByM!$A$2:$B$462))","v":""}]
[null,null,null,null,null,null,null,null,null,null,null,null,null,null,null,{"$f":"IF(C145=\"\",\"\",LOOKUP(E145,$P$2:$Q$11)+LOOKUP(F145,$P$2:$Q$11)+LOOKUP(G145,$P$2:$Q$11)+LOOKUP(#REF!,$P$2:$Q$11)+LOOKUP(H145,$P$2:$Q$11))","v":""},{"$f":"IF(C145=\"\",\"\",LOOKUP(K145,ByM!$A$2:$B$462)+LOOKUP(L145,ByM!$A$2:$B$462)+LOOKUP(M145,ByM!$A$2:$B$462)+LOOKUP(N145,ByM!$A$2:$B$462)+LOOKUP(O145,ByM!$A$2:$B$462))","v":""}]
[null,null,null,null,null,null,null,null,null,null,null,null,null,null,null,{"$f":"IF(C146=\"\",\"\",LOOKUP(E146,$P$2:$Q$11)+LOOKUP(F146,$P$2:$Q$11)+LOOKUP(G146,$P$2:$Q$11)+LOOKUP(#REF!,$P$2:$Q$11)+LOOKUP(H146,$P$2:$Q$11))","v":""},{"$f":"IF(C146=\"\",\"\",LOOKUP(K146,ByM!$A$2:$B$462)+LOOKUP(L146,ByM!$A$2:$B$462)+LOOKUP(M146,ByM!$A$2:$B$462)+LOOKUP(N146,ByM!$A$2:$B$462)+LOOKUP(O146,ByM!$A$2:$B$462))","v":""}]
[null,null,null,null,null,null,null,null,null,null,null,null,null,null,null,{"$f":"IF(C147=\"\",\"\",LOOKUP(E147,$P$2:$Q$11)+LOOKUP(F147,$P$2:$Q$11)+LOOKUP(G147,$P$2:$Q$11)+LOOKUP(#REF!,$P$2:$Q$11)+LOOKUP(H147,$P$2:$Q$11))","v":""},{"$f":"IF(C147=\"\",\"\",LOOKUP(K147,ByM!$A$2:$B$462)+LOOKUP(L147,ByM!$A$2:$B$462)+LOOKUP(M147,ByM!$A$2:$B$462)+LOOKUP(N147,ByM!$A$2:$B$462)+LOOKUP(O147,ByM!$A$2:$B$462))","v":""}]
[null,null,null,null,null,null,null,null,null,null,null,null,null,null,null,{"$f":"IF(C148=\"\",\"\",LOOKUP(E148,$P$2:$Q$11)+LOOKUP(F148,$P$2:$Q$11)+LOOKUP(G148,$P$2:$Q$11)+LOOKUP(#REF!,$P$2:$Q$11)+LOOKUP(H148,$P$2:$Q$11))","v":""},{"$f":"IF(C148=\"\",\"\",LOOKUP(K148,ByM!$A$2:$B$462)+LOOKUP(L148,ByM!$A$2:$B$462)+LOOKUP(M148,ByM!$A$2:$B$462)+LOOKUP(N148,ByM!$A$2:$B$462)+LOOKUP(O148,ByM!$A$2:$B$462))","v":""}]
[null,null,null,null,null,null,null,null,null,null,null,null,null,null,null,{"$f":"IF(C149=\"\",\"\",LOOKUP(E149,$P$2:$Q$11)+LOOKUP(F149,$P$2:$Q$11)+LOOKUP(G149,$P$2:$Q$11)+LOOKUP(#REF!,$P$2:$Q$11)+LOOKUP(H149,$P$2:$Q$11))","v":""},{"$f":"IF(C149=\"\",\"\",LOOKUP(K149,ByM!$A$2:$B$462)+LOOKUP(L149,ByM!$A$2:$B$462)+LOOKUP(M149,ByM!$A$2:$B$462)+LOOKUP(N149,ByM!$A$2:$B$462)+LOOKUP(O149,ByM!$A$2:$B$462))","v":""}]
[null,null,null,null,null,null,null,null,null,null,null,null,null,null,null,{"$f":"IF(C150=\"\",\"\",LOOKUP(E150,$P$2:$Q$11)+LOOKUP(F150,$P$2:$Q$11)+LOOKUP(G150,$P$2:$Q$11)+LOOKUP(#REF!,$P$2:$Q$11)+LOOKUP(H150,$P$2:$Q$11))","v":""},{"$f":"IF(C150=\"\",\"\",LOOKUP(K150,ByM!$A$2:$B$462)+LOOKUP(L150,ByM!$A$2:$B$462)+LOOKUP(M150,ByM!$A$2:$B$462)+LOOKUP(N150,ByM!$A$2:$B$462)+LOOKUP(O150,ByM!$A$2:$B$462))","v":""}]
[null,null,null,null,null,null,null,null,null,null,null,null,null,null,null,{"$f":"IF(C151=\"\",\"\",LOOKUP(E151,$P$2:$Q$11)+LOOKUP(F151,$P$2:$Q$11)+LOOKUP(G151,$P$2:$Q$11)+LOOKUP(#REF!,$P$2:$Q$11)+LOOKUP(H151,$P$2:$Q$11))","v":""},{"$f":"IF(C151=\"\",\"\",LOOKUP(K151,ByM!$A$2:$B$462)+LOOKUP(L151,ByM!$A$2:$B$462)+LOOKUP(M151,ByM!$A$2:$B$462)+LOOKUP(N151,ByM!$A$2:$B$462)+LOOKUP(O151,ByM!$A$2:$B$462))","v":""}]
[null,null,null,null,null,null,null,null,null,null,null,null,null,null,null,{"$f":"IF(C152=\"\",\"\",LOOKUP(E152,$P$2:$Q$11)+LOOKUP(F152,$P$2:$Q$11)+LOOKUP(G152,$P$2:$Q$11)+LOOKUP(#REF!,$P$2:$Q$11)+LOOKUP(H152,$P$2:$Q$11))","v":""},{"$f":"IF(C152=\"\",\"\",LOOKUP(K152,ByM!$A$2:$B$462)+LOOKUP(L152,ByM!$A$2:$B$462)+LOOKUP(M152,ByM!$A$2:$B$462)+LOOKUP(N152,ByM!$A$2:$B$462)+LOOKUP(O152,ByM!$A$2:$B$462))","v":""}]
[null,null,null,null,null,null,null,null,null,null,null,null,null,null,null,{"$f":"IF(C153=\"\",\"\",LOOKUP(E153,$P$2:$Q$11)+LOOKUP(F153,$P$2:$Q$11)+LOOKUP(G153,$P$2:$Q$11)+LOOKUP(#REF!,$P$2:$Q$11)+LOOKUP(H153,$P$2:$Q$11))","v":""},{"$f":"IF(C153=\"\",\"\",LOOKUP(K153,ByM!$A$2:$B$462)+LOOKUP(L153,ByM!$A$2:$B$462)+LOOKUP(M153,ByM!$A$2:$B$462)+LOOKUP(N153,ByM!$A$2:$B$462)+LOOKUP(O153,ByM!$A$2:$B$462))","v":""}]
[null,null,null,null,null,null,null,null,null,null,null,null,null,null,null,{"$f":"IF(C154=\"\",\"\",LOOKUP(E154,$P$2:$Q$11)+LOOKUP(F154,$P$2:$Q$11)+LOOKUP(G154,$P$2:$Q$11)+LOOKUP(#REF!,$P$2:$Q$11)+LOOKUP(H154,$P$2:$Q$11))","v":""},{"$f":"IF(C154=\"\",\"\",LOOKUP(K154,ByM!$A$2:$B$462)+LOOKUP(L154,ByM!$A$2:$B$462)+LOOKUP(M154,ByM!$A$2:$B$462)+LOOKUP(N154,ByM!$A$2:$B$462)+LOOKUP(O154,ByM!$A$2:$B$462))","v":""}]
[null,null,null,null,null,null,null,null,null,null,null,null,null,null,null,{"$f":"IF(C155=\"\",\"\",LOOKUP(E155,$P$2:$Q$11)+LOOKUP(F155,$P$2:$Q$11)+LOOKUP(G155,$P$2:$Q$11)+LOOKUP(#REF!,$P$2:$Q$11)+LOOKUP(H155,$P$2:$Q$11))","v":""},{"$f":"IF(C155=\"\",\"\",LOOKUP(K155,ByM!$A$2:$B$462)+LOOKUP(L155,ByM!$A$2:$B$462)+LOOKUP(M155,ByM!$A$2:$B$462)+LOOKUP(N155,ByM!$A$2:$B$462)+LOOKUP(O155,ByM!$A$2:$B$462))","v":""}]
[null,null,null,null,null,null,null,null,null,null,null,null,null,null,null,{"$f":"IF(C156=\"\",\"\",LOOKUP(E156,$P$2:$Q$11)+LOOKUP(F156,$P$2:$Q$11)+LOOKUP(G156,$P$2:$Q$11)+LOOKUP(#REF!,$P$2:$Q$11)+LOOKUP(H156,$P$2:$Q$11))","v":""},{"$f":"IF(C156=\"\",\"\",LOOKUP(K156,ByM!$A$2:$B$462)+LOOKUP(L156,ByM!$A$2:$B$462)+LOOKUP(M156,ByM!$A$2:$B$462)+LOOKUP(N156,ByM!$A$2:$B$462)+LOOKUP(O156,ByM!$A$2:$B$462))","v":""}]
[null,null,null,null,null,null,null,null,null,null,null,null,null,null,null,{"$f":"IF(C157=\"\",\"\",LOOKUP(E157,$P$2:$Q$11)+LOOKUP(F157,$P$2:$Q$11)+LOOKUP(G157,$P$2:$Q$11)+LOOKUP(#REF!,$P$2:$Q$11)+LOOKUP(H157,$P$2:$Q$11))","v":""},{"$f":"IF(C157=\"\",\"\",LOOKUP(K157,ByM!$A$2:$B$462)+LOOKUP(L157,ByM!$A$2:$B$462)+LOOKUP(M157,ByM!$A$2:$B$462)+LOOKUP(N157,ByM!$A$2:$B$462)+LOOKUP(O157,ByM!$A$2:$B$462))","v":""}]
[null,null,null,null,null,null,null,null,null,null,null,null,null,null,null,{"$f":"IF(C158=\"\",\"\",LOOKUP(E158,$P$2:$Q$11)+LOOKUP(F158,$P$2:$Q$11)+LOOKUP(G158,$P$2:$Q$11)+LOOKUP(#REF!,$P$2:$Q$11)+LOOKUP(H158,$P$2:$Q$11))","v":""},{"$f":"IF(C158=\"\",\"\",LOOKUP(K158,ByM!$A$2:$B$462)+LOOKUP(L158,ByM!$A$2:$B$462)+LOOKUP(M158,ByM!$A$2:$B$462)+LOOKUP(N158,ByM!$A$2:$B$462)+LOOKUP(O158,ByM!$A$2:$B$462))","v":""}]
[null,null,null,null,null,null,null,null,null,null,null,null,null,null,null,{"$f":"IF(C159=\"\",\"\",LOOKUP(E159,$P$2:$Q$11)+LOOKUP(F159,$P$2:$Q$11)+LOOKUP(G159,$P$2:$Q$11)+LOOKUP(#REF!,$P$2:$Q$11)+LOOKUP(H159,$P$2:$Q$11))","v":""},{"$f":"IF(C159=\"\",\"\",LOOKUP(K159,ByM!$A$2:$B$462)+LOOKUP(L159,ByM!$A$2:$B$462)+LOOKUP(M159,ByM!$A$2:$B$462)+LOOKUP(N159,ByM!$A$2:$B$462)+LOOKUP(O159,ByM!$A$2:$B$462))","v":""}]
[null,null,null,null,null,null,null,null,null,null,null,null,null,null,null,{"$f":"IF(C160=\"\",\"\",LOOKUP(E160,$P$2:$Q$11)+LOOKUP(F160,$P$2:$Q$11)+LOOKUP(G160,$P$2:$Q$11)+LOOKUP(#REF!,$P$2:$Q$11)+LOOKUP(H160,$P$2:$Q$11))","v":""},{"$f":"IF(C160=\"\",\"\",LOOKUP(K160,ByM!$A$2:$B$462)+LOOKUP(L160,ByM!$A$2:$B$462)+LOOKUP(M160,ByM!$A$2:$B$462)+LOOKUP(N160,ByM!$A$2:$B$462)+LOOKUP(O160,ByM!$A$2:$B$462))","v":""}]
[null,null,null,null,null,null,null,null,null,null,null,null,null,null,null,{"$f":"IF(C161=\"\",\"\",LOOKUP(E161,$P$2:$Q$11)+LOOKUP(F161,$P$2:$Q$11)+LOOKUP(G161,$P$2:$Q$11)+LOOKUP(#REF!,$P$2:$Q$11)+LOOKUP(H161,$P$2:$Q$11))","v":""},{"$f":"IF(C161=\"\",\"\",LOOKUP(K161,ByM!$A$2:$B$462)+LOOKUP(L161,ByM!$A$2:$B$462)+LOOKUP(M161,ByM!$A$2:$B$462)+LOOKUP(N161,ByM!$A$2:$B$462)+LOOKUP(O161,ByM!$A$2:$B$462))","v":""}]
[null,null,null,null,null,null,null,null,null,null,null,null,null,null,null,{"$f":"IF(C162=\"\",\"\",LOOKUP(E162,$P$2:$Q$11)+LOOKUP(F162,$P$2:$Q$11)+LOOKUP(G162,$P$2:$Q$11)+LOOKUP(#REF!,$P$2:$Q$11)+LOOKUP(H162,$P$2:$Q$11))","v":""},{"$f":"IF(C162=\"\",\"\",LOOKUP(K162,ByM!$A$2:$B$462)+LOOKUP(L162,ByM!$A$2:$B$462)+LOOKUP(M162,ByM!$A$2:$B$462)+LOOKUP(N162,ByM!$A$2:$B$462)+LOOKUP(O162,ByM!$A$2:$B$462))","v":""}]
[null,null,null,null,null,null,null,null,null,null,null,null,null,null,null,{"$f":"IF(C163=\"\",\"\",LOOKUP(E163,$P$2:$Q$11)+LOOKUP(F163,$P$2:$Q$11)+LOOKUP(G163,$P$2:$Q$11)+LOOKUP(#REF!,$P$2:$Q$11)+LOOKUP(H163,$P$2:$Q$11))","v":""},{"$f":"IF(C163=\"\",\"\",LOOKUP(K163,ByM!$A$2:$B$462)+LOOKUP(L163,ByM!$A$2:$B$462)+LOOKUP(M163,ByM!$A$2:$B$462)+LOOKUP(N163,ByM!$A$2:$B$462)+LOOKUP(O163,ByM!$A$2:$B$462))","v":""}]
[null,null,null,null,null,null,null,null,null,null,null,null,null,null,null,{"$f":"IF(C164=\"\",\"\",LOOKUP(E164,$P$2:$Q$11)+LOOKUP(F164,$P$2:$Q$11)+LOOKUP(G164,$P$2:$Q$11)+LOOKUP(#REF!,$P$2:$Q$11)+LOOKUP(H164,$P$2:$Q$11))","v":""},{"$f":"IF(C164=\"\",\"\",LOOKUP(K164,ByM!$A$2:$B$462)+LOOKUP(L164,ByM!$A$2:$B$462)+LOOKUP(M164,ByM!$A$2:$B$462)+LOOKUP(N164,ByM!$A$2:$B$462)+LOOKUP(O164,ByM!$A$2:$B$462))","v":""}]
[null,null,null,null,null,null,null,null,null,null,null,null,null,null,null,{"$f":"IF(C165=\"\",\"\",LOOKUP(E165,$P$2:$Q$11)+LOOKUP(F165,$P$2:$Q$11)+LOOKUP(G165,$P$2:$Q$11)+LOOKUP(#REF!,$P$2:$Q$11)+LOOKUP(H165,$P$2:$Q$11))","v":""},{"$f":"IF(C165=\"\",\"\",LOOKUP(K165,ByM!$A$2:$B$462)+LOOKUP(L165,ByM!$A$2:$B$462)+LOOKUP(M165,ByM!$A$2:$B$462)+LOOKUP(N165,ByM!$A$2:$B$462)+LOOKUP(O165,ByM!$A$2:$B$462))","v":""}]
[null,null,null,null,null,null,null,null,null,null,null,null,null,null,null,{"$f":"IF(C166=\"\",\"\",LOOKUP(E166,$P$2:$Q$11)+LOOKUP(F166,$P$2:$Q$11)+LOOKUP(G166,$P$2:$Q$11)+LOOKUP(#REF!,$P$2:$Q$11)+LOOKUP(H166,$P$2:$Q$11))","v":""},{"$f":"IF(C166=\"\",\"\",LOOKUP(K166,ByM!$A$2:$B$462)+LOOKUP(L166,ByM!$A$2:$B$462)+LOOKUP(M166,ByM!$A$2:$B$462)+LOOKUP(N166,ByM!$A$2:$B$462)+LOOKUP(O166,ByM!$A$2:$B$462))","v":""}]
[null,null,null,null,null,null,null,null,null,null,null,null,null,null,null,{"$f":"IF(C167=\"\",\"\",LOOKUP(E167,$P$2:$Q$11)+LOOKUP(F167,$P$2:$Q$11)+LOOKUP(G167,$P$2:$Q$11)+LOOKUP(#REF!,$P$2:$Q$11)+LOOKUP(H167,$P$2:$Q$11))","v":""},{"$f":"IF(C167=\"\",\"\",LOOKUP(K167,ByM!$A$2:$B$462)+LOOKUP(L167,ByM!$A$2:$B$462)+LOOKUP(M167,ByM!$A$2:$B$462)+LOOKUP(N167,ByM!$A$2:$B$462)+LOOKUP(O167,ByM!$A$2:$B$462))","v":""}]
[null,null,null,null,null,null,null,null,null,null,null,null,null,null,null,{"$f":"IF(C168=\"\",\"\",LOOKUP(E168,$P$2:$Q$11)+LOOKUP(F168,$P$2:$Q$11)+LOOKUP(G168,$P$2:$Q$11)+LOOKUP(#REF!,$P$2:$Q$11)+LOOKUP(H168,$P$2:$Q$11))","v":""},{"$f":"IF(C168=\"\",\"\",LOOKUP(K168,ByM!$A$2:$B$462)+LOOKUP(L168,ByM!$A$2:$B$462)+LOOKUP(M168,ByM!$A$2:$B$462)+LOOKUP(N168,ByM!$A$2:$B$462)+LOOKUP(O168,ByM!$A$2:$B$462))","v":""}]
[null,null,null,null,null,null,null,null,null,null,null,null,null,null,null,{"$f":"IF(C169=\"\",\"\",LOOKUP(E169,$P$2:$Q$11)+LOOKUP(F169,$P$2:$Q$11)+LOOKUP(G169,$P$2:$Q$11)+LOOKUP(#REF!,$P$2:$Q$11)+LOOKUP(H169,$P$2:$Q$11))","v":""},{"$f":"IF(C169=\"\",\"\",LOOKUP(K169,ByM!$A$2:$B$462)+LOOKUP(L169,ByM!$A$2:$B$462)+LOOKUP(M169,ByM!$A$2:$B$462)+LOOKUP(N169,ByM!$A$2:$B$462)+LOOKUP(O169,ByM!$A$2:$B$462))","v":""}]
[null,null,null,null,null,null,null,null,null,null,null,null,null,null,null,{"$f":"IF(C170=\"\",\"\",LOOKUP(E170,$P$2:$Q$11)+LOOKUP(F170,$P$2:$Q$11)+LOOKUP(G170,$P$2:$Q$11)+LOOKUP(#REF!,$P$2:$Q$11)+LOOKUP(H170,$P$2:$Q$11))","v":""},{"$f":"IF(C170=\"\",\"\",LOOKUP(K170,ByM!$A$2:$B$462)+LOOKUP(L170,ByM!$A$2:$B$462)+LOOKUP(M170,ByM!$A$2:$B$462)+LOOKUP(N170,ByM!$A$2:$B$462)+LOOKUP(O170,ByM!$A$2:$B$462))","v":""}]
[null,null,null,null,null,null,null,null,null,null,null,null,null,null,null,{"$f":"IF(C171=\"\",\"\",LOOKUP(E171,$P$2:$Q$11)+LOOKUP(F171,$P$2:$Q$11)+LOOKUP(G171,$P$2:$Q$11)+LOOKUP(#REF!,$P$2:$Q$11)+LOOKUP(H171,$P$2:$Q$11))","v":""},{"$f":"IF(C171=\"\",\"\",LOOKUP(K171,ByM!$A$2:$B$462)+LOOKUP(L171,ByM!$A$2:$B$462)+LOOKUP(M171,ByM!$A$2:$B$462)+LOOKUP(N171,ByM!$A$2:$B$462)+LOOKUP(O171,ByM!$A$2:$B$462))","v":""}]
[null,null,null,null,null,null,null,null,null,null,null,null,null,null,null,{"$f":"IF(C172=\"\",\"\",LOOKUP(E172,$P$2:$Q$11)+LOOKUP(F172,$P$2:$Q$11)+LOOKUP(G172,$P$2:$Q$11)+LOOKUP(#REF!,$P$2:$Q$11)+LOOKUP(H172,$P$2:$Q$11))","v":""},{"$f":"IF(C172=\"\",\"\",LOOKUP(K172,ByM!$A$2:$B$462)+LOOKUP(L172,ByM!$A$2:$B$462)+LOOKUP(M172,ByM!$A$2:$B$462)+LOOKUP(N172,ByM!$A$2:$B$462)+LOOKUP(O172,ByM!$A$2:$B$462))","v":""}]
[null,null,null,null,null,null,null,null,null,null,null,null,null,null,null,{"$f":"IF(C173=\"\",\"\",LOOKUP(E173,$P$2:$Q$11)+LOOKUP(F173,$P$2:$Q$11)+LOOKUP(G173,$P$2:$Q$11)+LOOKUP(#REF!,$P$2:$Q$11)+LOOKUP(H173,$P$2:$Q$11))","v":""},{"$f":"IF(C173=\"\",\"\",LOOKUP(K173,ByM!$A$2:$B$462)+LOOKUP(L173,ByM!$A$2:$B$462)+LOOKUP(M173,ByM!$A$2:$B$462)+LOOKUP(N173,ByM!$A$2:$B$462)+LOOKUP(O173,ByM!$A$2:$B$462))","v":""}]
[null,null,null,null,null,null,null,null,null,null,null,null,null,null,null,{"$f":"IF(C174=\"\",\"\",LOOKUP(E174,$P$2:$Q$11)+LOOKUP(F174,$P$2:$Q$11)+LOOKUP(G174,$P$2:$Q$11)+LOOKUP(#REF!,$P$2:$Q$11)+LOOKUP(H174,$P$2:$Q$11))","v":""},{"$f":"IF(C174=\"\",\"\",LOOKUP(K174,ByM!$A$2:$B$462)+LOOKUP(L174,ByM!$A$2:$B$462)+LOOKUP(M174,ByM!$A$2:$B$462)+LOOKUP(N174,ByM!$A$2:$B$462)+LOOKUP(O174,ByM!$A$2:$B$462))","v":""}]
[null,null,null,null,null,null,null,null,null,null,null,null,null,null,null,{"$f":"IF(C175=\"\",\"\",LOOKUP(E175,$P$2:$Q$11)+LOOKUP(F175,$P$2:$Q$11)+LOOKUP(G175,$P$2:$Q$11)+LOOKUP(#REF!,$P$2:$Q$11)+LOOKUP(H175,$P$2:$Q$11))","v":""},{"$f":"IF(C175=\"\",\"\",LOOKUP(K175,ByM!$A$2:$B$462)+LOOKUP(L175,ByM!$A$2:$B$462)+LOOKUP(M175,ByM!$A$2:$B$462)+LOOKUP(N175,ByM!$A$2:$B$462)+LOOKUP(O175,ByM!$A$2:$B$462))","v":""}]
[null,null,null,null,null,null,null,null,null,null,null,null,null,null,null,{"$f":"IF(C176=\"\",\"\",LOOKUP(E176,$P$2:$Q$11)+LOOKUP(F176,$P$2:$Q$11)+LOOKUP(G176,$P$2:$Q$11)+LOOKUP(#REF!,$P$2:$Q$11)+LOOKUP(H176,$P$2:$Q$11))","v":""},{"$f":"IF(C176=\"\",\"\",LOOKUP(K176,ByM!$A$2:$B$462)+LOOKUP(L176,ByM!$A$2:$B$462)+LOOKUP(M176,ByM!$A$2:$B$462)+LOOKUP(N176,ByM!$A$2:$B$462)+LOOKUP(O176,ByM!$A$2:$B$462))","v":""}]
[null,null,null,null,null,null,null,null,null,null,null,null,null,null,null,{"$f":"IF(C177=\"\",\"\",LOOKUP(E177,$P$2:$Q$11)+LOOKUP(F177,$P$2:$Q$11)+LOOKUP(G177,$P$2:$Q$11)+LOOKUP(#REF!,$P$2:$Q$11)+LOOKUP(H177,$P$2:$Q$11))","v":""},{"$f":"IF(C177=\"\",\"\",LOOKUP(K177,ByM!$A$2:$B$462)+LOOKUP(L177,ByM!$A$2:$B$462)+LOOKUP(M177,ByM!$A$2:$B$462)+LOOKUP(N177,ByM!$A$2:$B$462)+LOOKUP(O177,ByM!$A$2:$B$462))","v":""}]
[null,null,null,null,null,null,null,null,null,null,null,null,null,null,null,{"$f":"IF(C178=\"\",\"\",LOOKUP(E178,$P$2:$Q$11)+LOOKUP(F178,$P$2:$Q$11)+LOOKUP(G178,$P$2:$Q$11)+LOOKUP(#REF!,$P$2:$Q$11)+LOOKUP(H178,$P$2:$Q$11))","v":""},{"$f":"IF(C178=\"\",\"\",LOOKUP(K178,ByM!$A$2:$B$462)+LOOKUP(L178,ByM!$A$2:$B$462)+LOOKUP(M178,ByM!$A$2:$B$462)+LOOKUP(N178,ByM!$A$2:$B$462)+LOOKUP(O178,ByM!$A$2:$B$462))","v":""}]
[null,null,null,null,null,null,null,null,null,null,null,null,null,null,null,{"$f":"IF(C179=\"\",\"\",LOOKUP(E179,$P$2:$Q$11)+LOOKUP(F179,$P$2:$Q$11)+LOOKUP(G179,$P$2:$Q$11)+LOOKUP(#REF!,$P$2:$Q$11)+LOOKUP(H179,$P$2:$Q$11))","v":""},{"$f":"IF(C179=\"\",\"\",LOOKUP(K179,ByM!$A$2:$B$462)+LOOKUP(L179,ByM!$A$2:$B$462)+LOOKUP(M179,ByM!$A$2:$B$462)+LOOKUP(N179,ByM!$A$2:$B$462)+LOOKUP(O179,ByM!$A$2:$B$462))","v":""}]
[null,null,null,null,null,null,null,null,null,null,null,null,null,null,null,{"$f":"IF(C180=\"\",\"\",LOOKUP(E180,$P$2:$Q$11)+LOOKUP(F180,$P$2:$Q$11)+LOOKUP(G180,$P$2:$Q$11)+LOOKUP(#REF!,$P$2:$Q$11)+LOOKUP(H180,$P$2:$Q$11))","v":""},{"$f":"IF(C180=\"\",\"\",LOOKUP(K180,ByM!$A$2:$B$462)+LOOKUP(L180,ByM!$A$2:$B$462)+LOOKUP(M180,ByM!$A$2:$B$462)+LOOKUP(N180,ByM!$A$2:$B$462)+LOOKUP(O180,ByM!$A$2:$B$462))","v":""}]
[null,null,null,null,null,null,null,null,null,null,null,null,null,null,null,{"$f":"IF(C181=\"\",\"\",LOOKUP(E181,$P$2:$Q$11)+LOOKUP(F181,$P$2:$Q$11)+LOOKUP(G181,$P$2:$Q$11)+LOOKUP(#REF!,$P$2:$Q$11)+LOOKUP(H181,$P$2:$Q$11))","v":""},{"$f":"IF(C181=\"\",\"\",LOOKUP(K181,ByM!$A$2:$B$462)+LOOKUP(L181,ByM!$A$2:$B$462)+LOOKUP(M181,ByM!$A$2:$B$462)+LOOKUP(N181,ByM!$A$2:$B$462)+LOOKUP(O181,ByM!$A$2:$B$462))","v":""}]
[null,null,null,null,null,null,null,null,null,null,null,null,null,null,null,{"$f":"IF(C182=\"\",\"\",LOOKUP(E182,$P$2:$Q$11)+LOOKUP(F182,$P$2:$Q$11)+LOOKUP(G182,$P$2:$Q$11)+LOOKUP(#REF!,$P$2:$Q$11)+LOOKUP(H182,$P$2:$Q$11))","v":""},{"$f":"IF(C182=\"\",\"\",LOOKUP(K182,ByM!$A$2:$B$462)+LOOKUP(L182,ByM!$A$2:$B$462)+LOOKUP(M182,ByM!$A$2:$B$462)+LOOKUP(N182,ByM!$A$2:$B$462)+LOOKUP(O182,ByM!$A$2:$B$462))","v":""}]
[null,null,null,null,null,null,null,null,null,null,null,null,null,null,null,{"$f":"IF(C183=\"\",\"\",LOOKUP(E183,$P$2:$Q$11)+LOOKUP(F183,$P$2:$Q$11)+LOOKUP(G183,$P$2:$Q$11)+LOOKUP(#REF!,$P$2:$Q$11)+LOOKUP(H183,$P$2:$Q$11))","v":""},{"$f":"IF(C183=\"\",\"\",LOOKUP(K183,ByM!$A$2:$B$462)+LOOKUP(L183,ByM!$A$2:$B$462)+LOOKUP(M183,ByM!$A$2:$B$462)+LOOKUP(N183,ByM!$A$2:$B$462)+LOOKUP(O183,ByM!$A$2:$B$462))","v":""}]
[null,null,null,null,null,null,null,null,null,null,null,null,null,null,null,{"$f":"IF(C184=\"\",\"\",LOOKUP(E184,$P$2:$Q$11)+LOOKUP(F184,$P$2:$Q$11)+LOOKUP(G184,$P$2:$Q$11)+LOOKUP(#REF!,$P$2:$Q$11)+LOOKUP(H184,$P$2:$Q$11))","v":""},{"$f":"IF(C184=\"\",\"\",LOOKUP(K184,ByM!$A$2:$B$462)+LOOKUP(L184,ByM!$A$2:$B$462)+LOOKUP(M184,ByM!$A$2:$B$462)+LOOKUP(N184,ByM!$A$2:$B$462)+LOOKUP(O184,ByM!$A$2:$B$462))","v":""}]
[null,null,null,null,null,null,null,null,null,null,null,null,null,null,null,{"$f":"IF(C185=\"\",\"\",LOOKUP(E185,$P$2:$Q$11)+LOOKUP(F185,$P$2:$Q$11)+LOOKUP(G185,$P$2:$Q$11)+LOOKUP(#REF!,$P$2:$Q$11)+LOOKUP(H185,$P$2:$Q$11))","v":""},{"$f":"IF(C185=\"\",\"\",LOOKUP(K185,ByM!$A$2:$B$462)+LOOKUP(L185,ByM!$A$2:$B$462)+LOOKUP(M185,ByM!$A$2:$B$462)+LOOKUP(N185,ByM!$A$2:$B$462)+LOOKUP(O185,ByM!$A$2:$B$462))","v":""}]
[null,null,null,null,null,null,null,null,null,null,null,null,null,null,null,{"$f":"IF(C186=\"\",\"\",LOOKUP(E186,$P$2:$Q$11)+LOOKUP(F186,$P$2:$Q$11)+LOOKUP(G186,$P$2:$Q$11)+LOOKUP(#REF!,$P$2:$Q$11)+LOOKUP(H186,$P$2:$Q$11))","v":""},{"$f":"IF(C186=\"\",\"\",LOOKUP(K186,ByM!$A$2:$B$462)+LOOKUP(L186,ByM!$A$2:$B$462)+LOOKUP(M186,ByM!$A$2:$B$462)+LOOKUP(N186,ByM!$A$2:$B$462)+LOOKUP(O186,ByM!$A$2:$B$462))","v":""}]
[null,null,null,null,null,null,null,null,null,null,null,null,null,null,null,{"$f":"IF(C187=\"\",\"\",LOOKUP(E187,$P$2:$Q$11)+LOOKUP(F187,$P$2:$Q$11)+LOOKUP(G187,$P$2:$Q$11)+LOOKUP(#REF!,$P$2:$Q$11)+LOOKUP(H187,$P$2:$Q$11))","v":""},{"$f":"IF(C187=\"\",\"\",LOOKUP(K187,ByM!$A$2:$B$462)+LOOKUP(L187,ByM!$A$2:$B$462)+LOOKUP(M187,ByM!$A$2:$B$462)+LOOKUP(N187,ByM!$A$2:$B$462)+LOOKUP(O187,ByM!$A$2:$B$462))","v":""}]
[null,null,null,null,null,null,null,null,null,null,null,null,null,null,null,{"$f":"IF(C188=\"\",\"\",LOOKUP(E188,$P$2:$Q$11)+LOOKUP(F188,$P$2:$Q$11)+LOOKUP(G188,$P$2:$Q$11)+LOOKUP(#REF!,$P$2:$Q$11)+LOOKUP(H188,$P$2:$Q$11))","v":""},{"$f":"IF(C188=\"\",\"\",LOOKUP(K188,ByM!$A$2:$B$462)+LOOKUP(L188,ByM!$A$2:$B$462)+LOOKUP(M188,ByM!$A$2:$B$462)+LOOKUP(N188,ByM!$A$2:$B$462)+LOOKUP(O188,ByM!$A$2:$B$462))","v":""}]
[null,null,null,null,null,null,null,null,null,null,null,null,null,null,null,{"$f":"IF(C189=\"\",\"\",LOOKUP(E189,$P$2:$Q$11)+LOOKUP(F189,$P$2:$Q$11)+LOOKUP(G189,$P$2:$Q$11)+LOOKUP(#REF!,$P$2:$Q$11)+LOOKUP(H189,$P$2:$Q$11))","v":""},{"$f":"IF(C189=\"\",\"\",LOOKUP(K189,ByM!$A$2:$B$462)+LOOKUP(L189,ByM!$A$2:$B$462)+LOOKUP(M189,ByM!$A$2:$B$462)+LOOKUP(N189,ByM!$A$2:$B$462)+LOOKUP(O189,ByM!$A$2:$B$462))","v":""}]
[null,null,null,null,null,null,null,null,null,null,null,null,null,null,null,{"$f":"IF(C190=\"\",\"\",LOOKUP(E190,$P$2:$Q$11)+LOOKUP(F190,$P$2:$Q$11)+LOOKUP(G190,$P$2:$Q$11)+LOOKUP(#REF!,$P$2:$Q$11)+LOOKUP(H190,$P$2:$Q$11))","v":""},{"$f":"IF(C190=\"\",\"\",LOOKUP(K190,ByM!$A$2:$B$462)+LOOKUP(L190,ByM!$A$2:$B$462)+LOOKUP(M190,ByM!$A$2:$B$462)+LOOKUP(N190,ByM!$A$2:$B$462)+LOOKUP(O190,ByM!$A$2:$B$462))","v":""}]
[null,null,null,null,null,null,null,null,null,null,null,null,null,null,null,{"$f":"IF(C191=\"\",\"\",LOOKUP(E191,$P$2:$Q$11)+LOOKUP(F191,$P$2:$Q$11)+LOOKUP(G191,$P$2:$Q$11)+LOOKUP(#REF!,$P$2:$Q$11)+LOOKUP(H191,$P$2:$Q$11))","v":""},{"$f":"IF(C191=\"\",\"\",LOOKUP(K191,ByM!$A$2:$B$462)+LOOKUP(L191,ByM!$A$2:$B$462)+LOOKUP(M191,ByM!$A$2:$B$462)+LOOKUP(N191,ByM!$A$2:$B$462)+LOOKUP(O191,ByM!$A$2:$B$462))","v":""}]
[null,null,null,null,null,null,null,null,null,null,null,null,null,null,null,{"$f":"IF(C192=\"\",\"\",LOOKUP(E192,$P$2:$Q$11)+LOOKUP(F192,$P$2:$Q$11)+LOOKUP(G192,$P$2:$Q$11)+LOOKUP(#REF!,$P$2:$Q$11)+LOOKUP(H192,$P$2:$Q$11))","v":""},{"$f":"IF(C192=\"\",\"\",LOOKUP(K192,ByM!$A$2:$B$462)+LOOKUP(L192,ByM!$A$2:$B$462)+LOOKUP(M192,ByM!$A$2:$B$462)+LOOKUP(N192,ByM!$A$2:$B$462)+LOOKUP(O192,ByM!$A$2:$B$462))","v":""}]
[null,null,null,null,null,null,null,null,null,null,null,null,null,null,null,{"$f":"IF(C193=\"\",\"\",LOOKUP(E193,$P$2:$Q$11)+LOOKUP(F193,$P$2:$Q$11)+LOOKUP(G193,$P$2:$Q$11)+LOOKUP(#REF!,$P$2:$Q$11)+LOOKUP(H193,$P$2:$Q$11))","v":""},{"$f":"IF(C193=\"\",\"\",LOOKUP(K193,ByM!$A$2:$B$462)+LOOKUP(L193,ByM!$A$2:$B$462)+LOOKUP(M193,ByM!$A$2:$B$462)+LOOKUP(N193,ByM!$A$2:$B$462)+LOOKUP(O193,ByM!$A$2:$B$462))","v":""}]
[null,null,null,null,null,null,null,null,null,null,null,null,null,null,null,{"$f":"IF(C194=\"\",\"\",LOOKUP(E194,$P$2:$Q$11)+LOOKUP(F194,$P$2:$Q$11)+LOOKUP(G194,$P$2:$Q$11)+LOOKUP(#REF!,$P$2:$Q$11)+LOOKUP(H194,$P$2:$Q$11))","v":""},{"$f":"IF(C194=\"\",\"\",LOOKUP(K194,ByM!$A$2:$B$462)+LOOKUP(L194,ByM!$A$2:$B$462)+LOOKUP(M194,ByM!$A$2:$B$462)+LOOKUP(N194,ByM!$A$2:$B$462)+LOOKUP(O194,ByM!$A$2:$B$462))","v":""}]
[null,null,null,null,null,null,null,null,null,null,null,null,null,null,null,{"$f":"IF(C195=\"\",\"\",LOOKUP(E195,$P$2:$Q$11)+LOOKUP(F195,$P$2:$Q$11)+LOOKUP(G195,$P$2:$Q$11)+LOOKUP(#REF!,$P$2:$Q$11)+LOOKUP(H195,$P$2:$Q$11))","v":""},{"$f":"IF(C195=\"\",\"\",LOOKUP(K195,ByM!$A$2:$B$462)+LOOKUP(L195,ByM!$A$2:$B$462)+LOOKUP(M195,ByM!$A$2:$B$462)+LOOKUP(N195,ByM!$A$2:$B$462)+LOOKUP(O195,ByM!$A$2:$B$462))","v":""}]
[null,null,null,null,null,null,null,null,null,null,null,null,null,null,null,{"$f":"IF(C196=\"\",\"\",LOOKUP(E196,$P$2:$Q$11)+LOOKUP(F196,$P$2:$Q$11)+LOOKUP(G196,$P$2:$Q$11)+LOOKUP(#REF!,$P$2:$Q$11)+LOOKUP(H196,$P$2:$Q$11))","v":""},{"$f":"IF(C196=\"\",\"\",LOOKUP(K196,ByM!$A$2:$B$462)+LOOKUP(L196,ByM!$A$2:$B$462)+LOOKUP(M196,ByM!$A$2:$B$462)+LOOKUP(N196,ByM!$A$2:$B$462)+LOOKUP(O196,ByM!$A$2:$B$462))","v":""}]
[null,null,null,null,null,null,null,null,null,null,null,null,null,null,null,{"$f":"IF(C197=\"\",\"\",LOOKUP(E197,$P$2:$Q$11)+LOOKUP(F197,$P$2:$Q$11)+LOOKUP(G197,$P$2:$Q$11)+LOOKUP(#REF!,$P$2:$Q$11)+LOOKUP(H197,$P$2:$Q$11))","v":""},{"$f":"IF(C197=\"\",\"\",LOOKUP(K197,ByM!$A$2:$B$462)+LOOKUP(L197,ByM!$A$2:$B$462)+LOOKUP(M197,ByM!$A$2:$B$462)+LOOKUP(N197,ByM!$A$2:$B$462)+LOOKUP(O197,ByM!$A$2:$B$462))","v":""}]
[null,null,null,null,null,null,null,null,null,null,null,null,null,null,null,{"$f":"IF(C198=\"\",\"\",LOOKUP(E198,$P$2:$Q$11)+LOOKUP(F198,$P$2:$Q$11)+LOOKUP(G198,$P$2:$Q$11)+LOOKUP(#REF!,$P$2:$Q$11)+LOOKUP(H198,$P$2:$Q$11))","v":""},{"$f":"IF(C198=\"\",\"\",LOOKUP(K198,ByM!$A$2:$B$462)+LOOKUP(L198,ByM!$A$2:$B$462)+LOOKUP(M198,ByM!$A$2:$B$462)+LOOKUP(N198,ByM!$A$2:$B$462)+LOOKUP(O198,ByM!$A$2:$B$462))","v":""}]
[null,null,null,null,null,null,null,null,null,null,null,null,null,null,null,{"$f":"IF(C199=\"\",\"\",LOOKUP(E199,$P$2:$Q$11)+LOOKUP(F199,$P$2:$Q$11)+LOOKUP(G199,$P$2:$Q$11)+LOOKUP(#REF!,$P$2:$Q$11)+LOOKUP(H199,$P$2:$Q$11))","v":""},{"$f":"IF(C199=\"\",\"\",LOOKUP(K199,ByM!$A$2:$B$462)+LOOKUP(L199,ByM!$A$2:$B$462)+LOOKUP(M199,ByM!$A$2:$B$462)+LOOKUP(N199,ByM!$A$2:$B$462)+LOOKUP(O199,ByM!$A$2:$B$462))","v":""}]
[null,null,null,null,null,null,null,null,null,null,null,null,null,null,null,{"$f":"IF(C200=\"\",\"\",LOOKUP(E200,$P$2:$Q$11)+LOOKUP(F200,$P$2:$Q$11)+LOOKUP(G200,$P$2:$Q$11)+LOOKUP(#REF!,$P$2:$Q$11)+LOOKUP(H200,$P$2:$Q$11))","v":""},{"$f":"IF(C200=\"\",\"\",LOOKUP(K200,ByM!$A$2:$B$462)+LOOKUP(L200,ByM!$A$2:$B$462)+LOOKUP(M200,ByM!$A$2:$B$462)+LOOKUP(N200,ByM!$A$2:$B$462)+LOOKUP(O200,ByM!$A$2:$B$462))","v":""}]
[null,null,null,null,null,null,null,null,null,null,null,null,null,null,null,{"$f":"IF(C201=\"\",\"\",LOOKUP(E201,$P$2:$Q$11)+LOOKUP(F201,$P$2:$Q$11)+LOOKUP(G201,$P$2:$Q$11)+LOOKUP(#REF!,$P$2:$Q$11)+LOOKUP(H201,$P$2:$Q$11))","v":""},{"$f":"IF(C201=\"\",\"\",LOOKUP(K201,ByM!$A$2:$B$462)+LOOKUP(L201,ByM!$A$2:$B$462)+LOOKUP(M201,ByM!$A$2:$B$462)+LOOKUP(N201,ByM!$A$2:$B$462)+LOOKUP(O201,ByM!$A$2:$B$462))","v":""}]
[null,null,null,null,null,null,null,null,null,null,null,null,null,null,null,{"$f":"IF(C202=\"\",\"\",LOOKUP(E202,$P$2:$Q$11)+LOOKUP(F202,$P$2:$Q$11)+LOOKUP(G202,$P$2:$Q$11)+LOOKUP(#REF!,$P$2:$Q$11)+LOOKUP(H202,$P$2:$Q$11))","v":""},{"$f":"IF(C202=\"\",\"\",LOOKUP(K202,ByM!$A$2:$B$462)+LOOKUP(L202,ByM!$A$2:$B$462)+LOOKUP(M202,ByM!$A$2:$B$462)+LOOKUP(N202,ByM!$A$2:$B$462)+LOOKUP(O202,ByM!$A$2:$B$462))","v":""}]
[null,null,null,null,null,null,null,null,null,null,null,null,null,null,null,{"$f":"IF(C203=\"\",\"\",LOOKUP(E203,$P$2:$Q$11)+LOOKUP(F203,$P$2:$Q$11)+LOOKUP(G203,$P$2:$Q$11)+LOOKUP(#REF!,$P$2:$Q$11)+LOOKUP(H203,$P$2:$Q$11))","v":""},{"$f":"IF(C203=\"\",\"\",LOOKUP(K203,ByM!$A$2:$B$462)+LOOKUP(L203,ByM!$A$2:$B$462)+LOOKUP(M203,ByM!$A$2:$B$462)+LOOKUP(N203,ByM!$A$2:$B$462)+LOOKUP(O203,ByM!$A$2:$B$462))","v":""}]
[null,null,null,null,null,null,null,null,null,null,null,null,null,null,null,{"$f":"IF(C204=\"\",\"\",LOOKUP(E204,$P$2:$Q$11)+LOOKUP(F204,$P$2:$Q$11)+LOOKUP(G204,$P$2:$Q$11)+LOOKUP(#REF!,$P$2:$Q$11)+LOOKUP(H204,$P$2:$Q$11))","v":""},{"$f":"IF(C204=\"\",\"\",LOOKUP(K204,ByM!$A$2:$B$462)+LOOKUP(L204,ByM!$A$2:$B$462)+LOOKUP(M204,ByM!$A$2:$B$462)+LOOKUP(N204,ByM!$A$2:$B$462)+LOOKUP(O204,ByM!$A$2:$B$462))","v":""}]
[null,null,null,null,null,null,null,null,null,null,null,null,null,null,null,{"$f":"IF(C205=\"\",\"\",LOOKUP(E205,$P$2:$Q$11)+LOOKUP(F205,$P$2:$Q$11)+LOOKUP(G205,$P$2:$Q$11)+LOOKUP(#REF!,$P$2:$Q$11)+LOOKUP(H205,$P$2:$Q$11))","v":""},{"$f":"IF(C205=\"\",\"\",LOOKUP(K205,ByM!$A$2:$B$462)+LOOKUP(L205,ByM!$A$2:$B$462)+LOOKUP(M205,ByM!$A$2:$B$462)+LOOKUP(N205,ByM!$A$2:$B$462)+LOOKUP(O205,ByM!$A$2:$B$462))","v":""}]
[null,null,null,null,null,null,null,null,null,null,null,null,null,null,null,{"$f":"IF(C206=\"\",\"\",LOOKUP(E206,$P$2:$Q$11)+LOOKUP(F206,$P$2:$Q$11)+LOOKUP(G206,$P$2:$Q$11)+LOOKUP(#REF!,$P$2:$Q$11)+LOOKUP(H206,$P$2:$Q$11))","v":""},{"$f":"IF(C206=\"\",\"\",LOOKUP(K206,ByM!$A$2:$B$462)+LOOKUP(L206,ByM!$A$2:$B$462)+LOOKUP(M206,ByM!$A$2:$B$462)+LOOKUP(N206,ByM!$A$2:$B$462)+LOOKUP(O206,ByM!$A$2:$B$462))","v":""}]
[null,null,null,null,null,null,null,null,null,null,null,null,null,null,null,{"$f":"IF(C207=\"\",\"\",LOOKUP(E207,$P$2:$Q$11)+LOOKUP(F207,$P$2:$Q$11)+LOOKUP(G207,$P$2:$Q$11)+LOOKUP(#REF!,$P$2:$Q$11)+LOOKUP(H207,$P$2:$Q$11))","v":""},{"$f":"IF(C207=\"\",\"\",LOOKUP(K207,ByM!$A$2:$B$462)+LOOKUP(L207,ByM!$A$2:$B$462)+LOOKUP(M207,ByM!$A$2:$B$462)+LOOKUP(N207,ByM!$A$2:$B$462)+LOOKUP(O207,ByM!$A$2:$B$462))","v":""}]
[null,null,null,null,null,null,null,null,null,null,null,null,null,null,null,{"$f":"IF(C208=\"\",\"\",LOOKUP(E208,$P$2:$Q$11)+LOOKUP(F208,$P$2:$Q$11)+LOOKUP(G208,$P$2:$Q$11)+LOOKUP(#REF!,$P$2:$Q$11)+LOOKUP(H208,$P$2:$Q$11))","v":""},{"$f":"IF(C208=\"\",\"\",LOOKUP(K208,ByM!$A$2:$B$462)+LOOKUP(L208,ByM!$A$2:$B$462)+LOOKUP(M208,ByM!$A$2:$B$462)+LOOKUP(N208,ByM!$A$2:$B$462)+LOOKUP(O208,ByM!$A$2:$B$462))","v":""}]
[null,null,null,null,null,null,null,null,null,null,null,null,null,null,null,{"$f":"IF(C209=\"\",\"\",LOOKUP(E209,$P$2:$Q$11)+LOOKUP(F209,$P$2:$Q$11)+LOOKUP(G209,$P$2:$Q$11)+LOOKUP(#REF!,$P$2:$Q$11)+LOOKUP(H209,$P$2:$Q$11))","v":""},{"$f":"IF(C209=\"\",\"\",LOOKUP(K209,ByM!$A$2:$B$462)+LOOKUP(L209,ByM!$A$2:$B$462)+LOOKUP(M209,ByM!$A$2:$B$462)+LOOKUP(N209,ByM!$A$2:$B$462)+LOOKUP(O209,ByM!$A$2:$B$462))","v":""}]
[null,null,null,null,null,null,null,null,null,null,null,null,null,null,null,{"$f":"IF(C210=\"\",\"\",LOOKUP(E210,$P$2:$Q$11)+LOOKUP(F210,$P$2:$Q$11)+LOOKUP(G210,$P$2:$Q$11)+LOOKUP(#REF!,$P$2:$Q$11)+LOOKUP(H210,$P$2:$Q$11))","v":""},{"$f":"IF(C210=\"\",\"\",LOOKUP(K210,ByM!$A$2:$B$462)+LOOKUP(L210,ByM!$A$2:$B$462)+LOOKUP(M210,ByM!$A$2:$B$462)+LOOKUP(N210,ByM!$A$2:$B$462)+LOOKUP(O210,ByM!$A$2:$B$462))","v":""}]
[null,null,null,null,null,null,null,null,null,null,null,null,null,null,null,{"$f":"IF(C211=\"\",\"\",LOOKUP(E211,$P$2:$Q$11)+LOOKUP(F211,$P$2:$Q$11)+LOOKUP(G211,$P$2:$Q$11)+LOOKUP(#REF!,$P$2:$Q$11)+LOOKUP(H211,$P$2:$Q$11))","v":""},{"$f":"IF(C211=\"\",\"\",LOOKUP(K211,ByM!$A$2:$B$462)+LOOKUP(L211,ByM!$A$2:$B$462)+LOOKUP(M211,ByM!$A$2:$B$462)+LOOKUP(N211,ByM!$A$2:$B$462)+LOOKUP(O211,ByM!$A$2:$B$462))","v":""}]
[null,null,null,null,null,null,null,null,null,null,null,null,null,null,null,{"$f":"IF(C212=\"\",\"\",LOOKUP(E212,$P$2:$Q$11)+LOOKUP(F212,$P$2:$Q$11)+LOOKUP(G212,$P$2:$Q$11)+LOOKUP(#REF!,$P$2:$Q$11)+LOOKUP(H212,$P$2:$Q$11))","v":""},{"$f":"IF(C212=\"\",\"\",LOOKUP(K212,ByM!$A$2:$B$462)+LOOKUP(L212,ByM!$A$2:$B$462)+LOOKUP(M212,ByM!$A$2:$B$462)+LOOKUP(N212,ByM!$A$2:$B$462)+LOOKUP(O212,ByM!$A$2:$B$462))","v":""}]
[null,null,null,null,null,null,null,null,null,null,null,null,null,null,null,{"$f":"IF(C213=\"\",\"\",LOOKUP(E213,$P$2:$Q$11)+LOOKUP(F213,$P$2:$Q$11)+LOOKUP(G213,$P$2:$Q$11)+LOOKUP(#REF!,$P$2:$Q$11)+LOOKUP(H213,$P$2:$Q$11))","v":""},{"$f":"IF(C213=\"\",\"\",LOOKUP(K213,ByM!$A$2:$B$462)+LOOKUP(L213,ByM!$A$2:$B$462)+LOOKUP(M213,ByM!$A$2:$B$462)+LOOKUP(N213,ByM!$A$2:$B$462)+LOOKUP(O213,ByM!$A$2:$B$462))","v":""}]
[null,null,null,null,null,null,null,null,null,null,null,null,null,null,null,{"$f":"IF(C214=\"\",\"\",LOOKUP(E214,$P$2:$Q$11)+LOOKUP(F214,$P$2:$Q$11)+LOOKUP(G214,$P$2:$Q$11)+LOOKUP(#REF!,$P$2:$Q$11)+LOOKUP(H214,$P$2:$Q$11))","v":""},{"$f":"IF(C214=\"\",\"\",LOOKUP(K214,ByM!$A$2:$B$462)+LOOKUP(L214,ByM!$A$2:$B$462)+LOOKUP(M214,ByM!$A$2:$B$462)+LOOKUP(N214,ByM!$A$2:$B$462)+LOOKUP(O214,ByM!$A$2:$B$462))","v":""}]
[null,null,null,null,null,null,null,null,null,null,null,null,null,null,null,{"$f":"IF(C215=\"\",\"\",LOOKUP(E215,$P$2:$Q$11)+LOOKUP(F215,$P$2:$Q$11)+LOOKUP(G215,$P$2:$Q$11)+LOOKUP(#REF!,$P$2:$Q$11)+LOOKUP(H215,$P$2:$Q$11))","v":""},{"$f":"IF(C215=\"\",\"\",LOOKUP(K215,ByM!$A$2:$B$462)+LOOKUP(L215,ByM!$A$2:$B$462)+LOOKUP(M215,ByM!$A$2:$B$462)+LOOKUP(N215,ByM!$A$2:$B$462)+LOOKUP(O215,ByM!$A$2:$B$462))","v":""}]
[null,null,null,null,null,null,null,null,null,null,null,null,null,null,null,{"$f":"IF(C216=\"\",\"\",LOOKUP(E216,$P$2:$Q$11)+LOOKUP(F216,$P$2:$Q$11)+LOOKUP(G216,$P$2:$Q$11)+LOOKUP(#REF!,$P$2:$Q$11)+LOOKUP(H216,$P$2:$Q$11))","v":""},{"$f":"IF(C216=\"\",\"\",LOOKUP(K216,ByM!$A$2:$B$462)+LOOKUP(L216,ByM!$A$2:$B$462)+LOOKUP(M216,ByM!$A$2:$B$462)+LOOKUP(N216,ByM!$A$2:$B$462)+LOOKUP(O216,ByM!$A$2:$B$462))","v":""}]
[null,null,null,null,null,null,null,null,null,null,null,null,null,null,null,{"$f":"IF(C217=\"\",\"\",LOOKUP(E217,$P$2:$Q$11)+LOOKUP(F217,$P$2:$Q$11)+LOOKUP(G217,$P$2:$Q$11)+LOOKUP(#REF!,$P$2:$Q$11)+LOOKUP(H217,$P$2:$Q$11))","v":""},{"$f":"IF(C217=\"\",\"\",LOOKUP(K217,ByM!$A$2:$B$462)+LOOKUP(L217,ByM!$A$2:$B$462)+LOOKUP(M217,ByM!$A$2:$B$462)+LOOKUP(N217,ByM!$A$2:$B$462)+LOOKUP(O217,ByM!$A$2:$B$462))","v":""}]
[null,null,null,null,null,null,null,null,null,null,null,null,null,null,null,{"$f":"IF(C218=\"\",\"\",LOOKUP(E218,$P$2:$Q$11)+LOOKUP(F218,$P$2:$Q$11)+LOOKUP(G218,$P$2:$Q$11)+LOOKUP(#REF!,$P$2:$Q$11)+LOOKUP(H218,$P$2:$Q$11))","v":""},{"$f":"IF(C218=\"\",\"\",LOOKUP(K218,ByM!$A$2:$B$462)+LOOKUP(L218,ByM!$A$2:$B$462)+LOOKUP(M218,ByM!$A$2:$B$462)+LOOKUP(N218,ByM!$A$2:$B$462)+LOOKUP(O218,ByM!$A$2:$B$462))","v":""}]
[null,null,null,null,null,null,null,null,null,null,null,null,null,null,null,{"$f":"IF(C219=\"\",\"\",LOOKUP(E219,$P$2:$Q$11)+LOOKUP(F219,$P$2:$Q$11)+LOOKUP(G219,$P$2:$Q$11)+LOOKUP(#REF!,$P$2:$Q$11)+LOOKUP(H219,$P$2:$Q$11))","v":""},{"$f":"IF(C219=\"\",\"\",LOOKUP(K219,ByM!$A$2:$B$462)+LOOKUP(L219,ByM!$A$2:$B$462)+LOOKUP(M219,ByM!$A$2:$B$462)+LOOKUP(N219,ByM!$A$2:$B$462)+LOOKUP(O219,ByM!$A$2:$B$462))","v":""}]
[null,null,null,null,null,null,null,null,null,null,null,null,null,null,null,{"$f":"IF(C220=\"\",\"\",LOOKUP(E220,$P$2:$Q$11)+LOOKUP(F220,$P$2:$Q$11)+LOOKUP(G220,$P$2:$Q$11)+LOOKUP(#REF!,$P$2:$Q$11)+LOOKUP(H220,$P$2:$Q$11))","v":""},{"$f":"IF(C220=\"\",\"\",LOOKUP(K220,ByM!$A$2:$B$462)+LOOKUP(L220,ByM!$A$2:$B$462)+LOOKUP(M220,ByM!$A$2:$B$462)+LOOKUP(N220,ByM!$A$2:$B$462)+LOOKUP(O220,ByM!$A$2:$B$462))","v":""}]
[null,null,null,null,null,null,null,null,null,null,null,null,null,null,null,{"$f":"IF(C221=\"\",\"\",LOOKUP(E221,$P$2:$Q$11)+LOOKUP(F221,$P$2:$Q$11)+LOOKUP(G221,$P$2:$Q$11)+LOOKUP(#REF!,$P$2:$Q$11)+LOOKUP(H221,$P$2:$Q$11))","v":""},{"$f":"IF(C221=\"\",\"\",LOOKUP(K221,ByM!$A$2:$B$462)+LOOKUP(L221,ByM!$A$2:$B$462)+LOOKUP(M221,ByM!$A$2:$B$462)+LOOKUP(N221,ByM!$A$2:$B$462)+LOOKUP(O221,ByM!$A$2:$B$462))","v":""}]
[null,null,null,null,null,null,null,null,null,null,null,null,null,null,null,{"$f":"IF(C222=\"\",\"\",LOOKUP(E222,$P$2:$Q$11)+LOOKUP(F222,$P$2:$Q$11)+LOOKUP(G222,$P$2:$Q$11)+LOOKUP(#REF!,$P$2:$Q$11)+LOOKUP(H222,$P$2:$Q$11))","v":""},{"$f":"IF(C222=\"\",\"\",LOOKUP(K222,ByM!$A$2:$B$462)+LOOKUP(L222,ByM!$A$2:$B$462)+LOOKUP(M222,ByM!$A$2:$B$462)+LOOKUP(N222,ByM!$A$2:$B$462)+LOOKUP(O222,ByM!$A$2:$B$462))","v":""}]
[null,null,null,null,null,null,null,null,null,null,null,null,null,null,null,{"$f":"IF(C223=\"\",\"\",LOOKUP(E223,$P$2:$Q$11)+LOOKUP(F223,$P$2:$Q$11)+LOOKUP(G223,$P$2:$Q$11)+LOOKUP(#REF!,$P$2:$Q$11)+LOOKUP(H223,$P$2:$Q$11))","v":""},{"$f":"IF(C223=\"\",\"\",LOOKUP(K223,ByM!$A$2:$B$462)+LOOKUP(L223,ByM!$A$2:$B$462)+LOOKUP(M223,ByM!$A$2:$B$462)+LOOKUP(N223,ByM!$A$2:$B$462)+LOOKUP(O223,ByM!$A$2:$B$462))","v":""}]
[null,null,null,null,null,null,null,null,null,null,null,null,null,null,null,{"$f":"IF(C224=\"\",\"\",LOOKUP(E224,$P$2:$Q$11)+LOOKUP(F224,$P$2:$Q$11)+LOOKUP(G224,$P$2:$Q$11)+LOOKUP(#REF!,$P$2:$Q$11)+LOOKUP(H224,$P$2:$Q$11))","v":""},{"$f":"IF(C224=\"\",\"\",LOOKUP(K224,ByM!$A$2:$B$462)+LOOKUP(L224,ByM!$A$2:$B$462)+LOOKUP(M224,ByM!$A$2:$B$462)+LOOKUP(N224,ByM!$A$2:$B$462)+LOOKUP(O224,ByM!$A$2:$B$462))","v":""}]
[null,null,null,null,null,null,null,null,null,null,null,null,null,null,null,{"$f":"IF(C225=\"\",\"\",LOOKUP(E225,$P$2:$Q$11)+LOOKUP(F225,$P$2:$Q$11)+LOOKUP(G225,$P$2:$Q$11)+LOOKUP(#REF!,$P$2:$Q$11)+LOOKUP(H225,$P$2:$Q$11))","v":""},{"$f":"IF(C225=\"\",\"\",LOOKUP(K225,ByM!$A$2:$B$462)+LOOKUP(L225,ByM!$A$2:$B$462)+LOOKUP(M225,ByM!$A$2:$B$462)+LOOKUP(N225,ByM!$A$2:$B$462)+LOOKUP(O225,ByM!$A$2:$B$462))","v":""}]
[null,null,null,null,null,null,null,null,null,null,null,null,null,null,null,{"$f":"IF(C226=\"\",\"\",LOOKUP(E226,$P$2:$Q$11)+LOOKUP(F226,$P$2:$Q$11)+LOOKUP(G226,$P$2:$Q$11)+LOOKUP(#REF!,$P$2:$Q$11)+LOOKUP(H226,$P$2:$Q$11))","v":""},{"$f":"IF(C226=\"\",\"\",LOOKUP(K226,ByM!$A$2:$B$462)+LOOKUP(L226,ByM!$A$2:$B$462)+LOOKUP(M226,ByM!$A$2:$B$462)+LOOKUP(N226,ByM!$A$2:$B$462)+LOOKUP(O226,ByM!$A$2:$B$462))","v":""}]
[null,null,null,null,null,null,null,null,null,null,null,null,null,null,null,{"$f":"IF(C227=\"\",\"\",LOOKUP(E227,$P$2:$Q$11)+LOOKUP(F227,$P$2:$Q$11)+LOOKUP(G227,$P$2:$Q$11)+LOOKUP(#REF!,$P$2:$Q$11)+LOOKUP(H227,$P$2:$Q$11))","v":""},{"$f":"IF(C227=\"\",\"\",LOOKUP(K227,ByM!$A$2:$B$462)+LOOKUP(L227,ByM!$A$2:$B$462)+LOOKUP(M227,ByM!$A$2:$B$462)+LOOKUP(N227,ByM!$A$2:$B$462)+LOOKUP(O227,ByM!$A$2:$B$462))","v":""}]
[null,null,null,null,null,null,null,null,null,null,null,null,null,null,null,{"$f":"IF(C228=\"\",\"\",LOOKUP(E228,$P$2:$Q$11)+LOOKUP(F228,$P$2:$Q$11)+LOOKUP(G228,$P$2:$Q$11)+LOOKUP(#REF!,$P$2:$Q$11)+LOOKUP(H228,$P$2:$Q$11))","v":""},{"$f":"IF(C228=\"\",\"\",LOOKUP(K228,ByM!$A$2:$B$462)+LOOKUP(L228,ByM!$A$2:$B$462)+LOOKUP(M228,ByM!$A$2:$B$462)+LOOKUP(N228,ByM!$A$2:$B$462)+LOOKUP(O228,ByM!$A$2:$B$462))","v":""}]
[null,null,null,null,null,null,null,null,null,null,null,null,null,null,null,{"$f":"IF(C229=\"\",\"\",LOOKUP(E229,$P$2:$Q$11)+LOOKUP(F229,$P$2:$Q$11)+LOOKUP(G229,$P$2:$Q$11)+LOOKUP(#REF!,$P$2:$Q$11)+LOOKUP(H229,$P$2:$Q$11))","v":""},{"$f":"IF(C229=\"\",\"\",LOOKUP(K229,ByM!$A$2:$B$462)+LOOKUP(L229,ByM!$A$2:$B$462)+LOOKUP(M229,ByM!$A$2:$B$462)+LOOKUP(N229,ByM!$A$2:$B$462)+LOOKUP(O229,ByM!$A$2:$B$462))","v":""}]
[null,null,null,null,null,null,null,null,null,null,null,null,null,null,null,{"$f":"IF(C230=\"\",\"\",LOOKUP(E230,$P$2:$Q$11)+LOOKUP(F230,$P$2:$Q$11)+LOOKUP(G230,$P$2:$Q$11)+LOOKUP(#REF!,$P$2:$Q$11)+LOOKUP(H230,$P$2:$Q$11))","v":""},{"$f":"IF(C230=\"\",\"\",LOOKUP(K230,ByM!$A$2:$B$462)+LOOKUP(L230,ByM!$A$2:$B$462)+LOOKUP(M230,ByM!$A$2:$B$462)+LOOKUP(N230,ByM!$A$2:$B$462)+LOOKUP(O230,ByM!$A$2:$B$462))","v":""}]
[null,null,null,null,null,null,null,null,null,null,null,null,null,null,null,{"$f":"IF(C231=\"\",\"\",LOOKUP(E231,$P$2:$Q$11)+LOOKUP(F231,$P$2:$Q$11)+LOOKUP(G231,$P$2:$Q$11)+LOOKUP(#REF!,$P$2:$Q$11)+LOOKUP(H231,$P$2:$Q$11))","v":""},{"$f":"IF(C231=\"\",\"\",LOOKUP(K231,ByM!$A$2:$B$462)+LOOKUP(L231,ByM!$A$2:$B$462)+LOOKUP(M231,ByM!$A$2:$B$462)+LOOKUP(N231,ByM!$A$2:$B$462)+LOOKUP(O231,ByM!$A$2:$B$462))","v":""}]
[null,null,null,null,null,null,null,null,null,null,null,null,null,null,null,{"$f":"IF(C232=\"\",\"\",LOOKUP(E232,$P$2:$Q$11)+LOOKUP(F232,$P$2:$Q$11)+LOOKUP(G232,$P$2:$Q$11)+LOOKUP(#REF!,$P$2:$Q$11)+LOOKUP(H232,$P$2:$Q$11))","v":""},{"$f":"IF(C232=\"\",\"\",LOOKUP(K232,ByM!$A$2:$B$462)+LOOKUP(L232,ByM!$A$2:$B$462)+LOOKUP(M232,ByM!$A$2:$B$462)+LOOKUP(N232,ByM!$A$2:$B$462)+LOOKUP(O232,ByM!$A$2:$B$462))","v":""}]
[null,null,null,null,null,null,null,null,null,null,null,null,null,null,null,{"$f":"IF(C233=\"\",\"\",LOOKUP(E233,$P$2:$Q$11)+LOOKUP(F233,$P$2:$Q$11)+LOOKUP(G233,$P$2:$Q$11)+LOOKUP(#REF!,$P$2:$Q$11)+LOOKUP(H233,$P$2:$Q$11))","v":""},{"$f":"IF(C233=\"\",\"\",LOOKUP(K233,ByM!$A$2:$B$462)+LOOKUP(L233,ByM!$A$2:$B$462)+LOOKUP(M233,ByM!$A$2:$B$462)+LOOKUP(N233,ByM!$A$2:$B$462)+LOOKUP(O233,ByM!$A$2:$B$462))","v":""}]
[null,null,null,null,null,null,null,null,null,null,null,null,null,null,null,{"$f":"IF(C234=\"\",\"\",LOOKUP(E234,$P$2:$Q$11)+LOOKUP(F234,$P$2:$Q$11)+LOOKUP(G234,$P$2:$Q$11)+LOOKUP(#REF!,$P$2:$Q$11)+LOOKUP(H234,$P$2:$Q$11))","v":""},{"$f":"IF(C234=\"\",\"\",LOOKUP(K234,ByM!$A$2:$B$462)+LOOKUP(L234,ByM!$A$2:$B$462)+LOOKUP(M234,ByM!$A$2:$B$462)+LOOKUP(N234,ByM!$A$2:$B$462)+LOOKUP(O234,ByM!$A$2:$B$462))","v":""}]
[null,null,null,null,null,null,null,null,null,null,null,null,null,null,null,{"$f":"IF(C235=\"\",\"\",LOOKUP(E235,$P$2:$Q$11)+LOOKUP(F235,$P$2:$Q$11)+LOOKUP(G235,$P$2:$Q$11)+LOOKUP(#REF!,$P$2:$Q$11)+LOOKUP(H235,$P$2:$Q$11))","v":""},{"$f":"IF(C235=\"\",\"\",LOOKUP(K235,ByM!$A$2:$B$462)+LOOKUP(L235,ByM!$A$2:$B$462)+LOOKUP(M235,ByM!$A$2:$B$462)+LOOKUP(N235,ByM!$A$2:$B$462)+LOOKUP(O235,ByM!$A$2:$B$462))","v":""}]
[null,null,null,null,null,null,null,null,null,null,null,null,null,null,null,{"$f":"IF(C236=\"\",\"\",LOOKUP(E236,$P$2:$Q$11)+LOOKUP(F236,$P$2:$Q$11)+LOOKUP(G236,$P$2:$Q$11)+LOOKUP(#REF!,$P$2:$Q$11)+LOOKUP(H236,$P$2:$Q$11))","v":""},{"$f":"IF(C236=\"\",\"\",LOOKUP(K236,ByM!$A$2:$B$462)+LOOKUP(L236,ByM!$A$2:$B$462)+LOOKUP(M236,ByM!$A$2:$B$462)+LOOKUP(N236,ByM!$A$2:$B$462)+LOOKUP(O236,ByM!$A$2:$B$462))","v":""}]
[null,null,null,null,null,null,null,null,null,null,null,null,null,null,null,{"$f":"IF(C237=\"\",\"\",LOOKUP(E237,$P$2:$Q$11)+LOOKUP(F237,$P$2:$Q$11)+LOOKUP(G237,$P$2:$Q$11)+LOOKUP(#REF!,$P$2:$Q$11)+LOOKUP(H237,$P$2:$Q$11))","v":""},{"$f":"IF(C237=\"\",\"\",LOOKUP(K237,ByM!$A$2:$B$462)+LOOKUP(L237,ByM!$A$2:$B$462)+LOOKUP(M237,ByM!$A$2:$B$462)+LOOKUP(N237,ByM!$A$2:$B$462)+LOOKUP(O237,ByM!$A$2:$B$462))","v":""}]
[null,null,null,null,null,null,null,null,null,null,null,null,null,null,null,{"$f":"IF(C238=\"\",\"\",LOOKUP(E238,$P$2:$Q$11)+LOOKUP(F238,$P$2:$Q$11)+LOOKUP(G238,$P$2:$Q$11)+LOOKUP(#REF!,$P$2:$Q$11)+LOOKUP(H238,$P$2:$Q$11))","v":""},{"$f":"IF(C238=\"\",\"\",LOOKUP(K238,ByM!$A$2:$B$462)+LOOKUP(L238,ByM!$A$2:$B$462)+LOOKUP(M238,ByM!$A$2:$B$462)+LOOKUP(N238,ByM!$A$2:$B$462)+LOOKUP(O238,ByM!$A$2:$B$462))","v":""}]
[null,null,null,null,null,null,null,null,null,null,null,null,null,null,null,{"$f":"IF(C239=\"\",\"\",LOOKUP(E239,$P$2:$Q$11)+LOOKUP(F239,$P$2:$Q$11)+LOOKUP(G239,$P$2:$Q$11)+LOOKUP(#REF!,$P$2:$Q$11)+LOOKUP(H239,$P$2:$Q$11))","v":""},{"$f":"IF(C239=\"\",\"\",LOOKUP(K239,ByM!$A$2:$B$462)+LOOKUP(L239,ByM!$A$2:$B$462)+LOOKUP(M239,ByM!$A$2:$B$462)+LOOKUP(N239,ByM!$A$2:$B$462)+LOOKUP(O239,ByM!$A$2:$B$462))","v":""}]
[null,null,null,null,null,null,null,null,null,null,null,null,null,null,null,{"$f":"IF(C240=\"\",\"\",LOOKUP(E240,$P$2:$Q$11)+LOOKUP(F240,$P$2:$Q$11)+LOOKUP(G240,$P$2:$Q$11)+LOOKUP(#REF!,$P$2:$Q$11)+LOOKUP(H240,$P$2:$Q$11))","v":""},{"$f":"IF(C240=\"\",\"\",LOOKUP(K240,ByM!$A$2:$B$462)+LOOKUP(L240,ByM!$A$2:$B$462)+LOOKUP(M240,ByM!$A$2:$B$462)+LOOKUP(N240,ByM!$A$2:$B$462)+LOOKUP(O240,ByM!$A$2:$B$462))","v":""}]
[null,null,null,null,null,null,null,null,null,null,null,null,null,null,null,{"$f":"IF(C241=\"\",\"\",LOOKUP(E241,$P$2:$Q$11)+LOOKUP(F241,$P$2:$Q$11)+LOOKUP(G241,$P$2:$Q$11)+LOOKUP(#REF!,$P$2:$Q$11)+LOOKUP(H241,$P$2:$Q$11))","v":""},{"$f":"IF(C241=\"\",\"\",LOOKUP(K241,ByM!$A$2:$B$462)+LOOKUP(L241,ByM!$A$2:$B$462)+LOOKUP(M241,ByM!$A$2:$B$462)+LOOKUP(N241,ByM!$A$2:$B$462)+LOOKUP(O241,ByM!$A$2:$B$462))","v":""}]
[null,null,null,null,null,null,null,null,null,null,null,null,null,null,null,{"$f":"IF(C242=\"\",\"\",LOOKUP(E242,$P$2:$Q$11)+LOOKUP(F242,$P$2:$Q$11)+LOOKUP(G242,$P$2:$Q$11)+LOOKUP(#REF!,$P$2:$Q$11)+LOOKUP(H242,$P$2:$Q$11))","v":""},{"$f":"IF(C242=\"\",\"\",LOOKUP(K242,ByM!$A$2:$B$462)+LOOKUP(L242,ByM!$A$2:$B$462)+LOOKUP(M242,ByM!$A$2:$B$462)+LOOKUP(N242,ByM!$A$2:$B$462)+LOOKUP(O242,ByM!$A$2:$B$462))","v":""}]
[null,null,null,null,null,null,null,null,null,null,null,null,null,null,null,{"$f":"IF(C243=\"\",\"\",LOOKUP(E243,$P$2:$Q$11)+LOOKUP(F243,$P$2:$Q$11)+LOOKUP(G243,$P$2:$Q$11)+LOOKUP(#REF!,$P$2:$Q$11)+LOOKUP(H243,$P$2:$Q$11))","v":""},{"$f":"IF(C243=\"\",\"\",LOOKUP(K243,ByM!$A$2:$B$462)+LOOKUP(L243,ByM!$A$2:$B$462)+LOOKUP(M243,ByM!$A$2:$B$462)+LOOKUP(N243,ByM!$A$2:$B$462)+LOOKUP(O243,ByM!$A$2:$B$462))","v":""}]
[null,null,null,null,null,null,null,null,null,null,null,null,null,null,null,{"$f":"IF(C244=\"\",\"\",LOOKUP(E244,$P$2:$Q$11)+LOOKUP(F244,$P$2:$Q$11)+LOOKUP(G244,$P$2:$Q$11)+LOOKUP(#REF!,$P$2:$Q$11)+LOOKUP(H244,$P$2:$Q$11))","v":""},{"$f":"IF(C244=\"\",\"\",LOOKUP(K244,ByM!$A$2:$B$462)+LOOKUP(L244,ByM!$A$2:$B$462)+LOOKUP(M244,ByM!$A$2:$B$462)+LOOKUP(N244,ByM!$A$2:$B$462)+LOOKUP(O244,ByM!$A$2:$B$462))","v":""}]
[null,null,null,null,null,null,null,null,null,null,null,null,null,null,null,{"$f":"IF(C245=\"\",\"\",LOOKUP(E245,$P$2:$Q$11)+LOOKUP(F245,$P$2:$Q$11)+LOOKUP(G245,$P$2:$Q$11)+LOOKUP(#REF!,$P$2:$Q$11)+LOOKUP(H245,$P$2:$Q$11))","v":""},{"$f":"IF(C245=\"\",\"\",LOOKUP(K245,ByM!$A$2:$B$462)+LOOKUP(L245,ByM!$A$2:$B$462)+LOOKUP(M245,ByM!$A$2:$B$462)+LOOKUP(N245,ByM!$A$2:$B$462)+LOOKUP(O245,ByM!$A$2:$B$462))","v":""}]
[null,null,null,null,null,null,null,null,null,null,null,null,null,null,null,{"$f":"IF(C246=\"\",\"\",LOOKUP(E246,$P$2:$Q$11)+LOOKUP(F246,$P$2:$Q$11)+LOOKUP(G246,$P$2:$Q$11)+LOOKUP(#REF!,$P$2:$Q$11)+LOOKUP(H246,$P$2:$Q$11))","v":""},{"$f":"IF(C246=\"\",\"\",LOOKUP(K246,ByM!$A$2:$B$462)+LOOKUP(L246,ByM!$A$2:$B$462)+LOOKUP(M246,ByM!$A$2:$B$462)+LOOKUP(N246,ByM!$A$2:$B$462)+LOOKUP(O246,ByM!$A$2:$B$462))","v":""}]
[null,null,null,null,null,null,null,null,null,null,null,null,null,null,null,{"$f":"IF(C247=\"\",\"\",LOOKUP(E247,$P$2:$Q$11)+LOOKUP(F247,$P$2:$Q$11)+LOOKUP(G247,$P$2:$Q$11)+LOOKUP(#REF!,$P$2:$Q$11)+LOOKUP(H247,$P$2:$Q$11))","v":""},{"$f":"IF(C247=\"\",\"\",LOOKUP(K247,ByM!$A$2:$B$462)+LOOKUP(L247,ByM!$A$2:$B$462)+LOOKUP(M247,ByM!$A$2:$B$462)+LOOKUP(N247,ByM!$A$2:$B$462)+LOOKUP(O247,ByM!$A$2:$B$462))","v":""}]
[null,null,null,null,null,null,null,null,null,null,null,null,null,null,null,{"$f":"IF(C248=\"\",\"\",LOOKUP(E248,$P$2:$Q$11)+LOOKUP(F248,$P$2:$Q$11)+LOOKUP(G248,$P$2:$Q$11)+LOOKUP(#REF!,$P$2:$Q$11)+LOOKUP(H248,$P$2:$Q$11))","v":""},{"$f":"IF(C248=\"\",\"\",LOOKUP(K248,ByM!$A$2:$B$462)+LOOKUP(L248,ByM!$A$2:$B$462)+LOOKUP(M248,ByM!$A$2:$B$462)+LOOKUP(N248,ByM!$A$2:$B$462)+LOOKUP(O248,ByM!$A$2:$B$462))","v":""}]
[null,null,null,null,null,null,null,null,null,null,null,null,null,null,null,{"$f":"IF(C249=\"\",\"\",LOOKUP(E249,$P$2:$Q$11)+LOOKUP(F249,$P$2:$Q$11)+LOOKUP(G249,$P$2:$Q$11)+LOOKUP(#REF!,$P$2:$Q$11)+LOOKUP(H249,$P$2:$Q$11))","v":""},{"$f":"IF(C249=\"\",\"\",LOOKUP(K249,ByM!$A$2:$B$462)+LOOKUP(L249,ByM!$A$2:$B$462)+LOOKUP(M249,ByM!$A$2:$B$462)+LOOKUP(N249,ByM!$A$2:$B$462)+LOOKUP(O249,ByM!$A$2:$B$462))","v":""}]
[null,null,null,null,null,null,null,null,null,null,null,null,null,null,null,{"$f":"IF(C250=\"\",\"\",LOOKUP(E250,$P$2:$Q$11)+LOOKUP(F250,$P$2:$Q$11)+LOOKUP(G250,$P$2:$Q$11)+LOOKUP(#REF!,$P$2:$Q$11)+LOOKUP(H250,$P$2:$Q$11))","v":""},{"$f":"IF(C250=\"\",\"\",LOOKUP(K250,ByM!$A$2:$B$462)+LOOKUP(L250,ByM!$A$2:$B$462)+LOOKUP(M250,ByM!$A$2:$B$462)+LOOKUP(N250,ByM!$A$2:$B$462)+LOOKUP(O250,ByM!$A$2:$B$462))","v":""}]
[null,null,null,null,null,null,null,null,null,null,null,null,null,null,null,{"$f":"IF(C251=\"\",\"\",LOOKUP(E251,$P$2:$Q$11)+LOOKUP(F251,$P$2:$Q$11)+LOOKUP(G251,$P$2:$Q$11)+LOOKUP(#REF!,$P$2:$Q$11)+LOOKUP(H251,$P$2:$Q$11))","v":""},{"$f":"IF(C251=\"\",\"\",LOOKUP(K251,ByM!$A$2:$B$462)+LOOKUP(L251,ByM!$A$2:$B$462)+LOOKUP(M251,ByM!$A$2:$B$462)+LOOKUP(N251,ByM!$A$2:$B$462)+LOOKUP(O251,ByM!$A$2:$B$462))","v":""}]
[null,null,null,null,null,null,null,null,null,null,null,null,null,null,null,{"$f":"IF(C252=\"\",\"\",LOOKUP(E252,$P$2:$Q$11)+LOOKUP(F252,$P$2:$Q$11)+LOOKUP(G252,$P$2:$Q$11)+LOOKUP(#REF!,$P$2:$Q$11)+LOOKUP(H252,$P$2:$Q$11))","v":""},{"$f":"IF(C252=\"\",\"\",LOOKUP(K252,ByM!$A$2:$B$462)+LOOKUP(L252,ByM!$A$2:$B$462)+LOOKUP(M252,ByM!$A$2:$B$462)+LOOKUP(N252,ByM!$A$2:$B$462)+LOOKUP(O252,ByM!$A$2:$B$462))","v":""}]
[null,null,null,null,null,null,null,null,null,null,null,null,null,null,null,{"$f":"IF(C253=\"\",\"\",LOOKUP(E253,$P$2:$Q$11)+LOOKUP(F253,$P$2:$Q$11)+LOOKUP(G253,$P$2:$Q$11)+LOOKUP(#REF!,$P$2:$Q$11)+LOOKUP(H253,$P$2:$Q$11))","v":""},{"$f":"IF(C253=\"\",\"\",LOOKUP(K253,ByM!$A$2:$B$462)+LOOKUP(L253,ByM!$A$2:$B$462)+LOOKUP(M253,ByM!$A$2:$B$462)+LOOKUP(N253,ByM!$A$2:$B$462)+LOOKUP(O253,ByM!$A$2:$B$462))","v":""}]
[null,null,null,null,null,null,null,null,null,null,null,null,null,null,null,{"$f":"IF(C254=\"\",\"\",LOOKUP(E254,$P$2:$Q$11)+LOOKUP(F254,$P$2:$Q$11)+LOOKUP(G254,$P$2:$Q$11)+LOOKUP(#REF!,$P$2:$Q$11)+LOOKUP(H254,$P$2:$Q$11))","v":""},{"$f":"IF(C254=\"\",\"\",LOOKUP(K254,ByM!$A$2:$B$462)+LOOKUP(L254,ByM!$A$2:$B$462)+LOOKUP(M254,ByM!$A$2:$B$462)+LOOKUP(N254,ByM!$A$2:$B$462)+LOOKUP(O254,ByM!$A$2:$B$462))","v":""}]
[null,null,null,null,null,null,null,null,null,null,null,null,null,null,null,{"$f":"IF(C255=\"\",\"\",LOOKUP(E255,$P$2:$Q$11)+LOOKUP(F255,$P$2:$Q$11)+LOOKUP(G255,$P$2:$Q$11)+LOOKUP(#REF!,$P$2:$Q$11)+LOOKUP(H255,$P$2:$Q$11))","v":""},{"$f":"IF(C255=\"\",\"\",LOOKUP(K255,ByM!$A$2:$B$462)+LOOKUP(L255,ByM!$A$2:$B$462)+LOOKUP(M255,ByM!$A$2:$B$462)+LOOKUP(N255,ByM!$A$2:$B$462)+LOOKUP(O255,ByM!$A$2:$B$462))","v":""}]
[null,null,null,null,null,null,null,null,null,null,null,null,null,null,null,{"$f":"IF(C256=\"\",\"\",LOOKUP(E256,$P$2:$Q$11)+LOOKUP(F256,$P$2:$Q$11)+LOOKUP(G256,$P$2:$Q$11)+LOOKUP(#REF!,$P$2:$Q$11)+LOOKUP(H256,$P$2:$Q$11))","v":""},{"$f":"IF(C256=\"\",\"\",LOOKUP(K256,ByM!$A$2:$B$462)+LOOKUP(L256,ByM!$A$2:$B$462)+LOOKUP(M256,ByM!$A$2:$B$462)+LOOKUP(N256,ByM!$A$2:$B$462)+LOOKUP(O256,ByM!$A$2:$B$462))","v":""}]
[null,null,null,null,null,null,null,null,null,null,null,null,null,null,null,{"$f":"IF(C257=\"\",\"\",LOOKUP(E257,$P$2:$Q$11)+LOOKUP(F257,$P$2:$Q$11)+LOOKUP(G257,$P$2:$Q$11)+LOOKUP(#REF!,$P$2:$Q$11)+LOOKUP(H257,$P$2:$Q$11))","v":""},{"$f":"IF(C257=\"\",\"\",LOOKUP(K257,ByM!$A$2:$B$462)+LOOKUP(L257,ByM!$A$2:$B$462)+LOOKUP(M257,ByM!$A$2:$B$462)+LOOKUP(N257,ByM!$A$2:$B$462)+LOOKUP(O257,ByM!$A$2:$B$462))","v":""}]
[null,null,null,null,null,null,null,null,null,null,null,null,null,null,null,{"$f":"IF(C258=\"\",\"\",LOOKUP(E258,$P$2:$Q$11)+LOOKUP(F258,$P$2:$Q$11)+LOOKUP(G258,$P$2:$Q$11)+LOOKUP(#REF!,$P$2:$Q$11)+LOOKUP(H258,$P$2:$Q$11))","v":""},{"$f":"IF(C258=\"\",\"\",LOOKUP(K258,ByM!$A$2:$B$462)+LOOKUP(L258,ByM!$A$2:$B$462)+LOOKUP(M258,ByM!$A$2:$B$462)+LOOKUP(N258,ByM!$A$2:$B$462)+LOOKUP(O258,ByM!$A$2:$B$462))","v":""}]
[null,null,null,null,null,null,null,null,null,null,null,null,null,null,null,{"$f":"IF(C259=\"\",\"\",LOOKUP(E259,$P$2:$Q$11)+LOOKUP(F259,$P$2:$Q$11)+LOOKUP(G259,$P$2:$Q$11)+LOOKUP(#REF!,$P$2:$Q$11)+LOOKUP(H259,$P$2:$Q$11))","v":""},{"$f":"IF(C259=\"\",\"\",LOOKUP(K259,ByM!$A$2:$B$462)+LOOKUP(L259,ByM!$A$2:$B$462)+LOOKUP(M259,ByM!$A$2:$B$462)+LOOKUP(N259,ByM!$A$2:$B$462)+LOOKUP(O259,ByM!$A$2:$B$462))","v":""}]
[null,null,null,null,null,null,null,null,null,null,null,null,null,null,null,{"$f":"IF(C260=\"\",\"\",LOOKUP(E260,$P$2:$Q$11)+LOOKUP(F260,$P$2:$Q$11)+LOOKUP(G260,$P$2:$Q$11)+LOOKUP(#REF!,$P$2:$Q$11)+LOOKUP(H260,$P$2:$Q$11))","v":""},{"$f":"IF(C260=\"\",\"\",LOOKUP(K260,ByM!$A$2:$B$462)+LOOKUP(L260,ByM!$A$2:$B$462)+LOOKUP(M260,ByM!$A$2:$B$462)+LOOKUP(N260,ByM!$A$2:$B$462)+LOOKUP(O260,ByM!$A$2:$B$462))","v":""}]
[null,null,null,null,null,null,null,null,null,null,null,null,null,null,null,{"$f":"IF(C261=\"\",\"\",LOOKUP(E261,$P$2:$Q$11)+LOOKUP(F261,$P$2:$Q$11)+LOOKUP(G261,$P$2:$Q$11)+LOOKUP(#REF!,$P$2:$Q$11)+LOOKUP(H261,$P$2:$Q$11))","v":""},{"$f":"IF(C261=\"\",\"\",LOOKUP(K261,ByM!$A$2:$B$462)+LOOKUP(L261,ByM!$A$2:$B$462)+LOOKUP(M261,ByM!$A$2:$B$462)+LOOKUP(N261,ByM!$A$2:$B$462)+LOOKUP(O261,ByM!$A$2:$B$462))","v":""}]
[null,null,null,null,null,null,null,null,null,null,null,null,null,null,null,{"$f":"IF(C262=\"\",\"\",LOOKUP(E262,$P$2:$Q$11)+LOOKUP(F262,$P$2:$Q$11)+LOOKUP(G262,$P$2:$Q$11)+LOOKUP(#REF!,$P$2:$Q$11)+LOOKUP(H262,$P$2:$Q$11))","v":""},{"$f":"IF(C262=\"\",\"\",LOOKUP(K262,ByM!$A$2:$B$462)+LOOKUP(L262,ByM!$A$2:$B$462)+LOOKUP(M262,ByM!$A$2:$B$462)+LOOKUP(N262,ByM!$A$2:$B$462)+LOOKUP(O262,ByM!$A$2:$B$462))","v":""}]
[null,null,null,null,null,null,null,null,null,null,null,null,null,null,null,{"$f":"IF(C263=\"\",\"\",LOOKUP(E263,$P$2:$Q$11)+LOOKUP(F263,$P$2:$Q$11)+LOOKUP(G263,$P$2:$Q$11)+LOOKUP(#REF!,$P$2:$Q$11)+LOOKUP(H263,$P$2:$Q$11))","v":""},{"$f":"IF(C263=\"\",\"\",LOOKUP(K263,ByM!$A$2:$B$462)+LOOKUP(L263,ByM!$A$2:$B$462)+LOOKUP(M263,ByM!$A$2:$B$462)+LOOKUP(N263,ByM!$A$2:$B$462)+LOOKUP(O263,ByM!$A$2:$B$462))","v":""}]
[null,null,null,null,null,null,null,null,null,null,null,null,null,null,null,{"$f":"IF(C264=\"\",\"\",LOOKUP(E264,$P$2:$Q$11)+LOOKUP(F264,$P$2:$Q$11)+LOOKUP(G264,$P$2:$Q$11)+LOOKUP(#REF!,$P$2:$Q$11)+LOOKUP(H264,$P$2:$Q$11))","v":""},{"$f":"IF(C264=\"\",\"\",LOOKUP(K264,ByM!$A$2:$B$462)+LOOKUP(L264,ByM!$A$2:$B$462)+LOOKUP(M264,ByM!$A$2:$B$462)+LOOKUP(N264,ByM!$A$2:$B$462)+LOOKUP(O264,ByM!$A$2:$B$462))","v":""}]
[null,null,null,null,null,null,null,null,null,null,null,null,null,null,null,{"$f":"IF(C265=\"\",\"\",LOOKUP(E265,$P$2:$Q$11)+LOOKUP(F265,$P$2:$Q$11)+LOOKUP(G265,$P$2:$Q$11)+LOOKUP(#REF!,$P$2:$Q$11)+LOOKUP(H265,$P$2:$Q$11))","v":""},{"$f":"IF(C265=\"\",\"\",LOOKUP(K265,ByM!$A$2:$B$462)+LOOKUP(L265,ByM!$A$2:$B$462)+LOOKUP(M265,ByM!$A$2:$B$462)+LOOKUP(N265,ByM!$A$2:$B$462)+LOOKUP(O265,ByM!$A$2:$B$462))","v":""}]
[null,null,null,null,null,null,null,null,null,null,null,null,null,null,null,{"$f":"IF(C266=\"\",\"\",LOOKUP(E266,$P$2:$Q$11)+LOOKUP(F266,$P$2:$Q$11)+LOOKUP(G266,$P$2:$Q$11)+LOOKUP(#REF!,$P$2:$Q$11)+LOOKUP(H266,$P$2:$Q$11))","v":""},{"$f":"IF(C266=\"\",\"\",LOOKUP(K266,ByM!$A$2:$B$462)+LOOKUP(L266,ByM!$A$2:$B$462)+LOOKUP(M266,ByM!$A$2:$B$462)+LOOKUP(N266,ByM!$A$2:$B$462)+LOOKUP(O266,ByM!$A$2:$B$462))","v":""}]
[null,null,null,null,null,null,null,null,null,null,null,null,null,null,null,{"$f":"IF(C267=\"\",\"\",LOOKUP(E267,$P$2:$Q$11)+LOOKUP(F267,$P$2:$Q$11)+LOOKUP(G267,$P$2:$Q$11)+LOOKUP(#REF!,$P$2:$Q$11)+LOOKUP(H267,$P$2:$Q$11))","v":""},{"$f":"IF(C267=\"\",\"\",LOOKUP(K267,ByM!$A$2:$B$462)+LOOKUP(L267,ByM!$A$2:$B$462)+LOOKUP(M267,ByM!$A$2:$B$462)+LOOKUP(N267,ByM!$A$2:$B$462)+LOOKUP(O267,ByM!$A$2:$B$462))","v":""}]
[null,null,null,null,null,null,null,null,null,null,null,null,null,null,null,{"$f":"IF(C268=\"\",\"\",LOOKUP(E268,$P$2:$Q$11)+LOOKUP(F268,$P$2:$Q$11)+LOOKUP(G268,$P$2:$Q$11)+LOOKUP(#REF!,$P$2:$Q$11)+LOOKUP(H268,$P$2:$Q$11))","v":""},{"$f":"IF(C268=\"\",\"\",LOOKUP(K268,ByM!$A$2:$B$462)+LOOKUP(L268,ByM!$A$2:$B$462)+LOOKUP(M268,ByM!$A$2:$B$462)+LOOKUP(N268,ByM!$A$2:$B$462)+LOOKUP(O268,ByM!$A$2:$B$462))","v":""}]
[null,null,null,null,null,null,null,null,null,null,null,null,null,null,null,{"$f":"IF(C269=\"\",\"\",LOOKUP(E269,$P$2:$Q$11)+LOOKUP(F269,$P$2:$Q$11)+LOOKUP(G269,$P$2:$Q$11)+LOOKUP(#REF!,$P$2:$Q$11)+LOOKUP(H269,$P$2:$Q$11))","v":""},{"$f":"IF(C269=\"\",\"\",LOOKUP(K269,ByM!$A$2:$B$462)+LOOKUP(L269,ByM!$A$2:$B$462)+LOOKUP(M269,ByM!$A$2:$B$462)+LOOKUP(N269,ByM!$A$2:$B$462)+LOOKUP(O269,ByM!$A$2:$B$462))","v":""}]
[null,null,null,null,null,null,null,null,null,null,null,null,null,null,null,{"$f":"IF(C270=\"\",\"\",LOOKUP(E270,$P$2:$Q$11)+LOOKUP(F270,$P$2:$Q$11)+LOOKUP(G270,$P$2:$Q$11)+LOOKUP(#REF!,$P$2:$Q$11)+LOOKUP(H270,$P$2:$Q$11))","v":""},{"$f":"IF(C270=\"\",\"\",LOOKUP(K270,ByM!$A$2:$B$462)+LOOKUP(L270,ByM!$A$2:$B$462)+LOOKUP(M270,ByM!$A$2:$B$462)+LOOKUP(N270,ByM!$A$2:$B$462)+LOOKUP(O270,ByM!$A$2:$B$462))","v":""}]
[null,null,null,null,null,null,null,null,null,null,null,null,null,null,null,{"$f":"IF(C271=\"\",\"\",LOOKUP(E271,$P$2:$Q$11)+LOOKUP(F271,$P$2:$Q$11)+LOOKUP(G271,$P$2:$Q$11)+LOOKUP(#REF!,$P$2:$Q$11)+LOOKUP(H271,$P$2:$Q$11))","v":""},{"$f":"IF(C271=\"\",\"\",LOOKUP(K271,ByM!$A$2:$B$462)+LOOKUP(L271,ByM!$A$2:$B$462)+LOOKUP(M271,ByM!$A$2:$B$462)+LOOKUP(N271,ByM!$A$2:$B$462)+LOOKUP(O271,ByM!$A$2:$B$462))","v":""}]
[null,null,null,null,null,null,null,null,null,null,null,null,null,null,null,{"$f":"IF(C272=\"\",\"\",LOOKUP(E272,$P$2:$Q$11)+LOOKUP(F272,$P$2:$Q$11)+LOOKUP(G272,$P$2:$Q$11)+LOOKUP(#REF!,$P$2:$Q$11)+LOOKUP(H272,$P$2:$Q$11))","v":""},{"$f":"IF(C272=\"\",\"\",LOOKUP(K272,ByM!$A$2:$B$462)+LOOKUP(L272,ByM!$A$2:$B$462)+LOOKUP(M272,ByM!$A$2:$B$462)+LOOKUP(N272,ByM!$A$2:$B$462)+LOOKUP(O272,ByM!$A$2:$B$462))","v":""}]
[null,null,null,null,null,null,null,null,null,null,null,null,null,null,null,{"$f":"IF(C273=\"\",\"\",LOOKUP(E273,$P$2:$Q$11)+LOOKUP(F273,$P$2:$Q$11)+LOOKUP(G273,$P$2:$Q$11)+LOOKUP(#REF!,$P$2:$Q$11)+LOOKUP(H273,$P$2:$Q$11))","v":""},{"$f":"IF(C273=\"\",\"\",LOOKUP(K273,ByM!$A$2:$B$462)+LOOKUP(L273,ByM!$A$2:$B$462)+LOOKUP(M273,ByM!$A$2:$B$462)+LOOKUP(N273,ByM!$A$2:$B$462)+LOOKUP(O273,ByM!$A$2:$B$462))","v":""}]
[null,null,null,null,null,null,null,null,null,null,null,null,null,null,null,{"$f":"IF(C274=\"\",\"\",LOOKUP(E274,$P$2:$Q$11)+LOOKUP(F274,$P$2:$Q$11)+LOOKUP(G274,$P$2:$Q$11)+LOOKUP(#REF!,$P$2:$Q$11)+LOOKUP(H274,$P$2:$Q$11))","v":""},{"$f":"IF(C274=\"\",\"\",LOOKUP(K274,ByM!$A$2:$B$462)+LOOKUP(L274,ByM!$A$2:$B$462)+LOOKUP(M274,ByM!$A$2:$B$462)+LOOKUP(N274,ByM!$A$2:$B$462)+LOOKUP(O274,ByM!$A$2:$B$462))","v":""}]
[null,null,null,null,null,null,null,null,null,null,null,null,null,null,null,{"$f":"IF(C275=\"\",\"\",LOOKUP(E275,$P$2:$Q$11)+LOOKUP(F275,$P$2:$Q$11)+LOOKUP(G275,$P$2:$Q$11)+LOOKUP(#REF!,$P$2:$Q$11)+LOOKUP(H275,$P$2:$Q$11))","v":""},{"$f":"IF(C275=\"\",\"\",LOOKUP(K275,ByM!$A$2:$B$462)+LOOKUP(L275,ByM!$A$2:$B$462)+LOOKUP(M275,ByM!$A$2:$B$462)+LOOKUP(N275,ByM!$A$2:$B$462)+LOOKUP(O275,ByM!$A$2:$B$462))","v":""}]
[null,null,null,null,null,null,null,null,null,null,null,null,null,null,null,{"$f":"IF(C276=\"\",\"\",LOOKUP(E276,$P$2:$Q$11)+LOOKUP(F276,$P$2:$Q$11)+LOOKUP(G276,$P$2:$Q$11)+LOOKUP(#REF!,$P$2:$Q$11)+LOOKUP(H276,$P$2:$Q$11))","v":""},{"$f":"IF(C276=\"\",\"\",LOOKUP(K276,ByM!$A$2:$B$462)+LOOKUP(L276,ByM!$A$2:$B$462)+LOOKUP(M276,ByM!$A$2:$B$462)+LOOKUP(N276,ByM!$A$2:$B$462)+LOOKUP(O276,ByM!$A$2:$B$462))","v":""}]
[null,null,null,null,null,null,null,null,null,null,null,null,null,null,null,{"$f":"IF(C277=\"\",\"\",LOOKUP(E277,$P$2:$Q$11)+LOOKUP(F277,$P$2:$Q$11)+LOOKUP(G277,$P$2:$Q$11)+LOOKUP(#REF!,$P$2:$Q$11)+LOOKUP(H277,$P$2:$Q$11))","v":""},{"$f":"IF(C277=\"\",\"\",LOOKUP(K277,ByM!$A$2:$B$462)+LOOKUP(L277,ByM!$A$2:$B$462)+LOOKUP(M277,ByM!$A$2:$B$462)+LOOKUP(N277,ByM!$A$2:$B$462)+LOOKUP(O277,ByM!$A$2:$B$462))","v":""}]
[null,null,null,null,null,null,null,null,null,null,null,null,null,null,null,{"$f":"IF(C278=\"\",\"\",LOOKUP(E278,$P$2:$Q$11)+LOOKUP(F278,$P$2:$Q$11)+LOOKUP(G278,$P$2:$Q$11)+LOOKUP(#REF!,$P$2:$Q$11)+LOOKUP(H278,$P$2:$Q$11))","v":""},{"$f":"IF(C278=\"\",\"\",LOOKUP(K278,ByM!$A$2:$B$462)+LOOKUP(L278,ByM!$A$2:$B$462)+LOOKUP(M278,ByM!$A$2:$B$462)+LOOKUP(N278,ByM!$A$2:$B$462)+LOOKUP(O278,ByM!$A$2:$B$462))","v":""}]
[null,null,null,null,null,null,null,null,null,null,null,null,null,null,null,{"$f":"IF(C279=\"\",\"\",LOOKUP(E279,$P$2:$Q$11)+LOOKUP(F279,$P$2:$Q$11)+LOOKUP(G279,$P$2:$Q$11)+LOOKUP(#REF!,$P$2:$Q$11)+LOOKUP(H279,$P$2:$Q$11))","v":""},{"$f":"IF(C279=\"\",\"\",LOOKUP(K279,ByM!$A$2:$B$462)+LOOKUP(L279,ByM!$A$2:$B$462)+LOOKUP(M279,ByM!$A$2:$B$462)+LOOKUP(N279,ByM!$A$2:$B$462)+LOOKUP(O279,ByM!$A$2:$B$462))","v":""}]

{"sheet":"Arma","index":1,"n_rows":481,"n_cols":26,"rows_kept":481,"cut":false,"hidden":false,"merged":[]}
[]
[null,"Nombre:","Nombre",null,"Atributos:",null,null,null,null,null,"Coste del arquetipo:",null,null,null,"Capacidad de herir","DAÑ:",1,2,3,4,5,6,7,8,9,10]
[null,"Bonus 1:","-",{"$f":"LOOKUP(C3,ByM!$A$2:$B$462)","v":0},"ENE","DAÑ","ALC","CAL","ARE",null,{"$f":"IF(SUM(D3:D7,E5:I5)<1,1,SUM(D3:D7,E5:I5))","v":9},{"$f":"LOOKUP(C3,ByM!$A$2:$C$462)","v":"-"},null,null,".",1,8,21,52,125,302,729,"x","x","x","x"]
[null,"Bonus 2:","-",{"$f":"LOOKUP(C4,ByM!$A$2:$B$462)","v":0},1,1,0,1,"-",null,null,{"$f":"LOOKUP(C4,ByM!$A$2:$C$462)","v":"-"},null,null,".",2,-5,11,26,63,151,365,880,"x","x","x"]
[null,"Bonus 3:","-",{"$f":"LOOKUP(C5,ByM!$A$2:$B$462)","v":0},null,{"$f":"INDEX(Q3:Z12,E4,F4)","v":8},{"$f":"IF(G4>F4*5,\"Error\",G4)","v":0},{"$f":"H4","v":1},{"$f":"LOOKUP(I4,Area!$A$2:$B$71)","v":0},null,null,{"$f":"LOOKUP(C5,ByM!$A$2:$C$462)","v":"-"},null,null,".",3,-15,1,13,31,76,182,440,1062,"x","x"]
[null,"Bonus 4:","-",{"$f":"LOOKUP(C6,ByM!$A$2:$B$462)","v":0},null,null,null,null,null,null,null,{"$f":"LOOKUP(C6,ByM!$A$2:$C$462)","v":"-"},null,null,".",4,-35,-20,1,16,38,91,220,531,1282,"x"]
[null,"Bonus 5:","-",{"$f":"LOOKUP(C7,ByM!$A$2:$B$462)","v":0},null,null,null,null,null,null,null,{"$f":"LOOKUP(C7,ByM!$A$2:$C$462)","v":"-"},null,null,"ENE:",5,-75,-60,-25,1,19,46,110,266,641,1548]
[null,"Descripción:",null,null,null,null,null,null,null,null,null,null,null,null,null,6,-155,-140,-75,-29,0,23,55,133,321,774]
[null,null,null,null,null,null,null,null,null,null,null,null,null,null,null,7,-315,-300,-175,-89,-38,1,28,66,160,387]
[null,null,null,null,null,null,null,null,null,null,null,null,null,null,null,8,"x",-620,-375,-209,-114,-43,2,33,80,193]
[null,null,null,null,null,null,null,null,null,null,null,null,null,null,null,9,"x","x",-775,-449,-266,-131,-51,1,40,97]
[null,null,null,null,null,null,null,null,null,null,null,null,null,null,null,10,"x","x","x",-929,-570,-307,-155,-63,2,48]
[]
[null,"Tipo","Nombre","Desc","ENE","DAÑ","ALC","CAL","PTS","ARE","Bonus 1","Bonus 2","Bonus 3","Bonus 4","Bonus 5","Pts Atr.","Pts ByM"]
[null,"Arma","Abrecartas",null,1,1,0,1,9,"-","-","-","-","-","-",{"$f":"IF(C15=\"\",\"\",INDEX($Q$3:$Z$12,E15,F15)+G15+H15)","v":9},{"$f":"IF(C15=\"\",\"\",LOOKUP(J15,Area!$A$2:$B$71)+LOOKUP(K15,ByM!$A$2:$B$462)+LOOKUP(L15,ByM!$A$2:$B$462)+LOOKUP(M15,ByM!$A$2:$B$462)+LOOKUP(N15,ByM!$A$2:$B$462)+LOOKUP(O15,ByM!$A$2:$B$462))","v":0}]
[null,"Arma","Absolución",null,4,5,12,3,51,"-","Reliquia","Daño extra","Munición perforante","-","-",{"$f":"IF(C16=\"\",\"\",INDEX($Q$3:$Z$12,E16,F16)+G16+H16)","v":53},{"$f":"IF(C16=\"\",\"\",LOOKUP(J16,Area!$A$2:$B$71)+LOOKUP(K16,ByM!$A$2:$B$462)+LOOKUP(L16,ByM!$A$2:$B$462)+LOOKUP(M16,ByM!$A$2:$B$462)+LOOKUP(N16,ByM!$A$2:$B$462)+LOOKUP(O16,ByM!$A$2:$B$462))","v":-2}]
[null,"Arma","Alabarda",null,4,4,0,4,7,"-","A 2 manos","Arma complicada","-","-","-",{"$f":"IF(C17=\"\",\"\",INDEX($Q$3:$Z$12,E17,F17)+G17+H17)","v":20},{"$f":"IF(C17=\"\",\"\",LOOKUP(J17,Area!$A$2:$B$71)+LOOKUP(K17,ByM!$A$2:$B$462)+LOOKUP(L17,ByM!$A$2:$B$462)+LOOKUP(M17,ByM!$A$2:$B$462)+LOOKUP(N17,ByM!$A$2:$B$462)+LOOKUP(O17,ByM!$A$2:$B$462))","v":-13}]
[null,"Arma","Alegradías",null,5,5,5,3,32,"-","Arma corta","Cargadores (6)","Visor N03","-","-",{"$f":"IF(C18=\"\",\"\",INDEX($Q$3:$Z$12,E18,F18)+G18+H18)","v":27},{"$f":"IF(C18=\"\",\"\",LOOKUP(J18,Area!$A$2:$B$71)+LOOKUP(K18,ByM!$A$2:$B$462)+LOOKUP(L18,ByM!$A$2:$B$462)+LOOKUP(M18,ByM!$A$2:$B$462)+LOOKUP(N18,ByM!$A$2:$B$462)+LOOKUP(O18,ByM!$A$2:$B$462))","v":5}]
[null,"Arma","Alfanje",null,3,3,0,4,17,"-","-","-","-","-","-",{"$f":"IF(C19=\"\",\"\",INDEX($Q$3:$Z$12,E19,F19)+G19+H19)","v":17},{"$f":"IF(C19=\"\",\"\",LOOKUP(J19,Area!$A$2:$B$71)+LOOKUP(K19,ByM!$A$2:$B$462)+LOOKUP(L19,ByM!$A$2:$B$462)+LOOKUP(M19,ByM!$A$2:$B$462)+LOOKUP(N19,ByM!$A$2:$B$462)+LOOKUP(O19,ByM!$A$2:$B$462))","v":0}]
[null,"Arma","Ametralladora",null,1,2,10,2,28,"-","Equipo pesado","-","-","-","-",{"$f":"IF(C20=\"\",\"\",INDEX($Q$3:$Z$12,E20,F20)+G20+H20)","v":33},{"$f":"IF(C20=\"\",\"\",LOOKUP(J20,Area!$A$2:$B$71)+LOOKUP(K20,ByM!$A$2:$B$462)+LOOKUP(L20,ByM!$A$2:$B$462)+LOOKUP(M20,ByM!$A$2:$B$462)+LOOKUP(N20,ByM!$A$2:$B$462)+LOOKUP(O20,ByM!$A$2:$B$462))","v":-5}]
[null,"Arma","Ametralladora 20 mm",null,5,6,20,7,78,"-","Fuego automático","-","-","-","-",{"$f":"IF(C21=\"\",\"\",INDEX($Q$3:$Z$12,E21,F21)+G21+H21)","v":73},{"$f":"IF(C21=\"\",\"\",LOOKUP(J21,Area!$A$2:$B$71)+LOOKUP(K21,ByM!$A$2:$B$462)+LOOKUP(L21,ByM!$A$2:$B$462)+LOOKUP(M21,ByM!$A$2:$B$462)+LOOKUP(N21,ByM!$A$2:$B$462)+LOOKUP(O21,ByM!$A$2:$B$462))","v":5}]
[null,"Arma","Ametralladora 25 mm",null,6,7,35,7,102,"-","Fuego automático","-","-","-","-",{"$f":"IF(C22=\"\",\"\",INDEX($Q$3:$Z$12,E22,F22)+G22+H22)","v":97},{"$f":"IF(C22=\"\",\"\",LOOKUP(J22,Area!$A$2:$B$71)+LOOKUP(K22,ByM!$A$2:$B$462)+LOOKUP(L22,ByM!$A$2:$B$462)+LOOKUP(M22,ByM!$A$2:$B$462)+LOOKUP(N22,ByM!$A$2:$B$462)+LOOKUP(O22,ByM!$A$2:$B$462))","v":5}]
[null,"Arma","Ametralladora con trípode",null,2,3,15,3,39,"-","Equipo pesado","-","-","-","-",{"$f":"IF(C23=\"\",\"\",INDEX($Q$3:$Z$12,E23,F23)+G23+H23)","v":44},{"$f":"IF(C23=\"\",\"\",LOOKUP(J23,Area!$A$2:$B$71)+LOOKUP(K23,ByM!$A$2:$B$462)+LOOKUP(L23,ByM!$A$2:$B$462)+LOOKUP(M23,ByM!$A$2:$B$462)+LOOKUP(N23,ByM!$A$2:$B$462)+LOOKUP(O23,ByM!$A$2:$B$462))","v":-5}]
[null,"Arma","Ametralladora pesada granif. Ícaro acop.",null,3,4,20,3,68,"-","Arma ATA","Munición trazadora","Enorme","Mucho más alcance","-",{"$f":"IF(C24=\"\",\"\",INDEX($Q$3:$Z$12,E24,F24)+G24+H24)","v":54},{"$f":"IF(C24=\"\",\"\",LOOKUP(J24,Area!$A$2:$B$71)+LOOKUP(K24,ByM!$A$2:$B$462)+LOOKUP(L24,ByM!$A$2:$B$462)+LOOKUP(M24,ByM!$A$2:$B$462)+LOOKUP(N24,ByM!$A$2:$B$462)+LOOKUP(O24,ByM!$A$2:$B$462))","v":14}]
[null,"Arma","Ametralladora pesada graniferro",null,6,4,30,3,1,"-","Enorme","-","-","-","-",{"$f":"IF(C25=\"\",\"\",INDEX($Q$3:$Z$12,E25,F25)+G25+H25)","v":4},{"$f":"IF(C25=\"\",\"\",LOOKUP(J25,Area!$A$2:$B$71)+LOOKUP(K25,ByM!$A$2:$B$462)+LOOKUP(L25,ByM!$A$2:$B$462)+LOOKUP(M25,ByM!$A$2:$B$462)+LOOKUP(N25,ByM!$A$2:$B$462)+LOOKUP(O25,ByM!$A$2:$B$462))","v":-5}]
[null,"Arma","Ametralladora pesada graniferro acop.",null,3,4,30,3,59,"-","Enorme","-","-","-","-",{"$f":"IF(C26=\"\",\"\",INDEX($Q$3:$Z$12,E26,F26)+G26+H26)","v":64},{"$f":"IF(C26=\"\",\"\",LOOKUP(J26,Area!$A$2:$B$71)+LOOKUP(K26,ByM!$A$2:$B$462)+LOOKUP(L26,ByM!$A$2:$B$462)+LOOKUP(M26,ByM!$A$2:$B$462)+LOOKUP(N26,ByM!$A$2:$B$462)+LOOKUP(O26,ByM!$A$2:$B$462))","v":-5}]
[null,"Arma","Ametralladora pesada graniferro Ícaro",null,6,4,20,3,8,"-","Arma ATA","Munición trazadora","Enorme","Mucho más alcance","-",{"$f":"IF(C27=\"\",\"\",INDEX($Q$3:$Z$12,E27,F27)+G27+H27)","v":-6},{"$f":"IF(C27=\"\",\"\",LOOKUP(J27,Area!$A$2:$B$71)+LOOKUP(K27,ByM!$A$2:$B$462)+LOOKUP(L27,ByM!$A$2:$B$462)+LOOKUP(M27,ByM!$A$2:$B$462)+LOOKUP(N27,ByM!$A$2:$B$462)+LOOKUP(O27,ByM!$A$2:$B$462))","v":14}]
[null,"Arma","Antorcha",null,3,1,0,1,1,"-","Munición incendiaria","Luz","-","-","-",{"$f":"IF(C28=\"\",\"\",INDEX($Q$3:$Z$12,E28,F28)+G28+H28)","v":-14},{"$f":"IF(C28=\"\",\"\",LOOKUP(J28,Area!$A$2:$B$71)+LOOKUP(K28,ByM!$A$2:$B$462)+LOOKUP(L28,ByM!$A$2:$B$462)+LOOKUP(M28,ByM!$A$2:$B$462)+LOOKUP(N28,ByM!$A$2:$B$462)+LOOKUP(O28,ByM!$A$2:$B$462))","v":7}]
[null,"Arma","Apoyo - ataque de artillería",null,6,5,30,1,39,"R2","Golpe de los dioses","Dispersión","-","-","-",{"$f":"IF(C29=\"\",\"\",INDEX($Q$3:$Z$12,E29,F29)+G29+H29)","v":31},{"$f":"IF(C29=\"\",\"\",LOOKUP(J29,Area!$A$2:$B$71)+LOOKUP(K29,ByM!$A$2:$B$462)+LOOKUP(L29,ByM!$A$2:$B$462)+LOOKUP(M29,ByM!$A$2:$B$462)+LOOKUP(N29,ByM!$A$2:$B$462)+LOOKUP(O29,ByM!$A$2:$B$462))","v":8}]
[null,"Arma","Apoyo - barrido",null,6,4,30,1,36,"G7/2","Golpe de los dioses","-","-","-","-",{"$f":"IF(C30=\"\",\"\",INDEX($Q$3:$Z$12,E30,F30)+G30+H30)","v":2},{"$f":"IF(C30=\"\",\"\",LOOKUP(J30,Area!$A$2:$B$71)+LOOKUP(K30,ByM!$A$2:$B$462)+LOOKUP(L30,ByM!$A$2:$B$462)+LOOKUP(M30,ByM!$A$2:$B$462)+LOOKUP(N30,ByM!$A$2:$B$462)+LOOKUP(O30,ByM!$A$2:$B$462))","v":34}]
[null,"Arma","Apoyo - hostigamiento",null,6,2,30,1,1,"R3","Golpe de los dioses","Dispersión","Acobardamiento","-","-",{"$f":"IF(C31=\"\",\"\",INDEX($Q$3:$Z$12,E31,F31)+G31+H31)","v":-109},{"$f":"IF(C31=\"\",\"\",LOOKUP(J31,Area!$A$2:$B$71)+LOOKUP(K31,ByM!$A$2:$B$462)+LOOKUP(L31,ByM!$A$2:$B$462)+LOOKUP(M31,ByM!$A$2:$B$462)+LOOKUP(N31,ByM!$A$2:$B$462)+LOOKUP(O31,ByM!$A$2:$B$462))","v":14}]
[null,"Arma","Apoyo - Rayo congelante",null,6,3,30,1,1,"R3","Golpe de los dioses","Corrector de puntería","-","-","-",{"$f":"IF(C32=\"\",\"\",INDEX($Q$3:$Z$12,E32,F32)+G32+H32)","v":-44},{"$f":"IF(C32=\"\",\"\",LOOKUP(J32,Area!$A$2:$B$71)+LOOKUP(K32,ByM!$A$2:$B$462)+LOOKUP(L32,ByM!$A$2:$B$462)+LOOKUP(M32,ByM!$A$2:$B$462)+LOOKUP(N32,ByM!$A$2:$B$462)+LOOKUP(O32,ByM!$A$2:$B$462))","v":32}]
[null,"Arma","Apoyo - Rayo de calor",null,6,5,30,1,59,"R2","Golpe de los dioses","Corrector de puntería","-","-","-",{"$f":"IF(C33=\"\",\"\",INDEX($Q$3:$Z$12,E33,F33)+G33+H33)","v":31},{"$f":"IF(C33=\"\",\"\",LOOKUP(J33,Area!$A$2:$B$71)+LOOKUP(K33,ByM!$A$2:$B$462)+LOOKUP(L33,ByM!$A$2:$B$462)+LOOKUP(M33,ByM!$A$2:$B$462)+LOOKUP(N33,ByM!$A$2:$B$462)+LOOKUP(O33,ByM!$A$2:$B$462))","v":28}]
[null,"Arma","Arbalesta",null,3,4,10,3,54,"-","A 2 manos","Daño extra","Munición reforzada","-","-",{"$f":"IF(C34=\"\",\"\",INDEX($Q$3:$Z$12,E34,F34)+G34+H34)","v":44},{"$f":"IF(C34=\"\",\"\",LOOKUP(J34,Area!$A$2:$B$71)+LOOKUP(K34,ByM!$A$2:$B$462)+LOOKUP(L34,ByM!$A$2:$B$462)+LOOKUP(M34,ByM!$A$2:$B$462)+LOOKUP(N34,ByM!$A$2:$B$462)+LOOKUP(O34,ByM!$A$2:$B$462))","v":10}]
[null,"Arma","Arco",null,3,2,10,3,1,"-","A 2 manos","Arma complicada","-","-","-",{"$f":"IF(C35=\"\",\"\",INDEX($Q$3:$Z$12,E35,F35)+G35+H35)","v":14},{"$f":"IF(C35=\"\",\"\",LOOKUP(J35,Area!$A$2:$B$71)+LOOKUP(K35,ByM!$A$2:$B$462)+LOOKUP(L35,ByM!$A$2:$B$462)+LOOKUP(M35,ByM!$A$2:$B$462)+LOOKUP(N35,ByM!$A$2:$B$462)+LOOKUP(O35,ByM!$A$2:$B$462))","v":-13}]
[null,"Arma","Arco bosoniano",null,3,3,10,3,23,"-","A 2 manos","-","-","-","-",{"$f":"IF(C36=\"\",\"\",INDEX($Q$3:$Z$12,E36,F36)+G36+H36)","v":26},{"$f":"IF(C36=\"\",\"\",LOOKUP(J36,Area!$A$2:$B$71)+LOOKUP(K36,ByM!$A$2:$B$462)+LOOKUP(L36,ByM!$A$2:$B$462)+LOOKUP(M36,ByM!$A$2:$B$462)+LOOKUP(N36,ByM!$A$2:$B$462)+LOOKUP(O36,ByM!$A$2:$B$462))","v":-3}]
[null,"Arma","Arco corto",null,2,2,7,3,18,"-","A 2 manos","-","-","-","-",{"$f":"IF(C37=\"\",\"\",INDEX($Q$3:$Z$12,E37,F37)+G37+H37)","v":21},{"$f":"IF(C37=\"\",\"\",LOOKUP(J37,Area!$A$2:$B$71)+LOOKUP(K37,ByM!$A$2:$B$462)+LOOKUP(L37,ByM!$A$2:$B$462)+LOOKUP(M37,ByM!$A$2:$B$462)+LOOKUP(N37,ByM!$A$2:$B$462)+LOOKUP(O37,ByM!$A$2:$B$462))","v":-3}]
[null,"Arma","Arco corto estigio",null,3,2,5,3,11,"-","A 2 manos","Fuego automático","-","-","-",{"$f":"IF(C38=\"\",\"\",INDEX($Q$3:$Z$12,E38,F38)+G38+H38)","v":9},{"$f":"IF(C38=\"\",\"\",LOOKUP(J38,Area!$A$2:$B$71)+LOOKUP(K38,ByM!$A$2:$B$462)+LOOKUP(L38,ByM!$A$2:$B$462)+LOOKUP(M38,ByM!$A$2:$B$462)+LOOKUP(N38,ByM!$A$2:$B$462)+LOOKUP(O38,ByM!$A$2:$B$462))","v":2}]
[null,"Arma","Arco de caza",null,3,2,6,3,12,"-","A 2 manos","Fuego automático","-","-","-",{"$f":"IF(C39=\"\",\"\",INDEX($Q$3:$Z$12,E39,F39)+G39+H39)","v":10},{"$f":"IF(C39=\"\",\"\",LOOKUP(J39,Area!$A$2:$B$71)+LOOKUP(K39,ByM!$A$2:$B$462)+LOOKUP(L39,ByM!$A$2:$B$462)+LOOKUP(M39,ByM!$A$2:$B$462)+LOOKUP(N39,ByM!$A$2:$B$462)+LOOKUP(O39,ByM!$A$2:$B$462))","v":2}]
[null,"Arma","Arco de monta hirkano",null,3,2,7,3,13,"-","A 2 manos","Fuego automático","-","-","-",{"$f":"IF(C40=\"\",\"\",INDEX($Q$3:$Z$12,E40,F40)+G40+H40)","v":11},{"$f":"IF(C40=\"\",\"\",LOOKUP(J40,Area!$A$2:$B$71)+LOOKUP(K40,ByM!$A$2:$B$462)+LOOKUP(L40,ByM!$A$2:$B$462)+LOOKUP(M40,ByM!$A$2:$B$462)+LOOKUP(N40,ByM!$A$2:$B$462)+LOOKUP(O40,ByM!$A$2:$B$462))","v":2}]
[null,"Arma","Arco largo",null,3,3,13,3,26,"-","A 2 manos","-","-","-","-",{"$f":"IF(C41=\"\",\"\",INDEX($Q$3:$Z$12,E41,F41)+G41+H41)","v":29},{"$f":"IF(C41=\"\",\"\",LOOKUP(J41,Area!$A$2:$B$71)+LOOKUP(K41,ByM!$A$2:$B$462)+LOOKUP(L41,ByM!$A$2:$B$462)+LOOKUP(M41,ByM!$A$2:$B$462)+LOOKUP(N41,ByM!$A$2:$B$462)+LOOKUP(O41,ByM!$A$2:$B$462))","v":-3}]
[null,"Arma","Arco largo bosonio",null,3,4,10,3,61,"-","A 2 manos","Fuego automático","Munición perforante","-","-",{"$f":"IF(C42=\"\",\"\",INDEX($Q$3:$Z$12,E42,F42)+G42+H42)","v":44},{"$f":"IF(C42=\"\",\"\",LOOKUP(J42,Area!$A$2:$B$71)+LOOKUP(K42,ByM!$A$2:$B$462)+LOOKUP(L42,ByM!$A$2:$B$462)+LOOKUP(M42,ByM!$A$2:$B$462)+LOOKUP(N42,ByM!$A$2:$B$462)+LOOKUP(O42,ByM!$A$2:$B$462))","v":17}]
[null,"Arma","Arco ninja o Yumi",null,3,2,10,3,11,"-","A 2 manos","-","-","-","-",{"$f":"IF(C43=\"\",\"\",INDEX($Q$3:$Z$12,E43,F43)+G43+H43)","v":14},{"$f":"IF(C43=\"\",\"\",LOOKUP(J43,Area!$A$2:$B$71)+LOOKUP(K43,ByM!$A$2:$B$462)+LOOKUP(L43,ByM!$A$2:$B$462)+LOOKUP(M43,ByM!$A$2:$B$462)+LOOKUP(N43,ByM!$A$2:$B$462)+LOOKUP(O43,ByM!$A$2:$B$462))","v":-3}]
[null,"Arma","Arco shemita",null,3,2,12,3,33,"-","A 2 manos","Fuego automático","Munición perforante","-","-",{"$f":"IF(C44=\"\",\"\",INDEX($Q$3:$Z$12,E44,F44)+G44+H44)","v":16},{"$f":"IF(C44=\"\",\"\",LOOKUP(J44,Area!$A$2:$B$71)+LOOKUP(K44,ByM!$A$2:$B$462)+LOOKUP(L44,ByM!$A$2:$B$462)+LOOKUP(M44,ByM!$A$2:$B$462)+LOOKUP(N44,ByM!$A$2:$B$462)+LOOKUP(O44,ByM!$A$2:$B$462))","v":17}]
[null,"Arma","Arma de asta",null,3,3,0,3,21,"-","A 2 manos","Daño extra","Munición de parada","-","-",{"$f":"IF(C45=\"\",\"\",INDEX($Q$3:$Z$12,E45,F45)+G45+H45)","v":16},{"$f":"IF(C45=\"\",\"\",LOOKUP(J45,Area!$A$2:$B$71)+LOOKUP(K45,ByM!$A$2:$B$462)+LOOKUP(L45,ByM!$A$2:$B$462)+LOOKUP(M45,ByM!$A$2:$B$462)+LOOKUP(N45,ByM!$A$2:$B$462)+LOOKUP(O45,ByM!$A$2:$B$462))","v":5}]
[null,"Arma","Arma de combate de Dreadnought",null,4,5,0,3,44,"-","Daño extra","-","-","-","-",{"$f":"IF(C46=\"\",\"\",INDEX($Q$3:$Z$12,E46,F46)+G46+H46)","v":41},{"$f":"IF(C46=\"\",\"\",LOOKUP(J46,Area!$A$2:$B$71)+LOOKUP(K46,ByM!$A$2:$B$462)+LOOKUP(L46,ByM!$A$2:$B$462)+LOOKUP(M46,ByM!$A$2:$B$462)+LOOKUP(N46,ByM!$A$2:$B$462)+LOOKUP(O46,ByM!$A$2:$B$462))","v":3}]
[null,"Arma","Arma de combate modelo Hierro",null,3,4,0,3,37,"-","Daño extra","-","-","-","-",{"$f":"IF(C47=\"\",\"\",INDEX($Q$3:$Z$12,E47,F47)+G47+H47)","v":34},{"$f":"IF(C47=\"\",\"\",LOOKUP(J47,Area!$A$2:$B$71)+LOOKUP(K47,ByM!$A$2:$B$462)+LOOKUP(L47,ByM!$A$2:$B$462)+LOOKUP(M47,ByM!$A$2:$B$462)+LOOKUP(N47,ByM!$A$2:$B$462)+LOOKUP(O47,ByM!$A$2:$B$462))","v":3}]
[null,"Arma","Arma inteligente M56A2",null,7,7,20,7,55,"-","Fuego automático","Vulnerable","-","-","-",{"$f":"IF(C48=\"\",\"\",INDEX($Q$3:$Z$12,E48,F48)+G48+H48)","v":55},{"$f":"IF(C48=\"\",\"\",LOOKUP(J48,Area!$A$2:$B$71)+LOOKUP(K48,ByM!$A$2:$B$462)+LOOKUP(L48,ByM!$A$2:$B$462)+LOOKUP(M48,ByM!$A$2:$B$462)+LOOKUP(N48,ByM!$A$2:$B$462)+LOOKUP(O48,ByM!$A$2:$B$462))","v":0}]
[null,"Arma","Arnés de granadas",null,3,4,10,3,46,"R3","Dispersión","-","-","-","-",{"$f":"IF(C49=\"\",\"\",INDEX($Q$3:$Z$12,E49,F49)+G49+H49)","v":44},{"$f":"IF(C49=\"\",\"\",LOOKUP(J49,Area!$A$2:$B$71)+LOOKUP(K49,ByM!$A$2:$B$462)+LOOKUP(L49,ByM!$A$2:$B$462)+LOOKUP(M49,ByM!$A$2:$B$462)+LOOKUP(N49,ByM!$A$2:$B$462)+LOOKUP(O49,ByM!$A$2:$B$462))","v":2}]
[null,"Arma","Arpón",null,4,4,5,3,34,"-","Arma arrojadiza","-","-","-","-",{"$f":"IF(C50=\"\",\"\",INDEX($Q$3:$Z$12,E50,F50)+G50+H50)","v":24},{"$f":"IF(C50=\"\",\"\",LOOKUP(J50,Area!$A$2:$B$71)+LOOKUP(K50,ByM!$A$2:$B$462)+LOOKUP(L50,ByM!$A$2:$B$462)+LOOKUP(M50,ByM!$A$2:$B$462)+LOOKUP(N50,ByM!$A$2:$B$462)+LOOKUP(O50,ByM!$A$2:$B$462))","v":10}]
[null,"Arma","Arpón SpaceSub ASSO-400",null,3,1,5,3,1,"-","Cargadores (1)","-","-","-","-",{"$f":"IF(C51=\"\",\"\",INDEX($Q$3:$Z$12,E51,F51)+G51+H51)","v":-7},{"$f":"IF(C51=\"\",\"\",LOOKUP(J51,Area!$A$2:$B$71)+LOOKUP(K51,ByM!$A$2:$B$462)+LOOKUP(L51,ByM!$A$2:$B$462)+LOOKUP(M51,ByM!$A$2:$B$462)+LOOKUP(N51,ByM!$A$2:$B$462)+LOOKUP(O51,ByM!$A$2:$B$462))","v":-5}]
[null,"Arma","Asalto mental",null,5,1,5,3,1,"-","Invocación","Más alcance","Munición reforzada","-","-",{"$f":"IF(C52=\"\",\"\",INDEX($Q$3:$Z$12,E52,F52)+G52+H52)","v":-67},{"$f":"IF(C52=\"\",\"\",LOOKUP(J52,Area!$A$2:$B$71)+LOOKUP(K52,ByM!$A$2:$B$462)+LOOKUP(L52,ByM!$A$2:$B$462)+LOOKUP(M52,ByM!$A$2:$B$462)+LOOKUP(N52,ByM!$A$2:$B$462)+LOOKUP(O52,ByM!$A$2:$B$462))","v":22}]
[null,"Arma","Azuzador",null,3,1,0,3,6,"-","Drogas de combate","Munición aturdidora","Munición de pulso","-","-",{"$f":"IF(C53=\"\",\"\",INDEX($Q$3:$Z$12,E53,F53)+G53+H53)","v":-12},{"$f":"IF(C53=\"\",\"\",LOOKUP(J53,Area!$A$2:$B$71)+LOOKUP(K53,ByM!$A$2:$B$462)+LOOKUP(L53,ByM!$A$2:$B$462)+LOOKUP(M53,ByM!$A$2:$B$462)+LOOKUP(N53,ByM!$A$2:$B$462)+LOOKUP(O53,ByM!$A$2:$B$462))","v":18}]
[null,"Arma","Ballesta",null,4,4,10,4,37,"-","A 2 manos","Cargadores (X) (1)","Munición perforante","-","-",{"$f":"IF(C54=\"\",\"\",INDEX($Q$3:$Z$12,E54,F54)+G54+H54)","v":30},{"$f":"IF(C54=\"\",\"\",LOOKUP(J54,Area!$A$2:$B$71)+LOOKUP(K54,ByM!$A$2:$B$462)+LOOKUP(L54,ByM!$A$2:$B$462)+LOOKUP(M54,ByM!$A$2:$B$462)+LOOKUP(N54,ByM!$A$2:$B$462)+LOOKUP(O54,ByM!$A$2:$B$462))","v":7}]
[null,"Arma","Ballesta de mano",null,3,2,5,2,23,"-","Munición perforante","-","-","-","-",{"$f":"IF(C55=\"\",\"\",INDEX($Q$3:$Z$12,E55,F55)+G55+H55)","v":8},{"$f":"IF(C55=\"\",\"\",LOOKUP(J55,Area!$A$2:$B$71)+LOOKUP(K55,ByM!$A$2:$B$462)+LOOKUP(L55,ByM!$A$2:$B$462)+LOOKUP(M55,ByM!$A$2:$B$462)+LOOKUP(N55,ByM!$A$2:$B$462)+LOOKUP(O55,ByM!$A$2:$B$462))","v":15}]
[null,"Arma","Ballesta ligera",null,4,3,8,2,26,"-","Munición perforante","-","-","-","-",{"$f":"IF(C56=\"\",\"\",INDEX($Q$3:$Z$12,E56,F56)+G56+H56)","v":11},{"$f":"IF(C56=\"\",\"\",LOOKUP(J56,Area!$A$2:$B$71)+LOOKUP(K56,ByM!$A$2:$B$462)+LOOKUP(L56,ByM!$A$2:$B$462)+LOOKUP(M56,ByM!$A$2:$B$462)+LOOKUP(N56,ByM!$A$2:$B$462)+LOOKUP(O56,ByM!$A$2:$B$462))","v":15}]
[null,"Arma","Ballesta pesada",null,5,5,10,4,48,"-","Munición perforante","-","-","-","-",{"$f":"IF(C57=\"\",\"\",INDEX($Q$3:$Z$12,E57,F57)+G57+H57)","v":33},{"$f":"IF(C57=\"\",\"\",LOOKUP(J57,Area!$A$2:$B$71)+LOOKUP(K57,ByM!$A$2:$B$462)+LOOKUP(L57,ByM!$A$2:$B$462)+LOOKUP(M57,ByM!$A$2:$B$462)+LOOKUP(N57,ByM!$A$2:$B$462)+LOOKUP(O57,ByM!$A$2:$B$462))","v":15}]
[null,"Arma","Barra de acero",null,5,3,0,7,1,"-","A 2 manos","aplasta","-","-","-",{"$f":"IF(C58=\"\",\"\",INDEX($Q$3:$Z$12,E58,F58)+G58+H58)","v":-18},{"$f":"IF(C58=\"\",\"\",LOOKUP(J58,Area!$A$2:$B$71)+LOOKUP(K58,ByM!$A$2:$B$462)+LOOKUP(L58,ByM!$A$2:$B$462)+LOOKUP(M58,ByM!$A$2:$B$462)+LOOKUP(N58,ByM!$A$2:$B$462)+LOOKUP(O58,ByM!$A$2:$B$462))","v":-1}]
[null,"Arma","Bastón",null,3,2,0,2,5,"-","A 2 manos","Munición de parada","-","-","-",{"$f":"IF(C59=\"\",\"\",INDEX($Q$3:$Z$12,E59,F59)+G59+H59)","v":3},{"$f":"IF(C59=\"\",\"\",LOOKUP(J59,Area!$A$2:$B$71)+LOOKUP(K59,ByM!$A$2:$B$462)+LOOKUP(L59,ByM!$A$2:$B$462)+LOOKUP(M59,ByM!$A$2:$B$462)+LOOKUP(N59,ByM!$A$2:$B$462)+LOOKUP(O59,ByM!$A$2:$B$462))","v":2}]
[null,"Arma","Bastón bedecido",null,3,2,0,3,14,"-","Munición bendecida","-","-","-","-",{"$f":"IF(C60=\"\",\"\",INDEX($Q$3:$Z$12,E60,F60)+G60+H60)","v":4},{"$f":"IF(C60=\"\",\"\",LOOKUP(J60,Area!$A$2:$B$71)+LOOKUP(K60,ByM!$A$2:$B$462)+LOOKUP(L60,ByM!$A$2:$B$462)+LOOKUP(M60,ByM!$A$2:$B$462)+LOOKUP(N60,ByM!$A$2:$B$462)+LOOKUP(O60,ByM!$A$2:$B$462))","v":10}]
[null,"Arma","Bastón de mago",null,2,2,0,5,21,"-","Maná N1","-","-","-","-",{"$f":"IF(C61=\"\",\"\",INDEX($Q$3:$Z$12,E61,F61)+G61+H61)","v":16},{"$f":"IF(C61=\"\",\"\",LOOKUP(J61,Area!$A$2:$B$71)+LOOKUP(K61,ByM!$A$2:$B$462)+LOOKUP(L61,ByM!$A$2:$B$462)+LOOKUP(M61,ByM!$A$2:$B$462)+LOOKUP(N61,ByM!$A$2:$B$462)+LOOKUP(O61,ByM!$A$2:$B$462))","v":5}]
[null,"Arma","Bastón psíquico",null,3,2,0,3,14,"-","Munición bendecida","-","-","-","-",{"$f":"IF(C62=\"\",\"\",INDEX($Q$3:$Z$12,E62,F62)+G62+H62)","v":4},{"$f":"IF(C62=\"\",\"\",LOOKUP(J62,Area!$A$2:$B$71)+LOOKUP(K62,ByM!$A$2:$B$462)+LOOKUP(L62,ByM!$A$2:$B$462)+LOOKUP(M62,ByM!$A$2:$B$462)+LOOKUP(N62,ByM!$A$2:$B$462)+LOOKUP(O62,ByM!$A$2:$B$462))","v":10}]
[null,"Arma","Bate con pinchos",null,3,2,0,2,3,"-","a 2 manos","Daño extra","-","-","-",{"$f":"IF(C63=\"\",\"\",INDEX($Q$3:$Z$12,E63,F63)+G63+H63)","v":3},{"$f":"IF(C63=\"\",\"\",LOOKUP(J63,Area!$A$2:$B$71)+LOOKUP(K63,ByM!$A$2:$B$462)+LOOKUP(L63,ByM!$A$2:$B$462)+LOOKUP(M63,ByM!$A$2:$B$462)+LOOKUP(N63,ByM!$A$2:$B$462)+LOOKUP(O63,ByM!$A$2:$B$462))","v":0}]
[null,"Arma","Bate de béisbol",null,2,2,0,4,14,"-","A 2 manos","aplasta","-","-","-",{"$f":"IF(C64=\"\",\"\",INDEX($Q$3:$Z$12,E64,F64)+G64+H64)","v":15},{"$f":"IF(C64=\"\",\"\",LOOKUP(J64,Area!$A$2:$B$71)+LOOKUP(K64,ByM!$A$2:$B$462)+LOOKUP(L64,ByM!$A$2:$B$462)+LOOKUP(M64,ByM!$A$2:$B$462)+LOOKUP(N64,ByM!$A$2:$B$462)+LOOKUP(O64,ByM!$A$2:$B$462))","v":-1}]
[null,"Arma","Batería de cohetes Ícaro",null,7,7,20,4,64,"R4","Arma ATA","Munición trazadora","Enorme","Dispersión","-",{"$f":"IF(C65=\"\",\"\",INDEX($Q$3:$Z$12,E65,F65)+G65+H65)","v":52},{"$f":"IF(C65=\"\",\"\",LOOKUP(J65,Area!$A$2:$B$71)+LOOKUP(K65,ByM!$A$2:$B$462)+LOOKUP(L65,ByM!$A$2:$B$462)+LOOKUP(M65,ByM!$A$2:$B$462)+LOOKUP(N65,ByM!$A$2:$B$462)+LOOKUP(O65,ByM!$A$2:$B$462))","v":12}]
[null,"Arma","Batería de cohetes Ícaro acoplada",null,8,7,35,4,53,"R4","Arma ATA","Munición trazadora","Enorme","Dispersión","-",{"$f":"IF(C66=\"\",\"\",INDEX($Q$3:$Z$12,E66,F66)+G66+H66)","v":41},{"$f":"IF(C66=\"\",\"\",LOOKUP(J66,Area!$A$2:$B$71)+LOOKUP(K66,ByM!$A$2:$B$462)+LOOKUP(L66,ByM!$A$2:$B$462)+LOOKUP(M66,ByM!$A$2:$B$462)+LOOKUP(N66,ByM!$A$2:$B$462)+LOOKUP(O66,ByM!$A$2:$B$462))","v":12}]
[null,"Arma","Batería de misiles Bellicatus",null,7,7,35,4,79,"R4","Arma ATA","Munición trazadora","Enorme","Dispersión","-",{"$f":"IF(C67=\"\",\"\",INDEX($Q$3:$Z$12,E67,F67)+G67+H67)","v":67},{"$f":"IF(C67=\"\",\"\",LOOKUP(J67,Area!$A$2:$B$71)+LOOKUP(K67,ByM!$A$2:$B$462)+LOOKUP(L67,ByM!$A$2:$B$462)+LOOKUP(M67,ByM!$A$2:$B$462)+LOOKUP(N67,ByM!$A$2:$B$462)+LOOKUP(O67,ByM!$A$2:$B$462))","v":12}]
[null,"Arma","Batería de misiles frag Bellicatus",null,6,4,40,3,17,"R4","Dispersión","Enorme","-","-","-",{"$f":"IF(C68=\"\",\"\",INDEX($Q$3:$Z$12,E68,F68)+G68+H68)","v":14},{"$f":"IF(C68=\"\",\"\",LOOKUP(J68,Area!$A$2:$B$71)+LOOKUP(K68,ByM!$A$2:$B$462)+LOOKUP(L68,ByM!$A$2:$B$462)+LOOKUP(M68,ByM!$A$2:$B$462)+LOOKUP(N68,ByM!$A$2:$B$462)+LOOKUP(O68,ByM!$A$2:$B$462))","v":3}]
[null,"Arma","Batería de misiles perforantes Bellicatus",null,8,8,40,3,76,"-","-","-","-","-","-",{"$f":"IF(C69=\"\",\"\",INDEX($Q$3:$Z$12,E69,F69)+G69+H69)","v":76},{"$f":"IF(C69=\"\",\"\",LOOKUP(J69,Area!$A$2:$B$71)+LOOKUP(K69,ByM!$A$2:$B$462)+LOOKUP(L69,ByM!$A$2:$B$462)+LOOKUP(M69,ByM!$A$2:$B$462)+LOOKUP(N69,ByM!$A$2:$B$462)+LOOKUP(O69,ByM!$A$2:$B$462))","v":0}]
[null,"Arma","Bayoneta",null,2,1,0,3,3,"-","Arma de carga","-","-","-","-",{"$f":"IF(C70=\"\",\"\",INDEX($Q$3:$Z$12,E70,F70)+G70+H70)","v":-2},{"$f":"IF(C70=\"\",\"\",LOOKUP(J70,Area!$A$2:$B$71)+LOOKUP(K70,ByM!$A$2:$B$462)+LOOKUP(L70,ByM!$A$2:$B$462)+LOOKUP(M70,ByM!$A$2:$B$462)+LOOKUP(N70,ByM!$A$2:$B$462)+LOOKUP(O70,ByM!$A$2:$B$462))","v":5}]
[null,"Arma","Bendición de furia",null,3,5,0,3,66,"-","Invocación","Daño extra","Reliquia","Requiere (Capellán)","-",{"$f":"IF(C71=\"\",\"\",INDEX($Q$3:$Z$12,E71,F71)+G71+H71)","v":79},{"$f":"IF(C71=\"\",\"\",LOOKUP(J71,Area!$A$2:$B$71)+LOOKUP(K71,ByM!$A$2:$B$462)+LOOKUP(L71,ByM!$A$2:$B$462)+LOOKUP(M71,ByM!$A$2:$B$462)+LOOKUP(N71,ByM!$A$2:$B$462)+LOOKUP(O71,ByM!$A$2:$B$462))","v":-13}]
[null,"Arma","Bengala Watatsumi DV-303",null,4,3,20,4,25,"-","Munición incendiaria","Cargadores (1)","-","-","-",{"$f":"IF(C72=\"\",\"\",INDEX($Q$3:$Z$12,E72,F72)+G72+H72)","v":25},{"$f":"IF(C72=\"\",\"\",LOOKUP(J72,Area!$A$2:$B$71)+LOOKUP(K72,ByM!$A$2:$B$462)+LOOKUP(L72,ByM!$A$2:$B$462)+LOOKUP(M72,ByM!$A$2:$B$462)+LOOKUP(N72,ByM!$A$2:$B$462)+LOOKUP(O72,ByM!$A$2:$B$462))","v":0}]
[null,"Arma","Beso de muerte",null,5,5,0,3,32,"R2","Invocación","-","-","-","-",{"$f":"IF(C73=\"\",\"\",INDEX($Q$3:$Z$12,E73,F73)+G73+H73)","v":22},{"$f":"IF(C73=\"\",\"\",LOOKUP(J73,Area!$A$2:$B$71)+LOOKUP(K73,ByM!$A$2:$B$462)+LOOKUP(L73,ByM!$A$2:$B$462)+LOOKUP(M73,ByM!$A$2:$B$462)+LOOKUP(N73,ByM!$A$2:$B$462)+LOOKUP(O73,ByM!$A$2:$B$462))","v":10}]
[null,"Arma","Bláster de plasma",null,6,6,15,4,45,"-","Daño extra","Munición ígnea","Fuego pesado","Peligro","Inflamable",{"$f":"IF(C74=\"\",\"\",INDEX($Q$3:$Z$12,E74,F74)+G74+H74)","v":42},{"$f":"IF(C74=\"\",\"\",LOOKUP(J74,Area!$A$2:$B$71)+LOOKUP(K74,ByM!$A$2:$B$462)+LOOKUP(L74,ByM!$A$2:$B$462)+LOOKUP(M74,ByM!$A$2:$B$462)+LOOKUP(N74,ByM!$A$2:$B$462)+LOOKUP(O74,ByM!$A$2:$B$462))","v":3}]
[null,"Arma","Bola de dragón (puede lanzar bombas)",null,4,3,10,3,31,"L10","A 2 manos","Arma complicada","Inflamable","Munición ígnea","-",{"$f":"IF(C75=\"\",\"\",INDEX($Q$3:$Z$12,E75,F75)+G75+H75)","v":14},{"$f":"IF(C75=\"\",\"\",LOOKUP(J75,Area!$A$2:$B$71)+LOOKUP(K75,ByM!$A$2:$B$462)+LOOKUP(L75,ByM!$A$2:$B$462)+LOOKUP(M75,ByM!$A$2:$B$462)+LOOKUP(N75,ByM!$A$2:$B$462)+LOOKUP(O75,ByM!$A$2:$B$462))","v":17}]
[null,"Arma","Bola de fuego",null,3,3,10,3,33,"-","Invocación","-","-","-","-",{"$f":"IF(C76=\"\",\"\",INDEX($Q$3:$Z$12,E76,F76)+G76+H76)","v":26},{"$f":"IF(C76=\"\",\"\",LOOKUP(J76,Area!$A$2:$B$71)+LOOKUP(K76,ByM!$A$2:$B$462)+LOOKUP(L76,ByM!$A$2:$B$462)+LOOKUP(M76,ByM!$A$2:$B$462)+LOOKUP(N76,ByM!$A$2:$B$462)+LOOKUP(O76,ByM!$A$2:$B$462))","v":7}]
[null,"Arma","Bólter",null,5,4,20,3,24,"-","-","-","-","-","-",{"$f":"IF(C77=\"\",\"\",INDEX($Q$3:$Z$12,E77,F77)+G77+H77)","v":24},{"$f":"IF(C77=\"\",\"\",LOOKUP(J77,Area!$A$2:$B$71)+LOOKUP(K77,ByM!$A$2:$B$462)+LOOKUP(L77,ByM!$A$2:$B$462)+LOOKUP(M77,ByM!$A$2:$B$462)+LOOKUP(N77,ByM!$A$2:$B$462)+LOOKUP(O77,ByM!$A$2:$B$462))","v":0}]
[null,"Arma","Bólter acoplado",null,4,4,20,3,39,"-","-","-","-","-","-",{"$f":"IF(C78=\"\",\"\",INDEX($Q$3:$Z$12,E78,F78)+G78+H78)","v":39},{"$f":"IF(C78=\"\",\"\",LOOKUP(J78,Area!$A$2:$B$71)+LOOKUP(K78,ByM!$A$2:$B$462)+LOOKUP(L78,ByM!$A$2:$B$462)+LOOKUP(M78,ByM!$A$2:$B$462)+LOOKUP(N78,ByM!$A$2:$B$462)+LOOKUP(O78,ByM!$A$2:$B$462))","v":0}]
[null,"Arma","Bólter artesanal",null,5,4,20,3,39,"-","De precisión","-","-","-","-",{"$f":"IF(C79=\"\",\"\",INDEX($Q$3:$Z$12,E79,F79)+G79+H79)","v":24},{"$f":"IF(C79=\"\",\"\",LOOKUP(J79,Area!$A$2:$B$71)+LOOKUP(K79,ByM!$A$2:$B$462)+LOOKUP(L79,ByM!$A$2:$B$462)+LOOKUP(M79,ByM!$A$2:$B$462)+LOOKUP(N79,ByM!$A$2:$B$462)+LOOKUP(O79,ByM!$A$2:$B$462))","v":15}]
[null,"Arma","Bólter de asalto",null,3,4,15,3,49,"-","-","-","-","-","-",{"$f":"IF(C80=\"\",\"\",INDEX($Q$3:$Z$12,E80,F80)+G80+H80)","v":49},{"$f":"IF(C80=\"\",\"\",LOOKUP(J80,Area!$A$2:$B$71)+LOOKUP(K80,ByM!$A$2:$B$462)+LOOKUP(L80,ByM!$A$2:$B$462)+LOOKUP(M80,ByM!$A$2:$B$462)+LOOKUP(N80,ByM!$A$2:$B$462)+LOOKUP(O80,ByM!$A$2:$B$462))","v":0}]
[null,"Arma","Bólter de forja",null,3,5,20,3,99,"-","-","-","-","-","-",{"$f":"IF(C81=\"\",\"\",INDEX($Q$3:$Z$12,E81,F81)+G81+H81)","v":99},{"$f":"IF(C81=\"\",\"\",LOOKUP(J81,Area!$A$2:$B$71)+LOOKUP(K81,ByM!$A$2:$B$462)+LOOKUP(L81,ByM!$A$2:$B$462)+LOOKUP(M81,ByM!$A$2:$B$462)+LOOKUP(N81,ByM!$A$2:$B$462)+LOOKUP(O81,ByM!$A$2:$B$462))","v":0}]
[null,"Arma","Bólter especial",null,5,4,20,3,32,"-","Daño extra","Más alcance","-","-","-",{"$f":"IF(C82=\"\",\"\",INDEX($Q$3:$Z$12,E82,F82)+G82+H82)","v":24},{"$f":"IF(C82=\"\",\"\",LOOKUP(J82,Area!$A$2:$B$71)+LOOKUP(K82,ByM!$A$2:$B$462)+LOOKUP(L82,ByM!$A$2:$B$462)+LOOKUP(M82,ByM!$A$2:$B$462)+LOOKUP(N82,ByM!$A$2:$B$462)+LOOKUP(O82,ByM!$A$2:$B$462))","v":8}]
[null,"Arma","Bólter Huracán",null,2,4,20,3,86,"-","-","-","-","-","-",{"$f":"IF(C83=\"\",\"\",INDEX($Q$3:$Z$12,E83,F83)+G83+H83)","v":86},{"$f":"IF(C83=\"\",\"\",LOOKUP(J83,Area!$A$2:$B$71)+LOOKUP(K83,ByM!$A$2:$B$462)+LOOKUP(L83,ByM!$A$2:$B$462)+LOOKUP(M83,ByM!$A$2:$B$462)+LOOKUP(N83,ByM!$A$2:$B$462)+LOOKUP(O83,ByM!$A$2:$B$462))","v":0}]
[null,"Arma","Bólter pesado",null,5,5,25,3,47,"-","-","-","-","-","-",{"$f":"IF(C84=\"\",\"\",INDEX($Q$3:$Z$12,E84,F84)+G84+H84)","v":47},{"$f":"IF(C84=\"\",\"\",LOOKUP(J84,Area!$A$2:$B$71)+LOOKUP(K84,ByM!$A$2:$B$462)+LOOKUP(L84,ByM!$A$2:$B$462)+LOOKUP(M84,ByM!$A$2:$B$462)+LOOKUP(N84,ByM!$A$2:$B$462)+LOOKUP(O84,ByM!$A$2:$B$462))","v":0}]
[null,"Arma","Bólter pesado acoplado",null,4,5,25,3,66,"-","-","-","-","-","-",{"$f":"IF(C85=\"\",\"\",INDEX($Q$3:$Z$12,E85,F85)+G85+H85)","v":66},{"$f":"IF(C85=\"\",\"\",LOOKUP(J85,Area!$A$2:$B$71)+LOOKUP(K85,ByM!$A$2:$B$462)+LOOKUP(L85,ByM!$A$2:$B$462)+LOOKUP(M85,ByM!$A$2:$B$462)+LOOKUP(N85,ByM!$A$2:$B$462)+LOOKUP(O85,ByM!$A$2:$B$462))","v":0}]
[null,"Arma","Bólter pesado ejecutor",null,5,5,25,3,57,"-","Mucho más alcance","-","-","-","-",{"$f":"IF(C86=\"\",\"\",INDEX($Q$3:$Z$12,E86,F86)+G86+H86)","v":47},{"$f":"IF(C86=\"\",\"\",LOOKUP(J86,Area!$A$2:$B$71)+LOOKUP(K86,ByM!$A$2:$B$462)+LOOKUP(L86,ByM!$A$2:$B$462)+LOOKUP(M86,ByM!$A$2:$B$462)+LOOKUP(N86,ByM!$A$2:$B$462)+LOOKUP(O86,ByM!$A$2:$B$462))","v":10}]
[null,"Arma","Bólter pesado torm. inf. - lanzallamas",null,6,5,10,3,47,"G7/2","Munición incendiaria","Munición teledirigida","Dispersión","-","-",{"$f":"IF(C87=\"\",\"\",INDEX($Q$3:$Z$12,E87,F87)+G87+H87)","v":13},{"$f":"IF(C87=\"\",\"\",LOOKUP(J87,Area!$A$2:$B$71)+LOOKUP(K87,ByM!$A$2:$B$462)+LOOKUP(L87,ByM!$A$2:$B$462)+LOOKUP(M87,ByM!$A$2:$B$462)+LOOKUP(N87,ByM!$A$2:$B$462)+LOOKUP(O87,ByM!$A$2:$B$462))","v":34}]
[null,"Arma","Bólter pesado tormenta infernal",null,6,5,25,3,33,"-","Más alcance","-","-","-","-",{"$f":"IF(C88=\"\",\"\",INDEX($Q$3:$Z$12,E88,F88)+G88+H88)","v":28},{"$f":"IF(C88=\"\",\"\",LOOKUP(J88,Area!$A$2:$B$71)+LOOKUP(K88,ByM!$A$2:$B$462)+LOOKUP(L88,ByM!$A$2:$B$462)+LOOKUP(M88,ByM!$A$2:$B$462)+LOOKUP(N88,ByM!$A$2:$B$462)+LOOKUP(O88,ByM!$A$2:$B$462))","v":5}]
[null,"Arma","Bólter tempestad",null,3,4,20,3,54,"-","-","-","-","-","-",{"$f":"IF(C89=\"\",\"\",INDEX($Q$3:$Z$12,E89,F89)+G89+H89)","v":54},{"$f":"IF(C89=\"\",\"\",LOOKUP(J89,Area!$A$2:$B$71)+LOOKUP(K89,ByM!$A$2:$B$462)+LOOKUP(L89,ByM!$A$2:$B$462)+LOOKUP(M89,ByM!$A$2:$B$462)+LOOKUP(N89,ByM!$A$2:$B$462)+LOOKUP(O89,ByM!$A$2:$B$462))","v":0}]
[null,"Arma","Bólter tormenta",null,4,4,20,3,39,"-","-","-","-","-","-",{"$f":"IF(C90=\"\",\"\",INDEX($Q$3:$Z$12,E90,F90)+G90+H90)","v":39},{"$f":"IF(C90=\"\",\"\",LOOKUP(J90,Area!$A$2:$B$71)+LOOKUP(K90,ByM!$A$2:$B$462)+LOOKUP(L90,ByM!$A$2:$B$462)+LOOKUP(M90,ByM!$A$2:$B$462)+LOOKUP(N90,ByM!$A$2:$B$462)+LOOKUP(O90,ByM!$A$2:$B$462))","v":0}]
[null,"Arma","Bomba de estática",null,3,5,0,3,80,"R2","Un uso por actuación","control remoto","munición desestabilizadora","enorme","-",{"$f":"IF(C91=\"\",\"\",INDEX($Q$3:$Z$12,E91,F91)+G91+H91)","v":79},{"$f":"IF(C91=\"\",\"\",LOOKUP(J91,Area!$A$2:$B$71)+LOOKUP(K91,ByM!$A$2:$B$462)+LOOKUP(L91,ByM!$A$2:$B$462)+LOOKUP(M91,ByM!$A$2:$B$462)+LOOKUP(N91,ByM!$A$2:$B$462)+LOOKUP(O91,ByM!$A$2:$B$462))","v":1}]
[null,"Arma","Bomba de fuego",null,3,1,0,3,1,"-","Munición incendiaria","Un uso por aventura","-","-","-",{"$f":"IF(C92=\"\",\"\",INDEX($Q$3:$Z$12,E92,F92)+G92+H92)","v":-12},{"$f":"IF(C92=\"\",\"\",LOOKUP(J92,Area!$A$2:$B$71)+LOOKUP(K92,ByM!$A$2:$B$462)+LOOKUP(L92,ByM!$A$2:$B$462)+LOOKUP(M92,ByM!$A$2:$B$462)+LOOKUP(N92,ByM!$A$2:$B$462)+LOOKUP(O92,ByM!$A$2:$B$462))","v":-5}]
[null,"Arma","Bomba de fusión",null,7,7,0,5,53,"-","Munición experimental","Revientamuros","Un uso por aventura","-","-",{"$f":"IF(C93=\"\",\"\",INDEX($Q$3:$Z$12,E93,F93)+G93+H93)","v":33},{"$f":"IF(C93=\"\",\"\",LOOKUP(J93,Area!$A$2:$B$71)+LOOKUP(K93,ByM!$A$2:$B$462)+LOOKUP(L93,ByM!$A$2:$B$462)+LOOKUP(M93,ByM!$A$2:$B$462)+LOOKUP(N93,ByM!$A$2:$B$462)+LOOKUP(O93,ByM!$A$2:$B$462))","v":20}]
[null,"Arma","Bomba de gas",null,3,1,0,3,1,"-","Munición corrosiva","Un uso por aventura","-","-","-",{"$f":"IF(C94=\"\",\"\",INDEX($Q$3:$Z$12,E94,F94)+G94+H94)","v":-12},{"$f":"IF(C94=\"\",\"\",LOOKUP(J94,Area!$A$2:$B$71)+LOOKUP(K94,ByM!$A$2:$B$462)+LOOKUP(L94,ByM!$A$2:$B$462)+LOOKUP(M94,ByM!$A$2:$B$462)+LOOKUP(N94,ByM!$A$2:$B$462)+LOOKUP(O94,ByM!$A$2:$B$462))","v":0}]
[null,"Arma","Bomba de humo",null,3,1,0,3,1,"-","Humo","Un uso por aventura","-","-","-",{"$f":"IF(C95=\"\",\"\",INDEX($Q$3:$Z$12,E95,F95)+G95+H95)","v":-12},{"$f":"IF(C95=\"\",\"\",LOOKUP(J95,Area!$A$2:$B$71)+LOOKUP(K95,ByM!$A$2:$B$462)+LOOKUP(L95,ByM!$A$2:$B$462)+LOOKUP(M95,ByM!$A$2:$B$462)+LOOKUP(N95,ByM!$A$2:$B$462)+LOOKUP(O95,ByM!$A$2:$B$462))","v":-7}]
[null,"Arma","Bomba sucia",null,3,3,0,2,18,"R2","Un uso por actuación","área de activación","-","-","-",{"$f":"IF(C96=\"\",\"\",INDEX($Q$3:$Z$12,E96,F96)+G96+H96)","v":15},{"$f":"IF(C96=\"\",\"\",LOOKUP(J96,Area!$A$2:$B$71)+LOOKUP(K96,ByM!$A$2:$B$462)+LOOKUP(L96,ByM!$A$2:$B$462)+LOOKUP(M96,ByM!$A$2:$B$462)+LOOKUP(N96,ByM!$A$2:$B$462)+LOOKUP(O96,ByM!$A$2:$B$462))","v":3}]
[null,"Arma","Bombeadora",null,3,1,7,3,1,"-","A 2 manos","Fuego pesado","-","-","-",{"$f":"IF(C97=\"\",\"\",INDEX($Q$3:$Z$12,E97,F97)+G97+H97)","v":-5},{"$f":"IF(C97=\"\",\"\",LOOKUP(J97,Area!$A$2:$B$71)+LOOKUP(K97,ByM!$A$2:$B$462)+LOOKUP(L97,ByM!$A$2:$B$462)+LOOKUP(M97,ByM!$A$2:$B$462)+LOOKUP(N97,ByM!$A$2:$B$462)+LOOKUP(O97,ByM!$A$2:$B$462))","v":2}]
[null,"Arma","Botafumeiro tóxico",null,3,3,0,3,31,"R4","A 2 manos","Área permanente","Arma complicada","Munición radiactiva","-",{"$f":"IF(C98=\"\",\"\",INDEX($Q$3:$Z$12,E98,F98)+G98+H98)","v":16},{"$f":"IF(C98=\"\",\"\",LOOKUP(J98,Area!$A$2:$B$71)+LOOKUP(K98,ByM!$A$2:$B$462)+LOOKUP(L98,ByM!$A$2:$B$462)+LOOKUP(M98,ByM!$A$2:$B$462)+LOOKUP(N98,ByM!$A$2:$B$462)+LOOKUP(O98,ByM!$A$2:$B$462))","v":15}]
[null,"Arma","Cachiporra",null,3,2,0,2,18,"-","Munición aturdidora","Munición reforzada","-","-","-",{"$f":"IF(C99=\"\",\"\",INDEX($Q$3:$Z$12,E99,F99)+G99+H99)","v":3},{"$f":"IF(C99=\"\",\"\",LOOKUP(J99,Area!$A$2:$B$71)+LOOKUP(K99,ByM!$A$2:$B$462)+LOOKUP(L99,ByM!$A$2:$B$462)+LOOKUP(M99,ByM!$A$2:$B$462)+LOOKUP(N99,ByM!$A$2:$B$462)+LOOKUP(O99,ByM!$A$2:$B$462))","v":15}]
[null,"Arma","Cadena",null,4,2,0,4,1,"-","Arma complicada","Daño extra","Munición de parada","Munición paralizante","-",{"$f":"IF(C100=\"\",\"\",INDEX($Q$3:$Z$12,E100,F100)+G100+H100)","v":-16},{"$f":"IF(C100=\"\",\"\",LOOKUP(J100,Area!$A$2:$B$71)+LOOKUP(K100,ByM!$A$2:$B$462)+LOOKUP(L100,ByM!$A$2:$B$462)+LOOKUP(M100,ByM!$A$2:$B$462)+LOOKUP(N100,ByM!$A$2:$B$462)+LOOKUP(O100,ByM!$A$2:$B$462))","v":8}]
[null,"Arma","Cañón automático acelerador",null,6,7,35,4,94,"-","-","-","-","-","-",{"$f":"IF(C101=\"\",\"\",INDEX($Q$3:$Z$12,E101,F101)+G101+H101)","v":94},{"$f":"IF(C101=\"\",\"\",LOOKUP(J101,Area!$A$2:$B$71)+LOOKUP(K101,ByM!$A$2:$B$462)+LOOKUP(L101,ByM!$A$2:$B$462)+LOOKUP(M101,ByM!$A$2:$B$462)+LOOKUP(N101,ByM!$A$2:$B$462)+LOOKUP(O101,ByM!$A$2:$B$462))","v":0}]
[null,"Arma","Cañón automático acelerador acoplado",null,5,7,35,4,149,"-","-","-","-","-","-",{"$f":"IF(C102=\"\",\"\",INDEX($Q$3:$Z$12,E102,F102)+G102+H102)","v":149},{"$f":"IF(C102=\"\",\"\",LOOKUP(J102,Area!$A$2:$B$71)+LOOKUP(K102,ByM!$A$2:$B$462)+LOOKUP(L102,ByM!$A$2:$B$462)+LOOKUP(M102,ByM!$A$2:$B$462)+LOOKUP(N102,ByM!$A$2:$B$462)+LOOKUP(O102,ByM!$A$2:$B$462))","v":0}]
[null,"Arma","Cañón automático graniferro acoplado",null,5,7,35,4,144,"-","Enorme","-","-","-","-",{"$f":"IF(C103=\"\",\"\",INDEX($Q$3:$Z$12,E103,F103)+G103+H103)","v":149},{"$f":"IF(C103=\"\",\"\",LOOKUP(J103,Area!$A$2:$B$71)+LOOKUP(K103,ByM!$A$2:$B$462)+LOOKUP(L103,ByM!$A$2:$B$462)+LOOKUP(M103,ByM!$A$2:$B$462)+LOOKUP(N103,ByM!$A$2:$B$462)+LOOKUP(O103,ByM!$A$2:$B$462))","v":-5}]
[null,"Arma","Cañón automático Predator",null,6,7,35,4,94,"-","-","-","-","-","-",{"$f":"IF(C104=\"\",\"\",INDEX($Q$3:$Z$12,E104,F104)+G104+H104)","v":94},{"$f":"IF(C104=\"\",\"\",LOOKUP(J104,Area!$A$2:$B$71)+LOOKUP(K104,ByM!$A$2:$B$462)+LOOKUP(L104,ByM!$A$2:$B$462)+LOOKUP(M104,ByM!$A$2:$B$462)+LOOKUP(N104,ByM!$A$2:$B$462)+LOOKUP(O104,ByM!$A$2:$B$462))","v":0}]
[null,"Arma","Cañón automático Segador",null,6,7,30,4,89,"-","-","-","-","-","-",{"$f":"IF(C105=\"\",\"\",INDEX($Q$3:$Z$12,E105,F105)+G105+H105)","v":89},{"$f":"IF(C105=\"\",\"\",LOOKUP(J105,Area!$A$2:$B$71)+LOOKUP(K105,ByM!$A$2:$B$462)+LOOKUP(L105,ByM!$A$2:$B$462)+LOOKUP(M105,ByM!$A$2:$B$462)+LOOKUP(N105,ByM!$A$2:$B$462)+LOOKUP(O105,ByM!$A$2:$B$462))","v":0}]
[null,"Arma","Cañón congelante",null,7,5,25,3,8,"R4","Dispersión","Enorme","Arco concentrado","-","-",{"$f":"IF(C106=\"\",\"\",INDEX($Q$3:$Z$12,E106,F106)+G106+H106)","v":-10},{"$f":"IF(C106=\"\",\"\",LOOKUP(J106,Area!$A$2:$B$71)+LOOKUP(K106,ByM!$A$2:$B$462)+LOOKUP(L106,ByM!$A$2:$B$462)+LOOKUP(M106,ByM!$A$2:$B$462)+LOOKUP(N106,ByM!$A$2:$B$462)+LOOKUP(O106,ByM!$A$2:$B$462))","v":18}]
[null,"Arma","Cañón de asalto",null,5,6,20,3,69,"-","-","-","-","-","-",{"$f":"IF(C107=\"\",\"\",INDEX($Q$3:$Z$12,E107,F107)+G107+H107)","v":69},{"$f":"IF(C107=\"\",\"\",LOOKUP(J107,Area!$A$2:$B$71)+LOOKUP(K107,ByM!$A$2:$B$462)+LOOKUP(L107,ByM!$A$2:$B$462)+LOOKUP(M107,ByM!$A$2:$B$462)+LOOKUP(N107,ByM!$A$2:$B$462)+LOOKUP(O107,ByM!$A$2:$B$462))","v":0}]
[null,"Arma","Cañón de asalto acoplado",null,4,6,20,3,114,"-","-","-","-","-","-",{"$f":"IF(C108=\"\",\"\",INDEX($Q$3:$Z$12,E108,F108)+G108+H108)","v":114},{"$f":"IF(C108=\"\",\"\",LOOKUP(J108,Area!$A$2:$B$71)+LOOKUP(K108,ByM!$A$2:$B$462)+LOOKUP(L108,ByM!$A$2:$B$462)+LOOKUP(M108,ByM!$A$2:$B$462)+LOOKUP(N108,ByM!$A$2:$B$462)+LOOKUP(O108,ByM!$A$2:$B$462))","v":0}]
[null,"Arma","Cañón de asalto modelo Kheres",null,5,6,20,4,70,"-","-","-","-","-","-",{"$f":"IF(C109=\"\",\"\",INDEX($Q$3:$Z$12,E109,F109)+G109+H109)","v":70},{"$f":"IF(C109=\"\",\"\",LOOKUP(J109,Area!$A$2:$B$71)+LOOKUP(K109,ByM!$A$2:$B$462)+LOOKUP(L109,ByM!$A$2:$B$462)+LOOKUP(M109,ByM!$A$2:$B$462)+LOOKUP(N109,ByM!$A$2:$B$462)+LOOKUP(O109,ByM!$A$2:$B$462))","v":0}]
[null,"Arma","Cañón de asalto T-800",null,4,8,20,5,556,"-","-","-","-","-","-",{"$f":"IF(C110=\"\",\"\",INDEX($Q$3:$Z$12,E110,F110)+G110+H110)","v":556},{"$f":"IF(C110=\"\",\"\",LOOKUP(J110,Area!$A$2:$B$71)+LOOKUP(K110,ByM!$A$2:$B$462)+LOOKUP(L110,ByM!$A$2:$B$462)+LOOKUP(M110,ByM!$A$2:$B$462)+LOOKUP(N110,ByM!$A$2:$B$462)+LOOKUP(O110,ByM!$A$2:$B$462))","v":0}]
[null,"Arma","Cañón de barco",null,10,6,20,7,1,"R1","Cargadores (1)","enorme","-","-","-",{"$f":"IF(C111=\"\",\"\",INDEX($Q$3:$Z$12,E111,F111)+G111+H111)","v":-280},{"$f":"IF(C111=\"\",\"\",LOOKUP(J111,Area!$A$2:$B$71)+LOOKUP(K111,ByM!$A$2:$B$462)+LOOKUP(L111,ByM!$A$2:$B$462)+LOOKUP(M111,ByM!$A$2:$B$462)+LOOKUP(N111,ByM!$A$2:$B$462)+LOOKUP(O111,ByM!$A$2:$B$462))","v":-9}]
[null,"Arma","Cañón de confeti",null,4,4,10,3,29,"-","Cargadores (X) (1)","Arma complicada","Munición paralizante","Munición psíquica","-",{"$f":"IF(C112=\"\",\"\",INDEX($Q$3:$Z$12,E112,F112)+G112+H112)","v":29},{"$f":"IF(C112=\"\",\"\",LOOKUP(J112,Area!$A$2:$B$71)+LOOKUP(K112,ByM!$A$2:$B$462)+LOOKUP(L112,ByM!$A$2:$B$462)+LOOKUP(M112,ByM!$A$2:$B$462)+LOOKUP(N112,ByM!$A$2:$B$462)+LOOKUP(O112,ByM!$A$2:$B$462))","v":0}]
[null,"Arma","Cañón de fusión",null,7,7,20,5,73,"-","Munición experimental","-","-","-","-",{"$f":"IF(C113=\"\",\"\",INDEX($Q$3:$Z$12,E113,F113)+G113+H113)","v":53},{"$f":"IF(C113=\"\",\"\",LOOKUP(J113,Area!$A$2:$B$71)+LOOKUP(K113,ByM!$A$2:$B$462)+LOOKUP(L113,ByM!$A$2:$B$462)+LOOKUP(M113,ByM!$A$2:$B$462)+LOOKUP(N113,ByM!$A$2:$B$462)+LOOKUP(O113,ByM!$A$2:$B$462))","v":20}]
[null,"Arma","Cañón de fusión acoplado",null,6,7,20,5,95,"-","Munición experimental","Enorme","-","-","-",{"$f":"IF(C114=\"\",\"\",INDEX($Q$3:$Z$12,E114,F114)+G114+H114)","v":80},{"$f":"IF(C114=\"\",\"\",LOOKUP(J114,Area!$A$2:$B$71)+LOOKUP(K114,ByM!$A$2:$B$462)+LOOKUP(L114,ByM!$A$2:$B$462)+LOOKUP(M114,ByM!$A$2:$B$462)+LOOKUP(N114,ByM!$A$2:$B$462)+LOOKUP(O114,ByM!$A$2:$B$462))","v":15}]
[null,"Arma","Cañón de partículas",null,6,7,30,3,91,"-","Daño extra","-","-","-","-",{"$f":"IF(C115=\"\",\"\",INDEX($Q$3:$Z$12,E115,F115)+G115+H115)","v":88},{"$f":"IF(C115=\"\",\"\",LOOKUP(J115,Area!$A$2:$B$71)+LOOKUP(K115,ByM!$A$2:$B$462)+LOOKUP(L115,ByM!$A$2:$B$462)+LOOKUP(M115,ByM!$A$2:$B$462)+LOOKUP(N115,ByM!$A$2:$B$462)+LOOKUP(O115,ByM!$A$2:$B$462))","v":3}]
[null,"Arma","Cañón de plasma",null,6,6,30,4,73,"R4","Daño extra","Munición ígnea","Fuego pesado","Peligro","Dispersión",{"$f":"IF(C116=\"\",\"\",INDEX($Q$3:$Z$12,E116,F116)+G116+H116)","v":57},{"$f":"IF(C116=\"\",\"\",LOOKUP(J116,Area!$A$2:$B$71)+LOOKUP(K116,ByM!$A$2:$B$462)+LOOKUP(L116,ByM!$A$2:$B$462)+LOOKUP(M116,ByM!$A$2:$B$462)+LOOKUP(N116,ByM!$A$2:$B$462)+LOOKUP(O116,ByM!$A$2:$B$462))","v":16}]
[null,"Arma","Cañón de plasma pesado",null,6,7,30,4,105,"R4","Daño extra","Munición ígnea","Fuego pesado","Peligro","Dispersión",{"$f":"IF(C117=\"\",\"\",INDEX($Q$3:$Z$12,E117,F117)+G117+H117)","v":89},{"$f":"IF(C117=\"\",\"\",LOOKUP(J117,Area!$A$2:$B$71)+LOOKUP(K117,ByM!$A$2:$B$462)+LOOKUP(L117,ByM!$A$2:$B$462)+LOOKUP(M117,ByM!$A$2:$B$462)+LOOKUP(N117,ByM!$A$2:$B$462)+LOOKUP(O117,ByM!$A$2:$B$462))","v":16}]
[null,"Arma","Cañón de plasma pesado acoplado",null,5,7,30,4,160,"R4","Daño extra","Munición ígnea","Fuego pesado","Peligro","Dispersión",{"$f":"IF(C118=\"\",\"\",INDEX($Q$3:$Z$12,E118,F118)+G118+H118)","v":144},{"$f":"IF(C118=\"\",\"\",LOOKUP(J118,Area!$A$2:$B$71)+LOOKUP(K118,ByM!$A$2:$B$462)+LOOKUP(L118,ByM!$A$2:$B$462)+LOOKUP(M118,ByM!$A$2:$B$462)+LOOKUP(N118,ByM!$A$2:$B$462)+LOOKUP(O118,ByM!$A$2:$B$462))","v":16}]
[null,"Arma","Cañón de pulsos",null,2,4,20,5,83,"-","Enorme","-","-","-","-",{"$f":"IF(C119=\"\",\"\",INDEX($Q$3:$Z$12,E119,F119)+G119+H119)","v":88},{"$f":"IF(C119=\"\",\"\",LOOKUP(J119,Area!$A$2:$B$71)+LOOKUP(K119,ByM!$A$2:$B$462)+LOOKUP(L119,ByM!$A$2:$B$462)+LOOKUP(M119,ByM!$A$2:$B$462)+LOOKUP(N119,ByM!$A$2:$B$462)+LOOKUP(O119,ByM!$A$2:$B$462))","v":-5}]
[null,"Arma","Cañón de Xerum",null,4,4,17,3,48,"-","A 2 manos","Munición experimental","Peligro","-","-",{"$f":"IF(C120=\"\",\"\",INDEX($Q$3:$Z$12,E120,F120)+G120+H120)","v":36},{"$f":"IF(C120=\"\",\"\",LOOKUP(J120,Area!$A$2:$B$71)+LOOKUP(K120,ByM!$A$2:$B$462)+LOOKUP(L120,ByM!$A$2:$B$462)+LOOKUP(M120,ByM!$A$2:$B$462)+LOOKUP(N120,ByM!$A$2:$B$462)+LOOKUP(O120,ByM!$A$2:$B$462))","v":12}]
[null,"Arma","Cañón Demolisher",null,9,10,20,8,131,"R4","Daño extra","Enorme","Dispersión","-","-",{"$f":"IF(C121=\"\",\"\",INDEX($Q$3:$Z$12,E121,F121)+G121+H121)","v":125},{"$f":"IF(C121=\"\",\"\",LOOKUP(J121,Area!$A$2:$B$71)+LOOKUP(K121,ByM!$A$2:$B$462)+LOOKUP(L121,ByM!$A$2:$B$462)+LOOKUP(M121,ByM!$A$2:$B$462)+LOOKUP(N121,ByM!$A$2:$B$462)+LOOKUP(O121,ByM!$A$2:$B$462))","v":6}]
[null,"Arma","Cañón gatlin de campaña",null,3,5,20,3,99,"-","-","-","-","-","-",{"$f":"IF(C122=\"\",\"\",INDEX($Q$3:$Z$12,E122,F122)+G122+H122)","v":99},{"$f":"IF(C122=\"\",\"\",LOOKUP(J122,Area!$A$2:$B$71)+LOOKUP(K122,ByM!$A$2:$B$462)+LOOKUP(L122,ByM!$A$2:$B$462)+LOOKUP(M122,ByM!$A$2:$B$462)+LOOKUP(N122,ByM!$A$2:$B$462)+LOOKUP(O122,ByM!$A$2:$B$462))","v":0}]
[null,"Arma","Cañón gatlin de campaña pesado",null,4,6,25,3,114,"-","Enorme","-","-","-","-",{"$f":"IF(C123=\"\",\"\",INDEX($Q$3:$Z$12,E123,F123)+G123+H123)","v":119},{"$f":"IF(C123=\"\",\"\",LOOKUP(J123,Area!$A$2:$B$71)+LOOKUP(K123,ByM!$A$2:$B$462)+LOOKUP(L123,ByM!$A$2:$B$462)+LOOKUP(M123,ByM!$A$2:$B$462)+LOOKUP(N123,ByM!$A$2:$B$462)+LOOKUP(O123,ByM!$A$2:$B$462))","v":-5}]
[null,"Arma","Cañón gatlin de campaña pesado acop.",null,4,6,25,3,119,"-","-","-","-","-","-",{"$f":"IF(C124=\"\",\"\",INDEX($Q$3:$Z$12,E124,F124)+G124+H124)","v":119},{"$f":"IF(C124=\"\",\"\",LOOKUP(J124,Area!$A$2:$B$71)+LOOKUP(K124,ByM!$A$2:$B$462)+LOOKUP(L124,ByM!$A$2:$B$462)+LOOKUP(M124,ByM!$A$2:$B$462)+LOOKUP(N124,ByM!$A$2:$B$462)+LOOKUP(O124,ByM!$A$2:$B$462))","v":0}]
[null,"Arma","Cañón grav",null,6,5,25,3,41,"-","Daño extra","Munición reforzada ( contra DEF > 5)","-","-","-",{"$f":"IF(C125=\"\",\"\",INDEX($Q$3:$Z$12,E125,F125)+G125+H125)","v":28},{"$f":"IF(C125=\"\",\"\",LOOKUP(J125,Area!$A$2:$B$71)+LOOKUP(K125,ByM!$A$2:$B$462)+LOOKUP(L125,ByM!$A$2:$B$462)+LOOKUP(M125,ByM!$A$2:$B$462)+LOOKUP(N125,ByM!$A$2:$B$462)+LOOKUP(O125,ByM!$A$2:$B$462))","v":13}]
[null,"Arma","Cañón incendium",null,4,5,10,3,66,"-","Munición incendiaria","Munición teledirigida","-","-","-",{"$f":"IF(C126=\"\",\"\",INDEX($Q$3:$Z$12,E126,F126)+G126+H126)","v":51},{"$f":"IF(C126=\"\",\"\",LOOKUP(J126,Area!$A$2:$B$71)+LOOKUP(K126,ByM!$A$2:$B$462)+LOOKUP(L126,ByM!$A$2:$B$462)+LOOKUP(M126,ByM!$A$2:$B$462)+LOOKUP(N126,ByM!$A$2:$B$462)+LOOKUP(O126,ByM!$A$2:$B$462))","v":15}]
[null,"Arma","Cañón laser",null,10,9,40,6,51,"-","Daño extra","-","-","-","-",{"$f":"IF(C127=\"\",\"\",INDEX($Q$3:$Z$12,E127,F127)+G127+H127)","v":48},{"$f":"IF(C127=\"\",\"\",LOOKUP(J127,Area!$A$2:$B$71)+LOOKUP(K127,ByM!$A$2:$B$462)+LOOKUP(L127,ByM!$A$2:$B$462)+LOOKUP(M127,ByM!$A$2:$B$462)+LOOKUP(N127,ByM!$A$2:$B$462)+LOOKUP(O127,ByM!$A$2:$B$462))","v":3}]
[null,"Arma","Cañón laser acoplado",null,8,9,40,6,129,"-","Daño extra","-","-","-","-",{"$f":"IF(C128=\"\",\"\",INDEX($Q$3:$Z$12,E128,F128)+G128+H128)","v":126},{"$f":"IF(C128=\"\",\"\",LOOKUP(J128,Area!$A$2:$B$71)+LOOKUP(K128,ByM!$A$2:$B$462)+LOOKUP(L128,ByM!$A$2:$B$462)+LOOKUP(M128,ByM!$A$2:$B$462)+LOOKUP(N128,ByM!$A$2:$B$462)+LOOKUP(O128,ByM!$A$2:$B$462))","v":3}]
[null,"Arma","Cañón tormenta",null,4,4,20,3,62,"R4","Golpe de los dioses","Munición autopropulsada","Artillero requerido","Enorme","-",{"$f":"IF(C129=\"\",\"\",INDEX($Q$3:$Z$12,E129,F129)+G129+H129)","v":39},{"$f":"IF(C129=\"\",\"\",LOOKUP(J129,Area!$A$2:$B$71)+LOOKUP(K129,ByM!$A$2:$B$462)+LOOKUP(L129,ByM!$A$2:$B$462)+LOOKUP(M129,ByM!$A$2:$B$462)+LOOKUP(N129,ByM!$A$2:$B$462)+LOOKUP(O129,ByM!$A$2:$B$462))","v":23}]
[null,"Arma","Cañón tormenta de llamas",null,6,6,0,3,55,"G7/2","Munición incendiaria","-","-","-","-",{"$f":"IF(C130=\"\",\"\",INDEX($Q$3:$Z$12,E130,F130)+G130+H130)","v":26},{"$f":"IF(C130=\"\",\"\",LOOKUP(J130,Area!$A$2:$B$71)+LOOKUP(K130,ByM!$A$2:$B$462)+LOOKUP(L130,ByM!$A$2:$B$462)+LOOKUP(M130,ByM!$A$2:$B$462)+LOOKUP(N130,ByM!$A$2:$B$462)+LOOKUP(O130,ByM!$A$2:$B$462))","v":29}]
[null,"Arma","Cañón tormenta Ícaro",null,8,7,35,4,57,"-","Arma ATA","Enorme","Munición explosiva","-","-",{"$f":"IF(C131=\"\",\"\",INDEX($Q$3:$Z$12,E131,F131)+G131+H131)","v":41},{"$f":"IF(C131=\"\",\"\",LOOKUP(J131,Area!$A$2:$B$71)+LOOKUP(K131,ByM!$A$2:$B$462)+LOOKUP(L131,ByM!$A$2:$B$462)+LOOKUP(M131,ByM!$A$2:$B$462)+LOOKUP(N131,ByM!$A$2:$B$462)+LOOKUP(O131,ByM!$A$2:$B$462))","v":16}]
[null,"Arma","Cañón torreta de pulso de fase-plasma",null,6,8,40,7,200,"-","Fuego automático","Munición perforante","-","-","-",{"$f":"IF(C132=\"\",\"\",INDEX($Q$3:$Z$12,E132,F132)+G132+H132)","v":180},{"$f":"IF(C132=\"\",\"\",LOOKUP(J132,Area!$A$2:$B$71)+LOOKUP(K132,ByM!$A$2:$B$462)+LOOKUP(L132,ByM!$A$2:$B$462)+LOOKUP(M132,ByM!$A$2:$B$462)+LOOKUP(N132,ByM!$A$2:$B$462)+LOOKUP(O132,ByM!$A$2:$B$462))","v":20}]
[null,"Arma","Carabina",null,4,4,15,3,34,"-","-","-","-","-","-",{"$f":"IF(C133=\"\",\"\",INDEX($Q$3:$Z$12,E133,F133)+G133+H133)","v":34},{"$f":"IF(C133=\"\",\"\",LOOKUP(J133,Area!$A$2:$B$71)+LOOKUP(K133,ByM!$A$2:$B$462)+LOOKUP(L133,ByM!$A$2:$B$462)+LOOKUP(M133,ByM!$A$2:$B$462)+LOOKUP(N133,ByM!$A$2:$B$462)+LOOKUP(O133,ByM!$A$2:$B$462))","v":0}]
[null,"Arma","Carabina bólter",null,4,4,20,3,39,"-","-","-","-","-","-",{"$f":"IF(C134=\"\",\"\",INDEX($Q$3:$Z$12,E134,F134)+G134+H134)","v":39},{"$f":"IF(C134=\"\",\"\",LOOKUP(J134,Area!$A$2:$B$71)+LOOKUP(K134,ByM!$A$2:$B$462)+LOOKUP(L134,ByM!$A$2:$B$462)+LOOKUP(M134,ByM!$A$2:$B$462)+LOOKUP(N134,ByM!$A$2:$B$462)+LOOKUP(O134,ByM!$A$2:$B$462))","v":0}]
[null,"Arma","Carabina bólter de tirador",null,5,4,20,3,39,"-","Fuego automático","Munición ultraperforante","-","-","-",{"$f":"IF(C135=\"\",\"\",INDEX($Q$3:$Z$12,E135,F135)+G135+H135)","v":24},{"$f":"IF(C135=\"\",\"\",LOOKUP(J135,Area!$A$2:$B$71)+LOOKUP(K135,ByM!$A$2:$B$462)+LOOKUP(L135,ByM!$A$2:$B$462)+LOOKUP(M135,ByM!$A$2:$B$462)+LOOKUP(N135,ByM!$A$2:$B$462)+LOOKUP(O135,ByM!$A$2:$B$462))","v":15}]
[null,"Arma","Carabina bólter especial",null,4,4,20,3,42,"-","Daño extra","-","-","-","-",{"$f":"IF(C136=\"\",\"\",INDEX($Q$3:$Z$12,E136,F136)+G136+H136)","v":39},{"$f":"IF(C136=\"\",\"\",LOOKUP(J136,Area!$A$2:$B$71)+LOOKUP(K136,ByM!$A$2:$B$462)+LOOKUP(L136,ByM!$A$2:$B$462)+LOOKUP(M136,ByM!$A$2:$B$462)+LOOKUP(N136,ByM!$A$2:$B$462)+LOOKUP(O136,ByM!$A$2:$B$462))","v":3}]
[null,"Arma","Carabina bólter instigador",null,5,4,20,3,34,"-","Fuego automático","Niega (guardaespaldas)","-","-","-",{"$f":"IF(C137=\"\",\"\",INDEX($Q$3:$Z$12,E137,F137)+G137+H137)","v":24},{"$f":"IF(C137=\"\",\"\",LOOKUP(J137,Area!$A$2:$B$71)+LOOKUP(K137,ByM!$A$2:$B$462)+LOOKUP(L137,ByM!$A$2:$B$462)+LOOKUP(M137,ByM!$A$2:$B$462)+LOOKUP(N137,ByM!$A$2:$B$462)+LOOKUP(O137,ByM!$A$2:$B$462))","v":10}]
[null,"Arma","Carabina bólter instigador artesanal",null,5,4,20,3,49,"-","Fuego automático","Niega (guardaespaldas)","De precisión","-","-",{"$f":"IF(C138=\"\",\"\",INDEX($Q$3:$Z$12,E138,F138)+G138+H138)","v":24},{"$f":"IF(C138=\"\",\"\",LOOKUP(J138,Area!$A$2:$B$71)+LOOKUP(K138,ByM!$A$2:$B$462)+LOOKUP(L138,ByM!$A$2:$B$462)+LOOKUP(M138,ByM!$A$2:$B$462)+LOOKUP(N138,ByM!$A$2:$B$462)+LOOKUP(O138,ByM!$A$2:$B$462))","v":25}]
[null,"Arma","Carabina bólter occulus",null,5,4,20,3,34,"-","Fuego automático","Munición buscadora","-","-","-",{"$f":"IF(C139=\"\",\"\",INDEX($Q$3:$Z$12,E139,F139)+G139+H139)","v":24},{"$f":"IF(C139=\"\",\"\",LOOKUP(J139,Area!$A$2:$B$71)+LOOKUP(K139,ByM!$A$2:$B$462)+LOOKUP(L139,ByM!$A$2:$B$462)+LOOKUP(M139,ByM!$A$2:$B$462)+LOOKUP(N139,ByM!$A$2:$B$462)+LOOKUP(O139,ByM!$A$2:$B$462))","v":10}]
[null,"Arma","Carabina bólter occulus artesanal",null,5,4,20,3,49,"-","Fuego automático","Munición buscadora","De precisión","-","-",{"$f":"IF(C140=\"\",\"\",INDEX($Q$3:$Z$12,E140,F140)+G140+H140)","v":24},{"$f":"IF(C140=\"\",\"\",LOOKUP(J140,Area!$A$2:$B$71)+LOOKUP(K140,ByM!$A$2:$B$462)+LOOKUP(L140,ByM!$A$2:$B$462)+LOOKUP(M140,ByM!$A$2:$B$462)+LOOKUP(N140,ByM!$A$2:$B$462)+LOOKUP(O140,ByM!$A$2:$B$462))","v":25}]
[null,"Arma","Cargador Volkite",null,7,5,17,3,1,"-","Daño extra","-","-","-","-",{"$f":"IF(C141=\"\",\"\",INDEX($Q$3:$Z$12,E141,F141)+G141+H141)","v":-18},{"$f":"IF(C141=\"\",\"\",LOOKUP(J141,Area!$A$2:$B$71)+LOOKUP(K141,ByM!$A$2:$B$462)+LOOKUP(L141,ByM!$A$2:$B$462)+LOOKUP(M141,ByM!$A$2:$B$462)+LOOKUP(N141,ByM!$A$2:$B$462)+LOOKUP(O141,ByM!$A$2:$B$462))","v":3}]
[null,"Arma","Cerbatana",null,2,1,3,2,5,"-","Veneno","-","-","-","-",{"$f":"IF(C142=\"\",\"\",INDEX($Q$3:$Z$12,E142,F142)+G142+H142)","v":0},{"$f":"IF(C142=\"\",\"\",LOOKUP(J142,Area!$A$2:$B$71)+LOOKUP(K142,ByM!$A$2:$B$462)+LOOKUP(L142,ByM!$A$2:$B$462)+LOOKUP(M142,ByM!$A$2:$B$462)+LOOKUP(N142,ByM!$A$2:$B$462)+LOOKUP(O142,ByM!$A$2:$B$462))","v":5}]
[null,"Arma","Cetro",null,3,2,0,2,10,"-","aplasta","Munición aturdidora","-","-","-",{"$f":"IF(C143=\"\",\"\",INDEX($Q$3:$Z$12,E143,F143)+G143+H143)","v":3},{"$f":"IF(C143=\"\",\"\",LOOKUP(J143,Area!$A$2:$B$71)+LOOKUP(K143,ByM!$A$2:$B$462)+LOOKUP(L143,ByM!$A$2:$B$462)+LOOKUP(M143,ByM!$A$2:$B$462)+LOOKUP(N143,ByM!$A$2:$B$462)+LOOKUP(O143,ByM!$A$2:$B$462))","v":7}]
[null,"Arma","Chakram",null,4,2,0,2,1,"S3","Arma arrojadiza","-","-","-","-",{"$f":"IF(C144=\"\",\"\",INDEX($Q$3:$Z$12,E144,F144)+G144+H144)","v":-18},{"$f":"IF(C144=\"\",\"\",LOOKUP(J144,Area!$A$2:$B$71)+LOOKUP(K144,ByM!$A$2:$B$462)+LOOKUP(L144,ByM!$A$2:$B$462)+LOOKUP(M144,ByM!$A$2:$B$462)+LOOKUP(N144,ByM!$A$2:$B$462)+LOOKUP(O144,ByM!$A$2:$B$462))","v":19}]
[null,"Arma","Chasqueador",null,3,3,0,3,33,"-","Munición excepcional","Requiere (Traje voltáico)","-","-","-",{"$f":"IF(C145=\"\",\"\",INDEX($Q$3:$Z$12,E145,F145)+G145+H145)","v":16},{"$f":"IF(C145=\"\",\"\",LOOKUP(J145,Area!$A$2:$B$71)+LOOKUP(K145,ByM!$A$2:$B$462)+LOOKUP(L145,ByM!$A$2:$B$462)+LOOKUP(M145,ByM!$A$2:$B$462)+LOOKUP(N145,ByM!$A$2:$B$462)+LOOKUP(O145,ByM!$A$2:$B$462))","v":17}]
[null,"Arma","Chorrazo",null,3,2,0,3,9,"-","Fuego pesado","-","-","-","-",{"$f":"IF(C146=\"\",\"\",INDEX($Q$3:$Z$12,E146,F146)+G146+H146)","v":4},{"$f":"IF(C146=\"\",\"\",LOOKUP(J146,Area!$A$2:$B$71)+LOOKUP(K146,ByM!$A$2:$B$462)+LOOKUP(L146,ByM!$A$2:$B$462)+LOOKUP(M146,ByM!$A$2:$B$462)+LOOKUP(N146,ByM!$A$2:$B$462)+LOOKUP(O146,ByM!$A$2:$B$462))","v":5}]
[null,"Arma","Cimitarra",null,3,2,0,4,18,"-","Absorción de impacto","Daño extra","-","-","-",{"$f":"IF(C147=\"\",\"\",INDEX($Q$3:$Z$12,E147,F147)+G147+H147)","v":5},{"$f":"IF(C147=\"\",\"\",LOOKUP(J147,Area!$A$2:$B$71)+LOOKUP(K147,ByM!$A$2:$B$462)+LOOKUP(L147,ByM!$A$2:$B$462)+LOOKUP(M147,ByM!$A$2:$B$462)+LOOKUP(N147,ByM!$A$2:$B$462)+LOOKUP(O147,ByM!$A$2:$B$462))","v":13}]
[null,"Arma","Clava",null,3,2,0,3,14,"-","Munición aturdidora","Munición de parada","-","-","-",{"$f":"IF(C148=\"\",\"\",INDEX($Q$3:$Z$12,E148,F148)+G148+H148)","v":4},{"$f":"IF(C148=\"\",\"\",LOOKUP(J148,Area!$A$2:$B$71)+LOOKUP(K148,ByM!$A$2:$B$462)+LOOKUP(L148,ByM!$A$2:$B$462)+LOOKUP(M148,ByM!$A$2:$B$462)+LOOKUP(N148,ByM!$A$2:$B$462)+LOOKUP(O148,ByM!$A$2:$B$462))","v":10}]
[null,"Arma","Cóctel Molotov",null,3,3,0,2,13,"R2","Munición incendiaria","un uso por aventura","-","-","-",{"$f":"IF(C149=\"\",\"\",INDEX($Q$3:$Z$12,E149,F149)+G149+H149)","v":15},{"$f":"IF(C149=\"\",\"\",LOOKUP(J149,Area!$A$2:$B$71)+LOOKUP(K149,ByM!$A$2:$B$462)+LOOKUP(L149,ByM!$A$2:$B$462)+LOOKUP(M149,ByM!$A$2:$B$462)+LOOKUP(N149,ByM!$A$2:$B$462)+LOOKUP(O149,ByM!$A$2:$B$462))","v":-2}]
[null,"Arma","Cola alien",null,3,3,0,6,34,"-","Munición perforante","-","-","-","-",{"$f":"IF(C150=\"\",\"\",INDEX($Q$3:$Z$12,E150,F150)+G150+H150)","v":19},{"$f":"IF(C150=\"\",\"\",LOOKUP(J150,Area!$A$2:$B$71)+LOOKUP(K150,ByM!$A$2:$B$462)+LOOKUP(L150,ByM!$A$2:$B$462)+LOOKUP(M150,ByM!$A$2:$B$462)+LOOKUP(N150,ByM!$A$2:$B$462)+LOOKUP(O150,ByM!$A$2:$B$462))","v":15}]
[null,"Arma","Combi-arma - bólter",null,5,4,20,3,24,"-","-","-","-","-","-",{"$f":"IF(C151=\"\",\"\",INDEX($Q$3:$Z$12,E151,F151)+G151+H151)","v":24},{"$f":"IF(C151=\"\",\"\",LOOKUP(J151,Area!$A$2:$B$71)+LOOKUP(K151,ByM!$A$2:$B$462)+LOOKUP(L151,ByM!$A$2:$B$462)+LOOKUP(M151,ByM!$A$2:$B$462)+LOOKUP(N151,ByM!$A$2:$B$462)+LOOKUP(O151,ByM!$A$2:$B$462))","v":0}]
[null,"Arma","Combi-arma - lanzallamas",null,3,4,0,3,58,"G7/2","Munición incendiaria","Un uso por actuación","-","-","-",{"$f":"IF(C152=\"\",\"\",INDEX($Q$3:$Z$12,E152,F152)+G152+H152)","v":34},{"$f":"IF(C152=\"\",\"\",LOOKUP(J152,Area!$A$2:$B$71)+LOOKUP(K152,ByM!$A$2:$B$462)+LOOKUP(L152,ByM!$A$2:$B$462)+LOOKUP(M152,ByM!$A$2:$B$462)+LOOKUP(N152,ByM!$A$2:$B$462)+LOOKUP(O152,ByM!$A$2:$B$462))","v":24}]
[null,"Arma","Combi-arma - plasma",null,6,6,20,4,50,"-","Daño extra","Munición ígnea","Fuego pesado","Peligro","Un uso por actuación",{"$f":"IF(C153=\"\",\"\",INDEX($Q$3:$Z$12,E153,F153)+G153+H153)","v":47},{"$f":"IF(C153=\"\",\"\",LOOKUP(J153,Area!$A$2:$B$71)+LOOKUP(K153,ByM!$A$2:$B$462)+LOOKUP(L153,ByM!$A$2:$B$462)+LOOKUP(M153,ByM!$A$2:$B$462)+LOOKUP(N153,ByM!$A$2:$B$462)+LOOKUP(O153,ByM!$A$2:$B$462))","v":3}]
[null,"Arma","Combi-arma - rifle de fusión",null,7,7,10,5,63,"-","Munición experimental","Fuego a ráfagas","Un uso por actuación","-","-",{"$f":"IF(C154=\"\",\"\",INDEX($Q$3:$Z$12,E154,F154)+G154+H154)","v":43},{"$f":"IF(C154=\"\",\"\",LOOKUP(J154,Area!$A$2:$B$71)+LOOKUP(K154,ByM!$A$2:$B$462)+LOOKUP(L154,ByM!$A$2:$B$462)+LOOKUP(M154,ByM!$A$2:$B$462)+LOOKUP(N154,ByM!$A$2:$B$462)+LOOKUP(O154,ByM!$A$2:$B$462))","v":20}]
[null,"Arma","Combi-arma - rifle grav",null,5,5,15,3,50,"-","Fuego a ráfagas","Daño extra","Munición reforzada","Un uso por actuación","-",{"$f":"IF(C155=\"\",\"\",INDEX($Q$3:$Z$12,E155,F155)+G155+H155)","v":37},{"$f":"IF(C155=\"\",\"\",LOOKUP(J155,Area!$A$2:$B$71)+LOOKUP(K155,ByM!$A$2:$B$462)+LOOKUP(L155,ByM!$A$2:$B$462)+LOOKUP(M155,ByM!$A$2:$B$462)+LOOKUP(N155,ByM!$A$2:$B$462)+LOOKUP(O155,ByM!$A$2:$B$462))","v":13}]
[null,"Arma","Combi-bólter",null,4,4,20,3,39,"-","-","-","-","-","-",{"$f":"IF(C156=\"\",\"\",INDEX($Q$3:$Z$12,E156,F156)+G156+H156)","v":39},{"$f":"IF(C156=\"\",\"\",LOOKUP(J156,Area!$A$2:$B$71)+LOOKUP(K156,ByM!$A$2:$B$462)+LOOKUP(L156,ByM!$A$2:$B$462)+LOOKUP(M156,ByM!$A$2:$B$462)+LOOKUP(N156,ByM!$A$2:$B$462)+LOOKUP(O156,ByM!$A$2:$B$462))","v":0}]
[null,"Arma","Comunicador orbital",null,9,8,80,5,79,"R4","Un uso por aventura","Dispersión","Enorme","-","-",{"$f":"IF(C157=\"\",\"\",INDEX($Q$3:$Z$12,E157,F157)+G157+H157)","v":86},{"$f":"IF(C157=\"\",\"\",LOOKUP(J157,Area!$A$2:$B$71)+LOOKUP(K157,ByM!$A$2:$B$462)+LOOKUP(L157,ByM!$A$2:$B$462)+LOOKUP(M157,ByM!$A$2:$B$462)+LOOKUP(N157,ByM!$A$2:$B$462)+LOOKUP(O157,ByM!$A$2:$B$462))","v":-7}]
[null,"Arma","Convocar el horror",null,5,4,10,1,31,"-","Invocación","Acobardamiento","Horror","Veneno","-",{"$f":"IF(C158=\"\",\"\",INDEX($Q$3:$Z$12,E158,F158)+G158+H158)","v":12},{"$f":"IF(C158=\"\",\"\",LOOKUP(J158,Area!$A$2:$B$71)+LOOKUP(K158,ByM!$A$2:$B$462)+LOOKUP(L158,ByM!$A$2:$B$462)+LOOKUP(M158,ByM!$A$2:$B$462)+LOOKUP(N158,ByM!$A$2:$B$462)+LOOKUP(O158,ByM!$A$2:$B$462))","v":19}]
[null,"Arma","Crozius arcanum",null,4,3,0,3,21,"-","Aplasta","munición perforante","-","-","-",{"$f":"IF(C159=\"\",\"\",INDEX($Q$3:$Z$12,E159,F159)+G159+H159)","v":4},{"$f":"IF(C159=\"\",\"\",LOOKUP(J159,Area!$A$2:$B$71)+LOOKUP(K159,ByM!$A$2:$B$462)+LOOKUP(L159,ByM!$A$2:$B$462)+LOOKUP(M159,ByM!$A$2:$B$462)+LOOKUP(N159,ByM!$A$2:$B$462)+LOOKUP(O159,ByM!$A$2:$B$462))","v":17}]
[null,"Arma","Cuchillo",null,2,2,0,3,14,"-","-","-","-","-","-",{"$f":"IF(C160=\"\",\"\",INDEX($Q$3:$Z$12,E160,F160)+G160+H160)","v":14},{"$f":"IF(C160=\"\",\"\",LOOKUP(J160,Area!$A$2:$B$71)+LOOKUP(K160,ByM!$A$2:$B$462)+LOOKUP(L160,ByM!$A$2:$B$462)+LOOKUP(M160,ByM!$A$2:$B$462)+LOOKUP(N160,ByM!$A$2:$B$462)+LOOKUP(O160,ByM!$A$2:$B$462))","v":0}]
[null,"Arma","Cuchillo arrojadizo",null,2,2,0,2,23,"-","Arma arrojadiza","-","-","-","-",{"$f":"IF(C161=\"\",\"\",INDEX($Q$3:$Z$12,E161,F161)+G161+H161)","v":13},{"$f":"IF(C161=\"\",\"\",LOOKUP(J161,Area!$A$2:$B$71)+LOOKUP(K161,ByM!$A$2:$B$462)+LOOKUP(L161,ByM!$A$2:$B$462)+LOOKUP(M161,ByM!$A$2:$B$462)+LOOKUP(N161,ByM!$A$2:$B$462)+LOOKUP(O161,ByM!$A$2:$B$462))","v":10}]
[null,"Arma","Cuchillo ghanata",null,3,2,0,5,9,"-","Daño extra","-","-","-","-",{"$f":"IF(C162=\"\",\"\",INDEX($Q$3:$Z$12,E162,F162)+G162+H162)","v":6},{"$f":"IF(C162=\"\",\"\",LOOKUP(J162,Area!$A$2:$B$71)+LOOKUP(K162,ByM!$A$2:$B$462)+LOOKUP(L162,ByM!$A$2:$B$462)+LOOKUP(M162,ByM!$A$2:$B$462)+LOOKUP(N162,ByM!$A$2:$B$462)+LOOKUP(O162,ByM!$A$2:$B$462))","v":3}]
[null,"Arma","Cuchillo yuetshi",null,3,2,0,4,8,"-","Daño extra","-","-","-","-",{"$f":"IF(C163=\"\",\"\",INDEX($Q$3:$Z$12,E163,F163)+G163+H163)","v":5},{"$f":"IF(C163=\"\",\"\",LOOKUP(J163,Area!$A$2:$B$71)+LOOKUP(K163,ByM!$A$2:$B$462)+LOOKUP(L163,ByM!$A$2:$B$462)+LOOKUP(M163,ByM!$A$2:$B$462)+LOOKUP(N163,ByM!$A$2:$B$462)+LOOKUP(O163,ByM!$A$2:$B$462))","v":3}]
[null,"Arma","Cuchillo zhaibar",null,3,3,0,3,26,"-","Munición reforzada","-","-","-","-",{"$f":"IF(C164=\"\",\"\",INDEX($Q$3:$Z$12,E164,F164)+G164+H164)","v":16},{"$f":"IF(C164=\"\",\"\",LOOKUP(J164,Area!$A$2:$B$71)+LOOKUP(K164,ByM!$A$2:$B$462)+LOOKUP(L164,ByM!$A$2:$B$462)+LOOKUP(M164,ByM!$A$2:$B$462)+LOOKUP(N164,ByM!$A$2:$B$462)+LOOKUP(O164,ByM!$A$2:$B$462))","v":10}]
[null,"Arma","Cuchillos arrojadizos",null,2,2,0,3,9,"-","Cargas (3)","-","-","-","-",{"$f":"IF(C165=\"\",\"\",INDEX($Q$3:$Z$12,E165,F165)+G165+H165)","v":14},{"$f":"IF(C165=\"\",\"\",LOOKUP(J165,Area!$A$2:$B$71)+LOOKUP(K165,ByM!$A$2:$B$462)+LOOKUP(L165,ByM!$A$2:$B$462)+LOOKUP(M165,ByM!$A$2:$B$462)+LOOKUP(N165,ByM!$A$2:$B$462)+LOOKUP(O165,ByM!$A$2:$B$462))","v":-5}]
[null,"Arma","Daga",null,1,1,0,2,10,"-","-","-","-","-","-",{"$f":"IF(C166=\"\",\"\",INDEX($Q$3:$Z$12,E166,F166)+G166+H166)","v":10},{"$f":"IF(C166=\"\",\"\",LOOKUP(J166,Area!$A$2:$B$71)+LOOKUP(K166,ByM!$A$2:$B$462)+LOOKUP(L166,ByM!$A$2:$B$462)+LOOKUP(M166,ByM!$A$2:$B$462)+LOOKUP(N166,ByM!$A$2:$B$462)+LOOKUP(O166,ByM!$A$2:$B$462))","v":0}]
[null,"Arma","Daga de parada",null,1,1,0,5,21,"-","Difícil de matar (CaC)","-","-","-","-",{"$f":"IF(C167=\"\",\"\",INDEX($Q$3:$Z$12,E167,F167)+G167+H167)","v":13},{"$f":"IF(C167=\"\",\"\",LOOKUP(J167,Area!$A$2:$B$71)+LOOKUP(K167,ByM!$A$2:$B$462)+LOOKUP(L167,ByM!$A$2:$B$462)+LOOKUP(M167,ByM!$A$2:$B$462)+LOOKUP(N167,ByM!$A$2:$B$462)+LOOKUP(O167,ByM!$A$2:$B$462))","v":8}]
[null,"Arma","Daga sagrada de Xapur",null,2,2,0,3,39,"-","Munición paralizante","munición perforante","-","-","-",{"$f":"IF(C168=\"\",\"\",INDEX($Q$3:$Z$12,E168,F168)+G168+H168)","v":14},{"$f":"IF(C168=\"\",\"\",LOOKUP(J168,Area!$A$2:$B$71)+LOOKUP(K168,ByM!$A$2:$B$462)+LOOKUP(L168,ByM!$A$2:$B$462)+LOOKUP(M168,ByM!$A$2:$B$462)+LOOKUP(N168,ByM!$A$2:$B$462)+LOOKUP(O168,ByM!$A$2:$B$462))","v":25}]
[null,"Arma","Dardo",null,1,1,3,2,13,"-","-","-","-","-","-",{"$f":"IF(C169=\"\",\"\",INDEX($Q$3:$Z$12,E169,F169)+G169+H169)","v":13},{"$f":"IF(C169=\"\",\"\",LOOKUP(J169,Area!$A$2:$B$71)+LOOKUP(K169,ByM!$A$2:$B$462)+LOOKUP(L169,ByM!$A$2:$B$462)+LOOKUP(M169,ByM!$A$2:$B$462)+LOOKUP(N169,ByM!$A$2:$B$462)+LOOKUP(O169,ByM!$A$2:$B$462))","v":0}]
[null,"Arma","Desmembrar",null,3,4,5,3,64,"-","Invocación","Daño extra","Munición perforante","-","-",{"$f":"IF(C170=\"\",\"\",INDEX($Q$3:$Z$12,E170,F170)+G170+H170)","v":39},{"$f":"IF(C170=\"\",\"\",LOOKUP(J170,Area!$A$2:$B$71)+LOOKUP(K170,ByM!$A$2:$B$462)+LOOKUP(L170,ByM!$A$2:$B$462)+LOOKUP(M170,ByM!$A$2:$B$462)+LOOKUP(N170,ByM!$A$2:$B$462)+LOOKUP(O170,ByM!$A$2:$B$462))","v":25}]
[null,"Arma","Destructor de fusión",null,7,7,20,5,68,"-","Munición experimental","Enorme","-","-","-",{"$f":"IF(C171=\"\",\"\",INDEX($Q$3:$Z$12,E171,F171)+G171+H171)","v":53},{"$f":"IF(C171=\"\",\"\",LOOKUP(J171,Area!$A$2:$B$71)+LOOKUP(K171,ByM!$A$2:$B$462)+LOOKUP(L171,ByM!$A$2:$B$462)+LOOKUP(M171,ByM!$A$2:$B$462)+LOOKUP(N171,ByM!$A$2:$B$462)+LOOKUP(O171,ByM!$A$2:$B$462))","v":15}]
[null,"Arma","Destructor láser",null,9,9,30,8,81,"-","Daño extra","-","-","-","-",{"$f":"IF(C172=\"\",\"\",INDEX($Q$3:$Z$12,E172,F172)+G172+H172)","v":78},{"$f":"IF(C172=\"\",\"\",LOOKUP(J172,Area!$A$2:$B$71)+LOOKUP(K172,ByM!$A$2:$B$462)+LOOKUP(L172,ByM!$A$2:$B$462)+LOOKUP(M172,ByM!$A$2:$B$462)+LOOKUP(N172,ByM!$A$2:$B$462)+LOOKUP(O172,ByM!$A$2:$B$462))","v":3}]
[null,"Arma","Destructor láser Lancero",null,9,9,50,8,96,"-","Daño extra","Enorme","-","-","-",{"$f":"IF(C173=\"\",\"\",INDEX($Q$3:$Z$12,E173,F173)+G173+H173)","v":98},{"$f":"IF(C173=\"\",\"\",LOOKUP(J173,Area!$A$2:$B$71)+LOOKUP(K173,ByM!$A$2:$B$462)+LOOKUP(L173,ByM!$A$2:$B$462)+LOOKUP(M173,ByM!$A$2:$B$462)+LOOKUP(N173,ByM!$A$2:$B$462)+LOOKUP(O173,ByM!$A$2:$B$462))","v":-2}]
[null,"Arma","Destructor láser pesado",null,9,10,50,8,158,"-","Daño extra","-","-","-","-",{"$f":"IF(C174=\"\",\"\",INDEX($Q$3:$Z$12,E174,F174)+G174+H174)","v":155},{"$f":"IF(C174=\"\",\"\",LOOKUP(J174,Area!$A$2:$B$71)+LOOKUP(K174,ByM!$A$2:$B$462)+LOOKUP(L174,ByM!$A$2:$B$462)+LOOKUP(M174,ByM!$A$2:$B$462)+LOOKUP(N174,ByM!$A$2:$B$462)+LOOKUP(O174,ByM!$A$2:$B$462))","v":3}]
[null,"Arma","Die glocke, la campana",null,2,1,0,6,16,"R3","Cuerpo de luz","Munición corrosiva","Peligro","-","-",{"$f":"IF(C175=\"\",\"\",INDEX($Q$3:$Z$12,E175,F175)+G175+H175)","v":1},{"$f":"IF(C175=\"\",\"\",LOOKUP(J175,Area!$A$2:$B$71)+LOOKUP(K175,ByM!$A$2:$B$462)+LOOKUP(L175,ByM!$A$2:$B$462)+LOOKUP(M175,ByM!$A$2:$B$462)+LOOKUP(N175,ByM!$A$2:$B$462)+LOOKUP(O175,ByM!$A$2:$B$462))","v":15}]
[null,"Arma","Dientes de Terra",null,3,4,0,3,17,"-","Daño extra","Reliquia","-","-","-",{"$f":"IF(C176=\"\",\"\",INDEX($Q$3:$Z$12,E176,F176)+G176+H176)","v":34},{"$f":"IF(C176=\"\",\"\",LOOKUP(J176,Area!$A$2:$B$71)+LOOKUP(K176,ByM!$A$2:$B$462)+LOOKUP(L176,ByM!$A$2:$B$462)+LOOKUP(M176,ByM!$A$2:$B$462)+LOOKUP(N176,ByM!$A$2:$B$462)+LOOKUP(O176,ByM!$A$2:$B$462))","v":-17}]
[null,"Arma","Escopeta",null,3,4,10,2,35,"-","A 2 manos","Cargadores (X)","-","-","-",{"$f":"IF(C177=\"\",\"\",INDEX($Q$3:$Z$12,E177,F177)+G177+H177)","v":43},{"$f":"IF(C177=\"\",\"\",LOOKUP(J177,Area!$A$2:$B$71)+LOOKUP(K177,ByM!$A$2:$B$462)+LOOKUP(L177,ByM!$A$2:$B$462)+LOOKUP(M177,ByM!$A$2:$B$462)+LOOKUP(N177,ByM!$A$2:$B$462)+LOOKUP(O177,ByM!$A$2:$B$462))","v":-8}]
[null,"Arma","Escopeta astartes",null,4,4,15,3,34,"-","-","-","-","-","-",{"$f":"IF(C178=\"\",\"\",INDEX($Q$3:$Z$12,E178,F178)+G178+H178)","v":34},{"$f":"IF(C178=\"\",\"\",LOOKUP(J178,Area!$A$2:$B$71)+LOOKUP(K178,ByM!$A$2:$B$462)+LOOKUP(L178,ByM!$A$2:$B$462)+LOOKUP(M178,ByM!$A$2:$B$462)+LOOKUP(N178,ByM!$A$2:$B$462)+LOOKUP(O178,ByM!$A$2:$B$462))","v":0}]
[null,"Arma","Escopeta corredera",null,3,4,8,2,46,"-","Munición de parada","-","-","-","-",{"$f":"IF(C179=\"\",\"\",INDEX($Q$3:$Z$12,E179,F179)+G179+H179)","v":41},{"$f":"IF(C179=\"\",\"\",LOOKUP(J179,Area!$A$2:$B$71)+LOOKUP(K179,ByM!$A$2:$B$462)+LOOKUP(L179,ByM!$A$2:$B$462)+LOOKUP(M179,ByM!$A$2:$B$462)+LOOKUP(N179,ByM!$A$2:$B$462)+LOOKUP(O179,ByM!$A$2:$B$462))","v":5}]
[null,"Arma","Escopeta corredera Armat 37A2 12",null,5,4,10,5,16,"-","Cargadores (8)","Munición de parada","-","-","-",{"$f":"IF(C180=\"\",\"\",INDEX($Q$3:$Z$12,E180,F180)+G180+H180)","v":16},{"$f":"IF(C180=\"\",\"\",LOOKUP(J180,Area!$A$2:$B$71)+LOOKUP(K180,ByM!$A$2:$B$462)+LOOKUP(L180,ByM!$A$2:$B$462)+LOOKUP(M180,ByM!$A$2:$B$462)+LOOKUP(N180,ByM!$A$2:$B$462)+LOOKUP(O180,ByM!$A$2:$B$462))","v":0}]
[null,"Arma","Escopeta de Mel",null,4,4,7,2,10,"-","Cargadores (X) (2)","De Padrón","-","-","-",{"$f":"IF(C181=\"\",\"\",INDEX($Q$3:$Z$12,E181,F181)+G181+H181)","v":25},{"$f":"IF(C181=\"\",\"\",LOOKUP(J181,Area!$A$2:$B$71)+LOOKUP(K181,ByM!$A$2:$B$462)+LOOKUP(L181,ByM!$A$2:$B$462)+LOOKUP(M181,ByM!$A$2:$B$462)+LOOKUP(N181,ByM!$A$2:$B$462)+LOOKUP(O181,ByM!$A$2:$B$462))","v":-15}]
[null,"Arma","Espada",null,3,3,0,3,24,"-","Difícil de matar (CaC)","-","-","-","-",{"$f":"IF(C182=\"\",\"\",INDEX($Q$3:$Z$12,E182,F182)+G182+H182)","v":16},{"$f":"IF(C182=\"\",\"\",LOOKUP(J182,Area!$A$2:$B$71)+LOOKUP(K182,ByM!$A$2:$B$462)+LOOKUP(L182,ByM!$A$2:$B$462)+LOOKUP(M182,ByM!$A$2:$B$462)+LOOKUP(N182,ByM!$A$2:$B$462)+LOOKUP(O182,ByM!$A$2:$B$462))","v":8}]
[null,"Arma","Espada a 2 manos",null,3,4,0,3,34,"-","A 2 manos","Daño extra","-","-","-",{"$f":"IF(C183=\"\",\"\",INDEX($Q$3:$Z$12,E183,F183)+G183+H183)","v":34},{"$f":"IF(C183=\"\",\"\",LOOKUP(J183,Area!$A$2:$B$71)+LOOKUP(K183,ByM!$A$2:$B$462)+LOOKUP(L183,ByM!$A$2:$B$462)+LOOKUP(M183,ByM!$A$2:$B$462)+LOOKUP(N183,ByM!$A$2:$B$462)+LOOKUP(O183,ByM!$A$2:$B$462))","v":0}]
[null,"Arma","Espada ancha",null,3,3,0,3,26,"-","Absorción de impacto","-","-","-","-",{"$f":"IF(C184=\"\",\"\",INDEX($Q$3:$Z$12,E184,F184)+G184+H184)","v":16},{"$f":"IF(C184=\"\",\"\",LOOKUP(J184,Area!$A$2:$B$71)+LOOKUP(K184,ByM!$A$2:$B$462)+LOOKUP(L184,ByM!$A$2:$B$462)+LOOKUP(M184,ByM!$A$2:$B$462)+LOOKUP(N184,ByM!$A$2:$B$462)+LOOKUP(O184,ByM!$A$2:$B$462))","v":10}]
[null,"Arma","Espada ardiente",null,3,3,0,3,11,"-","Munición perforante","Reliquia","-","-","-",{"$f":"IF(C185=\"\",\"\",INDEX($Q$3:$Z$12,E185,F185)+G185+H185)","v":16},{"$f":"IF(C185=\"\",\"\",LOOKUP(J185,Area!$A$2:$B$71)+LOOKUP(K185,ByM!$A$2:$B$462)+LOOKUP(L185,ByM!$A$2:$B$462)+LOOKUP(M185,ByM!$A$2:$B$462)+LOOKUP(N185,ByM!$A$2:$B$462)+LOOKUP(O185,ByM!$A$2:$B$462))","v":-5}]
[null,"Arma","Espada corta",null,2,2,0,3,22,"-","Difícil de matar (CaC)","-","-","-","-",{"$f":"IF(C186=\"\",\"\",INDEX($Q$3:$Z$12,E186,F186)+G186+H186)","v":14},{"$f":"IF(C186=\"\",\"\",LOOKUP(J186,Area!$A$2:$B$71)+LOOKUP(K186,ByM!$A$2:$B$462)+LOOKUP(L186,ByM!$A$2:$B$462)+LOOKUP(M186,ByM!$A$2:$B$462)+LOOKUP(N186,ByM!$A$2:$B$462)+LOOKUP(O186,ByM!$A$2:$B$462))","v":8}]
[null,"Arma","Espada de Conan",null,3,4,0,5,41,"-","Afilada","-","-","-","-",{"$f":"IF(C187=\"\",\"\",INDEX($Q$3:$Z$12,E187,F187)+G187+H187)","v":36},{"$f":"IF(C187=\"\",\"\",LOOKUP(J187,Area!$A$2:$B$71)+LOOKUP(K187,ByM!$A$2:$B$462)+LOOKUP(L187,ByM!$A$2:$B$462)+LOOKUP(M187,ByM!$A$2:$B$462)+LOOKUP(N187,ByM!$A$2:$B$462)+LOOKUP(O187,ByM!$A$2:$B$462))","v":5}]
[null,"Arma","Espada de energía",null,3,3,0,3,39,"-","Difícil de matar (CaC)","Munición perforante","-","-","-",{"$f":"IF(C188=\"\",\"\",INDEX($Q$3:$Z$12,E188,F188)+G188+H188)","v":16},{"$f":"IF(C188=\"\",\"\",LOOKUP(J188,Area!$A$2:$B$71)+LOOKUP(K188,ByM!$A$2:$B$462)+LOOKUP(L188,ByM!$A$2:$B$462)+LOOKUP(M188,ByM!$A$2:$B$462)+LOOKUP(N188,ByM!$A$2:$B$462)+LOOKUP(O188,ByM!$A$2:$B$462))","v":23}]
[null,"Arma","Espada de energía artesanal",null,3,3,0,3,54,"-","Difícil de matar (CaC)","De precisión","Munición perforante","-","-",{"$f":"IF(C189=\"\",\"\",INDEX($Q$3:$Z$12,E189,F189)+G189+H189)","v":16},{"$f":"IF(C189=\"\",\"\",LOOKUP(J189,Area!$A$2:$B$71)+LOOKUP(K189,ByM!$A$2:$B$462)+LOOKUP(L189,ByM!$A$2:$B$462)+LOOKUP(M189,ByM!$A$2:$B$462)+LOOKUP(N189,ByM!$A$2:$B$462)+LOOKUP(O189,ByM!$A$2:$B$462))","v":38}]
[null,"Arma","Espada larga",null,3,3,0,3,21,"-","Afilada","-","-","-","-",{"$f":"IF(C190=\"\",\"\",INDEX($Q$3:$Z$12,E190,F190)+G190+H190)","v":16},{"$f":"IF(C190=\"\",\"\",LOOKUP(J190,Area!$A$2:$B$71)+LOOKUP(K190,ByM!$A$2:$B$462)+LOOKUP(L190,ByM!$A$2:$B$462)+LOOKUP(M190,ByM!$A$2:$B$462)+LOOKUP(N190,ByM!$A$2:$B$462)+LOOKUP(O190,ByM!$A$2:$B$462))","v":5}]
[null,"Arma","Espada psíquica",null,3,3,0,3,34,"-","Difícil de matar (CaC)","Munición bendecida","-","-","-",{"$f":"IF(C191=\"\",\"\",INDEX($Q$3:$Z$12,E191,F191)+G191+H191)","v":16},{"$f":"IF(C191=\"\",\"\",LOOKUP(J191,Area!$A$2:$B$71)+LOOKUP(K191,ByM!$A$2:$B$462)+LOOKUP(L191,ByM!$A$2:$B$462)+LOOKUP(M191,ByM!$A$2:$B$462)+LOOKUP(N191,ByM!$A$2:$B$462)+LOOKUP(O191,ByM!$A$2:$B$462))","v":18}]
[null,"Arma","Espada sierra astartes",null,3,3,0,3,24,"-","Difícil de matar (CaC)","-","-","-","-",{"$f":"IF(C192=\"\",\"\",INDEX($Q$3:$Z$12,E192,F192)+G192+H192)","v":16},{"$f":"IF(C192=\"\",\"\",LOOKUP(J192,Area!$A$2:$B$71)+LOOKUP(K192,ByM!$A$2:$B$462)+LOOKUP(L192,ByM!$A$2:$B$462)+LOOKUP(M192,ByM!$A$2:$B$462)+LOOKUP(N192,ByM!$A$2:$B$462)+LOOKUP(O192,ByM!$A$2:$B$462))","v":8}]
[null,"Arma","Espada Xenofase",null,3,3,0,3,27,"-","Daño extra","Munición vida o muerte","-","-","-",{"$f":"IF(C193=\"\",\"\",INDEX($Q$3:$Z$12,E193,F193)+G193+H193)","v":16},{"$f":"IF(C193=\"\",\"\",LOOKUP(J193,Area!$A$2:$B$71)+LOOKUP(K193,ByM!$A$2:$B$462)+LOOKUP(L193,ByM!$A$2:$B$462)+LOOKUP(M193,ByM!$A$2:$B$462)+LOOKUP(N193,ByM!$A$2:$B$462)+LOOKUP(O193,ByM!$A$2:$B$462))","v":11}]
[null,"Arma","Espadón o montante",null,3,4,0,4,32,"-","A 2 manos","-","-","-","-",{"$f":"IF(C194=\"\",\"\",INDEX($Q$3:$Z$12,E194,F194)+G194+H194)","v":35},{"$f":"IF(C194=\"\",\"\",LOOKUP(J194,Area!$A$2:$B$71)+LOOKUP(K194,ByM!$A$2:$B$462)+LOOKUP(L194,ByM!$A$2:$B$462)+LOOKUP(M194,ByM!$A$2:$B$462)+LOOKUP(N194,ByM!$A$2:$B$462)+LOOKUP(O194,ByM!$A$2:$B$462))","v":-3}]
[null,"Arma","Espíritu del mordedor",null,7,5,10,3,1,"-","Invocación","-","-","-","-",{"$f":"IF(C195=\"\",\"\",INDEX($Q$3:$Z$12,E195,F195)+G195+H195)","v":-25},{"$f":"IF(C195=\"\",\"\",LOOKUP(J195,Area!$A$2:$B$71)+LOOKUP(K195,ByM!$A$2:$B$462)+LOOKUP(L195,ByM!$A$2:$B$462)+LOOKUP(M195,ByM!$A$2:$B$462)+LOOKUP(N195,ByM!$A$2:$B$462)+LOOKUP(O195,ByM!$A$2:$B$462))","v":7}]
[null,"Arma","Espolón láser",null,9,9,20,6,69,"-","Daño extra","-","-","-","-",{"$f":"IF(C196=\"\",\"\",INDEX($Q$3:$Z$12,E196,F196)+G196+H196)","v":66},{"$f":"IF(C196=\"\",\"\",LOOKUP(J196,Area!$A$2:$B$71)+LOOKUP(K196,ByM!$A$2:$B$462)+LOOKUP(L196,ByM!$A$2:$B$462)+LOOKUP(M196,ByM!$A$2:$B$462)+LOOKUP(N196,ByM!$A$2:$B$462)+LOOKUP(O196,ByM!$A$2:$B$462))","v":3}]
[null,"Arma","Espolón láser acoplado",null,7,9,20,6,189,"-","Daño extra","-","-","-","-",{"$f":"IF(C197=\"\",\"\",INDEX($Q$3:$Z$12,E197,F197)+G197+H197)","v":186},{"$f":"IF(C197=\"\",\"\",LOOKUP(J197,Area!$A$2:$B$71)+LOOKUP(K197,ByM!$A$2:$B$462)+LOOKUP(L197,ByM!$A$2:$B$462)+LOOKUP(M197,ByM!$A$2:$B$462)+LOOKUP(N197,ByM!$A$2:$B$462)+LOOKUP(O197,ByM!$A$2:$B$462))","v":3}]
[null,"Arma","Espolón láser atronador",null,9,9,30,6,79,"-","Daño extra","-","-","-","-",{"$f":"IF(C198=\"\",\"\",INDEX($Q$3:$Z$12,E198,F198)+G198+H198)","v":76},{"$f":"IF(C198=\"\",\"\",LOOKUP(J198,Area!$A$2:$B$71)+LOOKUP(K198,ByM!$A$2:$B$462)+LOOKUP(L198,ByM!$A$2:$B$462)+LOOKUP(M198,ByM!$A$2:$B$462)+LOOKUP(N198,ByM!$A$2:$B$462)+LOOKUP(O198,ByM!$A$2:$B$462))","v":3}]
[null,"Arma","Estoque",null,3,3,0,3,16,"-","-","-","-","-","-",{"$f":"IF(C199=\"\",\"\",INDEX($Q$3:$Z$12,E199,F199)+G199+H199)","v":16},{"$f":"IF(C199=\"\",\"\",LOOKUP(J199,Area!$A$2:$B$71)+LOOKUP(K199,ByM!$A$2:$B$462)+LOOKUP(L199,ByM!$A$2:$B$462)+LOOKUP(M199,ByM!$A$2:$B$462)+LOOKUP(N199,ByM!$A$2:$B$462)+LOOKUP(O199,ByM!$A$2:$B$462))","v":0}]
[null,"Arma","Estrella ninja o Shuriken",null,1,1,5,5,13,"-","Cargas (5)","-","-","-","-",{"$f":"IF(C200=\"\",\"\",INDEX($Q$3:$Z$12,E200,F200)+G200+H200)","v":18},{"$f":"IF(C200=\"\",\"\",LOOKUP(J200,Area!$A$2:$B$71)+LOOKUP(K200,ByM!$A$2:$B$462)+LOOKUP(L200,ByM!$A$2:$B$462)+LOOKUP(M200,ByM!$A$2:$B$462)+LOOKUP(N200,ByM!$A$2:$B$462)+LOOKUP(O200,ByM!$A$2:$B$462))","v":-5}]
[null,"Arma","Eviscerador",null,3,4,0,4,25,"-","A 2 manos","Arma complicada","Daño extra","-","-",{"$f":"IF(C201=\"\",\"\",INDEX($Q$3:$Z$12,E201,F201)+G201+H201)","v":35},{"$f":"IF(C201=\"\",\"\",LOOKUP(J201,Area!$A$2:$B$71)+LOOKUP(K201,ByM!$A$2:$B$462)+LOOKUP(L201,ByM!$A$2:$B$462)+LOOKUP(M201,ByM!$A$2:$B$462)+LOOKUP(N201,ByM!$A$2:$B$462)+LOOKUP(O201,ByM!$A$2:$B$462))","v":-10}]
[null,"Arma","Explosivos",null,4,4,0,3,32,"R2","Munición incendiaria","Temporizador","-","-","-",{"$f":"IF(C202=\"\",\"\",INDEX($Q$3:$Z$12,E202,F202)+G202+H202)","v":19},{"$f":"IF(C202=\"\",\"\",LOOKUP(J202,Area!$A$2:$B$71)+LOOKUP(K202,ByM!$A$2:$B$462)+LOOKUP(L202,ByM!$A$2:$B$462)+LOOKUP(M202,ByM!$A$2:$B$462)+LOOKUP(N202,ByM!$A$2:$B$462)+LOOKUP(O202,ByM!$A$2:$B$462))","v":13}]
[null,"Arma","Exterminador de plasma",null,5,6,15,4,75,"R3","Daño extra","Munición ígnea","Fuego pesado","Peligro","Dispersión",{"$f":"IF(C203=\"\",\"\",INDEX($Q$3:$Z$12,E203,F203)+G203+H203)","v":65},{"$f":"IF(C203=\"\",\"\",LOOKUP(J203,Area!$A$2:$B$71)+LOOKUP(K203,ByM!$A$2:$B$462)+LOOKUP(L203,ByM!$A$2:$B$462)+LOOKUP(M203,ByM!$A$2:$B$462)+LOOKUP(N203,ByM!$A$2:$B$462)+LOOKUP(O203,ByM!$A$2:$B$462))","v":10}]
[null,"Arma","Filo del triunfo",null,3,3,0,3,19,"-","Difícil de matar (CaC)","De precisión","Reliquia","-","-",{"$f":"IF(C204=\"\",\"\",INDEX($Q$3:$Z$12,E204,F204)+G204+H204)","v":16},{"$f":"IF(C204=\"\",\"\",LOOKUP(J204,Area!$A$2:$B$71)+LOOKUP(K204,ByM!$A$2:$B$462)+LOOKUP(L204,ByM!$A$2:$B$462)+LOOKUP(M204,ByM!$A$2:$B$462)+LOOKUP(N204,ByM!$A$2:$B$462)+LOOKUP(O204,ByM!$A$2:$B$462))","v":3}]
[null,"Arma","Filo ejemplar",null,3,4,0,3,22,"-","Difícil de matar (CaC)","Reliquia","-","-","-",{"$f":"IF(C205=\"\",\"\",INDEX($Q$3:$Z$12,E205,F205)+G205+H205)","v":34},{"$f":"IF(C205=\"\",\"\",LOOKUP(J205,Area!$A$2:$B$71)+LOOKUP(K205,ByM!$A$2:$B$462)+LOOKUP(L205,ByM!$A$2:$B$462)+LOOKUP(M205,ByM!$A$2:$B$462)+LOOKUP(N205,ByM!$A$2:$B$462)+LOOKUP(O205,ByM!$A$2:$B$462))","v":-12}]
[null,"Arma","Filo medio",null,2,2,0,3,14,"-","-","-","-","-","-",{"$f":"IF(C206=\"\",\"\",INDEX($Q$3:$Z$12,E206,F206)+G206+H206)","v":14},{"$f":"IF(C206=\"\",\"\",LOOKUP(J206,Area!$A$2:$B$71)+LOOKUP(K206,ByM!$A$2:$B$462)+LOOKUP(L206,ByM!$A$2:$B$462)+LOOKUP(M206,ByM!$A$2:$B$462)+LOOKUP(N206,ByM!$A$2:$B$462)+LOOKUP(O206,ByM!$A$2:$B$462))","v":0}]
[null,"Arma","Filo pequeño",null,3,2,0,3,4,"-","-","-","-","-","-",{"$f":"IF(C207=\"\",\"\",INDEX($Q$3:$Z$12,E207,F207)+G207+H207)","v":4},{"$f":"IF(C207=\"\",\"\",LOOKUP(J207,Area!$A$2:$B$71)+LOOKUP(K207,ByM!$A$2:$B$462)+LOOKUP(L207,ByM!$A$2:$B$462)+LOOKUP(M207,ByM!$A$2:$B$462)+LOOKUP(N207,ByM!$A$2:$B$462)+LOOKUP(O207,ByM!$A$2:$B$462))","v":0}]
[null,"Arma","Filo pesado",null,4,4,0,3,6,"-","A 2 manos","Arma complicada","-","-","-",{"$f":"IF(C208=\"\",\"\",INDEX($Q$3:$Z$12,E208,F208)+G208+H208)","v":19},{"$f":"IF(C208=\"\",\"\",LOOKUP(J208,Area!$A$2:$B$71)+LOOKUP(K208,ByM!$A$2:$B$462)+LOOKUP(L208,ByM!$A$2:$B$462)+LOOKUP(M208,ByM!$A$2:$B$462)+LOOKUP(N208,ByM!$A$2:$B$462)+LOOKUP(O208,ByM!$A$2:$B$462))","v":-13}]
[null,"Arma","Filo reliquia ",null,3,3,0,3,24,"-","Difícil de matar (CaC)","-","-","-","-",{"$f":"IF(C209=\"\",\"\",INDEX($Q$3:$Z$12,E209,F209)+G209+H209)","v":16},{"$f":"IF(C209=\"\",\"\",LOOKUP(J209,Area!$A$2:$B$71)+LOOKUP(K209,ByM!$A$2:$B$462)+LOOKUP(L209,ByM!$A$2:$B$462)+LOOKUP(M209,ByM!$A$2:$B$462)+LOOKUP(N209,ByM!$A$2:$B$462)+LOOKUP(O209,ByM!$A$2:$B$462))","v":8}]
[null,"Arma","Filo reliquia ejecutor",null,3,3,0,3,24,"-","Difícil de matar (CaC)","-","-","-","-",{"$f":"IF(C210=\"\",\"\",INDEX($Q$3:$Z$12,E210,F210)+G210+H210)","v":16},{"$f":"IF(C210=\"\",\"\",LOOKUP(J210,Area!$A$2:$B$71)+LOOKUP(K210,ByM!$A$2:$B$462)+LOOKUP(L210,ByM!$A$2:$B$462)+LOOKUP(M210,ByM!$A$2:$B$462)+LOOKUP(N210,ByM!$A$2:$B$462)+LOOKUP(O210,ByM!$A$2:$B$462))","v":8}]
[null,"Arma","Filoarma",null,3,3,0,3,16,"-","-","-","-","-","-",{"$f":"IF(C211=\"\",\"\",INDEX($Q$3:$Z$12,E211,F211)+G211+H211)","v":16},{"$f":"IF(C211=\"\",\"\",LOOKUP(J211,Area!$A$2:$B$71)+LOOKUP(K211,ByM!$A$2:$B$462)+LOOKUP(L211,ByM!$A$2:$B$462)+LOOKUP(M211,ByM!$A$2:$B$462)+LOOKUP(N211,ByM!$A$2:$B$462)+LOOKUP(O211,ByM!$A$2:$B$462))","v":0}]
[null,"Arma","Forma de bestia",null,3,4,0,3,41,"-","Invocación","-","-","-","-",{"$f":"IF(C212=\"\",\"\",INDEX($Q$3:$Z$12,E212,F212)+G212+H212)","v":34},{"$f":"IF(C212=\"\",\"\",LOOKUP(J212,Area!$A$2:$B$71)+LOOKUP(K212,ByM!$A$2:$B$462)+LOOKUP(L212,ByM!$A$2:$B$462)+LOOKUP(M212,ByM!$A$2:$B$462)+LOOKUP(N212,ByM!$A$2:$B$462)+LOOKUP(O212,ByM!$A$2:$B$462))","v":7}]
[null,"Arma","Furia de los ancianos",null,5,3,0,3,20,"L10","Invocación","Munición psíquica","-","-","-",{"$f":"IF(C213=\"\",\"\",INDEX($Q$3:$Z$12,E213,F213)+G213+H213)","v":-22},{"$f":"IF(C213=\"\",\"\",LOOKUP(J213,Area!$A$2:$B$71)+LOOKUP(K213,ByM!$A$2:$B$462)+LOOKUP(L213,ByM!$A$2:$B$462)+LOOKUP(M213,ByM!$A$2:$B$462)+LOOKUP(N213,ByM!$A$2:$B$462)+LOOKUP(O213,ByM!$A$2:$B$462))","v":42}]
[null,"Arma","Furia de los elementos",null,6,4,0,3,23,"G6/3","Invocación","Acobardamiento","Arco concentrado","-","-",{"$f":"IF(C214=\"\",\"\",INDEX($Q$3:$Z$12,E214,F214)+G214+H214)","v":-26},{"$f":"IF(C214=\"\",\"\",LOOKUP(J214,Area!$A$2:$B$71)+LOOKUP(K214,ByM!$A$2:$B$462)+LOOKUP(L214,ByM!$A$2:$B$462)+LOOKUP(M214,ByM!$A$2:$B$462)+LOOKUP(N214,ByM!$A$2:$B$462)+LOOKUP(O214,ByM!$A$2:$B$462))","v":49}]
[null,"Arma","Fusil de fusión",null,7,7,15,5,73,"-","Munición experimental","Fuego automático","-","-","-",{"$f":"IF(C215=\"\",\"\",INDEX($Q$3:$Z$12,E215,F215)+G215+H215)","v":48},{"$f":"IF(C215=\"\",\"\",LOOKUP(J215,Area!$A$2:$B$71)+LOOKUP(K215,ByM!$A$2:$B$462)+LOOKUP(L215,ByM!$A$2:$B$462)+LOOKUP(M215,ByM!$A$2:$B$462)+LOOKUP(N215,ByM!$A$2:$B$462)+LOOKUP(O215,ByM!$A$2:$B$462))","v":25}]
[null,"Arma","Fusil de fusión pesado",null,7,8,20,5,116,"-","Munición experimental","Fuego automático","-","-","-",{"$f":"IF(C216=\"\",\"\",INDEX($Q$3:$Z$12,E216,F216)+G216+H216)","v":91},{"$f":"IF(C216=\"\",\"\",LOOKUP(J216,Area!$A$2:$B$71)+LOOKUP(K216,ByM!$A$2:$B$462)+LOOKUP(L216,ByM!$A$2:$B$462)+LOOKUP(M216,ByM!$A$2:$B$462)+LOOKUP(N216,ByM!$A$2:$B$462)+LOOKUP(O216,ByM!$A$2:$B$462))","v":25}]
[null,"Arma","Fusil láser",null,8,8,30,5,71,"-","Daño extra","-","-","-","-",{"$f":"IF(C217=\"\",\"\",INDEX($Q$3:$Z$12,E217,F217)+G217+H217)","v":68},{"$f":"IF(C217=\"\",\"\",LOOKUP(J217,Area!$A$2:$B$71)+LOOKUP(K217,ByM!$A$2:$B$462)+LOOKUP(L217,ByM!$A$2:$B$462)+LOOKUP(M217,ByM!$A$2:$B$462)+LOOKUP(N217,ByM!$A$2:$B$462)+LOOKUP(O217,ByM!$A$2:$B$462))","v":3}]
[null,"Arma","Fusta",null,3,2,0,3,6,"-","Acobardamiento","-","-","-","-",{"$f":"IF(C218=\"\",\"\",INDEX($Q$3:$Z$12,E218,F218)+G218+H218)","v":4},{"$f":"IF(C218=\"\",\"\",LOOKUP(J218,Area!$A$2:$B$71)+LOOKUP(K218,ByM!$A$2:$B$462)+LOOKUP(L218,ByM!$A$2:$B$462)+LOOKUP(M218,ByM!$A$2:$B$462)+LOOKUP(N218,ByM!$A$2:$B$462)+LOOKUP(O218,ByM!$A$2:$B$462))","v":2}]
[null,"Arma","Garra relámpago",null,2,3,0,3,49,"-","Munición explosiva","-","-","-","-",{"$f":"IF(C219=\"\",\"\",INDEX($Q$3:$Z$12,E219,F219)+G219+H219)","v":29},{"$f":"IF(C219=\"\",\"\",LOOKUP(J219,Area!$A$2:$B$71)+LOOKUP(K219,ByM!$A$2:$B$462)+LOOKUP(L219,ByM!$A$2:$B$462)+LOOKUP(M219,ByM!$A$2:$B$462)+LOOKUP(N219,ByM!$A$2:$B$462)+LOOKUP(O219,ByM!$A$2:$B$462))","v":20}]
[null,"Arma","Garrapata lanzavirotes",null,4,4,10,3,21,"-","A 2 manos","Cargadores (X)","-","-","-",{"$f":"IF(C220=\"\",\"\",INDEX($Q$3:$Z$12,E220,F220)+G220+H220)","v":29},{"$f":"IF(C220=\"\",\"\",LOOKUP(J220,Area!$A$2:$B$71)+LOOKUP(K220,ByM!$A$2:$B$462)+LOOKUP(L220,ByM!$A$2:$B$462)+LOOKUP(M220,ByM!$A$2:$B$462)+LOOKUP(N220,ByM!$A$2:$B$462)+LOOKUP(O220,ByM!$A$2:$B$462))","v":-8}]
[null,"Arma","Garras de demonio",null,3,2,0,5,16,"-","Munición reforzada","-","-","-","-",{"$f":"IF(C221=\"\",\"\",INDEX($Q$3:$Z$12,E221,F221)+G221+H221)","v":6},{"$f":"IF(C221=\"\",\"\",LOOKUP(J221,Area!$A$2:$B$71)+LOOKUP(K221,ByM!$A$2:$B$462)+LOOKUP(L221,ByM!$A$2:$B$462)+LOOKUP(M221,ByM!$A$2:$B$462)+LOOKUP(N221,ByM!$A$2:$B$462)+LOOKUP(O221,ByM!$A$2:$B$462))","v":10}]
[null,"Arma","Garrote",null,2,1,0,2,1,"-","-","-","-","-","-",{"$f":"IF(C222=\"\",\"\",INDEX($Q$3:$Z$12,E222,F222)+G222+H222)","v":-3},{"$f":"IF(C222=\"\",\"\",LOOKUP(J222,Area!$A$2:$B$71)+LOOKUP(K222,ByM!$A$2:$B$462)+LOOKUP(L222,ByM!$A$2:$B$462)+LOOKUP(M222,ByM!$A$2:$B$462)+LOOKUP(N222,ByM!$A$2:$B$462)+LOOKUP(O222,ByM!$A$2:$B$462))","v":0}]
[null,"Arma","Gatito",null,3,3,0,3,29,"R2","Arma arrojadiza","Sin daño","Munición paralizante","-","-",{"$f":"IF(C223=\"\",\"\",INDEX($Q$3:$Z$12,E223,F223)+G223+H223)","v":16},{"$f":"IF(C223=\"\",\"\",LOOKUP(J223,Area!$A$2:$B$71)+LOOKUP(K223,ByM!$A$2:$B$462)+LOOKUP(L223,ByM!$A$2:$B$462)+LOOKUP(M223,ByM!$A$2:$B$462)+LOOKUP(N223,ByM!$A$2:$B$462)+LOOKUP(O223,ByM!$A$2:$B$462))","v":13}]
[null,"Arma","Gran garra de lobo",null,3,4,0,3,51,"-","A 2 manos","munición explosiva","-","-","-",{"$f":"IF(C224=\"\",\"\",INDEX($Q$3:$Z$12,E224,F224)+G224+H224)","v":34},{"$f":"IF(C224=\"\",\"\",LOOKUP(J224,Area!$A$2:$B$71)+LOOKUP(K224,ByM!$A$2:$B$462)+LOOKUP(L224,ByM!$A$2:$B$462)+LOOKUP(M224,ByM!$A$2:$B$462)+LOOKUP(N224,ByM!$A$2:$B$462)+LOOKUP(O224,ByM!$A$2:$B$462))","v":17}]
[null,"Arma","Gran hacha",null,3,4,0,4,35,"-","A 2 manos","daño extra","-","-","-",{"$f":"IF(C225=\"\",\"\",INDEX($Q$3:$Z$12,E225,F225)+G225+H225)","v":35},{"$f":"IF(C225=\"\",\"\",LOOKUP(J225,Area!$A$2:$B$71)+LOOKUP(K225,ByM!$A$2:$B$462)+LOOKUP(L225,ByM!$A$2:$B$462)+LOOKUP(M225,ByM!$A$2:$B$462)+LOOKUP(N225,ByM!$A$2:$B$462)+LOOKUP(O225,ByM!$A$2:$B$462))","v":0}]
[null,"Arma","Gran hacha fenrisiana",null,3,4,0,3,44,"-","A 2 manos","Arma complicada","Daño extra","Munición explosiva","-",{"$f":"IF(C226=\"\",\"\",INDEX($Q$3:$Z$12,E226,F226)+G226+H226)","v":34},{"$f":"IF(C226=\"\",\"\",LOOKUP(J226,Area!$A$2:$B$71)+LOOKUP(K226,ByM!$A$2:$B$462)+LOOKUP(L226,ByM!$A$2:$B$462)+LOOKUP(M226,ByM!$A$2:$B$462)+LOOKUP(N226,ByM!$A$2:$B$462)+LOOKUP(O226,ByM!$A$2:$B$462))","v":10}]
[null,"Arma","Gran martillo",null,4,4,0,3,18,"-","A 2 manos","Aplasta","Arma pesada","Munición aturdidora","-",{"$f":"IF(C227=\"\",\"\",INDEX($Q$3:$Z$12,E227,F227)+G227+H227)","v":19},{"$f":"IF(C227=\"\",\"\",LOOKUP(J227,Area!$A$2:$B$71)+LOOKUP(K227,ByM!$A$2:$B$462)+LOOKUP(L227,ByM!$A$2:$B$462)+LOOKUP(M227,ByM!$A$2:$B$462)+LOOKUP(N227,ByM!$A$2:$B$462)+LOOKUP(O227,ByM!$A$2:$B$462))","v":-1}]
[null,"Arma","Granada",null,3,3,0,3,18,"R3","Un uso por actuación","-","-","-","-",{"$f":"IF(C228=\"\",\"\",INDEX($Q$3:$Z$12,E228,F228)+G228+H228)","v":16},{"$f":"IF(C228=\"\",\"\",LOOKUP(J228,Area!$A$2:$B$71)+LOOKUP(K228,ByM!$A$2:$B$462)+LOOKUP(L228,ByM!$A$2:$B$462)+LOOKUP(M228,ByM!$A$2:$B$462)+LOOKUP(N228,ByM!$A$2:$B$462)+LOOKUP(O228,ByM!$A$2:$B$462))","v":2}]
[null,"Arma","Granada aturdidora",null,3,2,0,3,16,"R3","Munición aturdidora","-","-","-","-",{"$f":"IF(C229=\"\",\"\",INDEX($Q$3:$Z$12,E229,F229)+G229+H229)","v":4},{"$f":"IF(C229=\"\",\"\",LOOKUP(J229,Area!$A$2:$B$71)+LOOKUP(K229,ByM!$A$2:$B$462)+LOOKUP(L229,ByM!$A$2:$B$462)+LOOKUP(M229,ByM!$A$2:$B$462)+LOOKUP(N229,ByM!$A$2:$B$462)+LOOKUP(O229,ByM!$A$2:$B$462))","v":12}]
[null,"Arma","Granada cegadora",null,2,1,5,3,8,"-","Munición cegadora","-","-","-","-",{"$f":"IF(C230=\"\",\"\",INDEX($Q$3:$Z$12,E230,F230)+G230+H230)","v":3},{"$f":"IF(C230=\"\",\"\",LOOKUP(J230,Area!$A$2:$B$71)+LOOKUP(K230,ByM!$A$2:$B$462)+LOOKUP(L230,ByM!$A$2:$B$462)+LOOKUP(M230,ByM!$A$2:$B$462)+LOOKUP(N230,ByM!$A$2:$B$462)+LOOKUP(O230,ByM!$A$2:$B$462))","v":5}]
[null,"Arma","Granada de electroshock G2",null,3,2,10,4,20,"-","Munición aturdidora","-","-","-","-",{"$f":"IF(C231=\"\",\"\",INDEX($Q$3:$Z$12,E231,F231)+G231+H231)","v":15},{"$f":"IF(C231=\"\",\"\",LOOKUP(J231,Area!$A$2:$B$71)+LOOKUP(K231,ByM!$A$2:$B$462)+LOOKUP(L231,ByM!$A$2:$B$462)+LOOKUP(M231,ByM!$A$2:$B$462)+LOOKUP(N231,ByM!$A$2:$B$462)+LOOKUP(O231,ByM!$A$2:$B$462))","v":5}]
[null,"Arma","Granada de humo",null,2,1,5,2,5,"-","Humo","-","-","-","-",{"$f":"IF(C232=\"\",\"\",INDEX($Q$3:$Z$12,E232,F232)+G232+H232)","v":2},{"$f":"IF(C232=\"\",\"\",LOOKUP(J232,Area!$A$2:$B$71)+LOOKUP(K232,ByM!$A$2:$B$462)+LOOKUP(L232,ByM!$A$2:$B$462)+LOOKUP(M232,ByM!$A$2:$B$462)+LOOKUP(N232,ByM!$A$2:$B$462)+LOOKUP(O232,ByM!$A$2:$B$462))","v":3}]
[null,"Arma","Granada santa",null,3,3,0,3,21,"R4","Área menguante","Área permanente","Arma complicada","Munición corrosiva","Un uso por aventura",{"$f":"IF(C233=\"\",\"\",INDEX($Q$3:$Z$12,E233,F233)+G233+H233)","v":16},{"$f":"IF(C233=\"\",\"\",LOOKUP(J233,Area!$A$2:$B$71)+LOOKUP(K233,ByM!$A$2:$B$462)+LOOKUP(L233,ByM!$A$2:$B$462)+LOOKUP(M233,ByM!$A$2:$B$462)+LOOKUP(N233,ByM!$A$2:$B$462)+LOOKUP(O233,ByM!$A$2:$B$462))","v":5}]
[null,"Arma","Granadas frag",null,3,2,0,3,17,"R4","-","-","-","-","-",{"$f":"IF(C234=\"\",\"\",INDEX($Q$3:$Z$12,E234,F234)+G234+H234)","v":4},{"$f":"IF(C234=\"\",\"\",LOOKUP(J234,Area!$A$2:$B$71)+LOOKUP(K234,ByM!$A$2:$B$462)+LOOKUP(L234,ByM!$A$2:$B$462)+LOOKUP(M234,ByM!$A$2:$B$462)+LOOKUP(N234,ByM!$A$2:$B$462)+LOOKUP(O234,ByM!$A$2:$B$462))","v":13}]
[null,"Arma","Granadas perforantes",null,5,4,0,3,4,"-","-","-","-","-","-",{"$f":"IF(C235=\"\",\"\",INDEX($Q$3:$Z$12,E235,F235)+G235+H235)","v":4},{"$f":"IF(C235=\"\",\"\",LOOKUP(J235,Area!$A$2:$B$71)+LOOKUP(K235,ByM!$A$2:$B$462)+LOOKUP(L235,ByM!$A$2:$B$462)+LOOKUP(M235,ByM!$A$2:$B$462)+LOOKUP(N235,ByM!$A$2:$B$462)+LOOKUP(O235,ByM!$A$2:$B$462))","v":0}]
[null,"Arma","Guadaña",null,4,3,0,3,1,"-","A 2 manos","arma complicada","-","-","-",{"$f":"IF(C236=\"\",\"\",INDEX($Q$3:$Z$12,E236,F236)+G236+H236)","v":4},{"$f":"IF(C236=\"\",\"\",LOOKUP(J236,Area!$A$2:$B$71)+LOOKUP(K236,ByM!$A$2:$B$462)+LOOKUP(L236,ByM!$A$2:$B$462)+LOOKUP(M236,ByM!$A$2:$B$462)+LOOKUP(N236,ByM!$A$2:$B$462)+LOOKUP(O236,ByM!$A$2:$B$462))","v":-13}]
[null,"Arma","Guante de boxeo extensible",null,1,2,0,3,19,"-","Cargadores (X) (1)","-","-","-","-",{"$f":"IF(C237=\"\",\"\",INDEX($Q$3:$Z$12,E237,F237)+G237+H237)","v":24},{"$f":"IF(C237=\"\",\"\",LOOKUP(J237,Area!$A$2:$B$71)+LOOKUP(K237,ByM!$A$2:$B$462)+LOOKUP(L237,ByM!$A$2:$B$462)+LOOKUP(M237,ByM!$A$2:$B$462)+LOOKUP(N237,ByM!$A$2:$B$462)+LOOKUP(O237,ByM!$A$2:$B$462))","v":-5}]
[null,"Arma","Guantelete de asalto (CaC)",null,3,4,0,3,27,"-","Arma complicada","Daño extra","-","-","-",{"$f":"IF(C238=\"\",\"\",INDEX($Q$3:$Z$12,E238,F238)+G238+H238)","v":34},{"$f":"IF(C238=\"\",\"\",LOOKUP(J238,Area!$A$2:$B$71)+LOOKUP(K238,ByM!$A$2:$B$462)+LOOKUP(L238,ByM!$A$2:$B$462)+LOOKUP(M238,ByM!$A$2:$B$462)+LOOKUP(N238,ByM!$A$2:$B$462)+LOOKUP(O238,ByM!$A$2:$B$462))","v":-7}]
[null,"Arma","Guantelete de asalto (disparo)",null,3,4,10,3,44,"-","-","-","-","-","-",{"$f":"IF(C239=\"\",\"\",INDEX($Q$3:$Z$12,E239,F239)+G239+H239)","v":44},{"$f":"IF(C239=\"\",\"\",LOOKUP(J239,Area!$A$2:$B$71)+LOOKUP(K239,ByM!$A$2:$B$462)+LOOKUP(L239,ByM!$A$2:$B$462)+LOOKUP(M239,ByM!$A$2:$B$462)+LOOKUP(N239,ByM!$A$2:$B$462)+LOOKUP(O239,ByM!$A$2:$B$462))","v":0}]
[null,"Arma","Guantelete de asalto automático (CaC)",null,3,3,0,3,9,"-","Arma complicada","Daño extra","-","-","-",{"$f":"IF(C240=\"\",\"\",INDEX($Q$3:$Z$12,E240,F240)+G240+H240)","v":16},{"$f":"IF(C240=\"\",\"\",LOOKUP(J240,Area!$A$2:$B$71)+LOOKUP(K240,ByM!$A$2:$B$462)+LOOKUP(L240,ByM!$A$2:$B$462)+LOOKUP(M240,ByM!$A$2:$B$462)+LOOKUP(N240,ByM!$A$2:$B$462)+LOOKUP(O240,ByM!$A$2:$B$462))","v":-7}]
[null,"Arma","Guantelete de asalto automático (disp.)",null,3,4,15,3,49,"-","-","-","-","-","-",{"$f":"IF(C241=\"\",\"\",INDEX($Q$3:$Z$12,E241,F241)+G241+H241)","v":49},{"$f":"IF(C241=\"\",\"\",LOOKUP(J241,Area!$A$2:$B$71)+LOOKUP(K241,ByM!$A$2:$B$462)+LOOKUP(L241,ByM!$A$2:$B$462)+LOOKUP(M241,ByM!$A$2:$B$462)+LOOKUP(N241,ByM!$A$2:$B$462)+LOOKUP(O241,ByM!$A$2:$B$462))","v":0}]
[null,"Arma","Guantelete tormenta de llamas (CaC)",null,3,3,0,3,9,"-","Arma complicada","Daño extra","-","-","-",{"$f":"IF(C242=\"\",\"\",INDEX($Q$3:$Z$12,E242,F242)+G242+H242)","v":16},{"$f":"IF(C242=\"\",\"\",LOOKUP(J242,Area!$A$2:$B$71)+LOOKUP(K242,ByM!$A$2:$B$462)+LOOKUP(L242,ByM!$A$2:$B$462)+LOOKUP(M242,ByM!$A$2:$B$462)+LOOKUP(N242,ByM!$A$2:$B$462)+LOOKUP(O242,ByM!$A$2:$B$462))","v":-7}]
[null,"Arma","Guantelete tormenta de llamas (disparo)",null,3,4,0,3,51,"G3/2","Munición incendiaria","-","-","-","-",{"$f":"IF(C243=\"\",\"\",INDEX($Q$3:$Z$12,E243,F243)+G243+H243)","v":34},{"$f":"IF(C243=\"\",\"\",LOOKUP(J243,Area!$A$2:$B$71)+LOOKUP(K243,ByM!$A$2:$B$462)+LOOKUP(L243,ByM!$A$2:$B$462)+LOOKUP(M243,ByM!$A$2:$B$462)+LOOKUP(N243,ByM!$A$2:$B$462)+LOOKUP(O243,ByM!$A$2:$B$462))","v":17}]
[null,"Arma","Guja",null,4,4,0,3,6,"-","A 2 manos","arma complicada","-","-","-",{"$f":"IF(C244=\"\",\"\",INDEX($Q$3:$Z$12,E244,F244)+G244+H244)","v":19},{"$f":"IF(C244=\"\",\"\",LOOKUP(J244,Area!$A$2:$B$71)+LOOKUP(K244,ByM!$A$2:$B$462)+LOOKUP(L244,ByM!$A$2:$B$462)+LOOKUP(M244,ByM!$A$2:$B$462)+LOOKUP(N244,ByM!$A$2:$B$462)+LOOKUP(O244,ByM!$A$2:$B$462))","v":-13}]
[null,"Arma","Hacha",null,3,3,0,3,19,"-","Daño extra","-","-","-","-",{"$f":"IF(C245=\"\",\"\",INDEX($Q$3:$Z$12,E245,F245)+G245+H245)","v":16},{"$f":"IF(C245=\"\",\"\",LOOKUP(J245,Area!$A$2:$B$71)+LOOKUP(K245,ByM!$A$2:$B$462)+LOOKUP(L245,ByM!$A$2:$B$462)+LOOKUP(M245,ByM!$A$2:$B$462)+LOOKUP(N245,ByM!$A$2:$B$462)+LOOKUP(O245,ByM!$A$2:$B$462))","v":3}]
[null,"Arma","Hacha arrojadiza",null,3,2,0,3,17,"-","Arma arrojadiza","Daño extra","-","-","-",{"$f":"IF(C246=\"\",\"\",INDEX($Q$3:$Z$12,E246,F246)+G246+H246)","v":4},{"$f":"IF(C246=\"\",\"\",LOOKUP(J246,Area!$A$2:$B$71)+LOOKUP(K246,ByM!$A$2:$B$462)+LOOKUP(L246,ByM!$A$2:$B$462)+LOOKUP(M246,ByM!$A$2:$B$462)+LOOKUP(N246,ByM!$A$2:$B$462)+LOOKUP(O246,ByM!$A$2:$B$462))","v":13}]
[null,"Arma","Hacha brutal",null,4,4,0,3,9,"-","A 2 manos","Arma complicada","Daño extra","-","-",{"$f":"IF(C247=\"\",\"\",INDEX($Q$3:$Z$12,E247,F247)+G247+H247)","v":19},{"$f":"IF(C247=\"\",\"\",LOOKUP(J247,Area!$A$2:$B$71)+LOOKUP(K247,ByM!$A$2:$B$462)+LOOKUP(L247,ByM!$A$2:$B$462)+LOOKUP(M247,ByM!$A$2:$B$462)+LOOKUP(N247,ByM!$A$2:$B$462)+LOOKUP(O247,ByM!$A$2:$B$462))","v":-10}]
[null,"Arma","Hacha brutal a gasolina",null,4,5,0,3,16,"-","A 2 manos","Arma complicada","Cargadores (X)","Daño extra","Explota",{"$f":"IF(C248=\"\",\"\",INDEX($Q$3:$Z$12,E248,F248)+G248+H248)","v":41},{"$f":"IF(C248=\"\",\"\",LOOKUP(J248,Area!$A$2:$B$71)+LOOKUP(K248,ByM!$A$2:$B$462)+LOOKUP(L248,ByM!$A$2:$B$462)+LOOKUP(M248,ByM!$A$2:$B$462)+LOOKUP(N248,ByM!$A$2:$B$462)+LOOKUP(O248,ByM!$A$2:$B$462))","v":-25}]
[null,"Arma","Hacha cortacabos",null,3,2,0,4,18,"-","Arma arrojadiza","daño extra","-","-","-",{"$f":"IF(C249=\"\",\"\",INDEX($Q$3:$Z$12,E249,F249)+G249+H249)","v":5},{"$f":"IF(C249=\"\",\"\",LOOKUP(J249,Area!$A$2:$B$71)+LOOKUP(K249,ByM!$A$2:$B$462)+LOOKUP(L249,ByM!$A$2:$B$462)+LOOKUP(M249,ByM!$A$2:$B$462)+LOOKUP(N249,ByM!$A$2:$B$462)+LOOKUP(O249,ByM!$A$2:$B$462))","v":13}]
[null,"Arma","Hacha de asta o alabarda",null,3,3,0,3,31,"-","A 2 manos","Daño extra","Munición perforante","-","-",{"$f":"IF(C250=\"\",\"\",INDEX($Q$3:$Z$12,E250,F250)+G250+H250)","v":16},{"$f":"IF(C250=\"\",\"\",LOOKUP(J250,Area!$A$2:$B$71)+LOOKUP(K250,ByM!$A$2:$B$462)+LOOKUP(L250,ByM!$A$2:$B$462)+LOOKUP(M250,ByM!$A$2:$B$462)+LOOKUP(N250,ByM!$A$2:$B$462)+LOOKUP(O250,ByM!$A$2:$B$462))","v":15}]
[null,"Arma","Hacha de batalla",null,3,4,0,3,37,"-","Daño extra","-","-","-","-",{"$f":"IF(C251=\"\",\"\",INDEX($Q$3:$Z$12,E251,F251)+G251+H251)","v":34},{"$f":"IF(C251=\"\",\"\",LOOKUP(J251,Area!$A$2:$B$71)+LOOKUP(K251,ByM!$A$2:$B$462)+LOOKUP(L251,ByM!$A$2:$B$462)+LOOKUP(M251,ByM!$A$2:$B$462)+LOOKUP(N251,ByM!$A$2:$B$462)+LOOKUP(O251,ByM!$A$2:$B$462))","v":3}]
[null,"Arma","Hacha de energía",null,3,3,0,3,34,"-","Daño extra","munición perforante","-","-","-",{"$f":"IF(C252=\"\",\"\",INDEX($Q$3:$Z$12,E252,F252)+G252+H252)","v":16},{"$f":"IF(C252=\"\",\"\",LOOKUP(J252,Area!$A$2:$B$71)+LOOKUP(K252,ByM!$A$2:$B$462)+LOOKUP(L252,ByM!$A$2:$B$462)+LOOKUP(M252,ByM!$A$2:$B$462)+LOOKUP(N252,ByM!$A$2:$B$462)+LOOKUP(O252,ByM!$A$2:$B$462))","v":18}]
[null,"Arma","Hacha de energía artesanal",null,3,3,0,3,49,"-","Daño extra","munición perforante","De precisión","-","-",{"$f":"IF(C253=\"\",\"\",INDEX($Q$3:$Z$12,E253,F253)+G253+H253)","v":16},{"$f":"IF(C253=\"\",\"\",LOOKUP(J253,Area!$A$2:$B$71)+LOOKUP(K253,ByM!$A$2:$B$462)+LOOKUP(L253,ByM!$A$2:$B$462)+LOOKUP(M253,ByM!$A$2:$B$462)+LOOKUP(N253,ByM!$A$2:$B$462)+LOOKUP(O253,ByM!$A$2:$B$462))","v":33}]
[null,"Arma","Hacha de energía omnissiana",null,3,3,0,5,51,"-","Daño extra","munición perforante","De precisión","-","-",{"$f":"IF(C254=\"\",\"\",INDEX($Q$3:$Z$12,E254,F254)+G254+H254)","v":18},{"$f":"IF(C254=\"\",\"\",LOOKUP(J254,Area!$A$2:$B$71)+LOOKUP(K254,ByM!$A$2:$B$462)+LOOKUP(L254,ByM!$A$2:$B$462)+LOOKUP(M254,ByM!$A$2:$B$462)+LOOKUP(N254,ByM!$A$2:$B$462)+LOOKUP(O254,ByM!$A$2:$B$462))","v":33}]
[null,"Arma","Hacha de hueso",null,2,2,0,3,17,"-","Daño extra","-","-","-","-",{"$f":"IF(C255=\"\",\"\",INDEX($Q$3:$Z$12,E255,F255)+G255+H255)","v":14},{"$f":"IF(C255=\"\",\"\",LOOKUP(J255,Area!$A$2:$B$71)+LOOKUP(K255,ByM!$A$2:$B$462)+LOOKUP(L255,ByM!$A$2:$B$462)+LOOKUP(M255,ByM!$A$2:$B$462)+LOOKUP(N255,ByM!$A$2:$B$462)+LOOKUP(O255,ByM!$A$2:$B$462))","v":3}]
[null,"Arma","Hacha de leñador",null,3,3,0,3,16,"-","A 2 manos","Daño extra","-","-","-",{"$f":"IF(C256=\"\",\"\",INDEX($Q$3:$Z$12,E256,F256)+G256+H256)","v":16},{"$f":"IF(C256=\"\",\"\",LOOKUP(J256,Area!$A$2:$B$71)+LOOKUP(K256,ByM!$A$2:$B$462)+LOOKUP(L256,ByM!$A$2:$B$462)+LOOKUP(M256,ByM!$A$2:$B$462)+LOOKUP(N256,ByM!$A$2:$B$462)+LOOKUP(O256,ByM!$A$2:$B$462))","v":0}]
[null,"Arma","Hacha de mano",null,2,2,0,2,26,"-","Arma arrojadiza","daño extra","-","-","-",{"$f":"IF(C257=\"\",\"\",INDEX($Q$3:$Z$12,E257,F257)+G257+H257)","v":13},{"$f":"IF(C257=\"\",\"\",LOOKUP(J257,Area!$A$2:$B$71)+LOOKUP(K257,ByM!$A$2:$B$462)+LOOKUP(L257,ByM!$A$2:$B$462)+LOOKUP(M257,ByM!$A$2:$B$462)+LOOKUP(N257,ByM!$A$2:$B$462)+LOOKUP(O257,ByM!$A$2:$B$462))","v":13}]
[null,"Arma","Hacha psíquica",null,3,3,0,3,29,"-","Daño extra","munición bendecida","-","-","-",{"$f":"IF(C258=\"\",\"\",INDEX($Q$3:$Z$12,E258,F258)+G258+H258)","v":16},{"$f":"IF(C258=\"\",\"\",LOOKUP(J258,Area!$A$2:$B$71)+LOOKUP(K258,ByM!$A$2:$B$462)+LOOKUP(L258,ByM!$A$2:$B$462)+LOOKUP(M258,ByM!$A$2:$B$462)+LOOKUP(N258,ByM!$A$2:$B$462)+LOOKUP(O258,ByM!$A$2:$B$462))","v":13}]
[null,"Arma","Hachón",null,2,2,0,2,16,"-","Daño extra","-","-","-","-",{"$f":"IF(C259=\"\",\"\",INDEX($Q$3:$Z$12,E259,F259)+G259+H259)","v":13},{"$f":"IF(C259=\"\",\"\",LOOKUP(J259,Area!$A$2:$B$71)+LOOKUP(K259,ByM!$A$2:$B$462)+LOOKUP(L259,ByM!$A$2:$B$462)+LOOKUP(M259,ByM!$A$2:$B$462)+LOOKUP(N259,ByM!$A$2:$B$462)+LOOKUP(O259,ByM!$A$2:$B$462))","v":3}]
[null,"Arma","Hachón a 2 manos",null,4,4,0,2,18,"-","A 2 manos","Daño extra","-","-","-",{"$f":"IF(C260=\"\",\"\",INDEX($Q$3:$Z$12,E260,F260)+G260+H260)","v":18},{"$f":"IF(C260=\"\",\"\",LOOKUP(J260,Area!$A$2:$B$71)+LOOKUP(K260,ByM!$A$2:$B$462)+LOOKUP(L260,ByM!$A$2:$B$462)+LOOKUP(M260,ByM!$A$2:$B$462)+LOOKUP(N260,ByM!$A$2:$B$462)+LOOKUP(O260,ByM!$A$2:$B$462))","v":0}]
[null,"Arma","Hachuela",null,3,3,0,2,18,"-","Daño extra","-","-","-","-",{"$f":"IF(C261=\"\",\"\",INDEX($Q$3:$Z$12,E261,F261)+G261+H261)","v":15},{"$f":"IF(C261=\"\",\"\",LOOKUP(J261,Area!$A$2:$B$71)+LOOKUP(K261,ByM!$A$2:$B$462)+LOOKUP(L261,ByM!$A$2:$B$462)+LOOKUP(M261,ByM!$A$2:$B$462)+LOOKUP(N261,ByM!$A$2:$B$462)+LOOKUP(O261,ByM!$A$2:$B$462))","v":3}]
[null,"Arma","Honda",null,3,2,10,2,18,"-","Munición aturdidora","-","-","-","-",{"$f":"IF(C262=\"\",\"\",INDEX($Q$3:$Z$12,E262,F262)+G262+H262)","v":13},{"$f":"IF(C262=\"\",\"\",LOOKUP(J262,Area!$A$2:$B$71)+LOOKUP(K262,ByM!$A$2:$B$462)+LOOKUP(L262,ByM!$A$2:$B$462)+LOOKUP(M262,ByM!$A$2:$B$462)+LOOKUP(N262,ByM!$A$2:$B$462)+LOOKUP(O262,ByM!$A$2:$B$462))","v":5}]
[null,"Arma","Hoz",null,2,1,0,2,1,"-","-","-","-","-","-",{"$f":"IF(C263=\"\",\"\",INDEX($Q$3:$Z$12,E263,F263)+G263+H263)","v":-3},{"$f":"IF(C263=\"\",\"\",LOOKUP(J263,Area!$A$2:$B$71)+LOOKUP(K263,ByM!$A$2:$B$462)+LOOKUP(L263,ByM!$A$2:$B$462)+LOOKUP(M263,ByM!$A$2:$B$462)+LOOKUP(N263,ByM!$A$2:$B$462)+LOOKUP(O263,ByM!$A$2:$B$462))","v":0}]
[null,"Arma","Hoz incrustada",null,3,2,0,3,6,"-","Profesión acróbata","Requiere (Idos)","Sin miembro","-","-",{"$f":"IF(C264=\"\",\"\",INDEX($Q$3:$Z$12,E264,F264)+G264+H264)","v":4},{"$f":"IF(C264=\"\",\"\",LOOKUP(J264,Area!$A$2:$B$71)+LOOKUP(K264,ByM!$A$2:$B$462)+LOOKUP(L264,ByM!$A$2:$B$462)+LOOKUP(M264,ByM!$A$2:$B$462)+LOOKUP(N264,ByM!$A$2:$B$462)+LOOKUP(O264,ByM!$A$2:$B$462))","v":2}]
[null,"Arma","Incinerador de plasma",null,6,6,25,4,60,"-","Daño extra","Munición ígnea","Fuego pesado","Peligro","-",{"$f":"IF(C265=\"\",\"\",INDEX($Q$3:$Z$12,E265,F265)+G265+H265)","v":52},{"$f":"IF(C265=\"\",\"\",LOOKUP(J265,Area!$A$2:$B$71)+LOOKUP(K265,ByM!$A$2:$B$462)+LOOKUP(L265,ByM!$A$2:$B$462)+LOOKUP(M265,ByM!$A$2:$B$462)+LOOKUP(N265,ByM!$A$2:$B$462)+LOOKUP(O265,ByM!$A$2:$B$462))","v":8}]
[null,"Arma","Incinerador de plasma de asalto",null,5,6,20,3,77,"-","Daño extra","Munición ígnea","Fuego pesado","Peligro","-",{"$f":"IF(C266=\"\",\"\",INDEX($Q$3:$Z$12,E266,F266)+G266+H266)","v":69},{"$f":"IF(C266=\"\",\"\",LOOKUP(J266,Area!$A$2:$B$71)+LOOKUP(K266,ByM!$A$2:$B$462)+LOOKUP(L266,ByM!$A$2:$B$462)+LOOKUP(M266,ByM!$A$2:$B$462)+LOOKUP(N266,ByM!$A$2:$B$462)+LOOKUP(O266,ByM!$A$2:$B$462))","v":8}]
[null,"Arma","Incinerador de plasma pesado",null,6,7,30,5,98,"-","Daño extra","Munición ígnea","Fuego pesado","Peligro","-",{"$f":"IF(C267=\"\",\"\",INDEX($Q$3:$Z$12,E267,F267)+G267+H267)","v":90},{"$f":"IF(C267=\"\",\"\",LOOKUP(J267,Area!$A$2:$B$71)+LOOKUP(K267,ByM!$A$2:$B$462)+LOOKUP(L267,ByM!$A$2:$B$462)+LOOKUP(M267,ByM!$A$2:$B$462)+LOOKUP(N267,ByM!$A$2:$B$462)+LOOKUP(O267,ByM!$A$2:$B$462))","v":8}]
[null,"Arma","Ira del primarca",null,4,5,25,3,56,"-","Reliquia","Mucho más alcance","-","-","-",{"$f":"IF(C268=\"\",\"\",INDEX($Q$3:$Z$12,E268,F268)+G268+H268)","v":66},{"$f":"IF(C268=\"\",\"\",LOOKUP(J268,Area!$A$2:$B$71)+LOOKUP(K268,ByM!$A$2:$B$462)+LOOKUP(L268,ByM!$A$2:$B$462)+LOOKUP(M268,ByM!$A$2:$B$462)+LOOKUP(N268,ByM!$A$2:$B$462)+LOOKUP(O268,ByM!$A$2:$B$462))","v":-10}]
[null,"Arma","Jabalina",null,3,2,0,2,8,"-","Arma arrojadiza","Defectuoso","-","-","-",{"$f":"IF(C269=\"\",\"\",INDEX($Q$3:$Z$12,E269,F269)+G269+H269)","v":3},{"$f":"IF(C269=\"\",\"\",LOOKUP(J269,Area!$A$2:$B$71)+LOOKUP(K269,ByM!$A$2:$B$462)+LOOKUP(L269,ByM!$A$2:$B$462)+LOOKUP(M269,ByM!$A$2:$B$462)+LOOKUP(N269,ByM!$A$2:$B$462)+LOOKUP(O269,ByM!$A$2:$B$462))","v":5}]
[null,"Arma","Katana",null,3,3,0,3,21,"-","Afilada","-","-","-","-",{"$f":"IF(C270=\"\",\"\",INDEX($Q$3:$Z$12,E270,F270)+G270+H270)","v":16},{"$f":"IF(C270=\"\",\"\",LOOKUP(J270,Area!$A$2:$B$71)+LOOKUP(K270,ByM!$A$2:$B$462)+LOOKUP(L270,ByM!$A$2:$B$462)+LOOKUP(M270,ByM!$A$2:$B$462)+LOOKUP(N270,ByM!$A$2:$B$462)+LOOKUP(O270,ByM!$A$2:$B$462))","v":5}]
[null,"Arma","Kris",null,2,2,0,3,19,"-","Veneno","-","-","-","-",{"$f":"IF(C271=\"\",\"\",INDEX($Q$3:$Z$12,E271,F271)+G271+H271)","v":14},{"$f":"IF(C271=\"\",\"\",LOOKUP(J271,Area!$A$2:$B$71)+LOOKUP(K271,ByM!$A$2:$B$462)+LOOKUP(L271,ByM!$A$2:$B$462)+LOOKUP(M271,ByM!$A$2:$B$462)+LOOKUP(N271,ByM!$A$2:$B$462)+LOOKUP(O271,ByM!$A$2:$B$462))","v":5}]
[null,"Arma","La mortaja del mar",null,4,3,0,3,35,"G7/2","Invocación","-","-","-","-",{"$f":"IF(C272=\"\",\"\",INDEX($Q$3:$Z$12,E272,F272)+G272+H272)","v":4},{"$f":"IF(C272=\"\",\"\",LOOKUP(J272,Area!$A$2:$B$71)+LOOKUP(K272,ByM!$A$2:$B$462)+LOOKUP(L272,ByM!$A$2:$B$462)+LOOKUP(M272,ByM!$A$2:$B$462)+LOOKUP(N272,ByM!$A$2:$B$462)+LOOKUP(O272,ByM!$A$2:$B$462))","v":31}]
[null,"Arma","La tormenta deseada",null,3,3,10,3,42,"S3","Invocación","-","-","-","-",{"$f":"IF(C273=\"\",\"\",INDEX($Q$3:$Z$12,E273,F273)+G273+H273)","v":26},{"$f":"IF(C273=\"\",\"\",LOOKUP(J273,Area!$A$2:$B$71)+LOOKUP(K273,ByM!$A$2:$B$462)+LOOKUP(L273,ByM!$A$2:$B$462)+LOOKUP(M273,ByM!$A$2:$B$462)+LOOKUP(N273,ByM!$A$2:$B$462)+LOOKUP(O273,ByM!$A$2:$B$462))","v":16}]
[null,"Arma","Lamento",null,7,7,25,3,39,"-","Reliquia","Daño extra","-","-","-",{"$f":"IF(C274=\"\",\"\",INDEX($Q$3:$Z$12,E274,F274)+G274+H274)","v":56},{"$f":"IF(C274=\"\",\"\",LOOKUP(J274,Area!$A$2:$B$71)+LOOKUP(K274,ByM!$A$2:$B$462)+LOOKUP(L274,ByM!$A$2:$B$462)+LOOKUP(M274,ByM!$A$2:$B$462)+LOOKUP(N274,ByM!$A$2:$B$462)+LOOKUP(O274,ByM!$A$2:$B$462))","v":-17}]
[null,"Arma","Lanza",null,3,2,0,2,13,"-","Arma arrojadiza","-","-","-","-",{"$f":"IF(C275=\"\",\"\",INDEX($Q$3:$Z$12,E275,F275)+G275+H275)","v":3},{"$f":"IF(C275=\"\",\"\",LOOKUP(J275,Area!$A$2:$B$71)+LOOKUP(K275,ByM!$A$2:$B$462)+LOOKUP(L275,ByM!$A$2:$B$462)+LOOKUP(M275,ByM!$A$2:$B$462)+LOOKUP(N275,ByM!$A$2:$B$462)+LOOKUP(O275,ByM!$A$2:$B$462))","v":10}]
[null,"Arma","Lanza cohetes Banshee 70 MK16",null,4,4,20,7,53,"-","Munición perforante","Cargas (3)","-","-","-",{"$f":"IF(C276=\"\",\"\",INDEX($Q$3:$Z$12,E276,F276)+G276+H276)","v":43},{"$f":"IF(C276=\"\",\"\",LOOKUP(J276,Area!$A$2:$B$71)+LOOKUP(K276,ByM!$A$2:$B$462)+LOOKUP(L276,ByM!$A$2:$B$462)+LOOKUP(M276,ByM!$A$2:$B$462)+LOOKUP(N276,ByM!$A$2:$B$462)+LOOKUP(O276,ByM!$A$2:$B$462))","v":10}]
[null,"Arma","Lanza de caballería",null,4,5,0,2,35,"-","Arma complicada","Arma de carga","Arma muy larga","Requiere (a caballo)","-",{"$f":"IF(C277=\"\",\"\",INDEX($Q$3:$Z$12,E277,F277)+G277+H277)","v":40},{"$f":"IF(C277=\"\",\"\",LOOKUP(J277,Area!$A$2:$B$71)+LOOKUP(K277,ByM!$A$2:$B$462)+LOOKUP(L277,ByM!$A$2:$B$462)+LOOKUP(M277,ByM!$A$2:$B$462)+LOOKUP(N277,ByM!$A$2:$B$462)+LOOKUP(O277,ByM!$A$2:$B$462))","v":-5}]
[null,"Arma","Lanza de energía",null,3,3,0,3,41,"-","arma arrojadiza","Munición perforante","-","-","-",{"$f":"IF(C278=\"\",\"\",INDEX($Q$3:$Z$12,E278,F278)+G278+H278)","v":16},{"$f":"IF(C278=\"\",\"\",LOOKUP(J278,Area!$A$2:$B$71)+LOOKUP(K278,ByM!$A$2:$B$462)+LOOKUP(L278,ByM!$A$2:$B$462)+LOOKUP(M278,ByM!$A$2:$B$462)+LOOKUP(N278,ByM!$A$2:$B$462)+LOOKUP(O278,ByM!$A$2:$B$462))","v":25}]
[null,"Arma","Lanza granadas Armat U1",null,4,5,20,6,60,"R1","Dispersión","-","-","-","-",{"$f":"IF(C279=\"\",\"\",INDEX($Q$3:$Z$12,E279,F279)+G279+H279)","v":64},{"$f":"IF(C279=\"\",\"\",LOOKUP(J279,Area!$A$2:$B$71)+LOOKUP(K279,ByM!$A$2:$B$462)+LOOKUP(L279,ByM!$A$2:$B$462)+LOOKUP(M279,ByM!$A$2:$B$462)+LOOKUP(N279,ByM!$A$2:$B$462)+LOOKUP(O279,ByM!$A$2:$B$462))","v":-4}]
[null,"Arma","Lanza misiles a/a AIM-90E Headlock",null,6,9,40,7,386,"-","Munición perforante","Humo","-","-","-",{"$f":"IF(C280=\"\",\"\",INDEX($Q$3:$Z$12,E280,F280)+G280+H280)","v":368},{"$f":"IF(C280=\"\",\"\",LOOKUP(J280,Area!$A$2:$B$71)+LOOKUP(K280,ByM!$A$2:$B$462)+LOOKUP(L280,ByM!$A$2:$B$462)+LOOKUP(M280,ByM!$A$2:$B$462)+LOOKUP(N280,ByM!$A$2:$B$462)+LOOKUP(O280,ByM!$A$2:$B$462))","v":18}]
[null,"Arma","Lanza misiles AGM-220C Hellhound II",null,7,10,40,7,452,"-","Munición perforante","Humo","-","-","-",{"$f":"IF(C281=\"\",\"\",INDEX($Q$3:$Z$12,E281,F281)+G281+H281)","v":434},{"$f":"IF(C281=\"\",\"\",LOOKUP(J281,Area!$A$2:$B$71)+LOOKUP(K281,ByM!$A$2:$B$462)+LOOKUP(L281,ByM!$A$2:$B$462)+LOOKUP(M281,ByM!$A$2:$B$462)+LOOKUP(N281,ByM!$A$2:$B$462)+LOOKUP(O281,ByM!$A$2:$B$462))","v":18}]
[null,"Arma","Lanza ornamental",null,3,3,0,5,28,"-","Arma arrojadiza","-","-","-","-",{"$f":"IF(C282=\"\",\"\",INDEX($Q$3:$Z$12,E282,F282)+G282+H282)","v":18},{"$f":"IF(C282=\"\",\"\",LOOKUP(J282,Area!$A$2:$B$71)+LOOKUP(K282,ByM!$A$2:$B$462)+LOOKUP(L282,ByM!$A$2:$B$462)+LOOKUP(M282,ByM!$A$2:$B$462)+LOOKUP(N282,ByM!$A$2:$B$462)+LOOKUP(O282,ByM!$A$2:$B$462))","v":10}]
[null,"Arma","Lanzaarpones",null,7,8,13,3,59,"-","A 2 manos","Arma pesada","Cargadores (X)","Arma complicada","-",{"$f":"IF(C283=\"\",\"\",INDEX($Q$3:$Z$12,E283,F283)+G283+H283)","v":82},{"$f":"IF(C283=\"\",\"\",LOOKUP(J283,Area!$A$2:$B$71)+LOOKUP(K283,ByM!$A$2:$B$462)+LOOKUP(L283,ByM!$A$2:$B$462)+LOOKUP(M283,ByM!$A$2:$B$462)+LOOKUP(N283,ByM!$A$2:$B$462)+LOOKUP(O283,ByM!$A$2:$B$462))","v":-23}]
[null,"Arma","Lanzafuegos",null,4,4,0,5,44,"G5/2","Munición incendiaria","-","-","-","-",{"$f":"IF(C284=\"\",\"\",INDEX($Q$3:$Z$12,E284,F284)+G284+H284)","v":21},{"$f":"IF(C284=\"\",\"\",LOOKUP(J284,Area!$A$2:$B$71)+LOOKUP(K284,ByM!$A$2:$B$462)+LOOKUP(L284,ByM!$A$2:$B$462)+LOOKUP(M284,ByM!$A$2:$B$462)+LOOKUP(N284,ByM!$A$2:$B$462)+LOOKUP(O284,ByM!$A$2:$B$462))","v":23}]
[null,"Arma","Lanzagranadas astartes - frag",null,3,3,15,3,38,"R3","Dispersión","Más alcance","-","-","-",{"$f":"IF(C285=\"\",\"\",INDEX($Q$3:$Z$12,E285,F285)+G285+H285)","v":31},{"$f":"IF(C285=\"\",\"\",LOOKUP(J285,Area!$A$2:$B$71)+LOOKUP(K285,ByM!$A$2:$B$462)+LOOKUP(L285,ByM!$A$2:$B$462)+LOOKUP(M285,ByM!$A$2:$B$462)+LOOKUP(N285,ByM!$A$2:$B$462)+LOOKUP(O285,ByM!$A$2:$B$462))","v":7}]
[null,"Arma","Lanzagranadas astartes - perforante",null,6,6,25,3,51,"-","-","-","-","-","-",{"$f":"IF(C286=\"\",\"\",INDEX($Q$3:$Z$12,E286,F286)+G286+H286)","v":51},{"$f":"IF(C286=\"\",\"\",LOOKUP(J286,Area!$A$2:$B$71)+LOOKUP(K286,ByM!$A$2:$B$462)+LOOKUP(L286,ByM!$A$2:$B$462)+LOOKUP(M286,ByM!$A$2:$B$462)+LOOKUP(N286,ByM!$A$2:$B$462)+LOOKUP(O286,ByM!$A$2:$B$462))","v":0}]
[null,"Arma","Lanzagranadas de muñeca",null,4,2,10,3,1,"R3","Dispersión","-","-","-","-",{"$f":"IF(C287=\"\",\"\",INDEX($Q$3:$Z$12,E287,F287)+G287+H287)","v":-7},{"$f":"IF(C287=\"\",\"\",LOOKUP(J287,Area!$A$2:$B$71)+LOOKUP(K287,ByM!$A$2:$B$462)+LOOKUP(L287,ByM!$A$2:$B$462)+LOOKUP(M287,ByM!$A$2:$B$462)+LOOKUP(N287,ByM!$A$2:$B$462)+LOOKUP(O287,ByM!$A$2:$B$462))","v":2}]
[null,"Arma","Lanzagranadas fragtormenta",null,3,2,10,3,21,"R3","Dispersión","Más alcance","-","-","-",{"$f":"IF(C288=\"\",\"\",INDEX($Q$3:$Z$12,E288,F288)+G288+H288)","v":14},{"$f":"IF(C288=\"\",\"\",LOOKUP(J288,Area!$A$2:$B$71)+LOOKUP(K288,ByM!$A$2:$B$462)+LOOKUP(L288,ByM!$A$2:$B$462)+LOOKUP(M288,ByM!$A$2:$B$462)+LOOKUP(N288,ByM!$A$2:$B$462)+LOOKUP(O288,ByM!$A$2:$B$462))","v":7}]
[null,"Arma","Lanzagranadas perfotormenta",null,5,6,15,3,64,"-","-","-","-","-","-",{"$f":"IF(C289=\"\",\"\",INDEX($Q$3:$Z$12,E289,F289)+G289+H289)","v":64},{"$f":"IF(C289=\"\",\"\",LOOKUP(J289,Area!$A$2:$B$71)+LOOKUP(K289,ByM!$A$2:$B$462)+LOOKUP(L289,ByM!$A$2:$B$462)+LOOKUP(M289,ByM!$A$2:$B$462)+LOOKUP(N289,ByM!$A$2:$B$462)+LOOKUP(O289,ByM!$A$2:$B$462))","v":0}]
[null,"Arma","Lanzagranadas T-800",null,2,4,20,3,89,"R2","-","-","-","-","-",{"$f":"IF(C290=\"\",\"\",INDEX($Q$3:$Z$12,E290,F290)+G290+H290)","v":86},{"$f":"IF(C290=\"\",\"\",LOOKUP(J290,Area!$A$2:$B$71)+LOOKUP(K290,ByM!$A$2:$B$462)+LOOKUP(L290,ByM!$A$2:$B$462)+LOOKUP(M290,ByM!$A$2:$B$462)+LOOKUP(N290,ByM!$A$2:$B$462)+LOOKUP(O290,ByM!$A$2:$B$462))","v":3}]
[null,"Arma","Lanzallamas",null,5,4,0,3,33,"G7/2","Munición incendiaria","-","-","-","-",{"$f":"IF(C291=\"\",\"\",INDEX($Q$3:$Z$12,E291,F291)+G291+H291)","v":4},{"$f":"IF(C291=\"\",\"\",LOOKUP(J291,Area!$A$2:$B$71)+LOOKUP(K291,ByM!$A$2:$B$462)+LOOKUP(L291,ByM!$A$2:$B$462)+LOOKUP(M291,ByM!$A$2:$B$462)+LOOKUP(N291,ByM!$A$2:$B$462)+LOOKUP(O291,ByM!$A$2:$B$462))","v":29}]
[null,"Arma","Lanzallamas de la sangre negra",null,4,3,0,3,5,"G7/2","A 2 manos","Cargadores (X)","Explota","Fuego pesado","Arma complicada",{"$f":"IF(C292=\"\",\"\",INDEX($Q$3:$Z$12,E292,F292)+G292+H292)","v":4},{"$f":"IF(C292=\"\",\"\",LOOKUP(J292,Area!$A$2:$B$71)+LOOKUP(K292,ByM!$A$2:$B$462)+LOOKUP(L292,ByM!$A$2:$B$462)+LOOKUP(M292,ByM!$A$2:$B$462)+LOOKUP(N292,ByM!$A$2:$B$462)+LOOKUP(O292,ByM!$A$2:$B$462))","v":1}]
[null,"Arma","Lanzallamas industrial",null,4,6,0,3,107,"G5/2","Munición incendiaria","explota","-","-","-",{"$f":"IF(C293=\"\",\"\",INDEX($Q$3:$Z$12,E293,F293)+G293+H293)","v":94},{"$f":"IF(C293=\"\",\"\",LOOKUP(J293,Area!$A$2:$B$71)+LOOKUP(K293,ByM!$A$2:$B$462)+LOOKUP(L293,ByM!$A$2:$B$462)+LOOKUP(M293,ByM!$A$2:$B$462)+LOOKUP(N293,ByM!$A$2:$B$462)+LOOKUP(O293,ByM!$A$2:$B$462))","v":13}]
[null,"Arma","Lanzallamas pequeño",null,3,4,0,4,52,"G3/2","Munición incendiaria","-","-","-","-",{"$f":"IF(C294=\"\",\"\",INDEX($Q$3:$Z$12,E294,F294)+G294+H294)","v":35},{"$f":"IF(C294=\"\",\"\",LOOKUP(J294,Area!$A$2:$B$71)+LOOKUP(K294,ByM!$A$2:$B$462)+LOOKUP(L294,ByM!$A$2:$B$462)+LOOKUP(M294,ByM!$A$2:$B$462)+LOOKUP(N294,ByM!$A$2:$B$462)+LOOKUP(O294,ByM!$A$2:$B$462))","v":17}]
[null,"Arma","Lanzallamas pesado",null,6,5,0,3,37,"G7/2","Munición incendiaria","Munición ígnea","-","-","-",{"$f":"IF(C295=\"\",\"\",INDEX($Q$3:$Z$12,E295,F295)+G295+H295)","v":3},{"$f":"IF(C295=\"\",\"\",LOOKUP(J295,Area!$A$2:$B$71)+LOOKUP(K295,ByM!$A$2:$B$462)+LOOKUP(L295,ByM!$A$2:$B$462)+LOOKUP(M295,ByM!$A$2:$B$462)+LOOKUP(N295,ByM!$A$2:$B$462)+LOOKUP(O295,ByM!$A$2:$B$462))","v":34}]
[null,"Arma","Lanzamisiles",null,8,8,30,2,67,"R3","Cargadores ( )","-","-","-","-",{"$f":"IF(C296=\"\",\"\",INDEX($Q$3:$Z$12,E296,F296)+G296+H296)","v":65},{"$f":"IF(C296=\"\",\"\",LOOKUP(J296,Area!$A$2:$B$71)+LOOKUP(K296,ByM!$A$2:$B$462)+LOOKUP(L296,ByM!$A$2:$B$462)+LOOKUP(M296,ByM!$A$2:$B$462)+LOOKUP(N296,ByM!$A$2:$B$462)+LOOKUP(O296,ByM!$A$2:$B$462))","v":2}]
[null,"Arma","Lanzamisiles - frag",null,6,4,20,3,12,"R4","Dispersión","Munición autopropulsada","-","-","-",{"$f":"IF(C297=\"\",\"\",INDEX($Q$3:$Z$12,E297,F297)+G297+H297)","v":-6},{"$f":"IF(C297=\"\",\"\",LOOKUP(J297,Area!$A$2:$B$71)+LOOKUP(K297,ByM!$A$2:$B$462)+LOOKUP(L297,ByM!$A$2:$B$462)+LOOKUP(M297,ByM!$A$2:$B$462)+LOOKUP(N297,ByM!$A$2:$B$462)+LOOKUP(O297,ByM!$A$2:$B$462))","v":18}]
[null,"Arma","Lanzamisiles - perforante",null,8,8,20,3,56,"-","-","-","-","-","-",{"$f":"IF(C298=\"\",\"\",INDEX($Q$3:$Z$12,E298,F298)+G298+H298)","v":56},{"$f":"IF(C298=\"\",\"\",LOOKUP(J298,Area!$A$2:$B$71)+LOOKUP(K298,ByM!$A$2:$B$462)+LOOKUP(L298,ByM!$A$2:$B$462)+LOOKUP(M298,ByM!$A$2:$B$462)+LOOKUP(N298,ByM!$A$2:$B$462)+LOOKUP(O298,ByM!$A$2:$B$462))","v":0}]
[null,"Arma","Lanzamisiles arpón celestial",null,9,9,45,6,118,"-","Arma ATA","Daño extra","Munición trazadora","Munición anti (pesona)","-",{"$f":"IF(C299=\"\",\"\",INDEX($Q$3:$Z$12,E299,F299)+G299+H299)","v":91},{"$f":"IF(C299=\"\",\"\",LOOKUP(J299,Area!$A$2:$B$71)+LOOKUP(K299,ByM!$A$2:$B$462)+LOOKUP(L299,ByM!$A$2:$B$462)+LOOKUP(M299,ByM!$A$2:$B$462)+LOOKUP(N299,ByM!$A$2:$B$462)+LOOKUP(O299,ByM!$A$2:$B$462))","v":27}]
[null,"Arma","Lanzamisiles Centurión",null,7,8,30,5,103,"R3","Dispersión","-","-","-","-",{"$f":"IF(C300=\"\",\"\",INDEX($Q$3:$Z$12,E300,F300)+G300+H300)","v":101},{"$f":"IF(C300=\"\",\"\",LOOKUP(J300,Area!$A$2:$B$71)+LOOKUP(K300,ByM!$A$2:$B$462)+LOOKUP(L300,ByM!$A$2:$B$462)+LOOKUP(M300,ByM!$A$2:$B$462)+LOOKUP(N300,ByM!$A$2:$B$462)+LOOKUP(O300,ByM!$A$2:$B$462))","v":2}]
[null,"Arma","Lanzamisiles Cerbero",null,6,4,15,3,1,"R4","Dispersión","Enorme","-","-","-",{"$f":"IF(C301=\"\",\"\",INDEX($Q$3:$Z$12,E301,F301)+G301+H301)","v":-11},{"$f":"IF(C301=\"\",\"\",LOOKUP(J301,Area!$A$2:$B$71)+LOOKUP(K301,ByM!$A$2:$B$462)+LOOKUP(L301,ByM!$A$2:$B$462)+LOOKUP(M301,ByM!$A$2:$B$462)+LOOKUP(N301,ByM!$A$2:$B$462)+LOOKUP(O301,ByM!$A$2:$B$462))","v":3}]
[null,"Arma","Lanzamisiles Ciclón - frag",null,4,4,30,3,52,"R4","Dispersión","Enorme","-","-","-",{"$f":"IF(C302=\"\",\"\",INDEX($Q$3:$Z$12,E302,F302)+G302+H302)","v":49},{"$f":"IF(C302=\"\",\"\",LOOKUP(J302,Area!$A$2:$B$71)+LOOKUP(K302,ByM!$A$2:$B$462)+LOOKUP(L302,ByM!$A$2:$B$462)+LOOKUP(M302,ByM!$A$2:$B$462)+LOOKUP(N302,ByM!$A$2:$B$462)+LOOKUP(O302,ByM!$A$2:$B$462))","v":3}]
[null,"Arma","Lanzamisiles ciclón - perforante",null,8,8,30,3,61,"-","Enorme","-","-","-","-",{"$f":"IF(C303=\"\",\"\",INDEX($Q$3:$Z$12,E303,F303)+G303+H303)","v":66},{"$f":"IF(C303=\"\",\"\",LOOKUP(J303,Area!$A$2:$B$71)+LOOKUP(K303,ByM!$A$2:$B$462)+LOOKUP(L303,ByM!$A$2:$B$462)+LOOKUP(M303,ByM!$A$2:$B$462)+LOOKUP(N303,ByM!$A$2:$B$462)+LOOKUP(O303,ByM!$A$2:$B$462))","v":-5}]
[null,"Arma","Lanzamisiles Hammerfall - súper frag",null,6,6,60,3,89,"R4","Dispersión","Enorme","-","-","-",{"$f":"IF(C304=\"\",\"\",INDEX($Q$3:$Z$12,E304,F304)+G304+H304)","v":86},{"$f":"IF(C304=\"\",\"\",LOOKUP(J304,Area!$A$2:$B$71)+LOOKUP(K304,ByM!$A$2:$B$462)+LOOKUP(L304,ByM!$A$2:$B$462)+LOOKUP(M304,ByM!$A$2:$B$462)+LOOKUP(N304,ByM!$A$2:$B$462)+LOOKUP(O304,ByM!$A$2:$B$462))","v":3}]
[null,"Arma","Lanzamisiles Hammerfall - súper perf",null,9,10,60,3,155,"-","Enorme","-","-","-","-",{"$f":"IF(C305=\"\",\"\",INDEX($Q$3:$Z$12,E305,F305)+G305+H305)","v":160},{"$f":"IF(C305=\"\",\"\",LOOKUP(J305,Area!$A$2:$B$71)+LOOKUP(K305,ByM!$A$2:$B$462)+LOOKUP(L305,ByM!$A$2:$B$462)+LOOKUP(M305,ByM!$A$2:$B$462)+LOOKUP(N305,ByM!$A$2:$B$462)+LOOKUP(O305,ByM!$A$2:$B$462))","v":-5}]
[null,"Arma","Lanzamisiles martilleador",null,9,8,30,5,39,"-","Daño extra","-","-","-","-",{"$f":"IF(C306=\"\",\"\",INDEX($Q$3:$Z$12,E306,F306)+G306+H306)","v":36},{"$f":"IF(C306=\"\",\"\",LOOKUP(J306,Area!$A$2:$B$71)+LOOKUP(K306,ByM!$A$2:$B$462)+LOOKUP(L306,ByM!$A$2:$B$462)+LOOKUP(M306,ByM!$A$2:$B$462)+LOOKUP(N306,ByM!$A$2:$B$462)+LOOKUP(O306,ByM!$A$2:$B$462))","v":3}]
[null,"Arma","Lanzamisiles martillo celestial",null,7,5,25,4,5,"-","Arma ATA","Munición trazadora","Enorme","Mucho más alcance","-",{"$f":"IF(C307=\"\",\"\",INDEX($Q$3:$Z$12,E307,F307)+G307+H307)","v":-9},{"$f":"IF(C307=\"\",\"\",LOOKUP(J307,Area!$A$2:$B$71)+LOOKUP(K307,ByM!$A$2:$B$462)+LOOKUP(L307,ByM!$A$2:$B$462)+LOOKUP(M307,ByM!$A$2:$B$462)+LOOKUP(N307,ByM!$A$2:$B$462)+LOOKUP(O307,ByM!$A$2:$B$462))","v":14}]
[null,"Arma","Lanzamisiles tifón - frag",null,4,4,40,3,62,"R4","Dispersión","Enorme","-","-","-",{"$f":"IF(C308=\"\",\"\",INDEX($Q$3:$Z$12,E308,F308)+G308+H308)","v":59},{"$f":"IF(C308=\"\",\"\",LOOKUP(J308,Area!$A$2:$B$71)+LOOKUP(K308,ByM!$A$2:$B$462)+LOOKUP(L308,ByM!$A$2:$B$462)+LOOKUP(M308,ByM!$A$2:$B$462)+LOOKUP(N308,ByM!$A$2:$B$462)+LOOKUP(O308,ByM!$A$2:$B$462))","v":3}]
[null,"Arma","Lanzamisiles tifón - perforante",null,9,8,40,3,39,"-","Enorme","-","-","-","-",{"$f":"IF(C309=\"\",\"\",INDEX($Q$3:$Z$12,E309,F309)+G309+H309)","v":44},{"$f":"IF(C309=\"\",\"\",LOOKUP(J309,Area!$A$2:$B$71)+LOOKUP(K309,ByM!$A$2:$B$462)+LOOKUP(L309,ByM!$A$2:$B$462)+LOOKUP(M309,ByM!$A$2:$B$462)+LOOKUP(N309,ByM!$A$2:$B$462)+LOOKUP(O309,ByM!$A$2:$B$462))","v":-5}]
[null,"Arma","Lanzamisiles tormentoso",null,9,8,30,5,49,"-","Daño extra","Munición autopropulsada","-","-","-",{"$f":"IF(C310=\"\",\"\",INDEX($Q$3:$Z$12,E310,F310)+G310+H310)","v":36},{"$f":"IF(C310=\"\",\"\",LOOKUP(J310,Area!$A$2:$B$71)+LOOKUP(K310,ByM!$A$2:$B$462)+LOOKUP(L310,ByM!$A$2:$B$462)+LOOKUP(M310,ByM!$A$2:$B$462)+LOOKUP(N310,ByM!$A$2:$B$462)+LOOKUP(O310,ByM!$A$2:$B$462))","v":13}]
[null,"Arma","Lanzamisiles viento de muerte",null,6,5,10,3,16,"R4","Dispersión","Enorme","-","-","-",{"$f":"IF(C311=\"\",\"\",INDEX($Q$3:$Z$12,E311,F311)+G311+H311)","v":13},{"$f":"IF(C311=\"\",\"\",LOOKUP(J311,Area!$A$2:$B$71)+LOOKUP(K311,ByM!$A$2:$B$462)+LOOKUP(L311,ByM!$A$2:$B$462)+LOOKUP(M311,ByM!$A$2:$B$462)+LOOKUP(N311,ByM!$A$2:$B$462)+LOOKUP(O311,ByM!$A$2:$B$462))","v":3}]
[null,"Arma","Lanzamisiles Whirlwind castellano",null,5,6,30,3,102,"R4","Golpe de los dioses","Munición autopropulsada","Dispersión","Enorme","-",{"$f":"IF(C312=\"\",\"\",INDEX($Q$3:$Z$12,E312,F312)+G312+H312)","v":79},{"$f":"IF(C312=\"\",\"\",LOOKUP(J312,Area!$A$2:$B$71)+LOOKUP(K312,ByM!$A$2:$B$462)+LOOKUP(L312,ByM!$A$2:$B$462)+LOOKUP(M312,ByM!$A$2:$B$462)+LOOKUP(N312,ByM!$A$2:$B$462)+LOOKUP(O312,ByM!$A$2:$B$462))","v":23}]
[null,"Arma","Lanzamisiles Whirlwind venganza",null,8,7,30,4,59,"R4","Golpe de los dioses","Munición autopropulsada","Dispersión","Enorme","-",{"$f":"IF(C313=\"\",\"\",INDEX($Q$3:$Z$12,E313,F313)+G313+H313)","v":36},{"$f":"IF(C313=\"\",\"\",LOOKUP(J313,Area!$A$2:$B$71)+LOOKUP(K313,ByM!$A$2:$B$462)+LOOKUP(L313,ByM!$A$2:$B$462)+LOOKUP(M313,ByM!$A$2:$B$462)+LOOKUP(N313,ByM!$A$2:$B$462)+LOOKUP(O313,ByM!$A$2:$B$462))","v":23}]
[null,"Arma","Lanzaresiduos",null,6,5,0,3,16,"G7/2","A 2 manos","Área menguante","Cargadores (X)","Arma complicada","Munición corrosiva",{"$f":"IF(C314=\"\",\"\",INDEX($Q$3:$Z$12,E314,F314)+G314+H314)","v":3},{"$f":"IF(C314=\"\",\"\",LOOKUP(J314,Area!$A$2:$B$71)+LOOKUP(K314,ByM!$A$2:$B$462)+LOOKUP(L314,ByM!$A$2:$B$462)+LOOKUP(M314,ByM!$A$2:$B$462)+LOOKUP(N314,ByM!$A$2:$B$462)+LOOKUP(O314,ByM!$A$2:$B$462))","v":13}]
[null,"Arma","Láseres de combate",null,2,3,15,3,39,"-","Enorme","-","-","-","-",{"$f":"IF(C315=\"\",\"\",INDEX($Q$3:$Z$12,E315,F315)+G315+H315)","v":44},{"$f":"IF(C315=\"\",\"\",LOOKUP(J315,Area!$A$2:$B$71)+LOOKUP(K315,ByM!$A$2:$B$462)+LOOKUP(L315,ByM!$A$2:$B$462)+LOOKUP(M315,ByM!$A$2:$B$462)+LOOKUP(N315,ByM!$A$2:$B$462)+LOOKUP(O315,ByM!$A$2:$B$462))","v":-5}]
[null,"Arma","Látigo",null,3,2,0,3,19,"-","Acobardamiento","Arma muy larga","Munición paralizante","-","-",{"$f":"IF(C316=\"\",\"\",INDEX($Q$3:$Z$12,E316,F316)+G316+H316)","v":4},{"$f":"IF(C316=\"\",\"\",LOOKUP(J316,Area!$A$2:$B$71)+LOOKUP(K316,ByM!$A$2:$B$462)+LOOKUP(L316,ByM!$A$2:$B$462)+LOOKUP(M316,ByM!$A$2:$B$462)+LOOKUP(N316,ByM!$A$2:$B$462)+LOOKUP(O316,ByM!$A$2:$B$462))","v":15}]
[null,"Arma","Látigo de domador",null,3,2,0,3,12,"-","Arma muy larga","Ariete (Bestia de páramo)","-","-","-",{"$f":"IF(C317=\"\",\"\",INDEX($Q$3:$Z$12,E317,F317)+G317+H317)","v":4},{"$f":"IF(C317=\"\",\"\",LOOKUP(J317,Area!$A$2:$B$71)+LOOKUP(K317,ByM!$A$2:$B$462)+LOOKUP(L317,ByM!$A$2:$B$462)+LOOKUP(M317,ByM!$A$2:$B$462)+LOOKUP(N317,ByM!$A$2:$B$462)+LOOKUP(O317,ByM!$A$2:$B$462))","v":8}]
[null,"Arma","Lechazo",null,5,5,5,3,28,"-","Arma corta","Cargadores (X)","Munición incendiaria","-","-",{"$f":"IF(C318=\"\",\"\",INDEX($Q$3:$Z$12,E318,F318)+G318+H318)","v":27},{"$f":"IF(C318=\"\",\"\",LOOKUP(J318,Area!$A$2:$B$71)+LOOKUP(K318,ByM!$A$2:$B$462)+LOOKUP(L318,ByM!$A$2:$B$462)+LOOKUP(M318,ByM!$A$2:$B$462)+LOOKUP(N318,ByM!$A$2:$B$462)+LOOKUP(O318,ByM!$A$2:$B$462))","v":1}]
[null,"Arma","Líquido inflamable",null,4,3,0,2,14,"R1","Arma arrojadiza","Munición incendiaria","Un uso por actuación","-","-",{"$f":"IF(C319=\"\",\"\",INDEX($Q$3:$Z$12,E319,F319)+G319+H319)","v":3},{"$f":"IF(C319=\"\",\"\",LOOKUP(J319,Area!$A$2:$B$71)+LOOKUP(K319,ByM!$A$2:$B$462)+LOOKUP(L319,ByM!$A$2:$B$462)+LOOKUP(M319,ByM!$A$2:$B$462)+LOOKUP(N319,ByM!$A$2:$B$462)+LOOKUP(O319,ByM!$A$2:$B$462))","v":11}]
[null,"Arma","Llave grifa",null,3,2,0,4,8,"-","Daño extra","-","-","-","-",{"$f":"IF(C320=\"\",\"\",INDEX($Q$3:$Z$12,E320,F320)+G320+H320)","v":5},{"$f":"IF(C320=\"\",\"\",LOOKUP(J320,Area!$A$2:$B$71)+LOOKUP(K320,ByM!$A$2:$B$462)+LOOKUP(L320,ByM!$A$2:$B$462)+LOOKUP(M320,ByM!$A$2:$B$462)+LOOKUP(N320,ByM!$A$2:$B$462)+LOOKUP(O320,ByM!$A$2:$B$462))","v":3}]
[null,"Arma","Lucero del alba",null,4,3,0,3,11,"-","Aplasta","Arma complicada","Munición perforante","-","-",{"$f":"IF(C321=\"\",\"\",INDEX($Q$3:$Z$12,E321,F321)+G321+H321)","v":4},{"$f":"IF(C321=\"\",\"\",LOOKUP(J321,Area!$A$2:$B$71)+LOOKUP(K321,ByM!$A$2:$B$462)+LOOKUP(L321,ByM!$A$2:$B$462)+LOOKUP(M321,ByM!$A$2:$B$462)+LOOKUP(N321,ByM!$A$2:$B$462)+LOOKUP(O321,ByM!$A$2:$B$462))","v":7}]
[null,"Arma","Macroincinerador de plasma",null,6,8,30,5,176,"R4","Munición ígnea","Fuego pesado","Peligro","Enorme","Dispersión",{"$f":"IF(C322=\"\",\"\",INDEX($Q$3:$Z$12,E322,F322)+G322+H322)","v":168},{"$f":"IF(C322=\"\",\"\",LOOKUP(J322,Area!$A$2:$B$71)+LOOKUP(K322,ByM!$A$2:$B$462)+LOOKUP(L322,ByM!$A$2:$B$462)+LOOKUP(M322,ByM!$A$2:$B$462)+LOOKUP(N322,ByM!$A$2:$B$462)+LOOKUP(O322,ByM!$A$2:$B$462))","v":8}]
[null,"Arma","Maldicion tenebrosa",null,6,4,10,3,6,"R4","Invocación","Acobardamiento","-","-","-",{"$f":"IF(C323=\"\",\"\",INDEX($Q$3:$Z$12,E323,F323)+G323+H323)","v":-16},{"$f":"IF(C323=\"\",\"\",LOOKUP(J323,Area!$A$2:$B$71)+LOOKUP(K323,ByM!$A$2:$B$462)+LOOKUP(L323,ByM!$A$2:$B$462)+LOOKUP(M323,ByM!$A$2:$B$462)+LOOKUP(N323,ByM!$A$2:$B$462)+LOOKUP(O323,ByM!$A$2:$B$462))","v":22}]
[null,"Arma","Mandoble",null,3,4,0,4,37,"-","A 2 manos","arma de carga","-","-","-",{"$f":"IF(C324=\"\",\"\",INDEX($Q$3:$Z$12,E324,F324)+G324+H324)","v":35},{"$f":"IF(C324=\"\",\"\",LOOKUP(J324,Area!$A$2:$B$71)+LOOKUP(K324,ByM!$A$2:$B$462)+LOOKUP(L324,ByM!$A$2:$B$462)+LOOKUP(M324,ByM!$A$2:$B$462)+LOOKUP(N324,ByM!$A$2:$B$462)+LOOKUP(O324,ByM!$A$2:$B$462))","v":2}]
[null,"Arma","Mangual",null,4,3,0,3,1,"-","Aplasta","Arma complicada","-","-","-",{"$f":"IF(C325=\"\",\"\",INDEX($Q$3:$Z$12,E325,F325)+G325+H325)","v":4},{"$f":"IF(C325=\"\",\"\",LOOKUP(J325,Area!$A$2:$B$71)+LOOKUP(K325,ByM!$A$2:$B$462)+LOOKUP(L325,ByM!$A$2:$B$462)+LOOKUP(M325,ByM!$A$2:$B$462)+LOOKUP(N325,ByM!$A$2:$B$462)+LOOKUP(O325,ByM!$A$2:$B$462))","v":-8}]
[null,"Arma","Manostijeras",null,3,2,0,3,24,"-","Maestro guerrero","-","-","-","-",{"$f":"IF(C326=\"\",\"\",INDEX($Q$3:$Z$12,E326,F326)+G326+H326)","v":4},{"$f":"IF(C326=\"\",\"\",LOOKUP(J326,Area!$A$2:$B$71)+LOOKUP(K326,ByM!$A$2:$B$462)+LOOKUP(L326,ByM!$A$2:$B$462)+LOOKUP(M326,ByM!$A$2:$B$462)+LOOKUP(N326,ByM!$A$2:$B$462)+LOOKUP(O326,ByM!$A$2:$B$462))","v":20}]
[null,"Arma","Martillo de guerra",null,4,3,0,4,2,"-","Aplasta","Arma pesada","-","-","-",{"$f":"IF(C327=\"\",\"\",INDEX($Q$3:$Z$12,E327,F327)+G327+H327)","v":5},{"$f":"IF(C327=\"\",\"\",LOOKUP(J327,Area!$A$2:$B$71)+LOOKUP(K327,ByM!$A$2:$B$462)+LOOKUP(L327,ByM!$A$2:$B$462)+LOOKUP(M327,ByM!$A$2:$B$462)+LOOKUP(N327,ByM!$A$2:$B$462)+LOOKUP(O327,ByM!$A$2:$B$462))","v":-3}]
[null,"Arma","Martillo de trueno",null,5,6,0,3,51,"-","Aplasta","Arma complicada","Arma pesada","munición perforante","-",{"$f":"IF(C328=\"\",\"\",INDEX($Q$3:$Z$12,E328,F328)+G328+H328)","v":49},{"$f":"IF(C328=\"\",\"\",LOOKUP(J328,Area!$A$2:$B$71)+LOOKUP(K328,ByM!$A$2:$B$462)+LOOKUP(L328,ByM!$A$2:$B$462)+LOOKUP(M328,ByM!$A$2:$B$462)+LOOKUP(N328,ByM!$A$2:$B$462)+LOOKUP(O328,ByM!$A$2:$B$462))","v":2}]
[null,"Arma","Martillo de trueno pesado",null,6,7,0,3,63,"-","Aplasta","Arma complicada","Arma pesada","Daño extra","munición perforante",{"$f":"IF(C329=\"\",\"\",INDEX($Q$3:$Z$12,E329,F329)+G329+H329)","v":58},{"$f":"IF(C329=\"\",\"\",LOOKUP(J329,Area!$A$2:$B$71)+LOOKUP(K329,ByM!$A$2:$B$462)+LOOKUP(L329,ByM!$A$2:$B$462)+LOOKUP(M329,ByM!$A$2:$B$462)+LOOKUP(N329,ByM!$A$2:$B$462)+LOOKUP(O329,ByM!$A$2:$B$462))","v":5}]
[null,"Arma","Martillo ligero",null,3,2,0,4,7,"-","Aplasta","-","-","-","-",{"$f":"IF(C330=\"\",\"\",INDEX($Q$3:$Z$12,E330,F330)+G330+H330)","v":5},{"$f":"IF(C330=\"\",\"\",LOOKUP(J330,Area!$A$2:$B$71)+LOOKUP(K330,ByM!$A$2:$B$462)+LOOKUP(L330,ByM!$A$2:$B$462)+LOOKUP(M330,ByM!$A$2:$B$462)+LOOKUP(N330,ByM!$A$2:$B$462)+LOOKUP(O330,ByM!$A$2:$B$462))","v":2}]
[null,"Arma","Martillo sísmico",null,4,4,0,3,9,"-","Aplasta","Arma complicada","Daño extra","Enorme","-",{"$f":"IF(C331=\"\",\"\",INDEX($Q$3:$Z$12,E331,F331)+G331+H331)","v":19},{"$f":"IF(C331=\"\",\"\",LOOKUP(J331,Area!$A$2:$B$71)+LOOKUP(K331,ByM!$A$2:$B$462)+LOOKUP(L331,ByM!$A$2:$B$462)+LOOKUP(M331,ByM!$A$2:$B$462)+LOOKUP(N331,ByM!$A$2:$B$462)+LOOKUP(O331,ByM!$A$2:$B$462))","v":-10}]
[null,"Arma","Martillo tempestad",null,4,4,0,3,6,"-","a 2 manos","Arma complicada","Arma pesada","Aplasta","Daño extra",{"$f":"IF(C332=\"\",\"\",INDEX($Q$3:$Z$12,E332,F332)+G332+H332)","v":19},{"$f":"IF(C332=\"\",\"\",LOOKUP(J332,Area!$A$2:$B$71)+LOOKUP(K332,ByM!$A$2:$B$462)+LOOKUP(L332,ByM!$A$2:$B$462)+LOOKUP(M332,ByM!$A$2:$B$462)+LOOKUP(N332,ByM!$A$2:$B$462)+LOOKUP(O332,ByM!$A$2:$B$462))","v":-13}]
[null,"Arma","Matriz de bólteres pesados Hammerfall",null,6,5,15,3,13,"-","Enorme","-","-","-","-",{"$f":"IF(C333=\"\",\"\",INDEX($Q$3:$Z$12,E333,F333)+G333+H333)","v":18},{"$f":"IF(C333=\"\",\"\",LOOKUP(J333,Area!$A$2:$B$71)+LOOKUP(K333,ByM!$A$2:$B$462)+LOOKUP(L333,ByM!$A$2:$B$462)+LOOKUP(M333,ByM!$A$2:$B$462)+LOOKUP(N333,ByM!$A$2:$B$462)+LOOKUP(O333,ByM!$A$2:$B$462))","v":-5}]
[null,"Arma","Matriz de lanzallamas pes. Hammerfall",null,6,5,10,3,37,"G7/2","Munición incendiaria","Munición ígnea","Dispersión","Enorme","-",{"$f":"IF(C334=\"\",\"\",INDEX($Q$3:$Z$12,E334,F334)+G334+H334)","v":13},{"$f":"IF(C334=\"\",\"\",LOOKUP(J334,Area!$A$2:$B$71)+LOOKUP(K334,ByM!$A$2:$B$462)+LOOKUP(L334,ByM!$A$2:$B$462)+LOOKUP(M334,ByM!$A$2:$B$462)+LOOKUP(N334,ByM!$A$2:$B$462)+LOOKUP(O334,ByM!$A$2:$B$462))","v":24}]
[null,"Arma","Mayal agrícola",null,3,3,0,2,22,"-","A 2 manos","Arma complicada","Munición de parada","Munición perforante","-",{"$f":"IF(C335=\"\",\"\",INDEX($Q$3:$Z$12,E335,F335)+G335+H335)","v":15},{"$f":"IF(C335=\"\",\"\",LOOKUP(J335,Area!$A$2:$B$71)+LOOKUP(K335,ByM!$A$2:$B$462)+LOOKUP(L335,ByM!$A$2:$B$462)+LOOKUP(M335,ByM!$A$2:$B$462)+LOOKUP(N335,ByM!$A$2:$B$462)+LOOKUP(O335,ByM!$A$2:$B$462))","v":7}]
[null,"Arma","Mayal militar",null,4,3,0,3,24,"-","Munición de parada","Munición perforante","-","-","-",{"$f":"IF(C336=\"\",\"\",INDEX($Q$3:$Z$12,E336,F336)+G336+H336)","v":4},{"$f":"IF(C336=\"\",\"\",LOOKUP(J336,Area!$A$2:$B$71)+LOOKUP(K336,ByM!$A$2:$B$462)+LOOKUP(L336,ByM!$A$2:$B$462)+LOOKUP(M336,ByM!$A$2:$B$462)+LOOKUP(N336,ByM!$A$2:$B$462)+LOOKUP(O336,ByM!$A$2:$B$462))","v":20}]
[null,"Arma","Maza",null,3,2,0,3,11,"-","Aplasta","Munición aturdidora","-","-","-",{"$f":"IF(C337=\"\",\"\",INDEX($Q$3:$Z$12,E337,F337)+G337+H337)","v":4},{"$f":"IF(C337=\"\",\"\",LOOKUP(J337,Area!$A$2:$B$71)+LOOKUP(K337,ByM!$A$2:$B$462)+LOOKUP(L337,ByM!$A$2:$B$462)+LOOKUP(M337,ByM!$A$2:$B$462)+LOOKUP(N337,ByM!$A$2:$B$462)+LOOKUP(O337,ByM!$A$2:$B$462))","v":7}]
[null,"Arma","Maza de energía",null,3,3,0,3,33,"-","Aplasta","munición perforante","-","-","-",{"$f":"IF(C338=\"\",\"\",INDEX($Q$3:$Z$12,E338,F338)+G338+H338)","v":16},{"$f":"IF(C338=\"\",\"\",LOOKUP(J338,Area!$A$2:$B$71)+LOOKUP(K338,ByM!$A$2:$B$462)+LOOKUP(L338,ByM!$A$2:$B$462)+LOOKUP(M338,ByM!$A$2:$B$462)+LOOKUP(N338,ByM!$A$2:$B$462)+LOOKUP(O338,ByM!$A$2:$B$462))","v":17}]
[null,"Arma","Maza de guerra",null,4,3,0,4,4,"-","A 2 manos","aplasta","-","-","-",{"$f":"IF(C339=\"\",\"\",INDEX($Q$3:$Z$12,E339,F339)+G339+H339)","v":5},{"$f":"IF(C339=\"\",\"\",LOOKUP(J339,Area!$A$2:$B$71)+LOOKUP(K339,ByM!$A$2:$B$462)+LOOKUP(L339,ByM!$A$2:$B$462)+LOOKUP(M339,ByM!$A$2:$B$462)+LOOKUP(N339,ByM!$A$2:$B$462)+LOOKUP(O339,ByM!$A$2:$B$462))","v":-1}]
[null,"Arma","Maza ligera",null,3,2,0,3,6,"-","Aplasta","-","-","-","-",{"$f":"IF(C340=\"\",\"\",INDEX($Q$3:$Z$12,E340,F340)+G340+H340)","v":4},{"$f":"IF(C340=\"\",\"\",LOOKUP(J340,Area!$A$2:$B$71)+LOOKUP(K340,ByM!$A$2:$B$462)+LOOKUP(L340,ByM!$A$2:$B$462)+LOOKUP(M340,ByM!$A$2:$B$462)+LOOKUP(N340,ByM!$A$2:$B$462)+LOOKUP(O340,ByM!$A$2:$B$462))","v":2}]
[null,"Arma","Maza pesada",null,4,3,0,3,8,"-","A 2 manos","Aplasta","Munición aturdidora","-","-",{"$f":"IF(C341=\"\",\"\",INDEX($Q$3:$Z$12,E341,F341)+G341+H341)","v":4},{"$f":"IF(C341=\"\",\"\",LOOKUP(J341,Area!$A$2:$B$71)+LOOKUP(K341,ByM!$A$2:$B$462)+LOOKUP(L341,ByM!$A$2:$B$462)+LOOKUP(M341,ByM!$A$2:$B$462)+LOOKUP(N341,ByM!$A$2:$B$462)+LOOKUP(O341,ByM!$A$2:$B$462))","v":4}]
[null,"Arma","Maza pesada incrustada",null,3,2,0,3,18,"-","Aplasta","Munición aturdidora","Profesión acróbata","Requiere ( Idos )","-",{"$f":"IF(C342=\"\",\"\",INDEX($Q$3:$Z$12,E342,F342)+G342+H342)","v":4},{"$f":"IF(C342=\"\",\"\",LOOKUP(J342,Area!$A$2:$B$71)+LOOKUP(K342,ByM!$A$2:$B$462)+LOOKUP(L342,ByM!$A$2:$B$462)+LOOKUP(M342,ByM!$A$2:$B$462)+LOOKUP(N342,ByM!$A$2:$B$462)+LOOKUP(O342,ByM!$A$2:$B$462))","v":14}]
[null,"Arma","Maza tribal",null,4,4,0,3,16,"-","Aplasta","Arma pesada","-","-","-",{"$f":"IF(C343=\"\",\"\",INDEX($Q$3:$Z$12,E343,F343)+G343+H343)","v":19},{"$f":"IF(C343=\"\",\"\",LOOKUP(J343,Area!$A$2:$B$71)+LOOKUP(K343,ByM!$A$2:$B$462)+LOOKUP(L343,ByM!$A$2:$B$462)+LOOKUP(M343,ByM!$A$2:$B$462)+LOOKUP(N343,ByM!$A$2:$B$462)+LOOKUP(O343,ByM!$A$2:$B$462))","v":-3}]
[null,"Arma","Mazo",null,3,4,0,3,38,"-","A 2 manos","Aplasta","Munición aturdidora","-","-",{"$f":"IF(C344=\"\",\"\",INDEX($Q$3:$Z$12,E344,F344)+G344+H344)","v":34},{"$f":"IF(C344=\"\",\"\",LOOKUP(J344,Area!$A$2:$B$71)+LOOKUP(K344,ByM!$A$2:$B$462)+LOOKUP(L344,ByM!$A$2:$B$462)+LOOKUP(M344,ByM!$A$2:$B$462)+LOOKUP(N344,ByM!$A$2:$B$462)+LOOKUP(O344,ByM!$A$2:$B$462))","v":4}]
[null,"Arma","Mecadendrita",null,2,1,0,3,8,"-","Veterano","-","-","-","-",{"$f":"IF(C345=\"\",\"\",INDEX($Q$3:$Z$12,E345,F345)+G345+H345)","v":-2},{"$f":"IF(C345=\"\",\"\",LOOKUP(J345,Area!$A$2:$B$71)+LOOKUP(K345,ByM!$A$2:$B$462)+LOOKUP(L345,ByM!$A$2:$B$462)+LOOKUP(M345,ByM!$A$2:$B$462)+LOOKUP(N345,ByM!$A$2:$B$462)+LOOKUP(O345,ByM!$A$2:$B$462))","v":10}]
[null,"Arma","Mega cañón",null,5,6,30,2,88,"-","Enorme","visor N05","-","-","-",{"$f":"IF(C346=\"\",\"\",INDEX($Q$3:$Z$12,E346,F346)+G346+H346)","v":78},{"$f":"IF(C346=\"\",\"\",LOOKUP(J346,Area!$A$2:$B$71)+LOOKUP(K346,ByM!$A$2:$B$462)+LOOKUP(L346,ByM!$A$2:$B$462)+LOOKUP(M346,ByM!$A$2:$B$462)+LOOKUP(N346,ByM!$A$2:$B$462)+LOOKUP(O346,ByM!$A$2:$B$462))","v":10}]
[null,"Arma","Minas de disrupción",null,3,2,0,3,11,"R3","Munición reforzada","Un uso por aventura","-","-","-",{"$f":"IF(C347=\"\",\"\",INDEX($Q$3:$Z$12,E347,F347)+G347+H347)","v":4},{"$f":"IF(C347=\"\",\"\",LOOKUP(J347,Area!$A$2:$B$71)+LOOKUP(K347,ByM!$A$2:$B$462)+LOOKUP(L347,ByM!$A$2:$B$462)+LOOKUP(M347,ByM!$A$2:$B$462)+LOOKUP(N347,ByM!$A$2:$B$462)+LOOKUP(O347,ByM!$A$2:$B$462))","v":7}]
[null,"Arma","Misil cazador-aniquilador",null,9,10,40,8,140,"-","Un uso por aventura","Golpe de los dioses","Enorme","-","-",{"$f":"IF(C348=\"\",\"\",INDEX($Q$3:$Z$12,E348,F348)+G348+H348)","v":145},{"$f":"IF(C348=\"\",\"\",LOOKUP(J348,Area!$A$2:$B$71)+LOOKUP(K348,ByM!$A$2:$B$462)+LOOKUP(L348,ByM!$A$2:$B$462)+LOOKUP(M348,ByM!$A$2:$B$462)+LOOKUP(N348,ByM!$A$2:$B$462)+LOOKUP(O348,ByM!$A$2:$B$462))","v":-5}]
[null,"Arma","Misil cazador-Silencioso",null,9,10,40,8,130,"-","Un uso por aventura","Enorme","-","-","-",{"$f":"IF(C349=\"\",\"\",INDEX($Q$3:$Z$12,E349,F349)+G349+H349)","v":145},{"$f":"IF(C349=\"\",\"\",LOOKUP(J349,Area!$A$2:$B$71)+LOOKUP(K349,ByM!$A$2:$B$462)+LOOKUP(L349,ByM!$A$2:$B$462)+LOOKUP(M349,ByM!$A$2:$B$462)+LOOKUP(N349,ByM!$A$2:$B$462)+LOOKUP(O349,ByM!$A$2:$B$462))","v":-15}]
[null,"Arma","Misil shock",null,4,3,15,3,19,"-","Un uso por aventura","daño extra","requiere (objetivo marcado)","munición paralizante","-",{"$f":"IF(C350=\"\",\"\",INDEX($Q$3:$Z$12,E350,F350)+G350+H350)","v":19},{"$f":"IF(C350=\"\",\"\",LOOKUP(J350,Area!$A$2:$B$71)+LOOKUP(K350,ByM!$A$2:$B$462)+LOOKUP(L350,ByM!$A$2:$B$462)+LOOKUP(M350,ByM!$A$2:$B$462)+LOOKUP(N350,ByM!$A$2:$B$462)+LOOKUP(O350,ByM!$A$2:$B$462))","v":0}]
[null,"Arma","Misil tormenta furiosa",null,9,10,40,8,133,"-","Daño extra","Enorme","Un uso por aventura","-","-",{"$f":"IF(C351=\"\",\"\",INDEX($Q$3:$Z$12,E351,F351)+G351+H351)","v":145},{"$f":"IF(C351=\"\",\"\",LOOKUP(J351,Area!$A$2:$B$71)+LOOKUP(K351,ByM!$A$2:$B$462)+LOOKUP(L351,ByM!$A$2:$B$462)+LOOKUP(M351,ByM!$A$2:$B$462)+LOOKUP(N351,ByM!$A$2:$B$462)+LOOKUP(O351,ByM!$A$2:$B$462))","v":-12}]
[null,"Arma","Mordisco de demonio",null,2,1,0,5,5,"-","Veneno","-","-","-","-",{"$f":"IF(C352=\"\",\"\",INDEX($Q$3:$Z$12,E352,F352)+G352+H352)","v":0},{"$f":"IF(C352=\"\",\"\",LOOKUP(J352,Area!$A$2:$B$71)+LOOKUP(K352,ByM!$A$2:$B$462)+LOOKUP(L352,ByM!$A$2:$B$462)+LOOKUP(M352,ByM!$A$2:$B$462)+LOOKUP(N352,ByM!$A$2:$B$462)+LOOKUP(O352,ByM!$A$2:$B$462))","v":5}]
[null,"Arma","Mordisco de lobo",null,2,2,0,3,14,"-","-","-","-","-","-",{"$f":"IF(C353=\"\",\"\",INDEX($Q$3:$Z$12,E353,F353)+G353+H353)","v":14},{"$f":"IF(C353=\"\",\"\",LOOKUP(J353,Area!$A$2:$B$71)+LOOKUP(K353,ByM!$A$2:$B$462)+LOOKUP(L353,ByM!$A$2:$B$462)+LOOKUP(M353,ByM!$A$2:$B$462)+LOOKUP(N353,ByM!$A$2:$B$462)+LOOKUP(O353,ByM!$A$2:$B$462))","v":0}]
[null,"Arma","Mordisco de Set",null,3,4,10,3,56,"-","Invocación","Veneno","-","-","-",{"$f":"IF(C354=\"\",\"\",INDEX($Q$3:$Z$12,E354,F354)+G354+H354)","v":44},{"$f":"IF(C354=\"\",\"\",LOOKUP(J354,Area!$A$2:$B$71)+LOOKUP(K354,ByM!$A$2:$B$462)+LOOKUP(L354,ByM!$A$2:$B$462)+LOOKUP(M354,ByM!$A$2:$B$462)+LOOKUP(N354,ByM!$A$2:$B$462)+LOOKUP(O354,ByM!$A$2:$B$462))","v":12}]
[null,"Arma","Mordisco despedazador",null,7,8,0,5,81,"-","Munición ultraperforante","-","-","-","-",{"$f":"IF(C355=\"\",\"\",INDEX($Q$3:$Z$12,E355,F355)+G355+H355)","v":71},{"$f":"IF(C355=\"\",\"\",LOOKUP(J355,Area!$A$2:$B$71)+LOOKUP(K355,ByM!$A$2:$B$462)+LOOKUP(L355,ByM!$A$2:$B$462)+LOOKUP(M355,ByM!$A$2:$B$462)+LOOKUP(N355,ByM!$A$2:$B$462)+LOOKUP(O355,ByM!$A$2:$B$462))","v":10}]
[null,"Arma","Mortis Machina",null,3,4,0,3,17,"-","Reliquia","Daño extra (máquinas)","-","-","-",{"$f":"IF(C356=\"\",\"\",INDEX($Q$3:$Z$12,E356,F356)+G356+H356)","v":34},{"$f":"IF(C356=\"\",\"\",LOOKUP(J356,Area!$A$2:$B$71)+LOOKUP(K356,ByM!$A$2:$B$462)+LOOKUP(L356,ByM!$A$2:$B$462)+LOOKUP(M356,ByM!$A$2:$B$462)+LOOKUP(N356,ByM!$A$2:$B$462)+LOOKUP(O356,ByM!$A$2:$B$462))","v":-17}]
[null,"Arma","Motosierra",null,3,3,0,3,1,"-","A 2 manos","Arma complicada","Cargadores (X)","Explota","-",{"$f":"IF(C357=\"\",\"\",INDEX($Q$3:$Z$12,E357,F357)+G357+H357)","v":16},{"$f":"IF(C357=\"\",\"\",LOOKUP(J357,Area!$A$2:$B$71)+LOOKUP(K357,ByM!$A$2:$B$462)+LOOKUP(L357,ByM!$A$2:$B$462)+LOOKUP(M357,ByM!$A$2:$B$462)+LOOKUP(N357,ByM!$A$2:$B$462)+LOOKUP(O357,ByM!$A$2:$B$462))","v":-28}]
[null,"Arma","Mutación cola afilada",null,2,1,0,3,15,"-","Maestro guerrero","Requiere ( Raza mutante )","-","-","-",{"$f":"IF(C358=\"\",\"\",INDEX($Q$3:$Z$12,E358,F358)+G358+H358)","v":-2},{"$f":"IF(C358=\"\",\"\",LOOKUP(J358,Area!$A$2:$B$71)+LOOKUP(K358,ByM!$A$2:$B$462)+LOOKUP(L358,ByM!$A$2:$B$462)+LOOKUP(M358,ByM!$A$2:$B$462)+LOOKUP(N358,ByM!$A$2:$B$462)+LOOKUP(O358,ByM!$A$2:$B$462))","v":17}]
[null,"Arma","Mutación espinas",null,3,2,7,3,28,"-","Maestro guerrero","Requiere ( Raza mutante )","-","-","-",{"$f":"IF(C359=\"\",\"\",INDEX($Q$3:$Z$12,E359,F359)+G359+H359)","v":11},{"$f":"IF(C359=\"\",\"\",LOOKUP(J359,Area!$A$2:$B$71)+LOOKUP(K359,ByM!$A$2:$B$462)+LOOKUP(L359,ByM!$A$2:$B$462)+LOOKUP(M359,ByM!$A$2:$B$462)+LOOKUP(N359,ByM!$A$2:$B$462)+LOOKUP(O359,ByM!$A$2:$B$462))","v":17}]
[null,"Arma","Mutación esputo ácido",null,3,2,2,3,14,"-","Arma corta","Munición corrosiva","Requiere ( Raza mutante )","-","-",{"$f":"IF(C360=\"\",\"\",INDEX($Q$3:$Z$12,E360,F360)+G360+H360)","v":6},{"$f":"IF(C360=\"\",\"\",LOOKUP(J360,Area!$A$2:$B$71)+LOOKUP(K360,ByM!$A$2:$B$462)+LOOKUP(L360,ByM!$A$2:$B$462)+LOOKUP(M360,ByM!$A$2:$B$462)+LOOKUP(N360,ByM!$A$2:$B$462)+LOOKUP(O360,ByM!$A$2:$B$462))","v":8}]
[null,"Arma","Mutación proyectil orgánico",null,4,4,7,3,3,"-","Peligro","Requiere ( Raza mutante )","Sin suerte","-","-",{"$f":"IF(C361=\"\",\"\",INDEX($Q$3:$Z$12,E361,F361)+G361+H361)","v":26},{"$f":"IF(C361=\"\",\"\",LOOKUP(J361,Area!$A$2:$B$71)+LOOKUP(K361,ByM!$A$2:$B$462)+LOOKUP(L361,ByM!$A$2:$B$462)+LOOKUP(M361,ByM!$A$2:$B$462)+LOOKUP(N361,ByM!$A$2:$B$462)+LOOKUP(O361,ByM!$A$2:$B$462))","v":-23}]
[null,"Arma","Navaja",null,1,1,0,2,10,"-","-","-","-","-","-",{"$f":"IF(C362=\"\",\"\",INDEX($Q$3:$Z$12,E362,F362)+G362+H362)","v":10},{"$f":"IF(C362=\"\",\"\",LOOKUP(J362,Area!$A$2:$B$71)+LOOKUP(K362,ByM!$A$2:$B$462)+LOOKUP(L362,ByM!$A$2:$B$462)+LOOKUP(M362,ByM!$A$2:$B$462)+LOOKUP(N362,ByM!$A$2:$B$462)+LOOKUP(O362,ByM!$A$2:$B$462))","v":0}]
[null,"Arma","Ninguna puerta puede detenerme",null,3,3,3,3,36,"-","Invocación","Revientamuros","-","-","-",{"$f":"IF(C363=\"\",\"\",INDEX($Q$3:$Z$12,E363,F363)+G363+H363)","v":19},{"$f":"IF(C363=\"\",\"\",LOOKUP(J363,Area!$A$2:$B$71)+LOOKUP(K363,ByM!$A$2:$B$462)+LOOKUP(L363,ByM!$A$2:$B$462)+LOOKUP(M363,ByM!$A$2:$B$462)+LOOKUP(N363,ByM!$A$2:$B$462)+LOOKUP(O363,ByM!$A$2:$B$462))","v":17}]
[null,"Arma","Nube pestilente",null,3,4,10,3,65,"R3","Invocación","Acobardamiento","Munición buscadora","-","-",{"$f":"IF(C364=\"\",\"\",INDEX($Q$3:$Z$12,E364,F364)+G364+H364)","v":44},{"$f":"IF(C364=\"\",\"\",LOOKUP(J364,Area!$A$2:$B$71)+LOOKUP(K364,ByM!$A$2:$B$462)+LOOKUP(L364,ByM!$A$2:$B$462)+LOOKUP(M364,ByM!$A$2:$B$462)+LOOKUP(N364,ByM!$A$2:$B$462)+LOOKUP(O364,ByM!$A$2:$B$462))","v":21}]
[null,"Arma","Nunchakus",null,3,2,0,3,9,"-","Munición aturdidora","-","-","-","-",{"$f":"IF(C365=\"\",\"\",INDEX($Q$3:$Z$12,E365,F365)+G365+H365)","v":4},{"$f":"IF(C365=\"\",\"\",LOOKUP(J365,Area!$A$2:$B$71)+LOOKUP(K365,ByM!$A$2:$B$462)+LOOKUP(L365,ByM!$A$2:$B$462)+LOOKUP(M365,ByM!$A$2:$B$462)+LOOKUP(N365,ByM!$A$2:$B$462)+LOOKUP(O365,ByM!$A$2:$B$462))","v":5}]
[null,"Arma","Odio puro",null,5,5,0,3,52,"R2","Invocación","Munición paralizante","Odio","Un uso por aventura","-",{"$f":"IF(C366=\"\",\"\",INDEX($Q$3:$Z$12,E366,F366)+G366+H366)","v":22},{"$f":"IF(C366=\"\",\"\",LOOKUP(J366,Area!$A$2:$B$71)+LOOKUP(K366,ByM!$A$2:$B$462)+LOOKUP(L366,ByM!$A$2:$B$462)+LOOKUP(M366,ByM!$A$2:$B$462)+LOOKUP(N366,ByM!$A$2:$B$462)+LOOKUP(O366,ByM!$A$2:$B$462))","v":30}]
[null,"Arma","Orbe explosivo",null,5,5,0,2,19,"R2","Temporizador","Un uso por aventura","-","-","-",{"$f":"IF(C367=\"\",\"\",INDEX($Q$3:$Z$12,E367,F367)+G367+H367)","v":21},{"$f":"IF(C367=\"\",\"\",LOOKUP(J367,Area!$A$2:$B$71)+LOOKUP(K367,ByM!$A$2:$B$462)+LOOKUP(L367,ByM!$A$2:$B$462)+LOOKUP(M367,ByM!$A$2:$B$462)+LOOKUP(N367,ByM!$A$2:$B$462)+LOOKUP(O367,ByM!$A$2:$B$462))","v":-2}]
[null,"Arma","Pica",null,4,4,0,3,6,"-","A 2 manos","Arma complicada","-","-","-",{"$f":"IF(C368=\"\",\"\",INDEX($Q$3:$Z$12,E368,F368)+G368+H368)","v":19},{"$f":"IF(C368=\"\",\"\",LOOKUP(J368,Area!$A$2:$B$71)+LOOKUP(K368,ByM!$A$2:$B$462)+LOOKUP(L368,ByM!$A$2:$B$462)+LOOKUP(M368,ByM!$A$2:$B$462)+LOOKUP(N368,ByM!$A$2:$B$462)+LOOKUP(O368,ByM!$A$2:$B$462))","v":-13}]
[null,"Arma","Pico de guerra",null,3,3,0,4,20,"-","Daño extra","-","-","-","-",{"$f":"IF(C369=\"\",\"\",INDEX($Q$3:$Z$12,E369,F369)+G369+H369)","v":17},{"$f":"IF(C369=\"\",\"\",LOOKUP(J369,Area!$A$2:$B$71)+LOOKUP(K369,ByM!$A$2:$B$462)+LOOKUP(L369,ByM!$A$2:$B$462)+LOOKUP(M369,ByM!$A$2:$B$462)+LOOKUP(N369,ByM!$A$2:$B$462)+LOOKUP(O369,ByM!$A$2:$B$462))","v":3}]
[null,"Arma","Pico de jinete",null,3,2,0,3,7,"-","Daño extra","-","-","-","-",{"$f":"IF(C370=\"\",\"\",INDEX($Q$3:$Z$12,E370,F370)+G370+H370)","v":4},{"$f":"IF(C370=\"\",\"\",LOOKUP(J370,Area!$A$2:$B$71)+LOOKUP(K370,ByM!$A$2:$B$462)+LOOKUP(L370,ByM!$A$2:$B$462)+LOOKUP(M370,ByM!$A$2:$B$462)+LOOKUP(N370,ByM!$A$2:$B$462)+LOOKUP(O370,ByM!$A$2:$B$462))","v":3}]
[null,"Arma","Pipa tarada",null,2,3,5,2,34,"-","Arma corta","-","-","-","-",{"$f":"IF(C371=\"\",\"\",INDEX($Q$3:$Z$12,E371,F371)+G371+H371)","v":33},{"$f":"IF(C371=\"\",\"\",LOOKUP(J371,Area!$A$2:$B$71)+LOOKUP(K371,ByM!$A$2:$B$462)+LOOKUP(L371,ByM!$A$2:$B$462)+LOOKUP(M371,ByM!$A$2:$B$462)+LOOKUP(N371,ByM!$A$2:$B$462)+LOOKUP(O371,ByM!$A$2:$B$462))","v":1}]
[null,"Arma","Pistola",null,3,3,5,3,22,"-","Arma corta","-","-","-","-",{"$f":"IF(C372=\"\",\"\",INDEX($Q$3:$Z$12,E372,F372)+G372+H372)","v":21},{"$f":"IF(C372=\"\",\"\",LOOKUP(J372,Area!$A$2:$B$71)+LOOKUP(K372,ByM!$A$2:$B$462)+LOOKUP(L372,ByM!$A$2:$B$462)+LOOKUP(M372,ByM!$A$2:$B$462)+LOOKUP(N372,ByM!$A$2:$B$462)+LOOKUP(O372,ByM!$A$2:$B$462))","v":1}]
[null,"Arma","Pistola bólter",null,5,4,5,3,10,"-","Arma corta","-","-","-","-",{"$f":"IF(C373=\"\",\"\",INDEX($Q$3:$Z$12,E373,F373)+G373+H373)","v":9},{"$f":"IF(C373=\"\",\"\",LOOKUP(J373,Area!$A$2:$B$71)+LOOKUP(K373,ByM!$A$2:$B$462)+LOOKUP(L373,ByM!$A$2:$B$462)+LOOKUP(M373,ByM!$A$2:$B$462)+LOOKUP(N373,ByM!$A$2:$B$462)+LOOKUP(O373,ByM!$A$2:$B$462))","v":1}]
[null,"Arma","Pistola bólter Absolvor",null,4,5,5,3,47,"-","Arma corta","-","-","-","-",{"$f":"IF(C374=\"\",\"\",INDEX($Q$3:$Z$12,E374,F374)+G374+H374)","v":46},{"$f":"IF(C374=\"\",\"\",LOOKUP(J374,Area!$A$2:$B$71)+LOOKUP(K374,ByM!$A$2:$B$462)+LOOKUP(L374,ByM!$A$2:$B$462)+LOOKUP(M374,ByM!$A$2:$B$462)+LOOKUP(N374,ByM!$A$2:$B$462)+LOOKUP(O374,ByM!$A$2:$B$462))","v":1}]
[null,"Arma","Pistola bólter especial",null,4,4,5,3,28,"-","Arma corta","Daño extra","-","-","-",{"$f":"IF(C375=\"\",\"\",INDEX($Q$3:$Z$12,E375,F375)+G375+H375)","v":24},{"$f":"IF(C375=\"\",\"\",LOOKUP(J375,Area!$A$2:$B$71)+LOOKUP(K375,ByM!$A$2:$B$462)+LOOKUP(L375,ByM!$A$2:$B$462)+LOOKUP(M375,ByM!$A$2:$B$462)+LOOKUP(N375,ByM!$A$2:$B$462)+LOOKUP(O375,ByM!$A$2:$B$462))","v":4}]
[null,"Arma","Pistola bólter especial artesanal",null,4,4,5,3,43,"-","Daño extra","De precisión","Arma corta","-","-",{"$f":"IF(C376=\"\",\"\",INDEX($Q$3:$Z$12,E376,F376)+G376+H376)","v":24},{"$f":"IF(C376=\"\",\"\",LOOKUP(J376,Area!$A$2:$B$71)+LOOKUP(K376,ByM!$A$2:$B$462)+LOOKUP(L376,ByM!$A$2:$B$462)+LOOKUP(M376,ByM!$A$2:$B$462)+LOOKUP(N376,ByM!$A$2:$B$462)+LOOKUP(O376,ByM!$A$2:$B$462))","v":19}]
[null,"Arma","Pistola bólter pesada",null,5,5,5,3,28,"-","Arma corta","-","-","-","-",{"$f":"IF(C377=\"\",\"\",INDEX($Q$3:$Z$12,E377,F377)+G377+H377)","v":27},{"$f":"IF(C377=\"\",\"\",LOOKUP(J377,Area!$A$2:$B$71)+LOOKUP(K377,ByM!$A$2:$B$462)+LOOKUP(L377,ByM!$A$2:$B$462)+LOOKUP(M377,ByM!$A$2:$B$462)+LOOKUP(N377,ByM!$A$2:$B$462)+LOOKUP(O377,ByM!$A$2:$B$462))","v":1}]
[null,"Arma","Pistola congelante - disperso",null,3,3,5,3,44,"R3","Arma corta","Arco concentrado","-","-","-",{"$f":"IF(C378=\"\",\"\",INDEX($Q$3:$Z$12,E378,F378)+G378+H378)","v":21},{"$f":"IF(C378=\"\",\"\",LOOKUP(J378,Area!$A$2:$B$71)+LOOKUP(K378,ByM!$A$2:$B$462)+LOOKUP(L378,ByM!$A$2:$B$462)+LOOKUP(M378,ByM!$A$2:$B$462)+LOOKUP(N378,ByM!$A$2:$B$462)+LOOKUP(O378,ByM!$A$2:$B$462))","v":23}]
[null,"Arma","Pistola de plasma",null,6,6,5,4,41,"-","Daño extra","Munición ígnea","Fuego pesado","Peligro","Arma corta",{"$f":"IF(C379=\"\",\"\",INDEX($Q$3:$Z$12,E379,F379)+G379+H379)","v":32},{"$f":"IF(C379=\"\",\"\",LOOKUP(J379,Area!$A$2:$B$71)+LOOKUP(K379,ByM!$A$2:$B$462)+LOOKUP(L379,ByM!$A$2:$B$462)+LOOKUP(M379,ByM!$A$2:$B$462)+LOOKUP(N379,ByM!$A$2:$B$462)+LOOKUP(O379,ByM!$A$2:$B$462))","v":9}]
[null,"Arma","Pistola grav",null,4,5,5,3,60,"-","Daño extra","Munición reforzada","Arma corta","-","-",{"$f":"IF(C380=\"\",\"\",INDEX($Q$3:$Z$12,E380,F380)+G380+H380)","v":46},{"$f":"IF(C380=\"\",\"\",LOOKUP(J380,Area!$A$2:$B$71)+LOOKUP(K380,ByM!$A$2:$B$462)+LOOKUP(L380,ByM!$A$2:$B$462)+LOOKUP(M380,ByM!$A$2:$B$462)+LOOKUP(N380,ByM!$A$2:$B$462)+LOOKUP(O380,ByM!$A$2:$B$462))","v":14}]
[null,"Arma","Pistola infierno",null,8,7,5,5,33,"-","Arma corta","Munición experimental","-","-","-",{"$f":"IF(C381=\"\",\"\",INDEX($Q$3:$Z$12,E381,F381)+G381+H381)","v":12},{"$f":"IF(C381=\"\",\"\",LOOKUP(J381,Area!$A$2:$B$71)+LOOKUP(K381,ByM!$A$2:$B$462)+LOOKUP(L381,ByM!$A$2:$B$462)+LOOKUP(M381,ByM!$A$2:$B$462)+LOOKUP(N381,ByM!$A$2:$B$462)+LOOKUP(O381,ByM!$A$2:$B$462))","v":21}]
[null,"Arma","Pistola lanzallamas",null,2,2,0,3,31,"G3/2","Munición incendiaria","-","-","-","-",{"$f":"IF(C382=\"\",\"\",INDEX($Q$3:$Z$12,E382,F382)+G382+H382)","v":14},{"$f":"IF(C382=\"\",\"\",LOOKUP(J382,Area!$A$2:$B$71)+LOOKUP(K382,ByM!$A$2:$B$462)+LOOKUP(L382,ByM!$A$2:$B$462)+LOOKUP(M382,ByM!$A$2:$B$462)+LOOKUP(N382,ByM!$A$2:$B$462)+LOOKUP(O382,ByM!$A$2:$B$462))","v":17}]
[null,"Arma","Pistola M4A3",null,4,4,5,2,24,"-","Arma corta","-","-","-","-",{"$f":"IF(C383=\"\",\"\",INDEX($Q$3:$Z$12,E383,F383)+G383+H383)","v":23},{"$f":"IF(C383=\"\",\"\",LOOKUP(J383,Area!$A$2:$B$71)+LOOKUP(K383,ByM!$A$2:$B$462)+LOOKUP(L383,ByM!$A$2:$B$462)+LOOKUP(M383,ByM!$A$2:$B$462)+LOOKUP(N383,ByM!$A$2:$B$462)+LOOKUP(O383,ByM!$A$2:$B$462))","v":1}]
[null,"Arma","Pistola Neovolkite",null,5,5,5,3,31,"-","Daño extra","Arma corta","-","-","-",{"$f":"IF(C384=\"\",\"\",INDEX($Q$3:$Z$12,E384,F384)+G384+H384)","v":27},{"$f":"IF(C384=\"\",\"\",LOOKUP(J384,Area!$A$2:$B$71)+LOOKUP(K384,ByM!$A$2:$B$462)+LOOKUP(L384,ByM!$A$2:$B$462)+LOOKUP(M384,ByM!$A$2:$B$462)+LOOKUP(N384,ByM!$A$2:$B$462)+LOOKUP(O384,ByM!$A$2:$B$462))","v":4}]
[null,"Arma","Pistola reductora",null,3,3,3,3,23,"-","Daño extra","Arma corta","-","-","-",{"$f":"IF(C385=\"\",\"\",INDEX($Q$3:$Z$12,E385,F385)+G385+H385)","v":19},{"$f":"IF(C385=\"\",\"\",LOOKUP(J385,Area!$A$2:$B$71)+LOOKUP(K385,ByM!$A$2:$B$462)+LOOKUP(L385,ByM!$A$2:$B$462)+LOOKUP(M385,ByM!$A$2:$B$462)+LOOKUP(N385,ByM!$A$2:$B$462)+LOOKUP(O385,ByM!$A$2:$B$462))","v":4}]
[null,"Arma","Pistola Rexim RXF-M5 EVA",null,3,3,5,4,23,"-","Arma corta","-","-","-","-",{"$f":"IF(C386=\"\",\"\",INDEX($Q$3:$Z$12,E386,F386)+G386+H386)","v":22},{"$f":"IF(C386=\"\",\"\",LOOKUP(J386,Area!$A$2:$B$71)+LOOKUP(K386,ByM!$A$2:$B$462)+LOOKUP(L386,ByM!$A$2:$B$462)+LOOKUP(M386,ByM!$A$2:$B$462)+LOOKUP(N386,ByM!$A$2:$B$462)+LOOKUP(O386,ByM!$A$2:$B$462))","v":1}]
[null,"Arma","Pistolón",null,4,5,5,5,49,"-","Munición de parada","cargadores (8)","arma corta","-","-",{"$f":"IF(C387=\"\",\"\",INDEX($Q$3:$Z$12,E387,F387)+G387+H387)","v":48},{"$f":"IF(C387=\"\",\"\",LOOKUP(J387,Area!$A$2:$B$71)+LOOKUP(K387,ByM!$A$2:$B$462)+LOOKUP(L387,ByM!$A$2:$B$462)+LOOKUP(M387,ByM!$A$2:$B$462)+LOOKUP(N387,ByM!$A$2:$B$462)+LOOKUP(O387,ByM!$A$2:$B$462))","v":1}]
[null,"Arma","Podadora eléctrica",null,2,2,0,3,9,"-","Cargadores (X)","-","-","-","-",{"$f":"IF(C388=\"\",\"\",INDEX($Q$3:$Z$12,E388,F388)+G388+H388)","v":14},{"$f":"IF(C388=\"\",\"\",LOOKUP(J388,Area!$A$2:$B$71)+LOOKUP(K388,ByM!$A$2:$B$462)+LOOKUP(L388,ByM!$A$2:$B$462)+LOOKUP(M388,ByM!$A$2:$B$462)+LOOKUP(N388,ByM!$A$2:$B$462)+LOOKUP(O388,ByM!$A$2:$B$462))","v":-5}]
[null,"Arma","Polen de loto paralizante",null,3,1,0,2,3,"R1","Arma arrojadiza","Munición paralizante","Un uso por actuación","-","-",{"$f":"IF(C389=\"\",\"\",INDEX($Q$3:$Z$12,E389,F389)+G389+H389)","v":-13},{"$f":"IF(C389=\"\",\"\",LOOKUP(J389,Area!$A$2:$B$71)+LOOKUP(K389,ByM!$A$2:$B$462)+LOOKUP(L389,ByM!$A$2:$B$462)+LOOKUP(M389,ByM!$A$2:$B$462)+LOOKUP(N389,ByM!$A$2:$B$462)+LOOKUP(O389,ByM!$A$2:$B$462))","v":16}]
[null,"Arma","Polen de loto venenoso",null,3,2,0,2,14,"R1","Arma arrojadiza","Un uso por actuación","Veneno","-","-",{"$f":"IF(C390=\"\",\"\",INDEX($Q$3:$Z$12,E390,F390)+G390+H390)","v":3},{"$f":"IF(C390=\"\",\"\",LOOKUP(J390,Area!$A$2:$B$71)+LOOKUP(K390,ByM!$A$2:$B$462)+LOOKUP(L390,ByM!$A$2:$B$462)+LOOKUP(M390,ByM!$A$2:$B$462)+LOOKUP(N390,ByM!$A$2:$B$462)+LOOKUP(O390,ByM!$A$2:$B$462))","v":11}]
[null,"Arma","Polvo cegador",null,3,2,0,2,18,"R2","Acobardamiento","Arma arrojadiza","Munición cegadora","Un uso por actuación","-",{"$f":"IF(C391=\"\",\"\",INDEX($Q$3:$Z$12,E391,F391)+G391+H391)","v":3},{"$f":"IF(C391=\"\",\"\",LOOKUP(J391,Area!$A$2:$B$71)+LOOKUP(K391,ByM!$A$2:$B$462)+LOOKUP(L391,ByM!$A$2:$B$462)+LOOKUP(M391,ByM!$A$2:$B$462)+LOOKUP(N391,ByM!$A$2:$B$462)+LOOKUP(O391,ByM!$A$2:$B$462))","v":15}]
[null,"Arma","Polvo explosivo",null,3,3,0,2,21,"R1","Arma arrojadiza","Un uso por actuación","-","-","-",{"$f":"IF(C392=\"\",\"\",INDEX($Q$3:$Z$12,E392,F392)+G392+H392)","v":15},{"$f":"IF(C392=\"\",\"\",LOOKUP(J392,Area!$A$2:$B$71)+LOOKUP(K392,ByM!$A$2:$B$462)+LOOKUP(L392,ByM!$A$2:$B$462)+LOOKUP(M392,ByM!$A$2:$B$462)+LOOKUP(N392,ByM!$A$2:$B$462)+LOOKUP(O392,ByM!$A$2:$B$462))","v":6}]
[null,"Arma","Por la sangre negra",null,5,5,0,3,34,"R3","Munición incendiaria","-","-","-","-",{"$f":"IF(C393=\"\",\"\",INDEX($Q$3:$Z$12,E393,F393)+G393+H393)","v":22},{"$f":"IF(C393=\"\",\"\",LOOKUP(J393,Area!$A$2:$B$71)+LOOKUP(K393,ByM!$A$2:$B$462)+LOOKUP(L393,ByM!$A$2:$B$462)+LOOKUP(M393,ByM!$A$2:$B$462)+LOOKUP(N393,ByM!$A$2:$B$462)+LOOKUP(O393,ByM!$A$2:$B$462))","v":12}]
[null,"Arma","Porra aturdidora",null,3,3,0,1,19,"-","Munición aturdidora","-","-","-","-",{"$f":"IF(C394=\"\",\"\",INDEX($Q$3:$Z$12,E394,F394)+G394+H394)","v":14},{"$f":"IF(C394=\"\",\"\",LOOKUP(J394,Area!$A$2:$B$71)+LOOKUP(K394,ByM!$A$2:$B$462)+LOOKUP(L394,ByM!$A$2:$B$462)+LOOKUP(M394,ByM!$A$2:$B$462)+LOOKUP(N394,ByM!$A$2:$B$462)+LOOKUP(O394,ByM!$A$2:$B$462))","v":5}]
[null,"Arma","Porra eléctrica",null,3,2,0,4,12,"-","Aplasta","munición de pulso","-","-","-",{"$f":"IF(C395=\"\",\"\",INDEX($Q$3:$Z$12,E395,F395)+G395+H395)","v":5},{"$f":"IF(C395=\"\",\"\",LOOKUP(J395,Area!$A$2:$B$71)+LOOKUP(K395,ByM!$A$2:$B$462)+LOOKUP(L395,ByM!$A$2:$B$462)+LOOKUP(M395,ByM!$A$2:$B$462)+LOOKUP(N395,ByM!$A$2:$B$462)+LOOKUP(O395,ByM!$A$2:$B$462))","v":7}]
[null,"Arma","Puñal",null,1,1,0,3,11,"-","-","-","-","-","-",{"$f":"IF(C396=\"\",\"\",INDEX($Q$3:$Z$12,E396,F396)+G396+H396)","v":11},{"$f":"IF(C396=\"\",\"\",LOOKUP(J396,Area!$A$2:$B$71)+LOOKUP(K396,ByM!$A$2:$B$462)+LOOKUP(L396,ByM!$A$2:$B$462)+LOOKUP(M396,ByM!$A$2:$B$462)+LOOKUP(N396,ByM!$A$2:$B$462)+LOOKUP(O396,ByM!$A$2:$B$462))","v":0}]
[null,"Arma","Puñal marine",null,2,2,0,5,16,"-","-","-","-","-","-",{"$f":"IF(C397=\"\",\"\",INDEX($Q$3:$Z$12,E397,F397)+G397+H397)","v":16},{"$f":"IF(C397=\"\",\"\",LOOKUP(J397,Area!$A$2:$B$71)+LOOKUP(K397,ByM!$A$2:$B$462)+LOOKUP(L397,ByM!$A$2:$B$462)+LOOKUP(M397,ByM!$A$2:$B$462)+LOOKUP(N397,ByM!$A$2:$B$462)+LOOKUP(O397,ByM!$A$2:$B$462))","v":0}]
[null,"Arma","Puño americano",null,1,1,0,5,23,"-","Munición paralizante","-","-","-","-",{"$f":"IF(C398=\"\",\"\",INDEX($Q$3:$Z$12,E398,F398)+G398+H398)","v":13},{"$f":"IF(C398=\"\",\"\",LOOKUP(J398,Area!$A$2:$B$71)+LOOKUP(K398,ByM!$A$2:$B$462)+LOOKUP(L398,ByM!$A$2:$B$462)+LOOKUP(M398,ByM!$A$2:$B$462)+LOOKUP(N398,ByM!$A$2:$B$462)+LOOKUP(O398,ByM!$A$2:$B$462))","v":10}]
[null,"Arma","Puño balístico",null,4,3,0,3,1,"-","Cargadores (X) (1)","-","-","-","-",{"$f":"IF(C399=\"\",\"\",INDEX($Q$3:$Z$12,E399,F399)+G399+H399)","v":4},{"$f":"IF(C399=\"\",\"\",LOOKUP(J399,Area!$A$2:$B$71)+LOOKUP(K399,ByM!$A$2:$B$462)+LOOKUP(L399,ByM!$A$2:$B$462)+LOOKUP(M399,ByM!$A$2:$B$462)+LOOKUP(N399,ByM!$A$2:$B$462)+LOOKUP(O399,ByM!$A$2:$B$462))","v":-5}]
[null,"Arma","Puño de energía",null,3,4,0,3,52,"-","Arma complicada","Daño extra","Munición paralizante","Munición perforante","-",{"$f":"IF(C400=\"\",\"\",INDEX($Q$3:$Z$12,E400,F400)+G400+H400)","v":34},{"$f":"IF(C400=\"\",\"\",LOOKUP(J400,Area!$A$2:$B$71)+LOOKUP(K400,ByM!$A$2:$B$462)+LOOKUP(L400,ByM!$A$2:$B$462)+LOOKUP(M400,ByM!$A$2:$B$462)+LOOKUP(N400,ByM!$A$2:$B$462)+LOOKUP(O400,ByM!$A$2:$B$462))","v":18}]
[null,"Arma","Puño invictor",null,3,4,0,3,42,"-","Daño extra","Enorme","Munición paralizante","-","-",{"$f":"IF(C401=\"\",\"\",INDEX($Q$3:$Z$12,E401,F401)+G401+H401)","v":34},{"$f":"IF(C401=\"\",\"\",LOOKUP(J401,Area!$A$2:$B$71)+LOOKUP(K401,ByM!$A$2:$B$462)+LOOKUP(L401,ByM!$A$2:$B$462)+LOOKUP(M401,ByM!$A$2:$B$462)+LOOKUP(N401,ByM!$A$2:$B$462)+LOOKUP(O401,ByM!$A$2:$B$462))","v":8}]
[null,"Arma","Puño redentor",null,3,4,0,3,42,"-","Daño extra","Enorme","Munición paralizante","-","-",{"$f":"IF(C402=\"\",\"\",INDEX($Q$3:$Z$12,E402,F402)+G402+H402)","v":34},{"$f":"IF(C402=\"\",\"\",LOOKUP(J402,Area!$A$2:$B$71)+LOOKUP(K402,ByM!$A$2:$B$462)+LOOKUP(L402,ByM!$A$2:$B$462)+LOOKUP(M402,ByM!$A$2:$B$462)+LOOKUP(N402,ByM!$A$2:$B$462)+LOOKUP(O402,ByM!$A$2:$B$462))","v":8}]
[null,"Arma","Puño sierra",null,4,5,0,3,44,"-","Arma complicada","Daño extra","Munición paralizante","-","-",{"$f":"IF(C403=\"\",\"\",INDEX($Q$3:$Z$12,E403,F403)+G403+H403)","v":41},{"$f":"IF(C403=\"\",\"\",LOOKUP(J403,Area!$A$2:$B$71)+LOOKUP(K403,ByM!$A$2:$B$462)+LOOKUP(L403,ByM!$A$2:$B$462)+LOOKUP(M403,ByM!$A$2:$B$462)+LOOKUP(N403,ByM!$A$2:$B$462)+LOOKUP(O403,ByM!$A$2:$B$462))","v":3}]
[null,"Arma","Puño sierra de Dreadnought",null,7,7,0,4,40,"-","Daño extra","Munición reforzada (transportes)","Enorme","-","-",{"$f":"IF(C404=\"\",\"\",INDEX($Q$3:$Z$12,E404,F404)+G404+H404)","v":32},{"$f":"IF(C404=\"\",\"\",LOOKUP(J404,Area!$A$2:$B$71)+LOOKUP(K404,ByM!$A$2:$B$462)+LOOKUP(L404,ByM!$A$2:$B$462)+LOOKUP(M404,ByM!$A$2:$B$462)+LOOKUP(N404,ByM!$A$2:$B$462)+LOOKUP(O404,ByM!$A$2:$B$462))","v":8}]
[null,"Arma","Puño T-800",null,2,3,0,7,48,"-","aplasta","daño extra","Munición paralizante","-","-",{"$f":"IF(C405=\"\",\"\",INDEX($Q$3:$Z$12,E405,F405)+G405+H405)","v":33},{"$f":"IF(C405=\"\",\"\",LOOKUP(J405,Area!$A$2:$B$71)+LOOKUP(K405,ByM!$A$2:$B$462)+LOOKUP(L405,ByM!$A$2:$B$462)+LOOKUP(M405,ByM!$A$2:$B$462)+LOOKUP(N405,ByM!$A$2:$B$462)+LOOKUP(O405,ByM!$A$2:$B$462))","v":15}]
[null,"Arma","Purgatorus",null,3,5,12,3,74,"-","Reliquia","Daño extra","-","-","-",{"$f":"IF(C406=\"\",\"\",INDEX($Q$3:$Z$12,E406,F406)+G406+H406)","v":91},{"$f":"IF(C406=\"\",\"\",LOOKUP(J406,Area!$A$2:$B$71)+LOOKUP(K406,ByM!$A$2:$B$462)+LOOKUP(L406,ByM!$A$2:$B$462)+LOOKUP(M406,ByM!$A$2:$B$462)+LOOKUP(N406,ByM!$A$2:$B$462)+LOOKUP(O406,ByM!$A$2:$B$462))","v":-17}]
[null,"Arma","Rabia de Boris",null,2,4,15,3,88,"-","Invocación","-","-","-","-",{"$f":"IF(C407=\"\",\"\",INDEX($Q$3:$Z$12,E407,F407)+G407+H407)","v":81},{"$f":"IF(C407=\"\",\"\",LOOKUP(J407,Area!$A$2:$B$71)+LOOKUP(K407,ByM!$A$2:$B$462)+LOOKUP(L407,ByM!$A$2:$B$462)+LOOKUP(M407,ByM!$A$2:$B$462)+LOOKUP(N407,ByM!$A$2:$B$462)+LOOKUP(O407,ByM!$A$2:$B$462))","v":7}]
[null,"Arma","Radiado",null,4,3,0,3,19,"R4","Área menguante","Área permanente","-","-","-",{"$f":"IF(C408=\"\",\"\",INDEX($Q$3:$Z$12,E408,F408)+G408+H408)","v":4},{"$f":"IF(C408=\"\",\"\",LOOKUP(J408,Area!$A$2:$B$71)+LOOKUP(K408,ByM!$A$2:$B$462)+LOOKUP(L408,ByM!$A$2:$B$462)+LOOKUP(M408,ByM!$A$2:$B$462)+LOOKUP(N408,ByM!$A$2:$B$462)+LOOKUP(O408,ByM!$A$2:$B$462))","v":15}]
[null,"Arma","Rayo congelante",null,4,3,10,3,27,"R2","Munición paralizante","-","-","-","-",{"$f":"IF(C409=\"\",\"\",INDEX($Q$3:$Z$12,E409,F409)+G409+H409)","v":14},{"$f":"IF(C409=\"\",\"\",LOOKUP(J409,Area!$A$2:$B$71)+LOOKUP(K409,ByM!$A$2:$B$462)+LOOKUP(L409,ByM!$A$2:$B$462)+LOOKUP(M409,ByM!$A$2:$B$462)+LOOKUP(N409,ByM!$A$2:$B$462)+LOOKUP(O409,ByM!$A$2:$B$462))","v":13}]
[null,"Arma","Rayo de energía",null,3,5,20,4,100,"-","-","-","-","-","-",{"$f":"IF(C410=\"\",\"\",INDEX($Q$3:$Z$12,E410,F410)+G410+H410)","v":100},{"$f":"IF(C410=\"\",\"\",LOOKUP(J410,Area!$A$2:$B$71)+LOOKUP(K410,ByM!$A$2:$B$462)+LOOKUP(L410,ByM!$A$2:$B$462)+LOOKUP(M410,ByM!$A$2:$B$462)+LOOKUP(N410,ByM!$A$2:$B$462)+LOOKUP(O410,ByM!$A$2:$B$462))","v":0}]
[null,"Arma","Red",null,3,2,0,3,24,"-","Absorción de impacto","Arma arrojadiza","Munición paralizante","Sin daño","-",{"$f":"IF(C411=\"\",\"\",INDEX($Q$3:$Z$12,E411,F411)+G411+H411)","v":4},{"$f":"IF(C411=\"\",\"\",LOOKUP(J411,Area!$A$2:$B$71)+LOOKUP(K411,ByM!$A$2:$B$462)+LOOKUP(L411,ByM!$A$2:$B$462)+LOOKUP(M411,ByM!$A$2:$B$462)+LOOKUP(N411,ByM!$A$2:$B$462)+LOOKUP(O411,ByM!$A$2:$B$462))","v":20}]
[null,"Arma","Relicario radiactivo",null,3,2,0,3,16,"R2","A 2 manos","Área menguante","Área permanente","Munición corrosiva","-",{"$f":"IF(C412=\"\",\"\",INDEX($Q$3:$Z$12,E412,F412)+G412+H412)","v":4},{"$f":"IF(C412=\"\",\"\",LOOKUP(J412,Area!$A$2:$B$71)+LOOKUP(K412,ByM!$A$2:$B$462)+LOOKUP(L412,ByM!$A$2:$B$462)+LOOKUP(M412,ByM!$A$2:$B$462)+LOOKUP(N412,ByM!$A$2:$B$462)+LOOKUP(O412,ByM!$A$2:$B$462))","v":12}]
[null,"Arma","Revolver",null,3,4,5,5,37,"-","Arma corta","Cargadores (8)","-","-","-",{"$f":"IF(C413=\"\",\"\",INDEX($Q$3:$Z$12,E413,F413)+G413+H413)","v":41},{"$f":"IF(C413=\"\",\"\",LOOKUP(J413,Area!$A$2:$B$71)+LOOKUP(K413,ByM!$A$2:$B$462)+LOOKUP(L413,ByM!$A$2:$B$462)+LOOKUP(M413,ByM!$A$2:$B$462)+LOOKUP(N413,ByM!$A$2:$B$462)+LOOKUP(O413,ByM!$A$2:$B$462))","v":-4}]
[null,"Arma","Revolver Magnum .357",null,4,5,10,3,47,"-","Arma corta","Cargadores (6)","-","-","-",{"$f":"IF(C414=\"\",\"\",INDEX($Q$3:$Z$12,E414,F414)+G414+H414)","v":51},{"$f":"IF(C414=\"\",\"\",LOOKUP(J414,Area!$A$2:$B$71)+LOOKUP(K414,ByM!$A$2:$B$462)+LOOKUP(L414,ByM!$A$2:$B$462)+LOOKUP(M414,ByM!$A$2:$B$462)+LOOKUP(N414,ByM!$A$2:$B$462)+LOOKUP(O414,ByM!$A$2:$B$462))","v":-4}]
[null,"Arma","Rifle",null,4,5,20,3,53,"-","A 2 manos","Cargadores (X)","-","-","-",{"$f":"IF(C415=\"\",\"\",INDEX($Q$3:$Z$12,E415,F415)+G415+H415)","v":61},{"$f":"IF(C415=\"\",\"\",LOOKUP(J415,Area!$A$2:$B$71)+LOOKUP(K415,ByM!$A$2:$B$462)+LOOKUP(L415,ByM!$A$2:$B$462)+LOOKUP(M415,ByM!$A$2:$B$462)+LOOKUP(N415,ByM!$A$2:$B$462)+LOOKUP(O415,ByM!$A$2:$B$462))","v":-8}]
[null,"Arma","Rifle automático",null,4,5,20,3,48,"-","A 2 manos","Cargadores (X)","Fuego automático","Arma complicada","-",{"$f":"IF(C416=\"\",\"\",INDEX($Q$3:$Z$12,E416,F416)+G416+H416)","v":61},{"$f":"IF(C416=\"\",\"\",LOOKUP(J416,Area!$A$2:$B$71)+LOOKUP(K416,ByM!$A$2:$B$462)+LOOKUP(L416,ByM!$A$2:$B$462)+LOOKUP(M416,ByM!$A$2:$B$462)+LOOKUP(N416,ByM!$A$2:$B$462)+LOOKUP(O416,ByM!$A$2:$B$462))","v":-13}]
[null,"Arma","Rifle bólter",null,5,4,20,3,29,"-","Fuego a ráfagas","-","-","-","-",{"$f":"IF(C417=\"\",\"\",INDEX($Q$3:$Z$12,E417,F417)+G417+H417)","v":24},{"$f":"IF(C417=\"\",\"\",LOOKUP(J417,Area!$A$2:$B$71)+LOOKUP(K417,ByM!$A$2:$B$462)+LOOKUP(L417,ByM!$A$2:$B$462)+LOOKUP(M417,ByM!$A$2:$B$462)+LOOKUP(N417,ByM!$A$2:$B$462)+LOOKUP(O417,ByM!$A$2:$B$462))","v":5}]
[null,"Arma","Rifle bólter acoplado",null,4,4,20,3,49,"-","Fuego a ráfagas","Más alcance","-","-","-",{"$f":"IF(C418=\"\",\"\",INDEX($Q$3:$Z$12,E418,F418)+G418+H418)","v":39},{"$f":"IF(C418=\"\",\"\",LOOKUP(J418,Area!$A$2:$B$71)+LOOKUP(K418,ByM!$A$2:$B$462)+LOOKUP(L418,ByM!$A$2:$B$462)+LOOKUP(M418,ByM!$A$2:$B$462)+LOOKUP(N418,ByM!$A$2:$B$462)+LOOKUP(O418,ByM!$A$2:$B$462))","v":10}]
[null,"Arma","Rifle bólter automático",null,4,4,20,3,44,"-","Fuego a ráfagas","-","-","-","-",{"$f":"IF(C419=\"\",\"\",INDEX($Q$3:$Z$12,E419,F419)+G419+H419)","v":39},{"$f":"IF(C419=\"\",\"\",LOOKUP(J419,Area!$A$2:$B$71)+LOOKUP(K419,ByM!$A$2:$B$462)+LOOKUP(L419,ByM!$A$2:$B$462)+LOOKUP(M419,ByM!$A$2:$B$462)+LOOKUP(N419,ByM!$A$2:$B$462)+LOOKUP(O419,ByM!$A$2:$B$462))","v":5}]
[null,"Arma","Rifle bólter automático acoplado",null,3,4,20,3,59,"-","Fuego a ráfagas","-","-","-","-",{"$f":"IF(C420=\"\",\"\",INDEX($Q$3:$Z$12,E420,F420)+G420+H420)","v":54},{"$f":"IF(C420=\"\",\"\",LOOKUP(J420,Area!$A$2:$B$71)+LOOKUP(K420,ByM!$A$2:$B$462)+LOOKUP(L420,ByM!$A$2:$B$462)+LOOKUP(M420,ByM!$A$2:$B$462)+LOOKUP(N420,ByM!$A$2:$B$462)+LOOKUP(O420,ByM!$A$2:$B$462))","v":5}]
[null,"Arma","Rifle bólter automático artesanal",null,3,4,20,3,74,"-","Fuego a ráfagas","De precisión","-","-","-",{"$f":"IF(C421=\"\",\"\",INDEX($Q$3:$Z$12,E421,F421)+G421+H421)","v":54},{"$f":"IF(C421=\"\",\"\",LOOKUP(J421,Area!$A$2:$B$71)+LOOKUP(K421,ByM!$A$2:$B$462)+LOOKUP(L421,ByM!$A$2:$B$462)+LOOKUP(M421,ByM!$A$2:$B$462)+LOOKUP(N421,ByM!$A$2:$B$462)+LOOKUP(O421,ByM!$A$2:$B$462))","v":20}]
[null,"Arma","Rifle bólter Bellicos",null,4,5,25,3,61,"-","Reliquia","Mucho más alcance","Fuego a ráfagas","-","-",{"$f":"IF(C422=\"\",\"\",INDEX($Q$3:$Z$12,E422,F422)+G422+H422)","v":66},{"$f":"IF(C422=\"\",\"\",LOOKUP(J422,Area!$A$2:$B$71)+LOOKUP(K422,ByM!$A$2:$B$462)+LOOKUP(L422,ByM!$A$2:$B$462)+LOOKUP(M422,ByM!$A$2:$B$462)+LOOKUP(N422,ByM!$A$2:$B$462)+LOOKUP(O422,ByM!$A$2:$B$462))","v":-5}]
[null,"Arma","Rifle bólter de francoti. - balas ejecutor",null,7,5,25,3,18,"-","Fuego a ráfagas","visor N05","Munición trazadora","-","-",{"$f":"IF(C423=\"\",\"\",INDEX($Q$3:$Z$12,E423,F423)+G423+H423)","v":-10},{"$f":"IF(C423=\"\",\"\",LOOKUP(J423,Area!$A$2:$B$71)+LOOKUP(K423,ByM!$A$2:$B$462)+LOOKUP(L423,ByM!$A$2:$B$462)+LOOKUP(M423,ByM!$A$2:$B$462)+LOOKUP(N423,ByM!$A$2:$B$462)+LOOKUP(O423,ByM!$A$2:$B$462))","v":28}]
[null,"Arma","Rifle bólter de francoti. - balas hiperfrag",null,7,5,25,3,18,"R4","Fuego a ráfagas","visor N05","Dispersión","-","-",{"$f":"IF(C424=\"\",\"\",INDEX($Q$3:$Z$12,E424,F424)+G424+H424)","v":-10},{"$f":"IF(C424=\"\",\"\",LOOKUP(J424,Area!$A$2:$B$71)+LOOKUP(K424,ByM!$A$2:$B$462)+LOOKUP(L424,ByM!$A$2:$B$462)+LOOKUP(M424,ByM!$A$2:$B$462)+LOOKUP(N424,ByM!$A$2:$B$462)+LOOKUP(O424,ByM!$A$2:$B$462))","v":28}]
[null,"Arma","Rifle bólter de francoti. - balas mortis",null,7,5,25,3,13,"-","Fuego a ráfagas","visor N05","Daño extra","-","-",{"$f":"IF(C425=\"\",\"\",INDEX($Q$3:$Z$12,E425,F425)+G425+H425)","v":-10},{"$f":"IF(C425=\"\",\"\",LOOKUP(J425,Area!$A$2:$B$71)+LOOKUP(K425,ByM!$A$2:$B$462)+LOOKUP(L425,ByM!$A$2:$B$462)+LOOKUP(M425,ByM!$A$2:$B$462)+LOOKUP(N425,ByM!$A$2:$B$462)+LOOKUP(O425,ByM!$A$2:$B$462))","v":23}]
[null,"Arma","Rifle bólter ejecutor",null,5,5,25,3,62,"-","Fuego a ráfagas","Mucho más alcance","-","-","-",{"$f":"IF(C426=\"\",\"\",INDEX($Q$3:$Z$12,E426,F426)+G426+H426)","v":47},{"$f":"IF(C426=\"\",\"\",LOOKUP(J426,Area!$A$2:$B$71)+LOOKUP(K426,ByM!$A$2:$B$462)+LOOKUP(L426,ByM!$A$2:$B$462)+LOOKUP(M426,ByM!$A$2:$B$462)+LOOKUP(N426,ByM!$A$2:$B$462)+LOOKUP(O426,ByM!$A$2:$B$462))","v":15}]
[null,"Arma","Rifle bólter pesado",null,5,5,25,3,57,"-","Fuego a ráfagas","Más alcance","-","-","-",{"$f":"IF(C427=\"\",\"\",INDEX($Q$3:$Z$12,E427,F427)+G427+H427)","v":47},{"$f":"IF(C427=\"\",\"\",LOOKUP(J427,Area!$A$2:$B$71)+LOOKUP(K427,ByM!$A$2:$B$462)+LOOKUP(L427,ByM!$A$2:$B$462)+LOOKUP(M427,ByM!$A$2:$B$462)+LOOKUP(N427,ByM!$A$2:$B$462)+LOOKUP(O427,ByM!$A$2:$B$462))","v":10}]
[null,"Arma","Rifle bólter pesado artesanal",null,5,5,25,3,72,"-","Fuego a ráfagas","Más alcance","De precisión","-","-",{"$f":"IF(C428=\"\",\"\",INDEX($Q$3:$Z$12,E428,F428)+G428+H428)","v":47},{"$f":"IF(C428=\"\",\"\",LOOKUP(J428,Area!$A$2:$B$71)+LOOKUP(K428,ByM!$A$2:$B$462)+LOOKUP(L428,ByM!$A$2:$B$462)+LOOKUP(M428,ByM!$A$2:$B$462)+LOOKUP(N428,ByM!$A$2:$B$462)+LOOKUP(O428,ByM!$A$2:$B$462))","v":25}]
[null,"Arma","Rifle bólter silencioso",null,5,4,20,3,42,"-","Fuego a ráfagas","Mucho más alcance","Silenciador","-","-",{"$f":"IF(C429=\"\",\"\",INDEX($Q$3:$Z$12,E429,F429)+G429+H429)","v":24},{"$f":"IF(C429=\"\",\"\",LOOKUP(J429,Area!$A$2:$B$71)+LOOKUP(K429,ByM!$A$2:$B$462)+LOOKUP(L429,ByM!$A$2:$B$462)+LOOKUP(M429,ByM!$A$2:$B$462)+LOOKUP(N429,ByM!$A$2:$B$462)+LOOKUP(O429,ByM!$A$2:$B$462))","v":18}]
[null,"Arma","Rifle bólter silencioso artesanal",null,5,4,20,3,57,"-","Fuego a ráfagas","Mucho más alcance","Silenciador","De precisión","-",{"$f":"IF(C430=\"\",\"\",INDEX($Q$3:$Z$12,E430,F430)+G430+H430)","v":24},{"$f":"IF(C430=\"\",\"\",LOOKUP(J430,Area!$A$2:$B$71)+LOOKUP(K430,ByM!$A$2:$B$462)+LOOKUP(L430,ByM!$A$2:$B$462)+LOOKUP(M430,ByM!$A$2:$B$462)+LOOKUP(N430,ByM!$A$2:$B$462)+LOOKUP(O430,ByM!$A$2:$B$462))","v":33}]
[null,"Arma","Rifle bólter tormenta infernal",null,4,5,25,3,71,"-","Fuego a ráfagas","-","-","-","-",{"$f":"IF(C431=\"\",\"\",INDEX($Q$3:$Z$12,E431,F431)+G431+H431)","v":66},{"$f":"IF(C431=\"\",\"\",LOOKUP(J431,Area!$A$2:$B$71)+LOOKUP(K431,ByM!$A$2:$B$462)+LOOKUP(L431,ByM!$A$2:$B$462)+LOOKUP(M431,ByM!$A$2:$B$462)+LOOKUP(N431,ByM!$A$2:$B$462)+LOOKUP(O431,ByM!$A$2:$B$462))","v":5}]
[null,"Arma","Rifle de francotirador de explorador",null,7,4,20,3,1,"-","Fuego a ráfagas","Mucho más alcance","Visor N05","Daño extra","Niega (guardaespaldas)",{"$f":"IF(C432=\"\",\"\",INDEX($Q$3:$Z$12,E432,F432)+G432+H432)","v":-66},{"$f":"IF(C432=\"\",\"\",LOOKUP(J432,Area!$A$2:$B$71)+LOOKUP(K432,ByM!$A$2:$B$462)+LOOKUP(L432,ByM!$A$2:$B$462)+LOOKUP(M432,ByM!$A$2:$B$462)+LOOKUP(N432,ByM!$A$2:$B$462)+LOOKUP(O432,ByM!$A$2:$B$462))","v":38}]
[null,"Arma","Rifle de francotirador M42A",null,5,5,25,7,61,"-","Munición ultraperforante","-","-","-","-",{"$f":"IF(C433=\"\",\"\",INDEX($Q$3:$Z$12,E433,F433)+G433+H433)","v":51},{"$f":"IF(C433=\"\",\"\",LOOKUP(J433,Area!$A$2:$B$71)+LOOKUP(K433,ByM!$A$2:$B$462)+LOOKUP(L433,ByM!$A$2:$B$462)+LOOKUP(M433,ByM!$A$2:$B$462)+LOOKUP(N433,ByM!$A$2:$B$462)+LOOKUP(O433,ByM!$A$2:$B$462))","v":10}]
[null,"Arma","Rifle de fusión",null,7,7,10,5,68,"-","Munición experimental","Fuego a ráfagas","-","-","-",{"$f":"IF(C434=\"\",\"\",INDEX($Q$3:$Z$12,E434,F434)+G434+H434)","v":43},{"$f":"IF(C434=\"\",\"\",LOOKUP(J434,Area!$A$2:$B$71)+LOOKUP(K434,ByM!$A$2:$B$462)+LOOKUP(L434,ByM!$A$2:$B$462)+LOOKUP(M434,ByM!$A$2:$B$462)+LOOKUP(N434,ByM!$A$2:$B$462)+LOOKUP(O434,ByM!$A$2:$B$462))","v":25}]
[null,"Arma","Rifle de plasma",null,6,6,20,4,60,"-","Daño extra","Munición ígnea","Fuego pesado","Peligro","Fuego a ráfagas",{"$f":"IF(C435=\"\",\"\",INDEX($Q$3:$Z$12,E435,F435)+G435+H435)","v":47},{"$f":"IF(C435=\"\",\"\",LOOKUP(J435,Area!$A$2:$B$71)+LOOKUP(K435,ByM!$A$2:$B$462)+LOOKUP(L435,ByM!$A$2:$B$462)+LOOKUP(M435,ByM!$A$2:$B$462)+LOOKUP(N435,ByM!$A$2:$B$462)+LOOKUP(O435,ByM!$A$2:$B$462))","v":13}]
[null,"Arma","Rifle de pulso pesado Armat M41AE2",null,5,5,25,7,76,"-","Munición perforante","Fuego automático","Fuego pesado","-","-",{"$f":"IF(C436=\"\",\"\",INDEX($Q$3:$Z$12,E436,F436)+G436+H436)","v":51},{"$f":"IF(C436=\"\",\"\",LOOKUP(J436,Area!$A$2:$B$71)+LOOKUP(K436,ByM!$A$2:$B$462)+LOOKUP(L436,ByM!$A$2:$B$462)+LOOKUP(M436,ByM!$A$2:$B$462)+LOOKUP(N436,ByM!$A$2:$B$462)+LOOKUP(O436,ByM!$A$2:$B$462))","v":25}]
[null,"Arma","Rifle de pulsos",null,3,4,20,5,61,"-","Fuego a ráfagas","-","-","-","-",{"$f":"IF(C437=\"\",\"\",INDEX($Q$3:$Z$12,E437,F437)+G437+H437)","v":56},{"$f":"IF(C437=\"\",\"\",LOOKUP(J437,Area!$A$2:$B$71)+LOOKUP(K437,ByM!$A$2:$B$462)+LOOKUP(L437,ByM!$A$2:$B$462)+LOOKUP(M437,ByM!$A$2:$B$462)+LOOKUP(N437,ByM!$A$2:$B$462)+LOOKUP(O437,ByM!$A$2:$B$462))","v":5}]
[null,"Arma","Rifle de pulsos Armat M41A",null,4,4,20,7,53,"-","Fuego a ráfagas","Fuego automático","-","-","-",{"$f":"IF(C438=\"\",\"\",INDEX($Q$3:$Z$12,E438,F438)+G438+H438)","v":43},{"$f":"IF(C438=\"\",\"\",LOOKUP(J438,Area!$A$2:$B$71)+LOOKUP(K438,ByM!$A$2:$B$462)+LOOKUP(L438,ByM!$A$2:$B$462)+LOOKUP(M438,ByM!$A$2:$B$462)+LOOKUP(N438,ByM!$A$2:$B$462)+LOOKUP(O438,ByM!$A$2:$B$462))","v":10}]
[null,"Arma","Rifle de pulsos de asalto AK-4047",null,3,4,15,5,56,"-","Fuego a ráfagas","-","-","-","-",{"$f":"IF(C439=\"\",\"\",INDEX($Q$3:$Z$12,E439,F439)+G439+H439)","v":51},{"$f":"IF(C439=\"\",\"\",LOOKUP(J439,Area!$A$2:$B$71)+LOOKUP(K439,ByM!$A$2:$B$462)+LOOKUP(L439,ByM!$A$2:$B$462)+LOOKUP(M439,ByM!$A$2:$B$462)+LOOKUP(N439,ByM!$A$2:$B$462)+LOOKUP(O439,ByM!$A$2:$B$462))","v":5}]
[null,"Arma","Rifle de pulsos f. plasma Armat XM99A",null,5,5,25,7,71,"-","Fuego a ráfagas","Munición perforante","-","-","-",{"$f":"IF(C440=\"\",\"\",INDEX($Q$3:$Z$12,E440,F440)+G440+H440)","v":51},{"$f":"IF(C440=\"\",\"\",LOOKUP(J440,Area!$A$2:$B$71)+LOOKUP(K440,ByM!$A$2:$B$462)+LOOKUP(L440,ByM!$A$2:$B$462)+LOOKUP(M440,ByM!$A$2:$B$462)+LOOKUP(N440,ByM!$A$2:$B$462)+LOOKUP(O440,ByM!$A$2:$B$462))","v":20}]
[null,"Arma","Rifle desintegrador",null,5,5,10,5,59,"-","Munición experimental","Fuego a ráfagas","-","-","-",{"$f":"IF(C441=\"\",\"\",INDEX($Q$3:$Z$12,E441,F441)+G441+H441)","v":34},{"$f":"IF(C441=\"\",\"\",LOOKUP(J441,Area!$A$2:$B$71)+LOOKUP(K441,ByM!$A$2:$B$462)+LOOKUP(L441,ByM!$A$2:$B$462)+LOOKUP(M441,ByM!$A$2:$B$462)+LOOKUP(N441,ByM!$A$2:$B$462)+LOOKUP(O441,ByM!$A$2:$B$462))","v":25}]
[null,"Arma","Rifle grav",null,5,5,15,3,55,"-","Fuego a ráfagas","Daño extra","Munición reforzada","-","-",{"$f":"IF(C442=\"\",\"\",INDEX($Q$3:$Z$12,E442,F442)+G442+H442)","v":37},{"$f":"IF(C442=\"\",\"\",LOOKUP(J442,Area!$A$2:$B$71)+LOOKUP(K442,ByM!$A$2:$B$462)+LOOKUP(L442,ByM!$A$2:$B$462)+LOOKUP(M442,ByM!$A$2:$B$462)+LOOKUP(N442,ByM!$A$2:$B$462)+LOOKUP(O442,ByM!$A$2:$B$462))","v":18}]
[null,"Arma","Rifle molón",null,4,5,20,3,58,"-","A 2 manos","Cargadores (X)","Fuego automático (Sólo dispara así)","-","-",{"$f":"IF(C443=\"\",\"\",INDEX($Q$3:$Z$12,E443,F443)+G443+H443)","v":61},{"$f":"IF(C443=\"\",\"\",LOOKUP(J443,Area!$A$2:$B$71)+LOOKUP(K443,ByM!$A$2:$B$462)+LOOKUP(L443,ByM!$A$2:$B$462)+LOOKUP(M443,ByM!$A$2:$B$462)+LOOKUP(N443,ByM!$A$2:$B$462)+LOOKUP(O443,ByM!$A$2:$B$462))","v":-3}]
[null,"Arma","Rifle pesado",null,3,5,25,2,108,"-","Fuego sostenido","-","-","-","-",{"$f":"IF(C444=\"\",\"\",INDEX($Q$3:$Z$12,E444,F444)+G444+H444)","v":103},{"$f":"IF(C444=\"\",\"\",LOOKUP(J444,Area!$A$2:$B$71)+LOOKUP(K444,ByM!$A$2:$B$462)+LOOKUP(L444,ByM!$A$2:$B$462)+LOOKUP(M444,ByM!$A$2:$B$462)+LOOKUP(N444,ByM!$A$2:$B$462)+LOOKUP(O444,ByM!$A$2:$B$462))","v":5}]
[null,"Arma","Sable",null,3,3,0,4,30,"-","Absorción de impacto","Daño extra","-","-","-",{"$f":"IF(C445=\"\",\"\",INDEX($Q$3:$Z$12,E445,F445)+G445+H445)","v":17},{"$f":"IF(C445=\"\",\"\",LOOKUP(J445,Area!$A$2:$B$71)+LOOKUP(K445,ByM!$A$2:$B$462)+LOOKUP(L445,ByM!$A$2:$B$462)+LOOKUP(M445,ByM!$A$2:$B$462)+LOOKUP(N445,ByM!$A$2:$B$462)+LOOKUP(O445,ByM!$A$2:$B$462))","v":13}]
[null,"Arma","Sabotaje",null,4,5,0,3,57,"R2","Control remoto","Revientamuros","-","-","-",{"$f":"IF(C446=\"\",\"\",INDEX($Q$3:$Z$12,E446,F446)+G446+H446)","v":41},{"$f":"IF(C446=\"\",\"\",LOOKUP(J446,Area!$A$2:$B$71)+LOOKUP(K446,ByM!$A$2:$B$462)+LOOKUP(L446,ByM!$A$2:$B$462)+LOOKUP(M446,ByM!$A$2:$B$462)+LOOKUP(N446,ByM!$A$2:$B$462)+LOOKUP(O446,ByM!$A$2:$B$462))","v":16}]
[null,"Arma","Sai",null,1,1,0,2,10,"-","-","-","-","-","-",{"$f":"IF(C447=\"\",\"\",INDEX($Q$3:$Z$12,E447,F447)+G447+H447)","v":10},{"$f":"IF(C447=\"\",\"\",LOOKUP(J447,Area!$A$2:$B$71)+LOOKUP(K447,ByM!$A$2:$B$462)+LOOKUP(L447,ByM!$A$2:$B$462)+LOOKUP(M447,ByM!$A$2:$B$462)+LOOKUP(N447,ByM!$A$2:$B$462)+LOOKUP(O447,ByM!$A$2:$B$462))","v":0}]
[null,"Arma","Servobrazo",null,3,3,0,3,11,"-","Un uso por actuación","-","-","-","-",{"$f":"IF(C448=\"\",\"\",INDEX($Q$3:$Z$12,E448,F448)+G448+H448)","v":16},{"$f":"IF(C448=\"\",\"\",LOOKUP(J448,Area!$A$2:$B$71)+LOOKUP(K448,ByM!$A$2:$B$462)+LOOKUP(L448,ByM!$A$2:$B$462)+LOOKUP(M448,ByM!$A$2:$B$462)+LOOKUP(N448,ByM!$A$2:$B$462)+LOOKUP(O448,ByM!$A$2:$B$462))","v":-5}]
[null,"Arma","Silencioso oscuro",null,3,3,15,1,38,"-","Invocación","Acobardamiento","-","-","-",{"$f":"IF(C449=\"\",\"\",INDEX($Q$3:$Z$12,E449,F449)+G449+H449)","v":29},{"$f":"IF(C449=\"\",\"\",LOOKUP(J449,Area!$A$2:$B$71)+LOOKUP(K449,ByM!$A$2:$B$462)+LOOKUP(L449,ByM!$A$2:$B$462)+LOOKUP(M449,ByM!$A$2:$B$462)+LOOKUP(N449,ByM!$A$2:$B$462)+LOOKUP(O449,ByM!$A$2:$B$462))","v":9}]
[null,"Arma","Sistema antiaéreo graniferro",null,3,4,20,3,68,"-","Arma ATA","Munición trazadora","Enorme","Mucho más alcance","-",{"$f":"IF(C450=\"\",\"\",INDEX($Q$3:$Z$12,E450,F450)+G450+H450)","v":54},{"$f":"IF(C450=\"\",\"\",LOOKUP(J450,Area!$A$2:$B$71)+LOOKUP(K450,ByM!$A$2:$B$462)+LOOKUP(L450,ByM!$A$2:$B$462)+LOOKUP(M450,ByM!$A$2:$B$462)+LOOKUP(N450,ByM!$A$2:$B$462)+LOOKUP(O450,ByM!$A$2:$B$462))","v":14}]
[null,"Arma","Soplete de corte",null,4,6,0,3,104,"-","Munición perforante","Cargas (5)","-","-","-",{"$f":"IF(C451=\"\",\"\",INDEX($Q$3:$Z$12,E451,F451)+G451+H451)","v":94},{"$f":"IF(C451=\"\",\"\",LOOKUP(J451,Area!$A$2:$B$71)+LOOKUP(K451,ByM!$A$2:$B$462)+LOOKUP(L451,ByM!$A$2:$B$462)+LOOKUP(M451,ByM!$A$2:$B$462)+LOOKUP(N451,ByM!$A$2:$B$462)+LOOKUP(O451,ByM!$A$2:$B$462))","v":10}]
[null,"Arma","Soplete de plasma",null,6,6,5,4,41,"-","Daño extra","Munición ígnea","Fuego pesado","Peligro","Arma corta",{"$f":"IF(C452=\"\",\"\",INDEX($Q$3:$Z$12,E452,F452)+G452+H452)","v":32},{"$f":"IF(C452=\"\",\"\",LOOKUP(J452,Area!$A$2:$B$71)+LOOKUP(K452,ByM!$A$2:$B$462)+LOOKUP(L452,ByM!$A$2:$B$462)+LOOKUP(M452,ByM!$A$2:$B$462)+LOOKUP(N452,ByM!$A$2:$B$462)+LOOKUP(O452,ByM!$A$2:$B$462))","v":9}]
[null,"Arma","Submachine gun",null,3,4,12,6,59,"-","Fuego a ráfagas","Fuego automático","-","-","-",{"$f":"IF(C453=\"\",\"\",INDEX($Q$3:$Z$12,E453,F453)+G453+H453)","v":49},{"$f":"IF(C453=\"\",\"\",LOOKUP(J453,Area!$A$2:$B$71)+LOOKUP(K453,ByM!$A$2:$B$462)+LOOKUP(L453,ByM!$A$2:$B$462)+LOOKUP(M453,ByM!$A$2:$B$462)+LOOKUP(N453,ByM!$A$2:$B$462)+LOOKUP(O453,ByM!$A$2:$B$462))","v":10}]
[null,"Arma","Taladro sónico",null,6,4,5,7,1,"L5","-","-","-","-","-",{"$f":"IF(C454=\"\",\"\",INDEX($Q$3:$Z$12,E454,F454)+G454+H454)","v":-17},{"$f":"IF(C454=\"\",\"\",LOOKUP(J454,Area!$A$2:$B$71)+LOOKUP(K454,ByM!$A$2:$B$462)+LOOKUP(L454,ByM!$A$2:$B$462)+LOOKUP(M454,ByM!$A$2:$B$462)+LOOKUP(N454,ByM!$A$2:$B$462)+LOOKUP(O454,ByM!$A$2:$B$462))","v":15}]
[null,"Arma","Taladros de asedio",null,5,5,0,3,34,"-","aplasta","enorme","Munición perforante","-","-",{"$f":"IF(C455=\"\",\"\",INDEX($Q$3:$Z$12,E455,F455)+G455+H455)","v":22},{"$f":"IF(C455=\"\",\"\",LOOKUP(J455,Area!$A$2:$B$71)+LOOKUP(K455,ByM!$A$2:$B$462)+LOOKUP(L455,ByM!$A$2:$B$462)+LOOKUP(M455,ByM!$A$2:$B$462)+LOOKUP(N455,ByM!$A$2:$B$462)+LOOKUP(O455,ByM!$A$2:$B$462))","v":12}]
[null,"Arma","Tanto",null,2,2,0,3,19,"-","Afilada","-","-","-","-",{"$f":"IF(C456=\"\",\"\",INDEX($Q$3:$Z$12,E456,F456)+G456+H456)","v":14},{"$f":"IF(C456=\"\",\"\",LOOKUP(J456,Area!$A$2:$B$71)+LOOKUP(K456,ByM!$A$2:$B$462)+LOOKUP(L456,ByM!$A$2:$B$462)+LOOKUP(M456,ByM!$A$2:$B$462)+LOOKUP(N456,ByM!$A$2:$B$462)+LOOKUP(O456,ByM!$A$2:$B$462))","v":5}]
[null,"Arma","Te arrancaré el corazón",null,5,5,5,3,52,"-","Invocación","Daño extra","Munición perforante","-","-",{"$f":"IF(C457=\"\",\"\",INDEX($Q$3:$Z$12,E457,F457)+G457+H457)","v":27},{"$f":"IF(C457=\"\",\"\",LOOKUP(J457,Area!$A$2:$B$71)+LOOKUP(K457,ByM!$A$2:$B$462)+LOOKUP(L457,ByM!$A$2:$B$462)+LOOKUP(M457,ByM!$A$2:$B$462)+LOOKUP(N457,ByM!$A$2:$B$462)+LOOKUP(O457,ByM!$A$2:$B$462))","v":25}]
[null,"Arma","Tomahawk",null,3,2,0,3,14,"-","Arma arrojadiza","-","-","-","-",{"$f":"IF(C458=\"\",\"\",INDEX($Q$3:$Z$12,E458,F458)+G458+H458)","v":4},{"$f":"IF(C458=\"\",\"\",LOOKUP(J458,Area!$A$2:$B$71)+LOOKUP(K458,ByM!$A$2:$B$462)+LOOKUP(L458,ByM!$A$2:$B$462)+LOOKUP(M458,ByM!$A$2:$B$462)+LOOKUP(N458,ByM!$A$2:$B$462)+LOOKUP(O458,ByM!$A$2:$B$462))","v":10}]
[null,"Arma","Tonfa",null,3,2,0,5,6,"-","-","-","-","-","-",{"$f":"IF(C459=\"\",\"\",INDEX($Q$3:$Z$12,E459,F459)+G459+H459)","v":6},{"$f":"IF(C459=\"\",\"\",LOOKUP(J459,Area!$A$2:$B$71)+LOOKUP(K459,ByM!$A$2:$B$462)+LOOKUP(L459,ByM!$A$2:$B$462)+LOOKUP(M459,ByM!$A$2:$B$462)+LOOKUP(N459,ByM!$A$2:$B$462)+LOOKUP(O459,ByM!$A$2:$B$462))","v":0}]
[null,"Arma","Tonfa de policía",null,3,2,0,5,6,"-","-","-","-","-","-",{"$f":"IF(C460=\"\",\"\",INDEX($Q$3:$Z$12,E460,F460)+G460+H460)","v":6},{"$f":"IF(C460=\"\",\"\",LOOKUP(J460,Area!$A$2:$B$71)+LOOKUP(K460,ByM!$A$2:$B$462)+LOOKUP(L460,ByM!$A$2:$B$462)+LOOKUP(M460,ByM!$A$2:$B$462)+LOOKUP(N460,ByM!$A$2:$B$462)+LOOKUP(O460,ByM!$A$2:$B$462))","v":0}]
[null,"Arma","Torbellino",null,3,2,0,3,11,"R3","Cuerpo de luz","Requiere ( Idos )","-","-","-",{"$f":"IF(C461=\"\",\"\",INDEX($Q$3:$Z$12,E461,F461)+G461+H461)","v":4},{"$f":"IF(C461=\"\",\"\",LOOKUP(J461,Area!$A$2:$B$71)+LOOKUP(K461,ByM!$A$2:$B$462)+LOOKUP(L461,ByM!$A$2:$B$462)+LOOKUP(M461,ByM!$A$2:$B$462)+LOOKUP(N461,ByM!$A$2:$B$462)+LOOKUP(O461,ByM!$A$2:$B$462))","v":7}]
[null,"Arma","Tormenta de rayos",null,4,5,20,3,77,"S3","Invocación","-","-","-","-",{"$f":"IF(C462=\"\",\"\",INDEX($Q$3:$Z$12,E462,F462)+G462+H462)","v":61},{"$f":"IF(C462=\"\",\"\",LOOKUP(J462,Area!$A$2:$B$71)+LOOKUP(K462,ByM!$A$2:$B$462)+LOOKUP(L462,ByM!$A$2:$B$462)+LOOKUP(M462,ByM!$A$2:$B$462)+LOOKUP(N462,ByM!$A$2:$B$462)+LOOKUP(O462,ByM!$A$2:$B$462))","v":16}]
[null,"Arma","Torpedo de protones",null,5,4,30,3,11,"-","Un uso por aventura","requiere (objetivo marcado)","campo ciego N2","-","-",{"$f":"IF(C463=\"\",\"\",INDEX($Q$3:$Z$12,E463,F463)+G463+H463)","v":34},{"$f":"IF(C463=\"\",\"\",LOOKUP(J463,Area!$A$2:$B$71)+LOOKUP(K463,ByM!$A$2:$B$462)+LOOKUP(L463,ByM!$A$2:$B$462)+LOOKUP(M463,ByM!$A$2:$B$462)+LOOKUP(N463,ByM!$A$2:$B$462)+LOOKUP(O463,ByM!$A$2:$B$462))","v":-23}]
[null,"Arma","Torreta inteligente UA 571-C",null,3,6,20,7,212,"-","Área de activación","Machina mors","Control remoto","Enorme","Vulnerable",{"$f":"IF(C464=\"\",\"\",INDEX($Q$3:$Z$12,E464,F464)+G464+H464)","v":209},{"$f":"IF(C464=\"\",\"\",LOOKUP(J464,Area!$A$2:$B$71)+LOOKUP(K464,ByM!$A$2:$B$462)+LOOKUP(L464,ByM!$A$2:$B$462)+LOOKUP(M464,ByM!$A$2:$B$462)+LOOKUP(N464,ByM!$A$2:$B$462)+LOOKUP(O464,ByM!$A$2:$B$462))","v":3}]
[null,"Arma","Trabuco",null,4,3,7,3,1,"-","A 2 manos","Cargadores (X)","Arma complicada","-","-",{"$f":"IF(C465=\"\",\"\",INDEX($Q$3:$Z$12,E465,F465)+G465+H465)","v":11},{"$f":"IF(C465=\"\",\"\",LOOKUP(J465,Area!$A$2:$B$71)+LOOKUP(K465,ByM!$A$2:$B$462)+LOOKUP(L465,ByM!$A$2:$B$462)+LOOKUP(M465,ByM!$A$2:$B$462)+LOOKUP(N465,ByM!$A$2:$B$462)+LOOKUP(O465,ByM!$A$2:$B$462))","v":-18}]
[null,"Arma","Trampa de trampero",null,7,3,10,3,1,"R2","Área de activación","Bomba autónoma","Munición paralizante","Un uso por aventura","-",{"$f":"IF(C466=\"\",\"\",INDEX($Q$3:$Z$12,E466,F466)+G466+H466)","v":-162},{"$f":"IF(C466=\"\",\"\",LOOKUP(J466,Area!$A$2:$B$71)+LOOKUP(K466,ByM!$A$2:$B$462)+LOOKUP(L466,ByM!$A$2:$B$462)+LOOKUP(M466,ByM!$A$2:$B$462)+LOOKUP(N466,ByM!$A$2:$B$462)+LOOKUP(O466,ByM!$A$2:$B$462))","v":11}]
[null,"Arma","Tridente",null,4,4,0,4,20,"-","Arma arrojadiza","arma complicada","-","-","-",{"$f":"IF(C467=\"\",\"\",INDEX($Q$3:$Z$12,E467,F467)+G467+H467)","v":20},{"$f":"IF(C467=\"\",\"\",LOOKUP(J467,Area!$A$2:$B$71)+LOOKUP(K467,ByM!$A$2:$B$462)+LOOKUP(L467,ByM!$A$2:$B$462)+LOOKUP(M467,ByM!$A$2:$B$462)+LOOKUP(N467,ByM!$A$2:$B$462)+LOOKUP(O467,ByM!$A$2:$B$462))","v":0}]
[null,"Arma","Tubería de plomo",null,3,2,0,1,4,"-","Aplasta","-","-","-","-",{"$f":"IF(C468=\"\",\"\",INDEX($Q$3:$Z$12,E468,F468)+G468+H468)","v":2},{"$f":"IF(C468=\"\",\"\",LOOKUP(J468,Area!$A$2:$B$71)+LOOKUP(K468,ByM!$A$2:$B$462)+LOOKUP(L468,ByM!$A$2:$B$462)+LOOKUP(M468,ByM!$A$2:$B$462)+LOOKUP(N468,ByM!$A$2:$B$462)+LOOKUP(O468,ByM!$A$2:$B$462))","v":2}]
[null,"Arma","Tulwar",null,4,3,0,3,17,"-","Absorción de impacto","Daño extra","-","-","-",{"$f":"IF(C469=\"\",\"\",INDEX($Q$3:$Z$12,E469,F469)+G469+H469)","v":4},{"$f":"IF(C469=\"\",\"\",LOOKUP(J469,Area!$A$2:$B$71)+LOOKUP(K469,ByM!$A$2:$B$462)+LOOKUP(L469,ByM!$A$2:$B$462)+LOOKUP(M469,ByM!$A$2:$B$462)+LOOKUP(N469,ByM!$A$2:$B$462)+LOOKUP(O469,ByM!$A$2:$B$462))","v":13}]
[null,"Arma","Unidad de incinera. multi direccional",null,4,5,0,7,72,"G5/3","Munición incendiaria","-","-","-","-",{"$f":"IF(C470=\"\",\"\",INDEX($Q$3:$Z$12,E470,F470)+G470+H470)","v":45},{"$f":"IF(C470=\"\",\"\",LOOKUP(J470,Area!$A$2:$B$71)+LOOKUP(K470,ByM!$A$2:$B$462)+LOOKUP(L470,ByM!$A$2:$B$462)+LOOKUP(M470,ByM!$A$2:$B$462)+LOOKUP(N470,ByM!$A$2:$B$462)+LOOKUP(O470,ByM!$A$2:$B$462))","v":27}]
[null,"Arma","Unidad de incineración M240",null,4,3,0,5,26,"G4/2","Munición incendiaria","-","-","-","-",{"$f":"IF(C471=\"\",\"\",INDEX($Q$3:$Z$12,E471,F471)+G471+H471)","v":6},{"$f":"IF(C471=\"\",\"\",LOOKUP(J471,Area!$A$2:$B$71)+LOOKUP(K471,ByM!$A$2:$B$462)+LOOKUP(L471,ByM!$A$2:$B$462)+LOOKUP(M471,ByM!$A$2:$B$462)+LOOKUP(N471,ByM!$A$2:$B$462)+LOOKUP(O471,ByM!$A$2:$B$462))","v":20}]
[null,"Arma","Utacel",null,3,3,0,3,21,"-","Arma de carga","-","-","-","-",{"$f":"IF(C472=\"\",\"\",INDEX($Q$3:$Z$12,E472,F472)+G472+H472)","v":16},{"$f":"IF(C472=\"\",\"\",LOOKUP(J472,Area!$A$2:$B$71)+LOOKUP(K472,ByM!$A$2:$B$462)+LOOKUP(L472,ByM!$A$2:$B$462)+LOOKUP(M472,ByM!$A$2:$B$462)+LOOKUP(N472,ByM!$A$2:$B$462)+LOOKUP(O472,ByM!$A$2:$B$462))","v":5}]
[null,"Arma","Uzi",null,3,4,15,6,62,"-","Fuego a ráfagas","fuego automático","-","-","-",{"$f":"IF(C473=\"\",\"\",INDEX($Q$3:$Z$12,E473,F473)+G473+H473)","v":52},{"$f":"IF(C473=\"\",\"\",LOOKUP(J473,Area!$A$2:$B$71)+LOOKUP(K473,ByM!$A$2:$B$462)+LOOKUP(L473,ByM!$A$2:$B$462)+LOOKUP(M473,ByM!$A$2:$B$462)+LOOKUP(N473,ByM!$A$2:$B$462)+LOOKUP(O473,ByM!$A$2:$B$462))","v":10}]
[null,"Arma","Vaporeta",null,4,3,7,3,19,"L7","A 2 manos","Inflamable","Arma complicada","Munición ígnea","-",{"$f":"IF(C474=\"\",\"\",INDEX($Q$3:$Z$12,E474,F474)+G474+H474)","v":11},{"$f":"IF(C474=\"\",\"\",LOOKUP(J474,Area!$A$2:$B$71)+LOOKUP(K474,ByM!$A$2:$B$462)+LOOKUP(L474,ByM!$A$2:$B$462)+LOOKUP(M474,ByM!$A$2:$B$462)+LOOKUP(N474,ByM!$A$2:$B$462)+LOOKUP(O474,ByM!$A$2:$B$462))","v":8}]
[null,"Arma","Veneno en el viento",null,5,4,10,3,28,"R3","Invocación","-","-","-","-",{"$f":"IF(C475=\"\",\"\",INDEX($Q$3:$Z$12,E475,F475)+G475+H475)","v":14},{"$f":"IF(C475=\"\",\"\",LOOKUP(J475,Area!$A$2:$B$71)+LOOKUP(K475,ByM!$A$2:$B$462)+LOOKUP(L475,ByM!$A$2:$B$462)+LOOKUP(M475,ByM!$A$2:$B$462)+LOOKUP(N475,ByM!$A$2:$B$462)+LOOKUP(O475,ByM!$A$2:$B$462))","v":14}]
[null,"Arma","Y ahora puedes morir",null,4,5,15,3,53,"-","Invocación","Prueba de voluntad","-","-","-",{"$f":"IF(C476=\"\",\"\",INDEX($Q$3:$Z$12,E476,F476)+G476+H476)","v":56},{"$f":"IF(C476=\"\",\"\",LOOKUP(J476,Area!$A$2:$B$71)+LOOKUP(K476,ByM!$A$2:$B$462)+LOOKUP(L476,ByM!$A$2:$B$462)+LOOKUP(M476,ByM!$A$2:$B$462)+LOOKUP(N476,ByM!$A$2:$B$462)+LOOKUP(O476,ByM!$A$2:$B$462))","v":-3}]
[null,"Arma","Zapapico",null,3,4,0,3,24,"-","A 2 manos","Arma complicada","Daño extra","-","-",{"$f":"IF(C477=\"\",\"\",INDEX($Q$3:$Z$12,E477,F477)+G477+H477)","v":34},{"$f":"IF(C477=\"\",\"\",LOOKUP(J477,Area!$A$2:$B$71)+LOOKUP(K477,ByM!$A$2:$B$462)+LOOKUP(L477,ByM!$A$2:$B$462)+LOOKUP(M477,ByM!$A$2:$B$462)+LOOKUP(N477,ByM!$A$2:$B$462)+LOOKUP(O477,ByM!$A$2:$B$462))","v":-10}]
[null,"Arma","Zarpazo",null,3,2,0,4,10,"-","Veneno","-","-","-","-",{"$f":"IF(C478=\"\",\"\",INDEX($Q$3:$Z$12,E478,F478)+G478+H478)","v":5},{"$f":"IF(C478=\"\",\"\",LOOKUP(J478,Area!$A$2:$B$71)+LOOKUP(K478,ByM!$A$2:$B$462)+LOOKUP(L478,ByM!$A$2:$B$462)+LOOKUP(M478,ByM!$A$2:$B$462)+LOOKUP(N478,ByM!$A$2:$B$462)+LOOKUP(O478,ByM!$A$2:$B$462))","v":5}]
[null,"Arma","Zarpazo de gran pantera",null,6,7,0,3,50,"-","Cargadores (X) ( 1)","Requiere ( Raza gran pantera )","-","-","-",{"$f":"IF(C479=\"\",\"\",INDEX($Q$3:$Z$12,E479,F479)+G479+H479)","v":58},{"$f":"IF(C479=\"\",\"\",LOOKUP(J479,Area!$A$2:$B$71)+LOOKUP(K479,ByM!$A$2:$B$462)+LOOKUP(L479,ByM!$A$2:$B$462)+LOOKUP(M479,ByM!$A$2:$B$462)+LOOKUP(N479,ByM!$A$2:$B$462)+LOOKUP(O479,ByM!$A$2:$B$462))","v":-8}]
[null,"Arma","Zasca",null,7,5,17,3,1,"-","Arma pesada","Cargadores (X) ( 1)","Arma complicada","Requiere ( un elemento del escenario tipo farola o señal de tráfico )","-",{"$f":"IF(C480=\"\",\"\",INDEX($Q$3:$Z$12,E480,F480)+G480+H480)","v":-18},{"$f":"IF(C480=\"\",\"\",LOOKUP(J480,Area!$A$2:$B$71)+LOOKUP(K480,ByM!$A$2:$B$462)+LOOKUP(L480,ByM!$A$2:$B$462)+LOOKUP(M480,ByM!$A$2:$B$462)+LOOKUP(N480,ByM!$A$2:$B$462)+LOOKUP(O480,ByM!$A$2:$B$462))","v":-23}]
[null,null,"*"]

{"sheet":"Proteccion","index":2,"n_rows":301,"n_cols":17,"rows_kept":301,"cut":false,"hidden":false,"merged":[]}
[]
[null,"Nombre:","Nombre",null,"Atributos:",null,null,null,null,null,"Coste del arquetipo:"]
[null,"Bonus 1:","-",{"$f":"LOOKUP(C3,ByM!$A$2:$B$462)","v":0},"ENE","DEF","TAL","CAL",null,null,{"$f":"IF(SUM(D3:D7,(F5+G5+H5-E5))<1,1,SUM(D3:D7,(F5+G5+H5-E5)))","v":4},{"$f":"LOOKUP(C3,ByM!$A$2:$C$462)","v":"-"}]
[null,"Bonus 2:","-",{"$f":"LOOKUP(C4,ByM!$A$2:$B$462)","v":0},1,1,1,1,null,null,null,{"$f":"LOOKUP(C4,ByM!$A$2:$C$462)","v":"-"}]
[null,"Bonus 3:","-",{"$f":"LOOKUP(C5,ByM!$A$2:$B$462)","v":0},{"$f":"E4","v":1},{"$f":"F4*3","v":3},{"$f":"G4","v":1},{"$f":"H4","v":1},null,null,null,{"$f":"LOOKUP(C5,ByM!$A$2:$C$462)","v":"-"}]
[null,"Bonus 4:","-",{"$f":"LOOKUP(C6,ByM!$A$2:$B$462)","v":0},null,null,null,null,null,null,null,{"$f":"LOOKUP(C6,ByM!$A$2:$C$462)","v":"-"}]
[null,"Bonus 5:","-",{"$f":"LOOKUP(C7,ByM!$A$2:$B$462)","v":0},null,null,null,null,null,null,null,{"$f":"LOOKUP(C7,ByM!$A$2:$C$462)","v":"-"}]
[null,"Descripción:"]
[]
[]
[]
[]
[]
[null,"Tipo","Nombre","Desc","ENE","DEF","TAL","CAL","PTS",".","Bonus 1","Bonus 2","Bonus 3","Bonus 4","Bonus 5","Pts Atr.","Pts ByM"]
[null,"Protección","Armadura Astartes",null,20,6,6,8,13,null,"Comunicador","-","-","-","-",{"$f":"IF(C15=\"\",\"\",(F15*3)+G15+H15-E15)","v":12},{"$f":"IF(C15=\"\",\"\",LOOKUP(K15,ByM!$A$2:$B$462)+LOOKUP(L15,ByM!$A$2:$B$462)+LOOKUP(M15,ByM!$A$2:$B$462)+LOOKUP(N15,ByM!$A$2:$B$462)+LOOKUP(O15,ByM!$A$2:$B$462))","v":1}]
[null,"Protección","Armadura Centurión",null,30,7,6,9,49,null,"Ajustable","Munición buscadora","Salvaguarda","Servus","Vulnerable",{"$f":"IF(C16=\"\",\"\",(F16*3)+G16+H16-E16)","v":6},{"$f":"IF(C16=\"\",\"\",LOOKUP(K16,ByM!$A$2:$B$462)+LOOKUP(L16,ByM!$A$2:$B$462)+LOOKUP(M16,ByM!$A$2:$B$462)+LOOKUP(N16,ByM!$A$2:$B$462)+LOOKUP(O16,ByM!$A$2:$B$462))","v":43}]
[null,"Protección","Armadura de cuero",null,6,2,4,3,7,null,"-","-","-","-","-",{"$f":"IF(C17=\"\",\"\",(F17*3)+G17+H17-E17)","v":7},{"$f":"IF(C17=\"\",\"\",LOOKUP(K17,ByM!$A$2:$B$462)+LOOKUP(L17,ByM!$A$2:$B$462)+LOOKUP(M17,ByM!$A$2:$B$462)+LOOKUP(N17,ByM!$A$2:$B$462)+LOOKUP(O17,ByM!$A$2:$B$462))","v":0}]
[null,"Protección","Armadura de escamas",null,20,6,4,6,8,null,"-","-","-","-","-",{"$f":"IF(C18=\"\",\"\",(F18*3)+G18+H18-E18)","v":8},{"$f":"IF(C18=\"\",\"\",LOOKUP(K18,ByM!$A$2:$B$462)+LOOKUP(L18,ByM!$A$2:$B$462)+LOOKUP(M18,ByM!$A$2:$B$462)+LOOKUP(N18,ByM!$A$2:$B$462)+LOOKUP(O18,ByM!$A$2:$B$462))","v":0}]
[null,"Protección","Armadura de explorador",null,10,5,6,7,19,null,"Comunicador","-","-","-","-",{"$f":"IF(C19=\"\",\"\",(F19*3)+G19+H19-E19)","v":18},{"$f":"IF(C19=\"\",\"\",LOOKUP(K19,ByM!$A$2:$B$462)+LOOKUP(L19,ByM!$A$2:$B$462)+LOOKUP(M19,ByM!$A$2:$B$462)+LOOKUP(N19,ByM!$A$2:$B$462)+LOOKUP(O19,ByM!$A$2:$B$462))","v":1}]
[null,"Protección","Armadura de guardia",null,9,5,5,5,16,null,"-","-","-","-","-",{"$f":"IF(C20=\"\",\"\",(F20*3)+G20+H20-E20)","v":16},{"$f":"IF(C20=\"\",\"\",LOOKUP(K20,ByM!$A$2:$B$462)+LOOKUP(L20,ByM!$A$2:$B$462)+LOOKUP(M20,ByM!$A$2:$B$462)+LOOKUP(N20,ByM!$A$2:$B$462)+LOOKUP(O20,ByM!$A$2:$B$462))","v":0}]
[null,"Protección","Armadura de malla",null,10,4,4,4,10,null,"-","-","-","-","-",{"$f":"IF(C21=\"\",\"\",(F21*3)+G21+H21-E21)","v":10},{"$f":"IF(C21=\"\",\"\",LOOKUP(K21,ByM!$A$2:$B$462)+LOOKUP(L21,ByM!$A$2:$B$462)+LOOKUP(M21,ByM!$A$2:$B$462)+LOOKUP(N21,ByM!$A$2:$B$462)+LOOKUP(O21,ByM!$A$2:$B$462))","v":0}]
[null,"Protección","Armadura de parches metálicos",null,10,4,4,4,13,null,"Ajustable","-","-","-","-",{"$f":"IF(C22=\"\",\"\",(F22*3)+G22+H22-E22)","v":10},{"$f":"IF(C22=\"\",\"\",LOOKUP(K22,ByM!$A$2:$B$462)+LOOKUP(L22,ByM!$A$2:$B$462)+LOOKUP(M22,ByM!$A$2:$B$462)+LOOKUP(N22,ByM!$A$2:$B$462)+LOOKUP(O22,ByM!$A$2:$B$462))","v":3}]
[null,"Protección","Armadura Exterminador",null,20,7,6,9,10,null,"Comunicador","Lastrado","Mega armadura","Vulnerable","-",{"$f":"IF(C23=\"\",\"\",(F23*3)+G23+H23-E23)","v":16},{"$f":"IF(C23=\"\",\"\",LOOKUP(K23,ByM!$A$2:$B$462)+LOOKUP(L23,ByM!$A$2:$B$462)+LOOKUP(M23,ByM!$A$2:$B$462)+LOOKUP(N23,ByM!$A$2:$B$462)+LOOKUP(O23,ByM!$A$2:$B$462))","v":-6}]
[null,"Protección","Armadura Indómitus",null,30,7,7,9,22,null,"Reliquia","Salvaguarda","Fortuna","-","-",{"$f":"IF(C24=\"\",\"\",(F24*3)+G24+H24-E24)","v":7},{"$f":"IF(C24=\"\",\"\",LOOKUP(K24,ByM!$A$2:$B$462)+LOOKUP(L24,ByM!$A$2:$B$462)+LOOKUP(M24,ByM!$A$2:$B$462)+LOOKUP(N24,ByM!$A$2:$B$462)+LOOKUP(O24,ByM!$A$2:$B$462))","v":15}]
[null,"Protección","Armadura ligera",null,15,3,4,4,5,null,"Ajustable","-","-","-","-",{"$f":"IF(C25=\"\",\"\",(F25*3)+G25+H25-E25)","v":2},{"$f":"IF(C25=\"\",\"\",LOOKUP(K25,ByM!$A$2:$B$462)+LOOKUP(L25,ByM!$A$2:$B$462)+LOOKUP(M25,ByM!$A$2:$B$462)+LOOKUP(N25,ByM!$A$2:$B$462)+LOOKUP(O25,ByM!$A$2:$B$462))","v":3}]
[null,"Protección","Armadura ligera M3",null,10,3,4,3,10,null,"Ajustable","Comunicador","-","-","-",{"$f":"IF(C26=\"\",\"\",(F26*3)+G26+H26-E26)","v":6},{"$f":"IF(C26=\"\",\"\",LOOKUP(K26,ByM!$A$2:$B$462)+LOOKUP(L26,ByM!$A$2:$B$462)+LOOKUP(M26,ByM!$A$2:$B$462)+LOOKUP(N26,ByM!$A$2:$B$462)+LOOKUP(O26,ByM!$A$2:$B$462))","v":4}]
[null,"Protección","Armadura marciana",null,10,4,4,6,22,null,"Absorción de impacto","-","-","-","-",{"$f":"IF(C27=\"\",\"\",(F27*3)+G27+H27-E27)","v":12},{"$f":"IF(C27=\"\",\"\",LOOKUP(K27,ByM!$A$2:$B$462)+LOOKUP(L27,ByM!$A$2:$B$462)+LOOKUP(M27,ByM!$A$2:$B$462)+LOOKUP(N27,ByM!$A$2:$B$462)+LOOKUP(O27,ByM!$A$2:$B$462))","v":10}]
[null,"Protección","Armadura marciana pesada",null,10,4,4,8,24,null,"Escudo de energía avanzado N01","-","-","-","-",{"$f":"IF(C28=\"\",\"\",(F28*3)+G28+H28-E28)","v":14},{"$f":"IF(C28=\"\",\"\",LOOKUP(K28,ByM!$A$2:$B$462)+LOOKUP(L28,ByM!$A$2:$B$462)+LOOKUP(M28,ByM!$A$2:$B$462)+LOOKUP(N28,ByM!$A$2:$B$462)+LOOKUP(O28,ByM!$A$2:$B$462))","v":10}]
[null,"Protección","Armadura MK X Gravis",null,20,6,6,8,38,null,"Comunicador","Lastrado","Fortuna","Refuerzo","-",{"$f":"IF(C29=\"\",\"\",(F29*3)+G29+H29-E29)","v":12},{"$f":"IF(C29=\"\",\"\",LOOKUP(K29,ByM!$A$2:$B$462)+LOOKUP(L29,ByM!$A$2:$B$462)+LOOKUP(M29,ByM!$A$2:$B$462)+LOOKUP(N29,ByM!$A$2:$B$462)+LOOKUP(O29,ByM!$A$2:$B$462))","v":26}]
[null,"Protección","Armadura muy pesada",null,25,5,4,8,2,null,"-","-","-","-","-",{"$f":"IF(C30=\"\",\"\",(F30*3)+G30+H30-E30)","v":2},{"$f":"IF(C30=\"\",\"\",LOOKUP(K30,ByM!$A$2:$B$462)+LOOKUP(L30,ByM!$A$2:$B$462)+LOOKUP(M30,ByM!$A$2:$B$462)+LOOKUP(N30,ByM!$A$2:$B$462)+LOOKUP(O30,ByM!$A$2:$B$462))","v":0}]
[null,"Protección","Armadura muy pesada grande",null,25,5,5,8,3,null,"-","-","-","-","-",{"$f":"IF(C31=\"\",\"\",(F31*3)+G31+H31-E31)","v":3},{"$f":"IF(C31=\"\",\"\",LOOKUP(K31,ByM!$A$2:$B$462)+LOOKUP(L31,ByM!$A$2:$B$462)+LOOKUP(M31,ByM!$A$2:$B$462)+LOOKUP(N31,ByM!$A$2:$B$462)+LOOKUP(O31,ByM!$A$2:$B$462))","v":0}]
[null,"Protección","Armadura personal M3",null,10,5,4,3,16,null,"Ajustable","Comunicador","-","-","-",{"$f":"IF(C32=\"\",\"\",(F32*3)+G32+H32-E32)","v":12},{"$f":"IF(C32=\"\",\"\",LOOKUP(K32,ByM!$A$2:$B$462)+LOOKUP(L32,ByM!$A$2:$B$462)+LOOKUP(M32,ByM!$A$2:$B$462)+LOOKUP(N32,ByM!$A$2:$B$462)+LOOKUP(O32,ByM!$A$2:$B$462))","v":4}]
[null,"Protección","Armadura pesada",null,20,4,4,6,2,null,"-","-","-","-","-",{"$f":"IF(C33=\"\",\"\",(F33*3)+G33+H33-E33)","v":2},{"$f":"IF(C33=\"\",\"\",LOOKUP(K33,ByM!$A$2:$B$462)+LOOKUP(L33,ByM!$A$2:$B$462)+LOOKUP(M33,ByM!$A$2:$B$462)+LOOKUP(N33,ByM!$A$2:$B$462)+LOOKUP(O33,ByM!$A$2:$B$462))","v":0}]
[null,"Protección","Armadura pesada grande",null,20,4,5,6,3,null,"-","-","-","-","-",{"$f":"IF(C34=\"\",\"\",(F34*3)+G34+H34-E34)","v":3},{"$f":"IF(C34=\"\",\"\",LOOKUP(K34,ByM!$A$2:$B$462)+LOOKUP(L34,ByM!$A$2:$B$462)+LOOKUP(M34,ByM!$A$2:$B$462)+LOOKUP(N34,ByM!$A$2:$B$462)+LOOKUP(O34,ByM!$A$2:$B$462))","v":0}]
[null,"Protección","Armadura Phobos",null,20,6,6,8,36,null,"Camuflaje","Comunicador","Radar","Visor N03","-",{"$f":"IF(C35=\"\",\"\",(F35*3)+G35+H35-E35)","v":12},{"$f":"IF(C35=\"\",\"\",LOOKUP(K35,ByM!$A$2:$B$462)+LOOKUP(L35,ByM!$A$2:$B$462)+LOOKUP(M35,ByM!$A$2:$B$462)+LOOKUP(N35,ByM!$A$2:$B$462)+LOOKUP(O35,ByM!$A$2:$B$462))","v":24}]
[null,"Protección","Armadura Primaris",null,20,6,7,9,15,null,"Comunicador","-","-","-","-",{"$f":"IF(C36=\"\",\"\",(F36*3)+G36+H36-E36)","v":14},{"$f":"IF(C36=\"\",\"\",LOOKUP(K36,ByM!$A$2:$B$462)+LOOKUP(L36,ByM!$A$2:$B$462)+LOOKUP(M36,ByM!$A$2:$B$462)+LOOKUP(N36,ByM!$A$2:$B$462)+LOOKUP(O36,ByM!$A$2:$B$462))","v":1}]
[null,"Protección","Armadura táctica marine",null,5,4,4,4,16,null,"Comunicador","-","-","-","-",{"$f":"IF(C37=\"\",\"\",(F37*3)+G37+H37-E37)","v":15},{"$f":"IF(C37=\"\",\"\",LOOKUP(K37,ByM!$A$2:$B$462)+LOOKUP(L37,ByM!$A$2:$B$462)+LOOKUP(M37,ByM!$A$2:$B$462)+LOOKUP(N37,ByM!$A$2:$B$462)+LOOKUP(O37,ByM!$A$2:$B$462))","v":1}]
[null,"Protección","Armadura Tecnomarine",null,30,7,7,9,23,null,"Ultraligero","Vulnerable","Comunicador","-","-",{"$f":"IF(C38=\"\",\"\",(F38*3)+G38+H38-E38)","v":7},{"$f":"IF(C38=\"\",\"\",LOOKUP(K38,ByM!$A$2:$B$462)+LOOKUP(L38,ByM!$A$2:$B$462)+LOOKUP(M38,ByM!$A$2:$B$462)+LOOKUP(N38,ByM!$A$2:$B$462)+LOOKUP(O38,ByM!$A$2:$B$462))","v":16}]
[null,"Protección","Armazón subdérmico",null,0,6,6,6,30,null,"-","-","-","-","-",{"$f":"IF(C39=\"\",\"\",(F39*3)+G39+H39-E39)","v":30},{"$f":"IF(C39=\"\",\"\",LOOKUP(K39,ByM!$A$2:$B$462)+LOOKUP(L39,ByM!$A$2:$B$462)+LOOKUP(M39,ByM!$A$2:$B$462)+LOOKUP(N39,ByM!$A$2:$B$462)+LOOKUP(O39,ByM!$A$2:$B$462))","v":0}]
[null,"Protección","Armazón T-800",null,0,8,7,10,41,null,"-","-","-","-","-",{"$f":"IF(C40=\"\",\"\",(F40*3)+G40+H40-E40)","v":41},{"$f":"IF(C40=\"\",\"\",LOOKUP(K40,ByM!$A$2:$B$462)+LOOKUP(L40,ByM!$A$2:$B$462)+LOOKUP(M40,ByM!$A$2:$B$462)+LOOKUP(N40,ByM!$A$2:$B$462)+LOOKUP(O40,ByM!$A$2:$B$462))","v":0}]
[null,"Protección","Barda ligera",null,5,1,7,5,13,null,"Ajustable","-","-","-","-",{"$f":"IF(C41=\"\",\"\",(F41*3)+G41+H41-E41)","v":10},{"$f":"IF(C41=\"\",\"\",LOOKUP(K41,ByM!$A$2:$B$462)+LOOKUP(L41,ByM!$A$2:$B$462)+LOOKUP(M41,ByM!$A$2:$B$462)+LOOKUP(N41,ByM!$A$2:$B$462)+LOOKUP(O41,ByM!$A$2:$B$462))","v":3}]
[null,"Protección","Barda muy pesada",null,20,4,7,7,9,null,"Ajustable","-","-","-","-",{"$f":"IF(C42=\"\",\"\",(F42*3)+G42+H42-E42)","v":6},{"$f":"IF(C42=\"\",\"\",LOOKUP(K42,ByM!$A$2:$B$462)+LOOKUP(L42,ByM!$A$2:$B$462)+LOOKUP(M42,ByM!$A$2:$B$462)+LOOKUP(N42,ByM!$A$2:$B$462)+LOOKUP(O42,ByM!$A$2:$B$462))","v":3}]
[null,"Protección","Barda pesada",null,10,2,7,6,12,null,"Ajustable","-","-","-","-",{"$f":"IF(C43=\"\",\"\",(F43*3)+G43+H43-E43)","v":9},{"$f":"IF(C43=\"\",\"\",LOOKUP(K43,ByM!$A$2:$B$462)+LOOKUP(L43,ByM!$A$2:$B$462)+LOOKUP(M43,ByM!$A$2:$B$462)+LOOKUP(N43,ByM!$A$2:$B$462)+LOOKUP(O43,ByM!$A$2:$B$462))","v":3}]
[null,"Protección","Botas de seguridad",null,3,1,5,2,7,null,"-","-","-","-","-",{"$f":"IF(C44=\"\",\"\",(F44*3)+G44+H44-E44)","v":7},{"$f":"IF(C44=\"\",\"\",LOOKUP(K44,ByM!$A$2:$B$462)+LOOKUP(L44,ByM!$A$2:$B$462)+LOOKUP(M44,ByM!$A$2:$B$462)+LOOKUP(N44,ByM!$A$2:$B$462)+LOOKUP(O44,ByM!$A$2:$B$462))","v":0}]
[null,"Protección","Botas de seguridad pequeñas",null,3,1,3,2,5,null,"-","-","-","-","-",{"$f":"IF(C45=\"\",\"\",(F45*3)+G45+H45-E45)","v":5},{"$f":"IF(C45=\"\",\"\",LOOKUP(K45,ByM!$A$2:$B$462)+LOOKUP(L45,ByM!$A$2:$B$462)+LOOKUP(M45,ByM!$A$2:$B$462)+LOOKUP(N45,ByM!$A$2:$B$462)+LOOKUP(O45,ByM!$A$2:$B$462))","v":0}]
[null,"Protección","Brazo mecánico",null,0,2,4,2,12,null,"-","-","-","-","-",{"$f":"IF(C46=\"\",\"\",(F46*3)+G46+H46-E46)","v":12},{"$f":"IF(C46=\"\",\"\",LOOKUP(K46,ByM!$A$2:$B$462)+LOOKUP(L46,ByM!$A$2:$B$462)+LOOKUP(M46,ByM!$A$2:$B$462)+LOOKUP(N46,ByM!$A$2:$B$462)+LOOKUP(O46,ByM!$A$2:$B$462))","v":0}]
[null,"Protección","Capa de ratas",null,5,3,4,3,11,null,"-","-","-","-","-",{"$f":"IF(C47=\"\",\"\",(F47*3)+G47+H47-E47)","v":11},{"$f":"IF(C47=\"\",\"\",LOOKUP(K47,ByM!$A$2:$B$462)+LOOKUP(L47,ByM!$A$2:$B$462)+LOOKUP(M47,ByM!$A$2:$B$462)+LOOKUP(N47,ByM!$A$2:$B$462)+LOOKUP(O47,ByM!$A$2:$B$462))","v":0}]
[null,"Protección","Carcasa",null,15,3,4,3,14,null,"Invulnerable (fuego)","Retirada ordenada","-","-","-",{"$f":"IF(C48=\"\",\"\",(F48*3)+G48+H48-E48)","v":1},{"$f":"IF(C48=\"\",\"\",LOOKUP(K48,ByM!$A$2:$B$462)+LOOKUP(L48,ByM!$A$2:$B$462)+LOOKUP(M48,ByM!$A$2:$B$462)+LOOKUP(N48,ByM!$A$2:$B$462)+LOOKUP(O48,ByM!$A$2:$B$462))","v":13}]
[null,"Protección","Casco",null,1,1,4,1,10,null,"Ajustable","-","-","-","-",{"$f":"IF(C49=\"\",\"\",(F49*3)+G49+H49-E49)","v":7},{"$f":"IF(C49=\"\",\"\",LOOKUP(K49,ByM!$A$2:$B$462)+LOOKUP(L49,ByM!$A$2:$B$462)+LOOKUP(M49,ByM!$A$2:$B$462)+LOOKUP(N49,ByM!$A$2:$B$462)+LOOKUP(O49,ByM!$A$2:$B$462))","v":3}]
[null,"Protección","Casco de guardia",null,1,1,5,5,12,null,"-","-","-","-","-",{"$f":"IF(C50=\"\",\"\",(F50*3)+G50+H50-E50)","v":12},{"$f":"IF(C50=\"\",\"\",LOOKUP(K50,ByM!$A$2:$B$462)+LOOKUP(L50,ByM!$A$2:$B$462)+LOOKUP(M50,ByM!$A$2:$B$462)+LOOKUP(N50,ByM!$A$2:$B$462)+LOOKUP(O50,ByM!$A$2:$B$462))","v":0}]
[null,"Protección","Casco de moto",null,2,2,4,3,11,null,"-","-","-","-","-",{"$f":"IF(C51=\"\",\"\",(F51*3)+G51+H51-E51)","v":11},{"$f":"IF(C51=\"\",\"\",LOOKUP(K51,ByM!$A$2:$B$462)+LOOKUP(L51,ByM!$A$2:$B$462)+LOOKUP(M51,ByM!$A$2:$B$462)+LOOKUP(N51,ByM!$A$2:$B$462)+LOOKUP(O51,ByM!$A$2:$B$462))","v":0}]
[null,"Protección","Casco de moto BIG",null,2,2,5,3,12,null,"-","-","-","-","-",{"$f":"IF(C52=\"\",\"\",(F52*3)+G52+H52-E52)","v":12},{"$f":"IF(C52=\"\",\"\",LOOKUP(K52,ByM!$A$2:$B$462)+LOOKUP(L52,ByM!$A$2:$B$462)+LOOKUP(M52,ByM!$A$2:$B$462)+LOOKUP(N52,ByM!$A$2:$B$462)+LOOKUP(O52,ByM!$A$2:$B$462))","v":0}]
[null,"Protección","Casco de obra pequeño",null,1,1,3,2,7,null,"-","-","-","-","-",{"$f":"IF(C53=\"\",\"\",(F53*3)+G53+H53-E53)","v":7},{"$f":"IF(C53=\"\",\"\",LOOKUP(K53,ByM!$A$2:$B$462)+LOOKUP(L53,ByM!$A$2:$B$462)+LOOKUP(M53,ByM!$A$2:$B$462)+LOOKUP(N53,ByM!$A$2:$B$462)+LOOKUP(O53,ByM!$A$2:$B$462))","v":0}]
[null,"Protección","Casco grande",null,1,1,7,1,10,null,"-","-","-","-","-",{"$f":"IF(C54=\"\",\"\",(F54*3)+G54+H54-E54)","v":10},{"$f":"IF(C54=\"\",\"\",LOOKUP(K54,ByM!$A$2:$B$462)+LOOKUP(L54,ByM!$A$2:$B$462)+LOOKUP(M54,ByM!$A$2:$B$462)+LOOKUP(N54,ByM!$A$2:$B$462)+LOOKUP(O54,ByM!$A$2:$B$462))","v":0}]
[null,"Protección","Chaleco antibalas",null,5,2,4,4,19,null,"Resistencia a (armas de proyectiles)","-","-","-","-",{"$f":"IF(C55=\"\",\"\",(F55*3)+G55+H55-E55)","v":9},{"$f":"IF(C55=\"\",\"\",LOOKUP(K55,ByM!$A$2:$B$462)+LOOKUP(L55,ByM!$A$2:$B$462)+LOOKUP(M55,ByM!$A$2:$B$462)+LOOKUP(N55,ByM!$A$2:$B$462)+LOOKUP(O55,ByM!$A$2:$B$462))","v":10}]
[null,"Protección","Chapa metálica",null,15,4,4,5,1,null,"Mala hechura","-","-","-","-",{"$f":"IF(C56=\"\",\"\",(F56*3)+G56+H56-E56)","v":6},{"$f":"IF(C56=\"\",\"\",LOOKUP(K56,ByM!$A$2:$B$462)+LOOKUP(L56,ByM!$A$2:$B$462)+LOOKUP(M56,ByM!$A$2:$B$462)+LOOKUP(N56,ByM!$A$2:$B$462)+LOOKUP(O56,ByM!$A$2:$B$462))","v":-10}]
[null,"Protección","Chupa de moto BIG",null,2,2,5,2,11,null,"-","-","-","-","-",{"$f":"IF(C57=\"\",\"\",(F57*3)+G57+H57-E57)","v":11},{"$f":"IF(C57=\"\",\"\",LOOKUP(K57,ByM!$A$2:$B$462)+LOOKUP(L57,ByM!$A$2:$B$462)+LOOKUP(M57,ByM!$A$2:$B$462)+LOOKUP(N57,ByM!$A$2:$B$462)+LOOKUP(O57,ByM!$A$2:$B$462))","v":0}]
[null,"Protección","Chupa de placas",null,8,3,4,2,7,null,"-","-","-","-","-",{"$f":"IF(C58=\"\",\"\",(F58*3)+G58+H58-E58)","v":7},{"$f":"IF(C58=\"\",\"\",LOOKUP(K58,ByM!$A$2:$B$462)+LOOKUP(L58,ByM!$A$2:$B$462)+LOOKUP(M58,ByM!$A$2:$B$462)+LOOKUP(N58,ByM!$A$2:$B$462)+LOOKUP(O58,ByM!$A$2:$B$462))","v":0}]
[null,"Protección","Chupa de tachuelas",null,2,2,4,2,10,null,"-","-","-","-","-",{"$f":"IF(C59=\"\",\"\",(F59*3)+G59+H59-E59)","v":10},{"$f":"IF(C59=\"\",\"\",LOOKUP(K59,ByM!$A$2:$B$462)+LOOKUP(L59,ByM!$A$2:$B$462)+LOOKUP(M59,ByM!$A$2:$B$462)+LOOKUP(N59,ByM!$A$2:$B$462)+LOOKUP(O59,ByM!$A$2:$B$462))","v":0}]
[null,"Protección","Colgante mágico dientes del destino",null,1,4,0,2,13,null,"-","-","-","-","-",{"$f":"IF(C60=\"\",\"\",(F60*3)+G60+H60-E60)","v":13},{"$f":"IF(C60=\"\",\"\",LOOKUP(K60,ByM!$A$2:$B$462)+LOOKUP(L60,ByM!$A$2:$B$462)+LOOKUP(M60,ByM!$A$2:$B$462)+LOOKUP(N60,ByM!$A$2:$B$462)+LOOKUP(O60,ByM!$A$2:$B$462))","v":0}]
[null,"Protección","Coraza adamantina",null,1,1,6,4,22,null,"Fortuna","Refuerzo","Reliquia","-","-",{"$f":"IF(C61=\"\",\"\",(F61*3)+G61+H61-E61)","v":12},{"$f":"IF(C61=\"\",\"\",LOOKUP(K61,ByM!$A$2:$B$462)+LOOKUP(L61,ByM!$A$2:$B$462)+LOOKUP(M61,ByM!$A$2:$B$462)+LOOKUP(N61,ByM!$A$2:$B$462)+LOOKUP(O61,ByM!$A$2:$B$462))","v":10}]
[null,"Protección","Cuero endurecido",null,10,3,4,3,6,null,"-","-","-","-","-",{"$f":"IF(C62=\"\",\"\",(F62*3)+G62+H62-E62)","v":6},{"$f":"IF(C62=\"\",\"\",LOOKUP(K62,ByM!$A$2:$B$462)+LOOKUP(L62,ByM!$A$2:$B$462)+LOOKUP(M62,ByM!$A$2:$B$462)+LOOKUP(N62,ByM!$A$2:$B$462)+LOOKUP(O62,ByM!$A$2:$B$462))","v":0}]
[null,"Protección","Cuero humano",null,10,3,4,3,16,null,"Absorción de impacto","-","-","-","-",{"$f":"IF(C63=\"\",\"\",(F63*3)+G63+H63-E63)","v":6},{"$f":"IF(C63=\"\",\"\",LOOKUP(K63,ByM!$A$2:$B$462)+LOOKUP(L63,ByM!$A$2:$B$462)+LOOKUP(M63,ByM!$A$2:$B$462)+LOOKUP(N63,ByM!$A$2:$B$462)+LOOKUP(O63,ByM!$A$2:$B$462))","v":10}]
[null,"Protección","Dermoesqueleto",null,0,3,3,3,18,null,"Ajustable","-","-","-","-",{"$f":"IF(C64=\"\",\"\",(F64*3)+G64+H64-E64)","v":15},{"$f":"IF(C64=\"\",\"\",LOOKUP(K64,ByM!$A$2:$B$462)+LOOKUP(L64,ByM!$A$2:$B$462)+LOOKUP(M64,ByM!$A$2:$B$462)+LOOKUP(N64,ByM!$A$2:$B$462)+LOOKUP(O64,ByM!$A$2:$B$462))","v":3}]
[null,"Protección","Domoescudo de repulsión",null,1,1,0,4,21,null,"Salvaguarda","Enorme","-","-","-",{"$f":"IF(C65=\"\",\"\",(F65*3)+G65+H65-E65)","v":6},{"$f":"IF(C65=\"\",\"\",LOOKUP(K65,ByM!$A$2:$B$462)+LOOKUP(L65,ByM!$A$2:$B$462)+LOOKUP(M65,ByM!$A$2:$B$462)+LOOKUP(N65,ByM!$A$2:$B$462)+LOOKUP(O65,ByM!$A$2:$B$462))","v":15}]
[null,"Protección","Elevador monta cargas personal P-5000",null,10,2,4,7,1,null,"Frenesí","Lastrado","Prueba de inteligencia","-","-",{"$f":"IF(C66=\"\",\"\",(F66*3)+G66+H66-E66)","v":7},{"$f":"IF(C66=\"\",\"\",LOOKUP(K66,ByM!$A$2:$B$462)+LOOKUP(L66,ByM!$A$2:$B$462)+LOOKUP(M66,ByM!$A$2:$B$462)+LOOKUP(N66,ByM!$A$2:$B$462)+LOOKUP(O66,ByM!$A$2:$B$462))","v":-10}]
[null,"Protección","Equipación soldado americano",null,8,4,4,3,14,null,"Ajustable","-","-","-","-",{"$f":"IF(C67=\"\",\"\",(F67*3)+G67+H67-E67)","v":11},{"$f":"IF(C67=\"\",\"\",LOOKUP(K67,ByM!$A$2:$B$462)+LOOKUP(L67,ByM!$A$2:$B$462)+LOOKUP(M67,ByM!$A$2:$B$462)+LOOKUP(N67,ByM!$A$2:$B$462)+LOOKUP(O67,ByM!$A$2:$B$462))","v":3}]
[null,"Protección","Equipo de seguridad",null,3,4,4,2,15,null,"-","-","-","-","-",{"$f":"IF(C68=\"\",\"\",(F68*3)+G68+H68-E68)","v":15},{"$f":"IF(C68=\"\",\"\",LOOKUP(K68,ByM!$A$2:$B$462)+LOOKUP(L68,ByM!$A$2:$B$462)+LOOKUP(M68,ByM!$A$2:$B$462)+LOOKUP(N68,ByM!$A$2:$B$462)+LOOKUP(O68,ByM!$A$2:$B$462))","v":0}]
[null,"Protección","Escudo",null,1,1,0,1,3,null,"-","-","-","-","-",{"$f":"IF(C69=\"\",\"\",(F69*3)+G69+H69-E69)","v":3},{"$f":"IF(C69=\"\",\"\",LOOKUP(K69,ByM!$A$2:$B$462)+LOOKUP(L69,ByM!$A$2:$B$462)+LOOKUP(M69,ByM!$A$2:$B$462)+LOOKUP(N69,ByM!$A$2:$B$462)+LOOKUP(O69,ByM!$A$2:$B$462))","v":0}]
[null,"Protección","Escudo automático",null,1,1,0,4,26,null,"Salvaguarda","-","-","-","-",{"$f":"IF(C70=\"\",\"\",(F70*3)+G70+H70-E70)","v":6},{"$f":"IF(C70=\"\",\"\",LOOKUP(K70,ByM!$A$2:$B$462)+LOOKUP(L70,ByM!$A$2:$B$462)+LOOKUP(M70,ByM!$A$2:$B$462)+LOOKUP(N70,ByM!$A$2:$B$462)+LOOKUP(O70,ByM!$A$2:$B$462))","v":20}]
[null,"Protección","Escudo de asedio Vindicator",null,1,1,0,4,16,null,"Refuerzo","Enorme","-","-","-",{"$f":"IF(C71=\"\",\"\",(F71*3)+G71+H71-E71)","v":6},{"$f":"IF(C71=\"\",\"\",LOOKUP(K71,ByM!$A$2:$B$462)+LOOKUP(L71,ByM!$A$2:$B$462)+LOOKUP(M71,ByM!$A$2:$B$462)+LOOKUP(N71,ByM!$A$2:$B$462)+LOOKUP(O71,ByM!$A$2:$B$462))","v":10}]
[null,"Protección","Escudo de chapa",null,2,2,0,2,6,null,"-","-","-","-","-",{"$f":"IF(C72=\"\",\"\",(F72*3)+G72+H72-E72)","v":6},{"$f":"IF(C72=\"\",\"\",LOOKUP(K72,ByM!$A$2:$B$462)+LOOKUP(L72,ByM!$A$2:$B$462)+LOOKUP(M72,ByM!$A$2:$B$462)+LOOKUP(N72,ByM!$A$2:$B$462)+LOOKUP(O72,ByM!$A$2:$B$462))","v":0}]
[null,"Protección","Escudo de combate",null,1,1,0,4,26,null,"Salvaguarda","-","-","-","-",{"$f":"IF(C73=\"\",\"\",(F73*3)+G73+H73-E73)","v":6},{"$f":"IF(C73=\"\",\"\",LOOKUP(K73,ByM!$A$2:$B$462)+LOOKUP(L73,ByM!$A$2:$B$462)+LOOKUP(M73,ByM!$A$2:$B$462)+LOOKUP(N73,ByM!$A$2:$B$462)+LOOKUP(O73,ByM!$A$2:$B$462))","v":20}]
[null,"Protección","Escudo de cristal de upas",null,1,2,0,7,22,null,"Absorción de impacto","-","-","-","-",{"$f":"IF(C74=\"\",\"\",(F74*3)+G74+H74-E74)","v":12},{"$f":"IF(C74=\"\",\"\",LOOKUP(K74,ByM!$A$2:$B$462)+LOOKUP(L74,ByM!$A$2:$B$462)+LOOKUP(M74,ByM!$A$2:$B$462)+LOOKUP(N74,ByM!$A$2:$B$462)+LOOKUP(O74,ByM!$A$2:$B$462))","v":10}]
[null,"Protección","Escudo de madera",null,1,1,0,2,4,null,"-","-","-","-","-",{"$f":"IF(C75=\"\",\"\",(F75*3)+G75+H75-E75)","v":4},{"$f":"IF(C75=\"\",\"\",LOOKUP(K75,ByM!$A$2:$B$462)+LOOKUP(L75,ByM!$A$2:$B$462)+LOOKUP(M75,ByM!$A$2:$B$462)+LOOKUP(N75,ByM!$A$2:$B$462)+LOOKUP(O75,ByM!$A$2:$B$462))","v":0}]
[null,"Protección","Escudo de policía",null,2,2,0,4,8,null,"-","-","-","-","-",{"$f":"IF(C76=\"\",\"\",(F76*3)+G76+H76-E76)","v":8},{"$f":"IF(C76=\"\",\"\",LOOKUP(K76,ByM!$A$2:$B$462)+LOOKUP(L76,ByM!$A$2:$B$462)+LOOKUP(M76,ByM!$A$2:$B$462)+LOOKUP(N76,ByM!$A$2:$B$462)+LOOKUP(O76,ByM!$A$2:$B$462))","v":0}]
[null,"Protección","Escudo de rinoceronte negro",null,1,1,0,2,19,null,"Escudo Coriáceo N02","Munición de parada","-","-","-",{"$f":"IF(C77=\"\",\"\",(F77*3)+G77+H77-E77)","v":4},{"$f":"IF(C77=\"\",\"\",LOOKUP(K77,ByM!$A$2:$B$462)+LOOKUP(L77,ByM!$A$2:$B$462)+LOOKUP(M77,ByM!$A$2:$B$462)+LOOKUP(N77,ByM!$A$2:$B$462)+LOOKUP(O77,ByM!$A$2:$B$462))","v":15}]
[null,"Protección","Escudo de roble",null,1,1,0,3,5,null,"-","-","-","-","-",{"$f":"IF(C78=\"\",\"\",(F78*3)+G78+H78-E78)","v":5},{"$f":"IF(C78=\"\",\"\",LOOKUP(K78,ByM!$A$2:$B$462)+LOOKUP(L78,ByM!$A$2:$B$462)+LOOKUP(M78,ByM!$A$2:$B$462)+LOOKUP(N78,ByM!$A$2:$B$462)+LOOKUP(O78,ByM!$A$2:$B$462))","v":0}]
[null,"Protección","Escudo de tormenta",null,1,1,0,4,23,null,"Absorción de impacto","Afortunado","-","-","-",{"$f":"IF(C79=\"\",\"\",(F79*3)+G79+H79-E79)","v":6},{"$f":"IF(C79=\"\",\"\",LOOKUP(K79,ByM!$A$2:$B$462)+LOOKUP(L79,ByM!$A$2:$B$462)+LOOKUP(M79,ByM!$A$2:$B$462)+LOOKUP(N79,ByM!$A$2:$B$462)+LOOKUP(O79,ByM!$A$2:$B$462))","v":17}]
[null,"Protección","Escudo de ventisca",null,1,1,0,4,26,null,"Salvaguarda","-","-","-","-",{"$f":"IF(C80=\"\",\"\",(F80*3)+G80+H80-E80)","v":6},{"$f":"IF(C80=\"\",\"\",LOOKUP(K80,ByM!$A$2:$B$462)+LOOKUP(L80,ByM!$A$2:$B$462)+LOOKUP(M80,ByM!$A$2:$B$462)+LOOKUP(N80,ByM!$A$2:$B$462)+LOOKUP(O80,ByM!$A$2:$B$462))","v":20}]
[null,"Protección","Escudo eterno",null,1,1,0,4,28,null,"Reliquia","Salvaguarda","Refuerzo","Afortunado","-",{"$f":"IF(C81=\"\",\"\",(F81*3)+G81+H81-E81)","v":6},{"$f":"IF(C81=\"\",\"\",LOOKUP(K81,ByM!$A$2:$B$462)+LOOKUP(L81,ByM!$A$2:$B$462)+LOOKUP(M81,ByM!$A$2:$B$462)+LOOKUP(N81,ByM!$A$2:$B$462)+LOOKUP(O81,ByM!$A$2:$B$462))","v":22}]
[null,"Protección","Escudo pavés de rinoceronte negro",null,2,2,0,3,32,null,"Escudo Coriáceo N04","Munición de parada","-","-","-",{"$f":"IF(C82=\"\",\"\",(F82*3)+G82+H82-E82)","v":7},{"$f":"IF(C82=\"\",\"\",LOOKUP(K82,ByM!$A$2:$B$462)+LOOKUP(L82,ByM!$A$2:$B$462)+LOOKUP(M82,ByM!$A$2:$B$462)+LOOKUP(N82,ByM!$A$2:$B$462)+LOOKUP(O82,ByM!$A$2:$B$462))","v":25}]
[null,"Protección","Escudo reforzado",null,1,2,0,3,8,null,"-","-","-","-","-",{"$f":"IF(C83=\"\",\"\",(F83*3)+G83+H83-E83)","v":8},{"$f":"IF(C83=\"\",\"\",LOOKUP(K83,ByM!$A$2:$B$462)+LOOKUP(L83,ByM!$A$2:$B$462)+LOOKUP(M83,ByM!$A$2:$B$462)+LOOKUP(N83,ByM!$A$2:$B$462)+LOOKUP(O83,ByM!$A$2:$B$462))","v":0}]
[null,"Protección","Escudo reliquia",null,1,1,0,4,26,null,"Salvaguarda","-","-","-","-",{"$f":"IF(C84=\"\",\"\",(F84*3)+G84+H84-E84)","v":6},{"$f":"IF(C84=\"\",\"\",LOOKUP(K84,ByM!$A$2:$B$462)+LOOKUP(L84,ByM!$A$2:$B$462)+LOOKUP(M84,ByM!$A$2:$B$462)+LOOKUP(N84,ByM!$A$2:$B$462)+LOOKUP(O84,ByM!$A$2:$B$462))","v":20}]
[null,"Protección","Escudo térmico",null,2,3,0,5,20,null,"Invulnerable (fuego)","-","-","-","-",{"$f":"IF(C85=\"\",\"\",(F85*3)+G85+H85-E85)","v":12},{"$f":"IF(C85=\"\",\"\",LOOKUP(K85,ByM!$A$2:$B$462)+LOOKUP(L85,ByM!$A$2:$B$462)+LOOKUP(M85,ByM!$A$2:$B$462)+LOOKUP(N85,ByM!$A$2:$B$462)+LOOKUP(O85,ByM!$A$2:$B$462))","v":8}]
[null,"Protección","Escudo tribal",null,1,2,0,4,9,null,"-","-","-","-","-",{"$f":"IF(C86=\"\",\"\",(F86*3)+G86+H86-E86)","v":9},{"$f":"IF(C86=\"\",\"\",LOOKUP(K86,ByM!$A$2:$B$462)+LOOKUP(L86,ByM!$A$2:$B$462)+LOOKUP(M86,ByM!$A$2:$B$462)+LOOKUP(N86,ByM!$A$2:$B$462)+LOOKUP(O86,ByM!$A$2:$B$462))","v":0}]
[null,"Protección","Exoesqueleto adulto",null,0,6,6,9,36,null,"Ajustable","-","-","-","-",{"$f":"IF(C87=\"\",\"\",(F87*3)+G87+H87-E87)","v":33},{"$f":"IF(C87=\"\",\"\",LOOKUP(K87,ByM!$A$2:$B$462)+LOOKUP(L87,ByM!$A$2:$B$462)+LOOKUP(M87,ByM!$A$2:$B$462)+LOOKUP(N87,ByM!$A$2:$B$462)+LOOKUP(O87,ByM!$A$2:$B$462))","v":3}]
[null,"Protección","Exoesqueleto joven",null,0,4,5,9,29,null,"Ajustable","-","-","-","-",{"$f":"IF(C88=\"\",\"\",(F88*3)+G88+H88-E88)","v":26},{"$f":"IF(C88=\"\",\"\",LOOKUP(K88,ByM!$A$2:$B$462)+LOOKUP(L88,ByM!$A$2:$B$462)+LOOKUP(M88,ByM!$A$2:$B$462)+LOOKUP(N88,ByM!$A$2:$B$462)+LOOKUP(O88,ByM!$A$2:$B$462))","v":3}]
[null,"Protección","Exoesqueleto pesado",null,0,7,8,9,41,null,"Ajustable","-","-","-","-",{"$f":"IF(C89=\"\",\"\",(F89*3)+G89+H89-E89)","v":38},{"$f":"IF(C89=\"\",\"\",LOOKUP(K89,ByM!$A$2:$B$462)+LOOKUP(L89,ByM!$A$2:$B$462)+LOOKUP(M89,ByM!$A$2:$B$462)+LOOKUP(N89,ByM!$A$2:$B$462)+LOOKUP(O89,ByM!$A$2:$B$462))","v":3}]
[null,"Protección","Gorro de cuero",null,1,1,4,1,7,null,"-","-","-","-","-",{"$f":"IF(C90=\"\",\"\",(F90*3)+G90+H90-E90)","v":7},{"$f":"IF(C90=\"\",\"\",LOOKUP(K90,ByM!$A$2:$B$462)+LOOKUP(L90,ByM!$A$2:$B$462)+LOOKUP(M90,ByM!$A$2:$B$462)+LOOKUP(N90,ByM!$A$2:$B$462)+LOOKUP(O90,ByM!$A$2:$B$462))","v":0}]
[null,"Protección","Gran yelmo",null,3,1,4,3,7,null,"-","-","-","-","-",{"$f":"IF(C91=\"\",\"\",(F91*3)+G91+H91-E91)","v":7},{"$f":"IF(C91=\"\",\"\",LOOKUP(K91,ByM!$A$2:$B$462)+LOOKUP(L91,ByM!$A$2:$B$462)+LOOKUP(M91,ByM!$A$2:$B$462)+LOOKUP(N91,ByM!$A$2:$B$462)+LOOKUP(O91,ByM!$A$2:$B$462))","v":0}]
[null,"Protección","Guantes de seguridad",null,2,1,4,2,7,null,"-","-","-","-","-",{"$f":"IF(C92=\"\",\"\",(F92*3)+G92+H92-E92)","v":7},{"$f":"IF(C92=\"\",\"\",LOOKUP(K92,ByM!$A$2:$B$462)+LOOKUP(L92,ByM!$A$2:$B$462)+LOOKUP(M92,ByM!$A$2:$B$462)+LOOKUP(N92,ByM!$A$2:$B$462)+LOOKUP(O92,ByM!$A$2:$B$462))","v":0}]
[null,"Protección","Hombreras articuladas",null,6,2,0,2,2,null,"-","-","-","-","-",{"$f":"IF(C93=\"\",\"\",(F93*3)+G93+H93-E93)","v":2},{"$f":"IF(C93=\"\",\"\",LOOKUP(K93,ByM!$A$2:$B$462)+LOOKUP(L93,ByM!$A$2:$B$462)+LOOKUP(M93,ByM!$A$2:$B$462)+LOOKUP(N93,ByM!$A$2:$B$462)+LOOKUP(O93,ByM!$A$2:$B$462))","v":0}]
[null,"Protección","Implantes de Servidor",null,10,5,4,7,16,null,"-","-","-","-","-",{"$f":"IF(C94=\"\",\"\",(F94*3)+G94+H94-E94)","v":16},{"$f":"IF(C94=\"\",\"\",LOOKUP(K94,ByM!$A$2:$B$462)+LOOKUP(L94,ByM!$A$2:$B$462)+LOOKUP(M94,ByM!$A$2:$B$462)+LOOKUP(N94,ByM!$A$2:$B$462)+LOOKUP(O94,ByM!$A$2:$B$462))","v":0}]
[null,"Protección","Jubón de anillas roto",null,7,3,4,1,7,null,"-","-","-","-","-",{"$f":"IF(C95=\"\",\"\",(F95*3)+G95+H95-E95)","v":7},{"$f":"IF(C95=\"\",\"\",LOOKUP(K95,ByM!$A$2:$B$462)+LOOKUP(L95,ByM!$A$2:$B$462)+LOOKUP(M95,ByM!$A$2:$B$462)+LOOKUP(N95,ByM!$A$2:$B$462)+LOOKUP(O95,ByM!$A$2:$B$462))","v":0}]
[null,"Protección","Kimono",null,3,3,5,3,14,null,"-","-","-","-","-",{"$f":"IF(C96=\"\",\"\",(F96*3)+G96+H96-E96)","v":14},{"$f":"IF(C96=\"\",\"\",LOOKUP(K96,ByM!$A$2:$B$462)+LOOKUP(L96,ByM!$A$2:$B$462)+LOOKUP(M96,ByM!$A$2:$B$462)+LOOKUP(N96,ByM!$A$2:$B$462)+LOOKUP(O96,ByM!$A$2:$B$462))","v":0}]
[null,"Protección","Mono de obra pequeño",null,6,1,3,2,2,null,"-","-","-","-","-",{"$f":"IF(C97=\"\",\"\",(F97*3)+G97+H97-E97)","v":2},{"$f":"IF(C97=\"\",\"\",LOOKUP(K97,ByM!$A$2:$B$462)+LOOKUP(L97,ByM!$A$2:$B$462)+LOOKUP(M97,ByM!$A$2:$B$462)+LOOKUP(N97,ByM!$A$2:$B$462)+LOOKUP(O97,ByM!$A$2:$B$462))","v":0}]
[null,"Protección","Mono de piloto humano",null,5,3,4,3,11,null,"-","-","-","-","-",{"$f":"IF(C98=\"\",\"\",(F98*3)+G98+H98-E98)","v":11},{"$f":"IF(C98=\"\",\"\",LOOKUP(K98,ByM!$A$2:$B$462)+LOOKUP(L98,ByM!$A$2:$B$462)+LOOKUP(M98,ByM!$A$2:$B$462)+LOOKUP(N98,ByM!$A$2:$B$462)+LOOKUP(O98,ByM!$A$2:$B$462))","v":0}]
[null,"Protección","Mono de piloto manga",null,5,3,5,3,12,null,"-","-","-","-","-",{"$f":"IF(C99=\"\",\"\",(F99*3)+G99+H99-E99)","v":12},{"$f":"IF(C99=\"\",\"\",LOOKUP(K99,ByM!$A$2:$B$462)+LOOKUP(L99,ByM!$A$2:$B$462)+LOOKUP(M99,ByM!$A$2:$B$462)+LOOKUP(N99,ByM!$A$2:$B$462)+LOOKUP(O99,ByM!$A$2:$B$462))","v":0}]
[null,"Protección","Mono de piloto mondo",null,5,3,6,3,13,null,"-","-","-","-","-",{"$f":"IF(C100=\"\",\"\",(F100*3)+G100+H100-E100)","v":13},{"$f":"IF(C100=\"\",\"\",LOOKUP(K100,ByM!$A$2:$B$462)+LOOKUP(L100,ByM!$A$2:$B$462)+LOOKUP(M100,ByM!$A$2:$B$462)+LOOKUP(N100,ByM!$A$2:$B$462)+LOOKUP(O100,ByM!$A$2:$B$462))","v":0}]
[null,"Protección","Muñequeras de pinchos",null,2,1,0,2,8,null,"Pinchos","-","-","-","-",{"$f":"IF(C101=\"\",\"\",(F101*3)+G101+H101-E101)","v":3},{"$f":"IF(C101=\"\",\"\",LOOKUP(K101,ByM!$A$2:$B$462)+LOOKUP(L101,ByM!$A$2:$B$462)+LOOKUP(M101,ByM!$A$2:$B$462)+LOOKUP(N101,ByM!$A$2:$B$462)+LOOKUP(O101,ByM!$A$2:$B$462))","v":5}]
[null,"Protección","Mutación piel correosa",null,0,1,0,1,1,null,"Requiere (raza mutante)","-","-","-","-",{"$f":"IF(C102=\"\",\"\",(F102*3)+G102+H102-E102)","v":4},{"$f":"IF(C102=\"\",\"\",LOOKUP(K102,ByM!$A$2:$B$462)+LOOKUP(L102,ByM!$A$2:$B$462)+LOOKUP(M102,ByM!$A$2:$B$462)+LOOKUP(N102,ByM!$A$2:$B$462)+LOOKUP(O102,ByM!$A$2:$B$462))","v":-3}]
[null,"Protección","Mutación piel dura",null,0,3,0,3,9,null,"Requiere (raza mutante)","-","-","-","-",{"$f":"IF(C103=\"\",\"\",(F103*3)+G103+H103-E103)","v":12},{"$f":"IF(C103=\"\",\"\",LOOKUP(K103,ByM!$A$2:$B$462)+LOOKUP(L103,ByM!$A$2:$B$462)+LOOKUP(M103,ByM!$A$2:$B$462)+LOOKUP(N103,ByM!$A$2:$B$462)+LOOKUP(O103,ByM!$A$2:$B$462))","v":-3}]
[null,"Protección","Mutación piel muy dura",null,0,5,0,5,17,null,"Requiere (raza mutante)","-","-","-","-",{"$f":"IF(C104=\"\",\"\",(F104*3)+G104+H104-E104)","v":20},{"$f":"IF(C104=\"\",\"\",LOOKUP(K104,ByM!$A$2:$B$462)+LOOKUP(L104,ByM!$A$2:$B$462)+LOOKUP(M104,ByM!$A$2:$B$462)+LOOKUP(N104,ByM!$A$2:$B$462)+LOOKUP(O104,ByM!$A$2:$B$462))","v":-3}]
[null,"Protección","Ojo del dragón (amuleto)",null,1,2,0,5,10,null,"-","-","-","-","-",{"$f":"IF(C105=\"\",\"\",(F105*3)+G105+H105-E105)","v":10},{"$f":"IF(C105=\"\",\"\",LOOKUP(K105,ByM!$A$2:$B$462)+LOOKUP(L105,ByM!$A$2:$B$462)+LOOKUP(M105,ByM!$A$2:$B$462)+LOOKUP(N105,ByM!$A$2:$B$462)+LOOKUP(O105,ByM!$A$2:$B$462))","v":0}]
[null,"Protección","Pechón de anillas roto",null,7,3,7,1,10,null,"-","-","-","-","-",{"$f":"IF(C106=\"\",\"\",(F106*3)+G106+H106-E106)","v":10},{"$f":"IF(C106=\"\",\"\",LOOKUP(K106,ByM!$A$2:$B$462)+LOOKUP(L106,ByM!$A$2:$B$462)+LOOKUP(M106,ByM!$A$2:$B$462)+LOOKUP(N106,ByM!$A$2:$B$462)+LOOKUP(O106,ByM!$A$2:$B$462))","v":0}]
[null,"Protección","Pequepechera de metal",null,7,2,3,3,5,null,"-","-","-","-","-",{"$f":"IF(C107=\"\",\"\",(F107*3)+G107+H107-E107)","v":5},{"$f":"IF(C107=\"\",\"\",LOOKUP(K107,ByM!$A$2:$B$462)+LOOKUP(L107,ByM!$A$2:$B$462)+LOOKUP(M107,ByM!$A$2:$B$462)+LOOKUP(N107,ByM!$A$2:$B$462)+LOOKUP(O107,ByM!$A$2:$B$462))","v":0}]
[null,"Protección","Peto de anillas roto",null,7,3,4,1,7,null,"-","-","-","-","-",{"$f":"IF(C108=\"\",\"\",(F108*3)+G108+H108-E108)","v":7},{"$f":"IF(C108=\"\",\"\",LOOKUP(K108,ByM!$A$2:$B$462)+LOOKUP(L108,ByM!$A$2:$B$462)+LOOKUP(M108,ByM!$A$2:$B$462)+LOOKUP(N108,ByM!$A$2:$B$462)+LOOKUP(O108,ByM!$A$2:$B$462))","v":0}]
[null,"Protección","Piel de dragón",null,0,5,0,5,45,null,"Escudo coriáceo N05","-","-","-","-",{"$f":"IF(C109=\"\",\"\",(F109*3)+G109+H109-E109)","v":20},{"$f":"IF(C109=\"\",\"\",LOOKUP(K109,ByM!$A$2:$B$462)+LOOKUP(L109,ByM!$A$2:$B$462)+LOOKUP(M109,ByM!$A$2:$B$462)+LOOKUP(N109,ByM!$A$2:$B$462)+LOOKUP(O109,ByM!$A$2:$B$462))","v":25}]
[null,"Protección","Piel de hierro",null,0,6,0,5,23,null,"-","-","-","-","-",{"$f":"IF(C110=\"\",\"\",(F110*3)+G110+H110-E110)","v":23},{"$f":"IF(C110=\"\",\"\",LOOKUP(K110,ByM!$A$2:$B$462)+LOOKUP(L110,ByM!$A$2:$B$462)+LOOKUP(M110,ByM!$A$2:$B$462)+LOOKUP(N110,ByM!$A$2:$B$462)+LOOKUP(O110,ByM!$A$2:$B$462))","v":0}]
[null,"Protección","Piel endurecida",null,0,3,0,5,14,null,"-","-","-","-","-",{"$f":"IF(C111=\"\",\"\",(F111*3)+G111+H111-E111)","v":14},{"$f":"IF(C111=\"\",\"\",LOOKUP(K111,ByM!$A$2:$B$462)+LOOKUP(L111,ByM!$A$2:$B$462)+LOOKUP(M111,ByM!$A$2:$B$462)+LOOKUP(N111,ByM!$A$2:$B$462)+LOOKUP(O111,ByM!$A$2:$B$462))","v":0}]
[null,"Protección","Pieles pesadas",null,3,2,5,1,9,null,"-","-","-","-","-",{"$f":"IF(C112=\"\",\"\",(F112*3)+G112+H112-E112)","v":9},{"$f":"IF(C112=\"\",\"\",LOOKUP(K112,ByM!$A$2:$B$462)+LOOKUP(L112,ByM!$A$2:$B$462)+LOOKUP(M112,ByM!$A$2:$B$462)+LOOKUP(N112,ByM!$A$2:$B$462)+LOOKUP(O112,ByM!$A$2:$B$462))","v":0}]
[null,"Protección","Placa de acero pectoral",null,8,5,4,1,2,null,"Mala hechura","-","-","-","-",{"$f":"IF(C113=\"\",\"\",(F113*3)+G113+H113-E113)","v":12},{"$f":"IF(C113=\"\",\"\",LOOKUP(K113,ByM!$A$2:$B$462)+LOOKUP(L113,ByM!$A$2:$B$462)+LOOKUP(M113,ByM!$A$2:$B$462)+LOOKUP(N113,ByM!$A$2:$B$462)+LOOKUP(O113,ByM!$A$2:$B$462))","v":-10}]
[null,"Protección","Protecciones metálicas",null,2,2,0,2,6,null,"-","-","-","-","-",{"$f":"IF(C114=\"\",\"\",(F114*3)+G114+H114-E114)","v":6},{"$f":"IF(C114=\"\",\"\",LOOKUP(K114,ByM!$A$2:$B$462)+LOOKUP(L114,ByM!$A$2:$B$462)+LOOKUP(M114,ByM!$A$2:$B$462)+LOOKUP(N114,ByM!$A$2:$B$462)+LOOKUP(O114,ByM!$A$2:$B$462))","v":0}]
[null,"Protección","Refuerzo metálico",null,5,1,4,3,8,null,"Ajustable","-","-","-","-",{"$f":"IF(C115=\"\",\"\",(F115*3)+G115+H115-E115)","v":5},{"$f":"IF(C115=\"\",\"\",LOOKUP(K115,ByM!$A$2:$B$462)+LOOKUP(L115,ByM!$A$2:$B$462)+LOOKUP(M115,ByM!$A$2:$B$462)+LOOKUP(N115,ByM!$A$2:$B$462)+LOOKUP(O115,ByM!$A$2:$B$462))","v":3}]
[null,"Protección","Rodela",null,1,1,0,1,18,null,"Absorción de impacto","Munición aturdidora","-","-","-",{"$f":"IF(C116=\"\",\"\",(F116*3)+G116+H116-E116)","v":3},{"$f":"IF(C116=\"\",\"\",LOOKUP(K116,ByM!$A$2:$B$462)+LOOKUP(L116,ByM!$A$2:$B$462)+LOOKUP(M116,ByM!$A$2:$B$462)+LOOKUP(N116,ByM!$A$2:$B$462)+LOOKUP(O116,ByM!$A$2:$B$462))","v":15}]
[null,"Protección","Ropa industrial",null,8,3,4,3,8,null,"-","-","-","-","-",{"$f":"IF(C117=\"\",\"\",(F117*3)+G117+H117-E117)","v":8},{"$f":"IF(C117=\"\",\"\",LOOKUP(K117,ByM!$A$2:$B$462)+LOOKUP(L117,ByM!$A$2:$B$462)+LOOKUP(M117,ByM!$A$2:$B$462)+LOOKUP(N117,ByM!$A$2:$B$462)+LOOKUP(O117,ByM!$A$2:$B$462))","v":0}]
[null,"Protección","Ropa industrial BIG",null,8,3,5,3,9,null,"-","-","-","-","-",{"$f":"IF(C118=\"\",\"\",(F118*3)+G118+H118-E118)","v":9},{"$f":"IF(C118=\"\",\"\",LOOKUP(K118,ByM!$A$2:$B$462)+LOOKUP(L118,ByM!$A$2:$B$462)+LOOKUP(M118,ByM!$A$2:$B$462)+LOOKUP(N118,ByM!$A$2:$B$462)+LOOKUP(O118,ByM!$A$2:$B$462))","v":0}]
[null,"Protección","Ropa pesada",null,10,2,4,2,5,null,"Ajustable","-","-","-","-",{"$f":"IF(C119=\"\",\"\",(F119*3)+G119+H119-E119)","v":2},{"$f":"IF(C119=\"\",\"\",LOOKUP(K119,ByM!$A$2:$B$462)+LOOKUP(L119,ByM!$A$2:$B$462)+LOOKUP(M119,ByM!$A$2:$B$462)+LOOKUP(N119,ByM!$A$2:$B$462)+LOOKUP(O119,ByM!$A$2:$B$462))","v":3}]
[null,"Protección","Ropajes gruesos",null,5,1,5,4,10,null,"Ajustable","-","-","-","-",{"$f":"IF(C120=\"\",\"\",(F120*3)+G120+H120-E120)","v":7},{"$f":"IF(C120=\"\",\"\",LOOKUP(K120,ByM!$A$2:$B$462)+LOOKUP(L120,ByM!$A$2:$B$462)+LOOKUP(M120,ByM!$A$2:$B$462)+LOOKUP(N120,ByM!$A$2:$B$462)+LOOKUP(O120,ByM!$A$2:$B$462))","v":3}]
[null,"Protección","Ropajes ligeros",null,5,1,4,1,6,null,"Ajustable","-","-","-","-",{"$f":"IF(C121=\"\",\"\",(F121*3)+G121+H121-E121)","v":3},{"$f":"IF(C121=\"\",\"\",LOOKUP(K121,ByM!$A$2:$B$462)+LOOKUP(L121,ByM!$A$2:$B$462)+LOOKUP(M121,ByM!$A$2:$B$462)+LOOKUP(N121,ByM!$A$2:$B$462)+LOOKUP(O121,ByM!$A$2:$B$462))","v":3}]
[null,"Protección","Ropajes ninja",null,15,3,5,3,12,null,"Camuflaje","-","-","-","-",{"$f":"IF(C122=\"\",\"\",(F122*3)+G122+H122-E122)","v":2},{"$f":"IF(C122=\"\",\"\",LOOKUP(K122,ByM!$A$2:$B$462)+LOOKUP(L122,ByM!$A$2:$B$462)+LOOKUP(M122,ByM!$A$2:$B$462)+LOOKUP(N122,ByM!$A$2:$B$462)+LOOKUP(O122,ByM!$A$2:$B$462))","v":10}]
[null,"Protección","Ropas resistentes",null,5,1,4,1,3,null,"-","-","-","-","-",{"$f":"IF(C123=\"\",\"\",(F123*3)+G123+H123-E123)","v":3},{"$f":"IF(C123=\"\",\"\",LOOKUP(K123,ByM!$A$2:$B$462)+LOOKUP(L123,ByM!$A$2:$B$462)+LOOKUP(M123,ByM!$A$2:$B$462)+LOOKUP(N123,ByM!$A$2:$B$462)+LOOKUP(O123,ByM!$A$2:$B$462))","v":0}]
[null,"Protección","Saco de placas pequeño",null,8,3,3,2,6,null,"-","-","-","-","-",{"$f":"IF(C124=\"\",\"\",(F124*3)+G124+H124-E124)","v":6},{"$f":"IF(C124=\"\",\"\",LOOKUP(K124,ByM!$A$2:$B$462)+LOOKUP(L124,ByM!$A$2:$B$462)+LOOKUP(M124,ByM!$A$2:$B$462)+LOOKUP(N124,ByM!$A$2:$B$462)+LOOKUP(O124,ByM!$A$2:$B$462))","v":0}]
[null,"Protección","Tejido reforzado",null,0,1,0,7,7,null,"Requiere (armadura)","-","-","-","-",{"$f":"IF(C125=\"\",\"\",(F125*3)+G125+H125-E125)","v":10},{"$f":"IF(C125=\"\",\"\",LOOKUP(K125,ByM!$A$2:$B$462)+LOOKUP(L125,ByM!$A$2:$B$462)+LOOKUP(M125,ByM!$A$2:$B$462)+LOOKUP(N125,ByM!$A$2:$B$462)+LOOKUP(O125,ByM!$A$2:$B$462))","v":-3}]
[null,"Protección","Traje espacial APE Weyland-Yutani",null,14,2,4,5,21,null,"Salvaguarda","-","-","-","-",{"$f":"IF(C126=\"\",\"\",(F126*3)+G126+H126-E126)","v":1},{"$f":"IF(C126=\"\",\"\",LOOKUP(K126,ByM!$A$2:$B$462)+LOOKUP(L126,ByM!$A$2:$B$462)+LOOKUP(M126,ByM!$A$2:$B$462)+LOOKUP(N126,ByM!$A$2:$B$462)+LOOKUP(O126,ByM!$A$2:$B$462))","v":20}]
[null,"Protección","Traje espacial de supervivencia ECO All-world",null,26,3,5,7,1,null,"Comunicador","Vulnerable","Lastrado","-","-",{"$f":"IF(C127=\"\",\"\",(F127*3)+G127+H127-E127)","v":-5},{"$f":"IF(C127=\"\",\"\",LOOKUP(K127,ByM!$A$2:$B$462)+LOOKUP(L127,ByM!$A$2:$B$462)+LOOKUP(M127,ByM!$A$2:$B$462)+LOOKUP(N127,ByM!$A$2:$B$462)+LOOKUP(O127,ByM!$A$2:$B$462))","v":-9}]
[null,"Protección","Traje espacial IRC MK 50",null,15,1,4,7,1,null,"Comunicador","Mala hechura","-","-","-",{"$f":"IF(C128=\"\",\"\",(F128*3)+G128+H128-E128)","v":-1},{"$f":"IF(C128=\"\",\"\",LOOKUP(K128,ByM!$A$2:$B$462)+LOOKUP(L128,ByM!$A$2:$B$462)+LOOKUP(M128,ByM!$A$2:$B$462)+LOOKUP(N128,ByM!$A$2:$B$462)+LOOKUP(O128,ByM!$A$2:$B$462))","v":-9}]
[null,null,"*"]
[null,null,null,null,null,null,null,null,null,null,null,null,null,null,null,{"$f":"IF(C130=\"\",\"\",(F130*3)+G130+H130-E130)","v":""},{"$f":"IF(C130=\"\",\"\",LOOKUP(K130,ByM!$A$2:$B$462)+LOOKUP(L130,ByM!$A$2:$B$462)+LOOKUP(M130,ByM!$A$2:$B$462)+LOOKUP(N130,ByM!$A$2:$B$462)+LOOKUP(O130,ByM!$A$2:$B$462))","v":""}]
[null,null,null,null,null,null,null,null,null,null,null,null,null,null,null,{"$f":"IF(C131=\"\",\"\",(F131*3)+G131+H131-E131)","v":""},{"$f":"IF(C131=\"\",\"\",LOOKUP(K131,ByM!$A$2:$B$462)+LOOKUP(L131,ByM!$A$2:$B$462)+LOOKUP(M131,ByM!$A$2:$B$462)+LOOKUP(N131,ByM!$A$2:$B$462)+LOOKUP(O131,ByM!$A$2:$B$462))","v":""}]
[null,null,null,null,null,null,null,null,null,null,null,null,null,null,null,{"$f":"IF(C132=\"\",\"\",(F132*3)+G132+H132-E132)","v":""},{"$f":"IF(C132=\"\",\"\",LOOKUP(K132,ByM!$A$2:$B$462)+LOOKUP(L132,ByM!$A$2:$B$462)+LOOKUP(M132,ByM!$A$2:$B$462)+LOOKUP(N132,ByM!$A$2:$B$462)+LOOKUP(O132,ByM!$A$2:$B$462))","v":""}]
[null,null,null,null,null,null,null,null,null,null,null,null,null,null,null,{"$f":"IF(C133=\"\",\"\",(F133*3)+G133+H133-E133)","v":""},{"$f":"IF(C133=\"\",\"\",LOOKUP(K133,ByM!$A$2:$B$462)+LOOKUP(L133,ByM!$A$2:$B$462)+LOOKUP(M133,ByM!$A$2:$B$462)+LOOKUP(N133,ByM!$A$2:$B$462)+LOOKUP(O133,ByM!$A$2:$B$462))","v":""}]
[null,null,null,null,null,null,null,null,null,null,null,null,null,null,null,{"$f":"IF(C134=\"\",\"\",(F134*3)+G134+H134-E134)","v":""},{"$f":"IF(C134=\"\",\"\",LOOKUP(K134,ByM!$A$2:$B$462)+LOOKUP(L134,ByM!$A$2:$B$462)+LOOKUP(M134,ByM!$A$2:$B$462)+LOOKUP(N134,ByM!$A$2:$B$462)+LOOKUP(O134,ByM!$A$2:$B$462))","v":""}]
[null,null,null,null,null,null,null,null,null,null,null,null,null,null,null,{"$f":"IF(C135=\"\",\"\",(F135*3)+G135+H135-E135)","v":""},{"$f":"IF(C135=\"\",\"\",LOOKUP(K135,ByM!$A$2:$B$462)+LOOKUP(L135,ByM!$A$2:$B$462)+LOOKUP(M135,ByM!$A$2:$B$462)+LOOKUP(N135,ByM!$A$2:$B$462)+LOOKUP(O135,ByM!$A$2:$B$462))","v":""}]
[null,null,null,null,null,null,null,null,null,null,null,null,null,null,null,{"$f":"IF(C136=\"\",\"\",(F136*3)+G136+H136-E136)","v":""},{"$f":"IF(C136=\"\",\"\",LOOKUP(K136,ByM!$A$2:$B$462)+LOOKUP(L136,ByM!$A$2:$B$462)+LOOKUP(M136,ByM!$A$2:$B$462)+LOOKUP(N136,ByM!$A$2:$B$462)+LOOKUP(O136,ByM!$A$2:$B$462))","v":""}]
[null,null,null,null,null,null,null,null,null,null,null,null,null,null,null,{"$f":"IF(C137=\"\",\"\",(F137*3)+G137+H137-E137)","v":""},{"$f":"IF(C137=\"\",\"\",LOOKUP(K137,ByM!$A$2:$B$462)+LOOKUP(L137,ByM!$A$2:$B$462)+LOOKUP(M137,ByM!$A$2:$B$462)+LOOKUP(N137,ByM!$A$2:$B$462)+LOOKUP(O137,ByM!$A$2:$B$462))","v":""}]
[null,null,null,null,null,null,null,null,null,null,null,null,null,null,null,{"$f":"IF(C138=\"\",\"\",(F138*3)+G138+H138-E138)","v":""},{"$f":"IF(C138=\"\",\"\",LOOKUP(K138,ByM!$A$2:$B$462)+LOOKUP(L138,ByM!$A$2:$B$462)+LOOKUP(M138,ByM!$A$2:$B$462)+LOOKUP(N138,ByM!$A$2:$B$462)+LOOKUP(O138,ByM!$A$2:$B$462))","v":""}]
[null,null,null,null,null,null,null,null,null,null,null,null,null,null,null,{"$f":"IF(C139=\"\",\"\",(F139*3)+G139+H139-E139)","v":""},{"$f":"IF(C139=\"\",\"\",LOOKUP(K139,ByM!$A$2:$B$462)+LOOKUP(L139,ByM!$A$2:$B$462)+LOOKUP(M139,ByM!$A$2:$B$462)+LOOKUP(N139,ByM!$A$2:$B$462)+LOOKUP(O139,ByM!$A$2:$B$462))","v":""}]
[null,null,null,null,null,null,null,null,null,null,null,null,null,null,null,{"$f":"IF(C140=\"\",\"\",(F140*3)+G140+H140-E140)","v":""},{"$f":"IF(C140=\"\",\"\",LOOKUP(K140,ByM!$A$2:$B$462)+LOOKUP(L140,ByM!$A$2:$B$462)+LOOKUP(M140,ByM!$A$2:$B$462)+LOOKUP(N140,ByM!$A$2:$B$462)+LOOKUP(O140,ByM!$A$2:$B$462))","v":""}]
[null,null,null,null,null,null,null,null,null,null,null,null,null,null,null,{"$f":"IF(C141=\"\",\"\",(F141*3)+G141+H141-E141)","v":""},{"$f":"IF(C141=\"\",\"\",LOOKUP(K141,ByM!$A$2:$B$462)+LOOKUP(L141,ByM!$A$2:$B$462)+LOOKUP(M141,ByM!$A$2:$B$462)+LOOKUP(N141,ByM!$A$2:$B$462)+LOOKUP(O141,ByM!$A$2:$B$462))","v":""}]
[null,null,null,null,null,null,null,null,null,null,null,null,null,null,null,{"$f":"IF(C142=\"\",\"\",(F142*3)+G142+H142-E142)","v":""},{"$f":"IF(C142=\"\",\"\",LOOKUP(K142,ByM!$A$2:$B$462)+LOOKUP(L142,ByM!$A$2:$B$462)+LOOKUP(M142,ByM!$A$2:$B$462)+LOOKUP(N142,ByM!$A$2:$B$462)+LOOKUP(O142,ByM!$A$2:$B$462))","v":""}]
[null,null,null,null,null,null,null,null,null,null,null,null,null,null,null,{"$f":"IF(C143=\"\",\"\",(F143*3)+G143+H143-E143)","v":""},{"$f":"IF(C143=\"\",\"\",LOOKUP(K143,ByM!$A$2:$B$462)+LOOKUP(L143,ByM!$A$2:$B$462)+LOOKUP(M143,ByM!$A$2:$B$462)+LOOKUP(N143,ByM!$A$2:$B$462)+LOOKUP(O143,ByM!$A$2:$B$462))","v":""}]
[null,null,null,null,null,null,null,null,null,null,null,null,null,null,null,{"$f":"IF(C144=\"\",\"\",(F144*3)+G144+H144-E144)","v":""},{"$f":"IF(C144=\"\",\"\",LOOKUP(K144,ByM!$A$2:$B$462)+LOOKUP(L144,ByM!$A$2:$B$462)+LOOKUP(M144,ByM!$A$2:$B$462)+LOOKUP(N144,ByM!$A$2:$B$462)+LOOKUP(O144,ByM!$A$2:$B$462))","v":""}]
[null,null,null,null,null,null,null,null,null,null,null,null,null,null,null,{"$f":"IF(C145=\"\",\"\",(F145*3)+G145+H145-E145)","v":""},{"$f":"IF(C145=\"\",\"\",LOOKUP(K145,ByM!$A$2:$B$462)+LOOKUP(L145,ByM!$A$2:$B$462)+LOOKUP(M145,ByM!$A$2:$B$462)+LOOKUP(N145,ByM!$A$2:$B$462)+LOOKUP(O145,ByM!$A$2:$B$462))","v":""}]
[null,null,null,null,null,null,null,null,null,null,null,null,null,null,null,{"$f":"IF(C146=\"\",\"\",(F146*3)+G146+H146-E146)","v":""},{"$f":"IF(C146=\"\",\"\",LOOKUP(K146,ByM!$A$2:$B$462)+LOOKUP(L146,ByM!$A$2:$B$462)+LOOKUP(M146,ByM!$A$2:$B$462)+LOOKUP(N146,ByM!$A$2:$B$462)+LOOKUP(O146,ByM!$A$2:$B$462))","v":""}]
[null,null,null,null,null,null,null,null,null,null,null,null,null,null,null,{"$f":"IF(C147=\"\",\"\",(F147*3)+G147+H147-E147)","v":""},{"$f":"IF(C147=\"\",\"\",LOOKUP(K147,ByM!$A$2:$B$462)+LOOKUP(L147,ByM!$A$2:$B$462)+LOOKUP(M147,ByM!$A$2:$B$462)+LOOKUP(N147,ByM!$A$2:$B$462)+LOOKUP(O147,ByM!$A$2:$B$462))","v":""}]
[null,null,null,null,null,null,null,null,null,null,null,null,null,null,null,{"$f":"IF(C148=\"\",\"\",(F148*3)+G148+H148-E148)","v":""},{"$f":"IF(C148=\"\",\"\",LOOKUP(K148,ByM!$A$2:$B$462)+LOOKUP(L148,ByM!$A$2:$B$462)+LOOKUP(M148,ByM!$A$2:$B$462)+LOOKUP(N148,ByM!$A$2:$B$462)+LOOKUP(O148,ByM!$A$2:$B$462))","v":""}]
[null,null,null,null,null,null,null,null,null,null,null,null,null,null,null,{"$f":"IF(C149=\"\",\"\",(F149*3)+G149+H149-E149)","v":""},{"$f":"IF(C149=\"\",\"\",LOOKUP(K149,ByM!$A$2:$B$462)+LOOKUP(L149,ByM!$A$2:$B$462)+LOOKUP(M149,ByM!$A$2:$B$462)+LOOKUP(N149,ByM!$A$2:$B$462)+LOOKUP(O149,ByM!$A$2:$B$462))","v":""}]
[null,null,null,null,null,null,null,null,null,null,null,null,null,null,null,{"$f":"IF(C150=\"\",\"\",(F150*3)+G150+H150-E150)","v":""},{"$f":"IF(C150=\"\",\"\",LOOKUP(K150,ByM!$A$2:$B$462)+LOOKUP(L150,ByM!$A$2:$B$462)+LOOKUP(M150,ByM!$A$2:$B$462)+LOOKUP(N150,ByM!$A$2:$B$462)+LOOKUP(O150,ByM!$A$2:$B$462))","v":""}]
[null,null,null,null,null,null,null,null,null,null,null,null,null,null,null,{"$f":"IF(C151=\"\",\"\",(F151*3)+G151+H151-E151)","v":""},{"$f":"IF(C151=\"\",\"\",LOOKUP(K151,ByM!$A$2:$B$462)+LOOKUP(L151,ByM!$A$2:$B$462)+LOOKUP(M151,ByM!$A$2:$B$462)+LOOKUP(N151,ByM!$A$2:$B$462)+LOOKUP(O151,ByM!$A$2:$B$462))","v":""}]
[null,null,null,null,null,null,null,null,null,null,null,null,null,null,null,{"$f":"IF(C152=\"\",\"\",(F152*3)+G152+H152-E152)","v":""},{"$f":"IF(C152=\"\",\"\",LOOKUP(K152,ByM!$A$2:$B$462)+LOOKUP(L152,ByM!$A$2:$B$462)+LOOKUP(M152,ByM!$A$2:$B$462)+LOOKUP(N152,ByM!$A$2:$B$462)+LOOKUP(O152,ByM!$A$2:$B$462))","v":""}]
[null,null,null,null,null,null,null,null,null,null,null,null,null,null,null,{"$f":"IF(C153=\"\",\"\",(F153*3)+G153+H153-E153)","v":""},{"$f":"IF(C153=\"\",\"\",LOOKUP(K153,ByM!$A$2:$B$462)+LOOKUP(L153,ByM!$A$2:$B$462)+LOOKUP(M153,ByM!$A$2:$B$462)+LOOKUP(N153,ByM!$A$2:$B$462)+LOOKUP(O153,ByM!$A$2:$B$462))","v":""}]
[null,null,null,null,null,null,null,null,null,null,null,null,null,null,null,{"$f":"IF(C154=\"\",\"\",(F154*3)+G154+H154-E154)","v":""},{"$f":"IF(C154=\"\",\"\",LOOKUP(K154,ByM!$A$2:$B$462)+LOOKUP(L154,ByM!$A$2:$B$462)+LOOKUP(M154,ByM!$A$2:$B$462)+LOOKUP(N154,ByM!$A$2:$B$462)+LOOKUP(O154,ByM!$A$2:$B$462))","v":""}]
[null,null,null,null,null,null,null,null,null,null,null,null,null,null,null,{"$f":"IF(C155=\"\",\"\",(F155*3)+G155+H155-E155)","v":""},{"$f":"IF(C155=\"\",\"\",LOOKUP(K155,ByM!$A$2:$B$462)+LOOKUP(L155,ByM!$A$2:$B$462)+LOOKUP(M155,ByM!$A$2:$B$462)+LOOKUP(N155,ByM!$A$2:$B$462)+LOOKUP(O155,ByM!$A$2:$B$462))","v":""}]
[null,null,null,null,null,null,null,null,null,null,null,null,null,null,null,{"$f":"IF(C156=\"\",\"\",(F156*3)+G156+H156-E156)","v":""},{"$f":"IF(C156=\"\",\"\",LOOKUP(K156,ByM!$A$2:$B$462)+LOOKUP(L156,ByM!$A$2:$B$462)+LOOKUP(M156,ByM!$A$2:$B$462)+LOOKUP(N156,ByM!$A$2:$B$462)+LOOKUP(O156,ByM!$A$2:$B$462))","v":""}]
[null,null,null,null,null,null,null,null,null,null,null,null,null,null,null,{"$f":"IF(C157=\"\",\"\",(F157*3)+G157+H157-E157)","v":""},{"$f":"IF(C157=\"\",\"\",LOOKUP(K157,ByM!$A$2:$B$462)+LOOKUP(L157,ByM!$A$2:$B$462)+LOOKUP(M157,ByM!$A$2:$B$462)+LOOKUP(N157,ByM!$A$2:$B$462)+LOOKUP(O157,ByM!$A$2:$B$462))","v":""}]
[null,null,null,null,null,null,null,null,null,null,null,null,null,null,null,{"$f":"IF(C158=\"\",\"\",(F158*3)+G158+H158-E158)","v":""},{"$f":"IF(C158=\"\",\"\",LOOKUP(K158,ByM!$A$2:$B$462)+LOOKUP(L158,ByM!$A$2:$B$462)+LOOKUP(M158,ByM!$A$2:$B$462)+LOOKUP(N158,ByM!$A$2:$B$462)+LOOKUP(O158,ByM!$A$2:$B$462))","v":""}]
[null,null,null,null,null,null,null,null,null,null,null,null,null,null,null,{"$f":"IF(C159=\"\",\"\",(F159*3)+G159+H159-E159)","v":""},{"$f":"IF(C159=\"\",\"\",LOOKUP(K159,ByM!$A$2:$B$462)+LOOKUP(L159,ByM!$A$2:$B$462)+LOOKUP(M159,ByM!$A$2:$B$462)+LOOKUP(N159,ByM!$A$2:$B$462)+LOOKUP(O159,ByM!$A$2:$B$462))","v":""}]
[null,null,null,null,null,null,null,null,null,null,null,null,null,null,null,{"$f":"IF(C160=\"\",\"\",(F160*3)+G160+H160-E160)","v":""},{"$f":"IF(C160=\"\",\"\",LOOKUP(K160,ByM!$A$2:$B$462)+LOOKUP(L160,ByM!$A$2:$B$462)+LOOKUP(M160,ByM!$A$2:$B$462)+LOOKUP(N160,ByM!$A$2:$B$462)+LOOKUP(O160,ByM!$A$2:$B$462))","v":""}]
[null,null,null,null,null,null,null,null,null,null,null,null,null,null,null,{"$f":"IF(C161=\"\",\"\",(F161*3)+G161+H161-E161)","v":""},{"$f":"IF(C161=\"\",\"\",LOOKUP(K161,ByM!$A$2:$B$462)+LOOKUP(L161,ByM!$A$2:$B$462)+LOOKUP(M161,ByM!$A$2:$B$462)+LOOKUP(N161,ByM!$A$2:$B$462)+LOOKUP(O161,ByM!$A$2:$B$462))","v":""}]
[null,null,null,null,null,null,null,null,null,null,null,null,null,null,null,{"$f":"IF(C162=\"\",\"\",(F162*3)+G162+H162-E162)","v":""},{"$f":"IF(C162=\"\",\"\",LOOKUP(K162,ByM!$A$2:$B$462)+LOOKUP(L162,ByM!$A$2:$B$462)+LOOKUP(M162,ByM!$A$2:$B$462)+LOOKUP(N162,ByM!$A$2:$B$462)+LOOKUP(O162,ByM!$A$2:$B$462))","v":""}]
[null,null,null,null,null,null,null,null,null,null,null,null,null,null,null,{"$f":"IF(C163=\"\",\"\",(F163*3)+G163+H163-E163)","v":""},{"$f":"IF(C163=\"\",\"\",LOOKUP(K163,ByM!$A$2:$B$462)+LOOKUP(L163,ByM!$A$2:$B$462)+LOOKUP(M163,ByM!$A$2:$B$462)+LOOKUP(N163,ByM!$A$2:$B$462)+LOOKUP(O163,ByM!$A$2:$B$462))","v":""}]
[null,null,null,null,null,null,null,null,null,null,null,null,null,null,null,{"$f":"IF(C164=\"\",\"\",(F164*3)+G164+H164-E164)","v":""},{"$f":"IF(C164=\"\",\"\",LOOKUP(K164,ByM!$A$2:$B$462)+LOOKUP(L164,ByM!$A$2:$B$462)+LOOKUP(M164,ByM!$A$2:$B$462)+LOOKUP(N164,ByM!$A$2:$B$462)+LOOKUP(O164,ByM!$A$2:$B$462))","v":""}]
[null,null,null,null,null,null,null,null,null,null,null,null,null,null,null,{"$f":"IF(C165=\"\",\"\",(F165*3)+G165+H165-E165)","v":""},{"$f":"IF(C165=\"\",\"\",LOOKUP(K165,ByM!$A$2:$B$462)+LOOKUP(L165,ByM!$A$2:$B$462)+LOOKUP(M165,ByM!$A$2:$B$462)+LOOKUP(N165,ByM!$A$2:$B$462)+LOOKUP(O165,ByM!$A$2:$B$462))","v":""}]
[null,null,null,null,null,null,null,null,null,null,null,null,null,null,null,{"$f":"IF(C166=\"\",\"\",(F166*3)+G166+H166-E166)","v":""},{"$f":"IF(C166=\"\",\"\",LOOKUP(K166,ByM!$A$2:$B$462)+LOOKUP(L166,ByM!$A$2:$B$462)+LOOKUP(M166,ByM!$A$2:$B$462)+LOOKUP(N166,ByM!$A$2:$B$462)+LOOKUP(O166,ByM!$A$2:$B$462))","v":""}]
[null,null,null,null,null,null,null,null,null,null,null,null,null,null,null,{"$f":"IF(C167=\"\",\"\",(F167*3)+G167+H167-E167)","v":""},{"$f":"IF(C167=\"\",\"\",LOOKUP(K167,ByM!$A$2:$B$462)+LOOKUP(L167,ByM!$A$2:$B$462)+LOOKUP(M167,ByM!$A$2:$B$462)+LOOKUP(N167,ByM!$A$2:$B$462)+LOOKUP(O167,ByM!$A$2:$B$462))","v":""}]
[null,null,null,null,null,null,null,null,null,null,null,null,null,null,null,{"$f":"IF(C168=\"\",\"\",(F168*3)+G168+H168-E168)","v":""},{"$f":"IF(C168=\"\",\"\",LOOKUP(K168,ByM!$A$2:$B$462)+LOOKUP(L168,ByM!$A$2:$B$462)+LOOKUP(M168,ByM!$A$2:$B$462)+LOOKUP(N168,ByM!$A$2:$B$462)+LOOKUP(O168,ByM!$A$2:$B$462))","v":""}]
[null,null,null,null,null,null,null,null,null,null,null,null,null,null,null,{"$f":"IF(C169=\"\",\"\",(F169*3)+G169+H169-E169)","v":""},{"$f":"IF(C169=\"\",\"\",LOOKUP(K169,ByM!$A$2:$B$462)+LOOKUP(L169,ByM!$A$2:$B$462)+LOOKUP(M169,ByM!$A$2:$B$462)+LOOKUP(N169,ByM!$A$2:$B$462)+LOOKUP(O169,ByM!$A$2:$B$462))","v":""}]
[null,null,null,null,null,null,null,null,null,null,null,null,null,null,null,{"$f":"IF(C170=\"\",\"\",(F170*3)+G170+H170-E170)","v":""},{"$f":"IF(C170=\"\",\"\",LOOKUP(K170,ByM!$A$2:$B$462)+LOOKUP(L170,ByM!$A$2:$B$462)+LOOKUP(M170,ByM!$A$2:$B$462)+LOOKUP(N170,ByM!$A$2:$B$462)+LOOKUP(O170,ByM!$A$2:$B$462))","v":""}]
[null,null,null,null,null,null,null,null,null,null,null,null,null,null,null,{"$f":"IF(C171=\"\",\"\",(F171*3)+G171+H171-E171)","v":""},{"$f":"IF(C171=\"\",\"\",LOOKUP(K171,ByM!$A$2:$B$462)+LOOKUP(L171,ByM!$A$2:$B$462)+LOOKUP(M171,ByM!$A$2:$B$462)+LOOKUP(N171,ByM!$A$2:$B$462)+LOOKUP(O171,ByM!$A$2:$B$462))","v":""}]
[null,null,null,null,null,null,null,null,null,null,null,null,null,null,null,{"$f":"IF(C172=\"\",\"\",(F172*3)+G172+H172-E172)","v":""},{"$f":"IF(C172=\"\",\"\",LOOKUP(K172,ByM!$A$2:$B$462)+LOOKUP(L172,ByM!$A$2:$B$462)+LOOKUP(M172,ByM!$A$2:$B$462)+LOOKUP(N172,ByM!$A$2:$B$462)+LOOKUP(O172,ByM!$A$2:$B$462))","v":""}]
[null,null,null,null,null,null,null,null,null,null,null,null,null,null,null,{"$f":"IF(C173=\"\",\"\",(F173*3)+G173+H173-E173)","v":""},{"$f":"IF(C173=\"\",\"\",LOOKUP(K173,ByM!$A$2:$B$462)+LOOKUP(L173,ByM!$A$2:$B$462)+LOOKUP(M173,ByM!$A$2:$B$462)+LOOKUP(N173,ByM!$A$2:$B$462)+LOOKUP(O173,ByM!$A$2:$B$462))","v":""}]
[null,null,null,null,null,null,null,null,null,null,null,null,null,null,null,{"$f":"IF(C174=\"\",\"\",(F174*3)+G174+H174-E174)","v":""},{"$f":"IF(C174=\"\",\"\",LOOKUP(K174,ByM!$A$2:$B$462)+LOOKUP(L174,ByM!$A$2:$B$462)+LOOKUP(M174,ByM!$A$2:$B$462)+LOOKUP(N174,ByM!$A$2:$B$462)+LOOKUP(O174,ByM!$A$2:$B$462))","v":""}]
[null,null,null,null,null,null,null,null,null,null,null,null,null,null,null,{"$f":"IF(C175=\"\",\"\",(F175*3)+G175+H175-E175)","v":""},{"$f":"IF(C175=\"\",\"\",LOOKUP(K175,ByM!$A$2:$B$462)+LOOKUP(L175,ByM!$A$2:$B$462)+LOOKUP(M175,ByM!$A$2:$B$462)+LOOKUP(N175,ByM!$A$2:$B$462)+LOOKUP(O175,ByM!$A$2:$B$462))","v":""}]
[null,null,null,null,null,null,null,null,null,null,null,null,null,null,null,{"$f":"IF(C176=\"\",\"\",(F176*3)+G176+H176-E176)","v":""},{"$f":"IF(C176=\"\",\"\",LOOKUP(K176,ByM!$A$2:$B$462)+LOOKUP(L176,ByM!$A$2:$B$462)+LOOKUP(M176,ByM!$A$2:$B$462)+LOOKUP(N176,ByM!$A$2:$B$462)+LOOKUP(O176,ByM!$A$2:$B$462))","v":""}]
[null,null,null,null,null,null,null,null,null,null,null,null,null,null,null,{"$f":"IF(C177=\"\",\"\",(F177*3)+G177+H177-E177)","v":""},{"$f":"IF(C177=\"\",\"\",LOOKUP(K177,ByM!$A$2:$B$462)+LOOKUP(L177,ByM!$A$2:$B$462)+LOOKUP(M177,ByM!$A$2:$B$462)+LOOKUP(N177,ByM!$A$2:$B$462)+LOOKUP(O177,ByM!$A$2:$B$462))","v":""}]
[null,null,null,null,null,null,null,null,null,null,null,null,null,null,null,{"$f":"IF(C178=\"\",\"\",(F178*3)+G178+H178-E178)","v":""},{"$f":"IF(C178=\"\",\"\",LOOKUP(K178,ByM!$A$2:$B$462)+LOOKUP(L178,ByM!$A$2:$B$462)+LOOKUP(M178,ByM!$A$2:$B$462)+LOOKUP(N178,ByM!$A$2:$B$462)+LOOKUP(O178,ByM!$A$2:$B$462))","v":""}]
[null,null,null,null,null,null,null,null,null,null,null,null,null,null,null,{"$f":"IF(C179=\"\",\"\",(F179*3)+G179+H179-E179)","v":""},{"$f":"IF(C179=\"\",\"\",LOOKUP(K179,ByM!$A$2:$B$462)+LOOKUP(L179,ByM!$A$2:$B$462)+LOOKUP(M179,ByM!$A$2:$B$462)+LOOKUP(N179,ByM!$A$2:$B$462)+LOOKUP(O179,ByM!$A$2:$B$462))","v":""}]
[null,null,null,null,null,null,null,null,null,null,null,null,null,null,null,{"$f":"IF(C180=\"\",\"\",(F180*3)+G180+H180-E180)","v":""},{"$f":"IF(C180=\"\",\"\",LOOKUP(K180,ByM!$A$2:$B$462)+LOOKUP(L180,ByM!$A$2:$B$462)+LOOKUP(M180,ByM!$A$2:$B$462)+LOOKUP(N180,ByM!$A$2:$B$462)+LOOKUP(O180,ByM!$A$2:$B$462))","v":""}]
[null,null,null,null,null,null,null,null,null,null,null,null,null,null,null,{"$f":"IF(C181=\"\",\"\",(F181*3)+G181+H181-E181)","v":""},{"$f":"IF(C181=\"\",\"\",LOOKUP(K181,ByM!$A$2:$B$462)+LOOKUP(L181,ByM!$A$2:$B$462)+LOOKUP(M181,ByM!$A$2:$B$462)+LOOKUP(N181,ByM!$A$2:$B$462)+LOOKUP(O181,ByM!$A$2:$B$462))","v":""}]
[null,null,null,null,null,null,null,null,null,null,null,null,null,null,null,{"$f":"IF(C182=\"\",\"\",(F182*3)+G182+H182-E182)","v":""},{"$f":"IF(C182=\"\",\"\",LOOKUP(K182,ByM!$A$2:$B$462)+LOOKUP(L182,ByM!$A$2:$B$462)+LOOKUP(M182,ByM!$A$2:$B$462)+LOOKUP(N182,ByM!$A$2:$B$462)+LOOKUP(O182,ByM!$A$2:$B$462))","v":""}]
[null,null,null,null,null,null,null,null,null,null,null,null,null,null,null,{"$f":"IF(C183=\"\",\"\",(F183*3)+G183+H183-E183)","v":""},{"$f":"IF(C183=\"\",\"\",LOOKUP(K183,ByM!$A$2:$B$462)+LOOKUP(L183,ByM!$A$2:$B$462)+LOOKUP(M183,ByM!$A$2:$B$462)+LOOKUP(N183,ByM!$A$2:$B$462)+LOOKUP(O183,ByM!$A$2:$B$462))","v":""}]
[null,null,null,null,null,null,null,null,null,null,null,null,null,null,null,{"$f":"IF(C184=\"\",\"\",(F184*3)+G184+H184-E184)","v":""},{"$f":"IF(C184=\"\",\"\",LOOKUP(K184,ByM!$A$2:$B$462)+LOOKUP(L184,ByM!$A$2:$B$462)+LOOKUP(M184,ByM!$A$2:$B$462)+LOOKUP(N184,ByM!$A$2:$B$462)+LOOKUP(O184,ByM!$A$2:$B$462))","v":""}]
[null,null,null,null,null,null,null,null,null,null,null,null,null,null,null,{"$f":"IF(C185=\"\",\"\",(F185*3)+G185+H185-E185)","v":""},{"$f":"IF(C185=\"\",\"\",LOOKUP(K185,ByM!$A$2:$B$462)+LOOKUP(L185,ByM!$A$2:$B$462)+LOOKUP(M185,ByM!$A$2:$B$462)+LOOKUP(N185,ByM!$A$2:$B$462)+LOOKUP(O185,ByM!$A$2:$B$462))","v":""}]
[null,null,null,null,null,null,null,null,null,null,null,null,null,null,null,{"$f":"IF(C186=\"\",\"\",(F186*3)+G186+H186-E186)","v":""},{"$f":"IF(C186=\"\",\"\",LOOKUP(K186,ByM!$A$2:$B$462)+LOOKUP(L186,ByM!$A$2:$B$462)+LOOKUP(M186,ByM!$A$2:$B$462)+LOOKUP(N186,ByM!$A$2:$B$462)+LOOKUP(O186,ByM!$A$2:$B$462))","v":""}]
[null,null,null,null,null,null,null,null,null,null,null,null,null,null,null,{"$f":"IF(C187=\"\",\"\",(F187*3)+G187+H187-E187)","v":""},{"$f":"IF(C187=\"\",\"\",LOOKUP(K187,ByM!$A$2:$B$462)+LOOKUP(L187,ByM!$A$2:$B$462)+LOOKUP(M187,ByM!$A$2:$B$462)+LOOKUP(N187,ByM!$A$2:$B$462)+LOOKUP(O187,ByM!$A$2:$B$462))","v":""}]
[null,null,null,null,null,null,null,null,null,null,null,null,null,null,null,{"$f":"IF(C188=\"\",\"\",(F188*3)+G188+H188-E188)","v":""},{"$f":"IF(C188=\"\",\"\",LOOKUP(K188,ByM!$A$2:$B$462)+LOOKUP(L188,ByM!$A$2:$B$462)+LOOKUP(M188,ByM!$A$2:$B$462)+LOOKUP(N188,ByM!$A$2:$B$462)+LOOKUP(O188,ByM!$A$2:$B$462))","v":""}]
[null,null,null,null,null,null,null,null,null,null,null,null,null,null,null,{"$f":"IF(C189=\"\",\"\",(F189*3)+G189+H189-E189)","v":""},{"$f":"IF(C189=\"\",\"\",LOOKUP(K189,ByM!$A$2:$B$462)+LOOKUP(L189,ByM!$A$2:$B$462)+LOOKUP(M189,ByM!$A$2:$B$462)+LOOKUP(N189,ByM!$A$2:$B$462)+LOOKUP(O189,ByM!$A$2:$B$462))","v":""}]
[null,null,null,null,null,null,null,null,null,null,null,null,null,null,null,{"$f":"IF(C190=\"\",\"\",(F190*3)+G190+H190-E190)","v":""},{"$f":"IF(C190=\"\",\"\",LOOKUP(K190,ByM!$A$2:$B$462)+LOOKUP(L190,ByM!$A$2:$B$462)+LOOKUP(M190,ByM!$A$2:$B$462)+LOOKUP(N190,ByM!$A$2:$B$462)+LOOKUP(O190,ByM!$A$2:$B$462))","v":""}]
[null,null,null,null,null,null,null,null,null,null,null,null,null,null,null,{"$f":"IF(C191=\"\",\"\",(F191*3)+G191+H191-E191)","v":""},{"$f":"IF(C191=\"\",\"\",LOOKUP(K191,ByM!$A$2:$B$462)+LOOKUP(L191,ByM!$A$2:$B$462)+LOOKUP(M191,ByM!$A$2:$B$462)+LOOKUP(N191,ByM!$A$2:$B$462)+LOOKUP(O191,ByM!$A$2:$B$462))","v":""}]
[null,null,null,null,null,null,null,null,null,null,null,null,null,null,null,{"$f":"IF(C192=\"\",\"\",(F192*3)+G192+H192-E192)","v":""},{"$f":"IF(C192=\"\",\"\",LOOKUP(K192,ByM!$A$2:$B$462)+LOOKUP(L192,ByM!$A$2:$B$462)+LOOKUP(M192,ByM!$A$2:$B$462)+LOOKUP(N192,ByM!$A$2:$B$462)+LOOKUP(O192,ByM!$A$2:$B$462))","v":""}]
[null,null,null,null,null,null,null,null,null,null,null,null,null,null,null,{"$f":"IF(C193=\"\",\"\",(F193*3)+G193+H193-E193)","v":""},{"$f":"IF(C193=\"\",\"\",LOOKUP(K193,ByM!$A$2:$B$462)+LOOKUP(L193,ByM!$A$2:$B$462)+LOOKUP(M193,ByM!$A$2:$B$462)+LOOKUP(N193,ByM!$A$2:$B$462)+LOOKUP(O193,ByM!$A$2:$B$462))","v":""}]
[null,null,null,null,null,null,null,null,null,null,null,null,null,null,null,{"$f":"IF(C194=\"\",\"\",(F194*3)+G194+H194-E194)","v":""},{"$f":"IF(C194=\"\",\"\",LOOKUP(K194,ByM!$A$2:$B$462)+LOOKUP(L194,ByM!$A$2:$B$462)+LOOKUP(M194,ByM!$A$2:$B$462)+LOOKUP(N194,ByM!$A$2:$B$462)+LOOKUP(O194,ByM!$A$2:$B$462))","v":""}]
[null,null,null,null,null,null,null,null,null,null,null,null,null,null,null,{"$f":"IF(C195=\"\",\"\",(F195*3)+G195+H195-E195)","v":""},{"$f":"IF(C195=\"\",\"\",LOOKUP(K195,ByM!$A$2:$B$462)+LOOKUP(L195,ByM!$A$2:$B$462)+LOOKUP(M195,ByM!$A$2:$B$462)+LOOKUP(N195,ByM!$A$2:$B$462)+LOOKUP(O195,ByM!$A$2:$B$462))","v":""}]
[null,null,null,null,null,null,null,null,null,null,null,null,null,null,null,{"$f":"IF(C196=\"\",\"\",(F196*3)+G196+H196-E196)","v":""},{"$f":"IF(C196=\"\",\"\",LOOKUP(K196,ByM!$A$2:$B$462)+LOOKUP(L196,ByM!$A$2:$B$462)+LOOKUP(M196,ByM!$A$2:$B$462)+LOOKUP(N196,ByM!$A$2:$B$462)+LOOKUP(O196,ByM!$A$2:$B$462))","v":""}]
[null,null,null,null,null,null,null,null,null,null,null,null,null,null,null,{"$f":"IF(C197=\"\",\"\",(F197*3)+G197+H197-E197)","v":""},{"$f":"IF(C197=\"\",\"\",LOOKUP(K197,ByM!$A$2:$B$462)+LOOKUP(L197,ByM!$A$2:$B$462)+LOOKUP(M197,ByM!$A$2:$B$462)+LOOKUP(N197,ByM!$A$2:$B$462)+LOOKUP(O197,ByM!$A$2:$B$462))","v":""}]
[null,null,null,null,null,null,null,null,null,null,null,null,null,null,null,{"$f":"IF(C198=\"\",\"\",(F198*3)+G198+H198-E198)","v":""},{"$f":"IF(C198=\"\",\"\",LOOKUP(K198,ByM!$A$2:$B$462)+LOOKUP(L198,ByM!$A$2:$B$462)+LOOKUP(M198,ByM!$A$2:$B$462)+LOOKUP(N198,ByM!$A$2:$B$462)+LOOKUP(O198,ByM!$A$2:$B$462))","v":""}]
[null,null,null,null,null,null,null,null,null,null,null,null,null,null,null,{"$f":"IF(C199=\"\",\"\",(F199*3)+G199+H199-E199)","v":""},{"$f":"IF(C199=\"\",\"\",LOOKUP(K199,ByM!$A$2:$B$462)+LOOKUP(L199,ByM!$A$2:$B$462)+LOOKUP(M199,ByM!$A$2:$B$462)+LOOKUP(N199,ByM!$A$2:$B$462)+LOOKUP(O199,ByM!$A$2:$B$462))","v":""}]
[null,null,null,null,null,null,null,null,null,null,null,null,null,null,null,{"$f":"IF(C200=\"\",\"\",(F200*3)+G200+H200-E200)","v":""},{"$f":"IF(C200=\"\",\"\",LOOKUP(K200,ByM!$A$2:$B$462)+LOOKUP(L200,ByM!$A$2:$B$462)+LOOKUP(M200,ByM!$A$2:$B$462)+LOOKUP(N200,ByM!$A$2:$B$462)+LOOKUP(O200,ByM!$A$2:$B$462))","v":""}]
[null,null,null,null,null,null,null,null,null,null,null,null,null,null,null,{"$f":"IF(C201=\"\",\"\",(F201*3)+G201+H201-E201)","v":""},{"$f":"IF(C201=\"\",\"\",LOOKUP(K201,ByM!$A$2:$B$462)+LOOKUP(L201,ByM!$A$2:$B$462)+LOOKUP(M201,ByM!$A$2:$B$462)+LOOKUP(N201,ByM!$A$2:$B$462)+LOOKUP(O201,ByM!$A$2:$B$462))","v":""}]
[null,null,null,null,null,null,null,null,null,null,null,null,null,null,null,{"$f":"IF(C202=\"\",\"\",(F202*3)+G202+H202-E202)","v":""},{"$f":"IF(C202=\"\",\"\",LOOKUP(K202,ByM!$A$2:$B$462)+LOOKUP(L202,ByM!$A$2:$B$462)+LOOKUP(M202,ByM!$A$2:$B$462)+LOOKUP(N202,ByM!$A$2:$B$462)+LOOKUP(O202,ByM!$A$2:$B$462))","v":""}]
[null,null,null,null,null,null,null,null,null,null,null,null,null,null,null,{"$f":"IF(C203=\"\",\"\",(F203*3)+G203+H203-E203)","v":""},{"$f":"IF(C203=\"\",\"\",LOOKUP(K203,ByM!$A$2:$B$462)+LOOKUP(L203,ByM!$A$2:$B$462)+LOOKUP(M203,ByM!$A$2:$B$462)+LOOKUP(N203,ByM!$A$2:$B$462)+LOOKUP(O203,ByM!$A$2:$B$462))","v":""}]
[null,null,null,null,null,null,null,null,null,null,null,null,null,null,null,{"$f":"IF(C204=\"\",\"\",(F204*3)+G204+H204-E204)","v":""},{"$f":"IF(C204=\"\",\"\",LOOKUP(K204,ByM!$A$2:$B$462)+LOOKUP(L204,ByM!$A$2:$B$462)+LOOKUP(M204,ByM!$A$2:$B$462)+LOOKUP(N204,ByM!$A$2:$B$462)+LOOKUP(O204,ByM!$A$2:$B$462))","v":""}]
[null,null,null,null,null,null,null,null,null,null,null,null,null,null,null,{"$f":"IF(C205=\"\",\"\",(F205*3)+G205+H205-E205)","v":""},{"$f":"IF(C205=\"\",\"\",LOOKUP(K205,ByM!$A$2:$B$462)+LOOKUP(L205,ByM!$A$2:$B$462)+LOOKUP(M205,ByM!$A$2:$B$462)+LOOKUP(N205,ByM!$A$2:$B$462)+LOOKUP(O205,ByM!$A$2:$B$462))","v":""}]
[null,null,null,null,null,null,null,null,null,null,null,null,null,null,null,{"$f":"IF(C206=\"\",\"\",(F206*3)+G206+H206-E206)","v":""},{"$f":"IF(C206=\"\",\"\",LOOKUP(K206,ByM!$A$2:$B$462)+LOOKUP(L206,ByM!$A$2:$B$462)+LOOKUP(M206,ByM!$A$2:$B$462)+LOOKUP(N206,ByM!$A$2:$B$462)+LOOKUP(O206,ByM!$A$2:$B$462))","v":""}]
[null,null,null,null,null,null,null,null,null,null,null,null,null,null,null,{"$f":"IF(C207=\"\",\"\",(F207*3)+G207+H207-E207)","v":""},{"$f":"IF(C207=\"\",\"\",LOOKUP(K207,ByM!$A$2:$B$462)+LOOKUP(L207,ByM!$A$2:$B$462)+LOOKUP(M207,ByM!$A$2:$B$462)+LOOKUP(N207,ByM!$A$2:$B$462)+LOOKUP(O207,ByM!$A$2:$B$462))","v":""}]
[null,null,null,null,null,null,null,null,null,null,null,null,null,null,null,{"$f":"IF(C208=\"\",\"\",(F208*3)+G208+H208-E208)","v":""},{"$f":"IF(C208=\"\",\"\",LOOKUP(K208,ByM!$A$2:$B$462)+LOOKUP(L208,ByM!$A$2:$B$462)+LOOKUP(M208,ByM!$A$2:$B$462)+LOOKUP(N208,ByM!$A$2:$B$462)+LOOKUP(O208,ByM!$A$2:$B$462))","v":""}]
[null,null,null,null,null,null,null,null,null,null,null,null,null,null,null,{"$f":"IF(C209=\"\",\"\",(F209*3)+G209+H209-E209)","v":""},{"$f":"IF(C209=\"\",\"\",LOOKUP(K209,ByM!$A$2:$B$462)+LOOKUP(L209,ByM!$A$2:$B$462)+LOOKUP(M209,ByM!$A$2:$B$462)+LOOKUP(N209,ByM!$A$2:$B$462)+LOOKUP(O209,ByM!$A$2:$B$462))","v":""}]
[null,null,null,null,null,null,null,null,null,null,null,null,null,null,null,{"$f":"IF(C210=\"\",\"\",(F210*3)+G210+H210-E210)","v":""},{"$f":"IF(C210=\"\",\"\",LOOKUP(K210,ByM!$A$2:$B$462)+LOOKUP(L210,ByM!$A$2:$B$462)+LOOKUP(M210,ByM!$A$2:$B$462)+LOOKUP(N210,ByM!$A$2:$B$462)+LOOKUP(O210,ByM!$A$2:$B$462))","v":""}]
[null,null,null,null,null,null,null,null,null,null,null,null,null,null,null,{"$f":"IF(C211=\"\",\"\",(F211*3)+G211+H211-E211)","v":""},{"$f":"IF(C211=\"\",\"\",LOOKUP(K211,ByM!$A$2:$B$462)+LOOKUP(L211,ByM!$A$2:$B$462)+LOOKUP(M211,ByM!$A$2:$B$462)+LOOKUP(N211,ByM!$A$2:$B$462)+LOOKUP(O211,ByM!$A$2:$B$462))","v":""}]
[null,null,null,null,null,null,null,null,null,null,null,null,null,null,null,{"$f":"IF(C212=\"\",\"\",(F212*3)+G212+H212-E212)","v":""},{"$f":"IF(C212=\"\",\"\",LOOKUP(K212,ByM!$A$2:$B$462)+LOOKUP(L212,ByM!$A$2:$B$462)+LOOKUP(M212,ByM!$A$2:$B$462)+LOOKUP(N212,ByM!$A$2:$B$462)+LOOKUP(O212,ByM!$A$2:$B$462))","v":""}]
[null,null,null,null,null,null,null,null,null,null,null,null,null,null,null,{"$f":"IF(C213=\"\",\"\",(F213*3)+G213+H213-E213)","v":""},{"$f":"IF(C213=\"\",\"\",LOOKUP(K213,ByM!$A$2:$B$462)+LOOKUP(L213,ByM!$A$2:$B$462)+LOOKUP(M213,ByM!$A$2:$B$462)+LOOKUP(N213,ByM!$A$2:$B$462)+LOOKUP(O213,ByM!$A$2:$B$462))","v":""}]
[null,null,null,null,null,null,null,null,null,null,null,null,null,null,null,{"$f":"IF(C214=\"\",\"\",(F214*3)+G214+H214-E214)","v":""},{"$f":"IF(C214=\"\",\"\",LOOKUP(K214,ByM!$A$2:$B$462)+LOOKUP(L214,ByM!$A$2:$B$462)+LOOKUP(M214,ByM!$A$2:$B$462)+LOOKUP(N214,ByM!$A$2:$B$462)+LOOKUP(O214,ByM!$A$2:$B$462))","v":""}]
[null,null,null,null,null,null,null,null,null,null,null,null,null,null,null,{"$f":"IF(C215=\"\",\"\",(F215*3)+G215+H215-E215)","v":""},{"$f":"IF(C215=\"\",\"\",LOOKUP(K215,ByM!$A$2:$B$462)+LOOKUP(L215,ByM!$A$2:$B$462)+LOOKUP(M215,ByM!$A$2:$B$462)+LOOKUP(N215,ByM!$A$2:$B$462)+LOOKUP(O215,ByM!$A$2:$B$462))","v":""}]
[null,null,null,null,null,null,null,null,null,null,null,null,null,null,null,{"$f":"IF(C216=\"\",\"\",(F216*3)+G216+H216-E216)","v":""},{"$f":"IF(C216=\"\",\"\",LOOKUP(K216,ByM!$A$2:$B$462)+LOOKUP(L216,ByM!$A$2:$B$462)+LOOKUP(M216,ByM!$A$2:$B$462)+LOOKUP(N216,ByM!$A$2:$B$462)+LOOKUP(O216,ByM!$A$2:$B$462))","v":""}]
[null,null,null,null,null,null,null,null,null,null,null,null,null,null,null,{"$f":"IF(C217=\"\",\"\",(F217*3)+G217+H217-E217)","v":""},{"$f":"IF(C217=\"\",\"\",LOOKUP(K217,ByM!$A$2:$B$462)+LOOKUP(L217,ByM!$A$2:$B$462)+LOOKUP(M217,ByM!$A$2:$B$462)+LOOKUP(N217,ByM!$A$2:$B$462)+LOOKUP(O217,ByM!$A$2:$B$462))","v":""}]
[null,null,null,null,null,null,null,null,null,null,null,null,null,null,null,{"$f":"IF(C218=\"\",\"\",(F218*3)+G218+H218-E218)","v":""},{"$f":"IF(C218=\"\",\"\",LOOKUP(K218,ByM!$A$2:$B$462)+LOOKUP(L218,ByM!$A$2:$B$462)+LOOKUP(M218,ByM!$A$2:$B$462)+LOOKUP(N218,ByM!$A$2:$B$462)+LOOKUP(O218,ByM!$A$2:$B$462))","v":""}]
[null,null,null,null,null,null,null,null,null,null,null,null,null,null,null,{"$f":"IF(C219=\"\",\"\",(F219*3)+G219+H219-E219)","v":""},{"$f":"IF(C219=\"\",\"\",LOOKUP(K219,ByM!$A$2:$B$462)+LOOKUP(L219,ByM!$A$2:$B$462)+LOOKUP(M219,ByM!$A$2:$B$462)+LOOKUP(N219,ByM!$A$2:$B$462)+LOOKUP(O219,ByM!$A$2:$B$462))","v":""}]
[null,null,null,null,null,null,null,null,null,null,null,null,null,null,null,{"$f":"IF(C220=\"\",\"\",(F220*3)+G220+H220-E220)","v":""},{"$f":"IF(C220=\"\",\"\",LOOKUP(K220,ByM!$A$2:$B$462)+LOOKUP(L220,ByM!$A$2:$B$462)+LOOKUP(M220,ByM!$A$2:$B$462)+LOOKUP(N220,ByM!$A$2:$B$462)+LOOKUP(O220,ByM!$A$2:$B$462))","v":""}]
[null,null,null,null,null,null,null,null,null,null,null,null,null,null,null,{"$f":"IF(C221=\"\",\"\",(F221*3)+G221+H221-E221)","v":""},{"$f":"IF(C221=\"\",\"\",LOOKUP(K221,ByM!$A$2:$B$462)+LOOKUP(L221,ByM!$A$2:$B$462)+LOOKUP(M221,ByM!$A$2:$B$462)+LOOKUP(N221,ByM!$A$2:$B$462)+LOOKUP(O221,ByM!$A$2:$B$462))","v":""}]
[null,null,null,null,null,null,null,null,null,null,null,null,null,null,null,{"$f":"IF(C222=\"\",\"\",(F222*3)+G222+H222-E222)","v":""},{"$f":"IF(C222=\"\",\"\",LOOKUP(K222,ByM!$A$2:$B$462)+LOOKUP(L222,ByM!$A$2:$B$462)+LOOKUP(M222,ByM!$A$2:$B$462)+LOOKUP(N222,ByM!$A$2:$B$462)+LOOKUP(O222,ByM!$A$2:$B$462))","v":""}]
[null,null,null,null,null,null,null,null,null,null,null,null,null,null,null,{"$f":"IF(C223=\"\",\"\",(F223*3)+G223+H223-E223)","v":""},{"$f":"IF(C223=\"\",\"\",LOOKUP(K223,ByM!$A$2:$B$462)+LOOKUP(L223,ByM!$A$2:$B$462)+LOOKUP(M223,ByM!$A$2:$B$462)+LOOKUP(N223,ByM!$A$2:$B$462)+LOOKUP(O223,ByM!$A$2:$B$462))","v":""}]
[null,null,null,null,null,null,null,null,null,null,null,null,null,null,null,{"$f":"IF(C224=\"\",\"\",(F224*3)+G224+H224-E224)","v":""},{"$f":"IF(C224=\"\",\"\",LOOKUP(K224,ByM!$A$2:$B$462)+LOOKUP(L224,ByM!$A$2:$B$462)+LOOKUP(M224,ByM!$A$2:$B$462)+LOOKUP(N224,ByM!$A$2:$B$462)+LOOKUP(O224,ByM!$A$2:$B$462))","v":""}]
[null,null,null,null,null,null,null,null,null,null,null,null,null,null,null,{"$f":"IF(C225=\"\",\"\",(F225*3)+G225+H225-E225)","v":""},{"$f":"IF(C225=\"\",\"\",LOOKUP(K225,ByM!$A$2:$B$462)+LOOKUP(L225,ByM!$A$2:$B$462)+LOOKUP(M225,ByM!$A$2:$B$462)+LOOKUP(N225,ByM!$A$2:$B$462)+LOOKUP(O225,ByM!$A$2:$B$462))","v":""}]
[null,null,null,null,null,null,null,null,null,null,null,null,null,null,null,{"$f":"IF(C226=\"\",\"\",(F226*3)+G226+H226-E226)","v":""},{"$f":"IF(C226=\"\",\"\",LOOKUP(K226,ByM!$A$2:$B$462)+LOOKUP(L226,ByM!$A$2:$B$462)+LOOKUP(M226,ByM!$A$2:$B$462)+LOOKUP(N226,ByM!$A$2:$B$462)+LOOKUP(O226,ByM!$A$2:$B$462))","v":""}]
[null,null,null,null,null,null,null,null,null,null,null,null,null,null,null,{"$f":"IF(C227=\"\",\"\",(F227*3)+G227+H227-E227)","v":""},{"$f":"IF(C227=\"\",\"\",LOOKUP(K227,ByM!$A$2:$B$462)+LOOKUP(L227,ByM!$A$2:$B$462)+LOOKUP(M227,ByM!$A$2:$B$462)+LOOKUP(N227,ByM!$A$2:$B$462)+LOOKUP(O227,ByM!$A$2:$B$462))","v":""}]
[null,null,null,null,null,null,null,null,null,null,null,null,null,null,null,{"$f":"IF(C228=\"\",\"\",(F228*3)+G228+H228-E228)","v":""},{"$f":"IF(C228=\"\",\"\",LOOKUP(K228,ByM!$A$2:$B$462)+LOOKUP(L228,ByM!$A$2:$B$462)+LOOKUP(M228,ByM!$A$2:$B$462)+LOOKUP(N228,ByM!$A$2:$B$462)+LOOKUP(O228,ByM!$A$2:$B$462))","v":""}]
[null,null,null,null,null,null,null,null,null,null,null,null,null,null,null,{"$f":"IF(C229=\"\",\"\",(F229*3)+G229+H229-E229)","v":""},{"$f":"IF(C229=\"\",\"\",LOOKUP(K229,ByM!$A$2:$B$462)+LOOKUP(L229,ByM!$A$2:$B$462)+LOOKUP(M229,ByM!$A$2:$B$462)+LOOKUP(N229,ByM!$A$2:$B$462)+LOOKUP(O229,ByM!$A$2:$B$462))","v":""}]
[null,null,null,null,null,null,null,null,null,null,null,null,null,null,null,{"$f":"IF(C230=\"\",\"\",(F230*3)+G230+H230-E230)","v":""},{"$f":"IF(C230=\"\",\"\",LOOKUP(K230,ByM!$A$2:$B$462)+LOOKUP(L230,ByM!$A$2:$B$462)+LOOKUP(M230,ByM!$A$2:$B$462)+LOOKUP(N230,ByM!$A$2:$B$462)+LOOKUP(O230,ByM!$A$2:$B$462))","v":""}]
[null,null,null,null,null,null,null,null,null,null,null,null,null,null,null,{"$f":"IF(C231=\"\",\"\",(F231*3)+G231+H231-E231)","v":""},{"$f":"IF(C231=\"\",\"\",LOOKUP(K231,ByM!$A$2:$B$462)+LOOKUP(L231,ByM!$A$2:$B$462)+LOOKUP(M231,ByM!$A$2:$B$462)+LOOKUP(N231,ByM!$A$2:$B$462)+LOOKUP(O231,ByM!$A$2:$B$462))","v":""}]
[null,null,null,null,null,null,null,null,null,null,null,null,null,null,null,{"$f":"IF(C232=\"\",\"\",(F232*3)+G232+H232-E232)","v":""},{"$f":"IF(C232=\"\",\"\",LOOKUP(K232,ByM!$A$2:$B$462)+LOOKUP(L232,ByM!$A$2:$B$462)+LOOKUP(M232,ByM!$A$2:$B$462)+LOOKUP(N232,ByM!$A$2:$B$462)+LOOKUP(O232,ByM!$A$2:$B$462))","v":""}]
[null,null,null,null,null,null,null,null,null,null,null,null,null,null,null,{"$f":"IF(C233=\"\",\"\",(F233*3)+G233+H233-E233)","v":""},{"$f":"IF(C233=\"\",\"\",LOOKUP(K233,ByM!$A$2:$B$462)+LOOKUP(L233,ByM!$A$2:$B$462)+LOOKUP(M233,ByM!$A$2:$B$462)+LOOKUP(N233,ByM!$A$2:$B$462)+LOOKUP(O233,ByM!$A$2:$B$462))","v":""}]
[null,null,null,null,null,null,null,null,null,null,null,null,null,null,null,{"$f":"IF(C234=\"\",\"\",(F234*3)+G234+H234-E234)","v":""},{"$f":"IF(C234=\"\",\"\",LOOKUP(K234,ByM!$A$2:$B$462)+LOOKUP(L234,ByM!$A$2:$B$462)+LOOKUP(M234,ByM!$A$2:$B$462)+LOOKUP(N234,ByM!$A$2:$B$462)+LOOKUP(O234,ByM!$A$2:$B$462))","v":""}]
[null,null,null,null,null,null,null,null,null,null,null,null,null,null,null,{"$f":"IF(C235=\"\",\"\",(F235*3)+G235+H235-E235)","v":""},{"$f":"IF(C235=\"\",\"\",LOOKUP(K235,ByM!$A$2:$B$462)+LOOKUP(L235,ByM!$A$2:$B$462)+LOOKUP(M235,ByM!$A$2:$B$462)+LOOKUP(N235,ByM!$A$2:$B$462)+LOOKUP(O235,ByM!$A$2:$B$462))","v":""}]
[null,null,null,null,null,null,null,null,null,null,null,null,null,null,null,{"$f":"IF(C236=\"\",\"\",(F236*3)+G236+H236-E236)","v":""},{"$f":"IF(C236=\"\",\"\",LOOKUP(K236,ByM!$A$2:$B$462)+LOOKUP(L236,ByM!$A$2:$B$462)+LOOKUP(M236,ByM!$A$2:$B$462)+LOOKUP(N236,ByM!$A$2:$B$462)+LOOKUP(O236,ByM!$A$2:$B$462))","v":""}]
[null,null,null,null,null,null,null,null,null,null,null,null,null,null,null,{"$f":"IF(C237=\"\",\"\",(F237*3)+G237+H237-E237)","v":""},{"$f":"IF(C237=\"\",\"\",LOOKUP(K237,ByM!$A$2:$B$462)+LOOKUP(L237,ByM!$A$2:$B$462)+LOOKUP(M237,ByM!$A$2:$B$462)+LOOKUP(N237,ByM!$A$2:$B$462)+LOOKUP(O237,ByM!$A$2:$B$462))","v":""}]
[null,null,null,null,null,null,null,null,null,null,null,null,null,null,null,{"$f":"IF(C238=\"\",\"\",(F238*3)+G238+H238-E238)","v":""},{"$f":"IF(C238=\"\",\"\",LOOKUP(K238,ByM!$A$2:$B$462)+LOOKUP(L238,ByM!$A$2:$B$462)+LOOKUP(M238,ByM!$A$2:$B$462)+LOOKUP(N238,ByM!$A$2:$B$462)+LOOKUP(O238,ByM!$A$2:$B$462))","v":""}]
[null,null,null,null,null,null,null,null,null,null,null,null,null,null,null,{"$f":"IF(C239=\"\",\"\",(F239*3)+G239+H239-E239)","v":""},{"$f":"IF(C239=\"\",\"\",LOOKUP(K239,ByM!$A$2:$B$462)+LOOKUP(L239,ByM!$A$2:$B$462)+LOOKUP(M239,ByM!$A$2:$B$462)+LOOKUP(N239,ByM!$A$2:$B$462)+LOOKUP(O239,ByM!$A$2:$B$462))","v":""}]
[null,null,null,null,null,null,null,null,null,null,null,null,null,null,null,{"$f":"IF(C240=\"\",\"\",(F240*3)+G240+H240-E240)","v":""},{"$f":"IF(C240=\"\",\"\",LOOKUP(K240,ByM!$A$2:$B$462)+LOOKUP(L240,ByM!$A$2:$B$462)+LOOKUP(M240,ByM!$A$2:$B$462)+LOOKUP(N240,ByM!$A$2:$B$462)+LOOKUP(O240,ByM!$A$2:$B$462))","v":""}]
[null,null,null,null,null,null,null,null,null,null,null,null,null,null,null,{"$f":"IF(C241=\"\",\"\",(F241*3)+G241+H241-E241)","v":""},{"$f":"IF(C241=\"\",\"\",LOOKUP(K241,ByM!$A$2:$B$462)+LOOKUP(L241,ByM!$A$2:$B$462)+LOOKUP(M241,ByM!$A$2:$B$462)+LOOKUP(N241,ByM!$A$2:$B$462)+LOOKUP(O241,ByM!$A$2:$B$462))","v":""}]
[null,null,null,null,null,null,null,null,null,null,null,null,null,null,null,{"$f":"IF(C242=\"\",\"\",(F242*3)+G242+H242-E242)","v":""},{"$f":"IF(C242=\"\",\"\",LOOKUP(K242,ByM!$A$2:$B$462)+LOOKUP(L242,ByM!$A$2:$B$462)+LOOKUP(M242,ByM!$A$2:$B$462)+LOOKUP(N242,ByM!$A$2:$B$462)+LOOKUP(O242,ByM!$A$2:$B$462))","v":""}]
[null,null,null,null,null,null,null,null,null,null,null,null,null,null,null,{"$f":"IF(C243=\"\",\"\",(F243*3)+G243+H243-E243)","v":""},{"$f":"IF(C243=\"\",\"\",LOOKUP(K243,ByM!$A$2:$B$462)+LOOKUP(L243,ByM!$A$2:$B$462)+LOOKUP(M243,ByM!$A$2:$B$462)+LOOKUP(N243,ByM!$A$2:$B$462)+LOOKUP(O243,ByM!$A$2:$B$462))","v":""}]
[null,null,null,null,null,null,null,null,null,null,null,null,null,null,null,{"$f":"IF(C244=\"\",\"\",(F244*3)+G244+H244-E244)","v":""},{"$f":"IF(C244=\"\",\"\",LOOKUP(K244,ByM!$A$2:$B$462)+LOOKUP(L244,ByM!$A$2:$B$462)+LOOKUP(M244,ByM!$A$2:$B$462)+LOOKUP(N244,ByM!$A$2:$B$462)+LOOKUP(O244,ByM!$A$2:$B$462))","v":""}]
[null,null,null,null,null,null,null,null,null,null,null,null,null,null,null,{"$f":"IF(C245=\"\",\"\",(F245*3)+G245+H245-E245)","v":""},{"$f":"IF(C245=\"\",\"\",LOOKUP(K245,ByM!$A$2:$B$462)+LOOKUP(L245,ByM!$A$2:$B$462)+LOOKUP(M245,ByM!$A$2:$B$462)+LOOKUP(N245,ByM!$A$2:$B$462)+LOOKUP(O245,ByM!$A$2:$B$462))","v":""}]
[null,null,null,null,null,null,null,null,null,null,null,null,null,null,null,{"$f":"IF(C246=\"\",\"\",(F246*3)+G246+H246-E246)","v":""},{"$f":"IF(C246=\"\",\"\",LOOKUP(K246,ByM!$A$2:$B$462)+LOOKUP(L246,ByM!$A$2:$B$462)+LOOKUP(M246,ByM!$A$2:$B$462)+LOOKUP(N246,ByM!$A$2:$B$462)+LOOKUP(O246,ByM!$A$2:$B$462))","v":""}]
[null,null,null,null,null,null,null,null,null,null,null,null,null,null,null,{"$f":"IF(C247=\"\",\"\",(F247*3)+G247+H247-E247)","v":""},{"$f":"IF(C247=\"\",\"\",LOOKUP(K247,ByM!$A$2:$B$462)+LOOKUP(L247,ByM!$A$2:$B$462)+LOOKUP(M247,ByM!$A$2:$B$462)+LOOKUP(N247,ByM!$A$2:$B$462)+LOOKUP(O247,ByM!$A$2:$B$462))","v":""}]
[null,null,null,null,null,null,null,null,null,null,null,null,null,null,null,{"$f":"IF(C248=\"\",\"\",(F248*3)+G248+H248-E248)","v":""},{"$f":"IF(C248=\"\",\"\",LOOKUP(K248,ByM!$A$2:$B$462)+LOOKUP(L248,ByM!$A$2:$B$462)+LOOKUP(M248,ByM!$A$2:$B$462)+LOOKUP(N248,ByM!$A$2:$B$462)+LOOKUP(O248,ByM!$A$2:$B$462))","v":""}]
[null,null,null,null,null,null,null,null,null,null,null,null,null,null,null,{"$f":"IF(C249=\"\",\"\",(F249*3)+G249+H249-E249)","v":""},{"$f":"IF(C249=\"\",\"\",LOOKUP(K249,ByM!$A$2:$B$462)+LOOKUP(L249,ByM!$A$2:$B$462)+LOOKUP(M249,ByM!$A$2:$B$462)+LOOKUP(N249,ByM!$A$2:$B$462)+LOOKUP(O249,ByM!$A$2:$B$462))","v":""}]
[null,null,null,null,null,null,null,null,null,null,null,null,null,null,null,{"$f":"IF(C250=\"\",\"\",(F250*3)+G250+H250-E250)","v":""},{"$f":"IF(C250=\"\",\"\",LOOKUP(K250,ByM!$A$2:$B$462)+LOOKUP(L250,ByM!$A$2:$B$462)+LOOKUP(M250,ByM!$A$2:$B$462)+LOOKUP(N250,ByM!$A$2:$B$462)+LOOKUP(O250,ByM!$A$2:$B$462))","v":""}]
[null,null,null,null,null,null,null,null,null,null,null,null,null,null,null,{"$f":"IF(C251=\"\",\"\",(F251*3)+G251+H251-E251)","v":""},{"$f":"IF(C251=\"\",\"\",LOOKUP(K251,ByM!$A$2:$B$462)+LOOKUP(L251,ByM!$A$2:$B$462)+LOOKUP(M251,ByM!$A$2:$B$462)+LOOKUP(N251,ByM!$A$2:$B$462)+LOOKUP(O251,ByM!$A$2:$B$462))","v":""}]
[null,null,null,null,null,null,null,null,null,null,null,null,null,null,null,{"$f":"IF(C252=\"\",\"\",(F252*3)+G252+H252-E252)","v":""},{"$f":"IF(C252=\"\",\"\",LOOKUP(K252,ByM!$A$2:$B$462)+LOOKUP(L252,ByM!$A$2:$B$462)+LOOKUP(M252,ByM!$A$2:$B$462)+LOOKUP(N252,ByM!$A$2:$B$462)+LOOKUP(O252,ByM!$A$2:$B$462))","v":""}]
[null,null,null,null,null,null,null,null,null,null,null,null,null,null,null,{"$f":"IF(C253=\"\",\"\",(F253*3)+G253+H253-E253)","v":""},{"$f":"IF(C253=\"\",\"\",LOOKUP(K253,ByM!$A$2:$B$462)+LOOKUP(L253,ByM!$A$2:$B$462)+LOOKUP(M253,ByM!$A$2:$B$462)+LOOKUP(N253,ByM!$A$2:$B$462)+LOOKUP(O253,ByM!$A$2:$B$462))","v":""}]
[null,null,null,null,null,null,null,null,null,null,null,null,null,null,null,{"$f":"IF(C254=\"\",\"\",(F254*3)+G254+H254-E254)","v":""},{"$f":"IF(C254=\"\",\"\",LOOKUP(K254,ByM!$A$2:$B$462)+LOOKUP(L254,ByM!$A$2:$B$462)+LOOKUP(M254,ByM!$A$2:$B$462)+LOOKUP(N254,ByM!$A$2:$B$462)+LOOKUP(O254,ByM!$A$2:$B$462))","v":""}]
[null,null,null,null,null,null,null,null,null,null,null,null,null,null,null,{"$f":"IF(C255=\"\",\"\",(F255*3)+G255+H255-E255)","v":""},{"$f":"IF(C255=\"\",\"\",LOOKUP(K255,ByM!$A$2:$B$462)+LOOKUP(L255,ByM!$A$2:$B$462)+LOOKUP(M255,ByM!$A$2:$B$462)+LOOKUP(N255,ByM!$A$2:$B$462)+LOOKUP(O255,ByM!$A$2:$B$462))","v":""}]
[null,null,null,null,null,null,null,null,null,null,null,null,null,null,null,{"$f":"IF(C256=\"\",\"\",(F256*3)+G256+H256-E256)","v":""},{"$f":"IF(C256=\"\",\"\",LOOKUP(K256,ByM!$A$2:$B$462)+LOOKUP(L256,ByM!$A$2:$B$462)+LOOKUP(M256,ByM!$A$2:$B$462)+LOOKUP(N256,ByM!$A$2:$B$462)+LOOKUP(O256,ByM!$A$2:$B$462))","v":""}]
[null,null,null,null,null,null,null,null,null,null,null,null,null,null,null,{"$f":"IF(C257=\"\",\"\",(F257*3)+G257+H257-E257)","v":""},{"$f":"IF(C257=\"\",\"\",LOOKUP(K257,ByM!$A$2:$B$462)+LOOKUP(L257,ByM!$A$2:$B$462)+LOOKUP(M257,ByM!$A$2:$B$462)+LOOKUP(N257,ByM!$A$2:$B$462)+LOOKUP(O257,ByM!$A$2:$B$462))","v":""}]
[null,null,null,null,null,null,null,null,null,null,null,null,null,null,null,{"$f":"IF(C258=\"\",\"\",(F258*3)+G258+H258-E258)","v":""},{"$f":"IF(C258=\"\",\"\",LOOKUP(K258,ByM!$A$2:$B$462)+LOOKUP(L258,ByM!$A$2:$B$462)+LOOKUP(M258,ByM!$A$2:$B$462)+LOOKUP(N258,ByM!$A$2:$B$462)+LOOKUP(O258,ByM!$A$2:$B$462))","v":""}]
[null,null,null,null,null,null,null,null,null,null,null,null,null,null,null,{"$f":"IF(C259=\"\",\"\",(F259*3)+G259+H259-E259)","v":""},{"$f":"IF(C259=\"\",\"\",LOOKUP(K259,ByM!$A$2:$B$462)+LOOKUP(L259,ByM!$A$2:$B$462)+LOOKUP(M259,ByM!$A$2:$B$462)+LOOKUP(N259,ByM!$A$2:$B$462)+LOOKUP(O259,ByM!$A$2:$B$462))","v":""}]
[null,null,null,null,null,null,null,null,null,null,null,null,null,null,null,{"$f":"IF(C260=\"\",\"\",(F260*3)+G260+H260-E260)","v":""},{"$f":"IF(C260=\"\",\"\",LOOKUP(K260,ByM!$A$2:$B$462)+LOOKUP(L260,ByM!$A$2:$B$462)+LOOKUP(M260,ByM!$A$2:$B$462)+LOOKUP(N260,ByM!$A$2:$B$462)+LOOKUP(O260,ByM!$A$2:$B$462))","v":""}]
[null,null,null,null,null,null,null,null,null,null,null,null,null,null,null,{"$f":"IF(C261=\"\",\"\",(F261*3)+G261+H261-E261)","v":""},{"$f":"IF(C261=\"\",\"\",LOOKUP(K261,ByM!$A$2:$B$462)+LOOKUP(L261,ByM!$A$2:$B$462)+LOOKUP(M261,ByM!$A$2:$B$462)+LOOKUP(N261,ByM!$A$2:$B$462)+LOOKUP(O261,ByM!$A$2:$B$462))","v":""}]
[null,null,null,null,null,null,null,null,null,null,null,null,null,null,null,{"$f":"IF(C262=\"\",\"\",(F262*3)+G262+H262-E262)","v":""},{"$f":"IF(C262=\"\",\"\",LOOKUP(K262,ByM!$A$2:$B$462)+LOOKUP(L262,ByM!$A$2:$B$462)+LOOKUP(M262,ByM!$A$2:$B$462)+LOOKUP(N262,ByM!$A$2:$B$462)+LOOKUP(O262,ByM!$A$2:$B$462))","v":""}]
[null,null,null,null,null,null,null,null,null,null,null,null,null,null,null,{"$f":"IF(C263=\"\",\"\",(F263*3)+G263+H263-E263)","v":""},{"$f":"IF(C263=\"\",\"\",LOOKUP(K263,ByM!$A$2:$B$462)+LOOKUP(L263,ByM!$A$2:$B$462)+LOOKUP(M263,ByM!$A$2:$B$462)+LOOKUP(N263,ByM!$A$2:$B$462)+LOOKUP(O263,ByM!$A$2:$B$462))","v":""}]
[null,null,null,null,null,null,null,null,null,null,null,null,null,null,null,{"$f":"IF(C264=\"\",\"\",(F264*3)+G264+H264-E264)","v":""},{"$f":"IF(C264=\"\",\"\",LOOKUP(K264,ByM!$A$2:$B$462)+LOOKUP(L264,ByM!$A$2:$B$462)+LOOKUP(M264,ByM!$A$2:$B$462)+LOOKUP(N264,ByM!$A$2:$B$462)+LOOKUP(O264,ByM!$A$2:$B$462))","v":""}]
[null,null,null,null,null,null,null,null,null,null,null,null,null,null,null,{"$f":"IF(C265=\"\",\"\",(F265*3)+G265+H265-E265)","v":""},{"$f":"IF(C265=\"\",\"\",LOOKUP(K265,ByM!$A$2:$B$462)+LOOKUP(L265,ByM!$A$2:$B$462)+LOOKUP(M265,ByM!$A$2:$B$462)+LOOKUP(N265,ByM!$A$2:$B$462)+LOOKUP(O265,ByM!$A$2:$B$462))","v":""}]
[null,null,null,null,null,null,null,null,null,null,null,null,null,null,null,{"$f":"IF(C266=\"\",\"\",(F266*3)+G266+H266-E266)","v":""},{"$f":"IF(C266=\"\",\"\",LOOKUP(K266,ByM!$A$2:$B$462)+LOOKUP(L266,ByM!$A$2:$B$462)+LOOKUP(M266,ByM!$A$2:$B$462)+LOOKUP(N266,ByM!$A$2:$B$462)+LOOKUP(O266,ByM!$A$2:$B$462))","v":""}]
[null,null,null,null,null,null,null,null,null,null,null,null,null,null,null,{"$f":"IF(C267=\"\",\"\",(F267*3)+G267+H267-E267)","v":""},{"$f":"IF(C267=\"\",\"\",LOOKUP(K267,ByM!$A$2:$B$462)+LOOKUP(L267,ByM!$A$2:$B$462)+LOOKUP(M267,ByM!$A$2:$B$462)+LOOKUP(N267,ByM!$A$2:$B$462)+LOOKUP(O267,ByM!$A$2:$B$462))","v":""}]
[null,null,null,null,null,null,null,null,null,null,null,null,null,null,null,{"$f":"IF(C268=\"\",\"\",(F268*3)+G268+H268-E268)","v":""},{"$f":"IF(C268=\"\",\"\",LOOKUP(K268,ByM!$A$2:$B$462)+LOOKUP(L268,ByM!$A$2:$B$462)+LOOKUP(M268,ByM!$A$2:$B$462)+LOOKUP(N268,ByM!$A$2:$B$462)+LOOKUP(O268,ByM!$A$2:$B$462))","v":""}]
[null,null,null,null,null,null,null,null,null,null,null,null,null,null,null,{"$f":"IF(C269=\"\",\"\",(F269*3)+G269+H269-E269)","v":""},{"$f":"IF(C269=\"\",\"\",LOOKUP(K269,ByM!$A$2:$B$462)+LOOKUP(L269,ByM!$A$2:$B$462)+LOOKUP(M269,ByM!$A$2:$B$462)+LOOKUP(N269,ByM!$A$2:$B$462)+LOOKUP(O269,ByM!$A$2:$B$462))","v":""}]
[null,null,null,null,null,null,null,null,null,null,null,null,null,null,null,{"$f":"IF(C270=\"\",\"\",(F270*3)+G270+H270-E270)","v":""},{"$f":"IF(C270=\"\",\"\",LOOKUP(K270,ByM!$A$2:$B$462)+LOOKUP(L270,ByM!$A$2:$B$462)+LOOKUP(M270,ByM!$A$2:$B$462)+LOOKUP(N270,ByM!$A$2:$B$462)+LOOKUP(O270,ByM!$A$2:$B$462))","v":""}]
[null,null,null,null,null,null,null,null,null,null,null,null,null,null,null,{"$f":"IF(C271=\"\",\"\",(F271*3)+G271+H271-E271)","v":""},{"$f":"IF(C271=\"\",\"\",LOOKUP(K271,ByM!$A$2:$B$462)+LOOKUP(L271,ByM!$A$2:$B$462)+LOOKUP(M271,ByM!$A$2:$B$462)+LOOKUP(N271,ByM!$A$2:$B$462)+LOOKUP(O271,ByM!$A$2:$B$462))","v":""}]
[null,null,null,null,null,null,null,null,null,null,null,null,null,null,null,{"$f":"IF(C272=\"\",\"\",(F272*3)+G272+H272-E272)","v":""},{"$f":"IF(C272=\"\",\"\",LOOKUP(K272,ByM!$A$2:$B$462)+LOOKUP(L272,ByM!$A$2:$B$462)+LOOKUP(M272,ByM!$A$2:$B$462)+LOOKUP(N272,ByM!$A$2:$B$462)+LOOKUP(O272,ByM!$A$2:$B$462))","v":""}]
[null,null,null,null,null,null,null,null,null,null,null,null,null,null,null,{"$f":"IF(C273=\"\",\"\",(F273*3)+G273+H273-E273)","v":""},{"$f":"IF(C273=\"\",\"\",LOOKUP(K273,ByM!$A$2:$B$462)+LOOKUP(L273,ByM!$A$2:$B$462)+LOOKUP(M273,ByM!$A$2:$B$462)+LOOKUP(N273,ByM!$A$2:$B$462)+LOOKUP(O273,ByM!$A$2:$B$462))","v":""}]
[null,null,null,null,null,null,null,null,null,null,null,null,null,null,null,{"$f":"IF(C274=\"\",\"\",(F274*3)+G274+H274-E274)","v":""},{"$f":"IF(C274=\"\",\"\",LOOKUP(K274,ByM!$A$2:$B$462)+LOOKUP(L274,ByM!$A$2:$B$462)+LOOKUP(M274,ByM!$A$2:$B$462)+LOOKUP(N274,ByM!$A$2:$B$462)+LOOKUP(O274,ByM!$A$2:$B$462))","v":""}]
[null,null,null,null,null,null,null,null,null,null,null,null,null,null,null,{"$f":"IF(C275=\"\",\"\",(F275*3)+G275+H275-E275)","v":""},{"$f":"IF(C275=\"\",\"\",LOOKUP(K275,ByM!$A$2:$B$462)+LOOKUP(L275,ByM!$A$2:$B$462)+LOOKUP(M275,ByM!$A$2:$B$462)+LOOKUP(N275,ByM!$A$2:$B$462)+LOOKUP(O275,ByM!$A$2:$B$462))","v":""}]
[null,null,null,null,null,null,null,null,null,null,null,null,null,null,null,{"$f":"IF(C276=\"\",\"\",(F276*3)+G276+H276-E276)","v":""},{"$f":"IF(C276=\"\",\"\",LOOKUP(K276,ByM!$A$2:$B$462)+LOOKUP(L276,ByM!$A$2:$B$462)+LOOKUP(M276,ByM!$A$2:$B$462)+LOOKUP(N276,ByM!$A$2:$B$462)+LOOKUP(O276,ByM!$A$2:$B$462))","v":""}]
[null,null,null,null,null,null,null,null,null,null,null,null,null,null,null,{"$f":"IF(C277=\"\",\"\",(F277*3)+G277+H277-E277)","v":""},{"$f":"IF(C277=\"\",\"\",LOOKUP(K277,ByM!$A$2:$B$462)+LOOKUP(L277,ByM!$A$2:$B$462)+LOOKUP(M277,ByM!$A$2:$B$462)+LOOKUP(N277,ByM!$A$2:$B$462)+LOOKUP(O277,ByM!$A$2:$B$462))","v":""}]
[null,null,null,null,null,null,null,null,null,null,null,null,null,null,null,{"$f":"IF(C278=\"\",\"\",(F278*3)+G278+H278-E278)","v":""},{"$f":"IF(C278=\"\",\"\",LOOKUP(K278,ByM!$A$2:$B$462)+LOOKUP(L278,ByM!$A$2:$B$462)+LOOKUP(M278,ByM!$A$2:$B$462)+LOOKUP(N278,ByM!$A$2:$B$462)+LOOKUP(O278,ByM!$A$2:$B$462))","v":""}]
[null,null,null,null,null,null,null,null,null,null,null,null,null,null,null,{"$f":"IF(C279=\"\",\"\",(F279*3)+G279+H279-E279)","v":""},{"$f":"IF(C279=\"\",\"\",LOOKUP(K279,ByM!$A$2:$B$462)+LOOKUP(L279,ByM!$A$2:$B$462)+LOOKUP(M279,ByM!$A$2:$B$462)+LOOKUP(N279,ByM!$A$2:$B$462)+LOOKUP(O279,ByM!$A$2:$B$462))","v":""}]
[null,null,null,null,null,null,null,null,null,null,null,null,null,null,null,{"$f":"IF(C280=\"\",\"\",(F280*3)+G280+H280-E280)","v":""},{"$f":"IF(C280=\"\",\"\",LOOKUP(K280,ByM!$A$2:$B$462)+LOOKUP(L280,ByM!$A$2:$B$462)+LOOKUP(M280,ByM!$A$2:$B$462)+LOOKUP(N280,ByM!$A$2:$B$462)+LOOKUP(O280,ByM!$A$2:$B$462))","v":""}]
[null,null,null,null,null,null,null,null,null,null,null,null,null,null,null,{"$f":"IF(C281=\"\",\"\",(F281*3)+G281+H281-E281)","v":""},{"$f":"IF(C281=\"\",\"\",LOOKUP(K281,ByM!$A$2:$B$462)+LOOKUP(L281,ByM!$A$2:$B$462)+LOOKUP(M281,ByM!$A$2:$B$462)+LOOKUP(N281,ByM!$A$2:$B$462)+LOOKUP(O281,ByM!$A$2:$B$462))","v":""}]
[null,null,null,null,null,null,null,null,null,null,null,null,null,null,null,{"$f":"IF(C282=\"\",\"\",(F282*3)+G282+H282-E282)","v":""},{"$f":"IF(C282=\"\",\"\",LOOKUP(K282,ByM!$A$2:$B$462)+LOOKUP(L282,ByM!$A$2:$B$462)+LOOKUP(M282,ByM!$A$2:$B$462)+LOOKUP(N282,ByM!$A$2:$B$462)+LOOKUP(O282,ByM!$A$2:$B$462))","v":""}]
[null,null,null,null,null,null,null,null,null,null,null,null,null,null,null,{"$f":"IF(C283=\"\",\"\",(F283*3)+G283+H283-E283)","v":""},{"$f":"IF(C283=\"\",\"\",LOOKUP(K283,ByM!$A$2:$B$462)+LOOKUP(L283,ByM!$A$2:$B$462)+LOOKUP(M283,ByM!$A$2:$B$462)+LOOKUP(N283,ByM!$A$2:$B$462)+LOOKUP(O283,ByM!$A$2:$B$462))","v":""}]
[null,null,null,null,null,null,null,null,null,null,null,null,null,null,null,{"$f":"IF(C284=\"\",\"\",(F284*3)+G284+H284-E284)","v":""},{"$f":"IF(C284=\"\",\"\",LOOKUP(K284,ByM!$A$2:$B$462)+LOOKUP(L284,ByM!$A$2:$B$462)+LOOKUP(M284,ByM!$A$2:$B$462)+LOOKUP(N284,ByM!$A$2:$B$462)+LOOKUP(O284,ByM!$A$2:$B$462))","v":""}]
[null,null,null,null,null,null,null,null,null,null,null,null,null,null,null,{"$f":"IF(C285=\"\",\"\",(F285*3)+G285+H285-E285)","v":""},{"$f":"IF(C285=\"\",\"\",LOOKUP(K285,ByM!$A$2:$B$462)+LOOKUP(L285,ByM!$A$2:$B$462)+LOOKUP(M285,ByM!$A$2:$B$462)+LOOKUP(N285,ByM!$A$2:$B$462)+LOOKUP(O285,ByM!$A$2:$B$462))","v":""}]
[null,null,null,null,null,null,null,null,null,null,null,null,null,null,null,{"$f":"IF(C286=\"\",\"\",(F286*3)+G286+H286-E286)","v":""},{"$f":"IF(C286=\"\",\"\",LOOKUP(K286,ByM!$A$2:$B$462)+LOOKUP(L286,ByM!$A$2:$B$462)+LOOKUP(M286,ByM!$A$2:$B$462)+LOOKUP(N286,ByM!$A$2:$B$462)+LOOKUP(O286,ByM!$A$2:$B$462))","v":""}]
[null,null,null,null,null,null,null,null,null,null,null,null,null,null,null,{"$f":"IF(C287=\"\",\"\",(F287*3)+G287+H287-E287)","v":""},{"$f":"IF(C287=\"\",\"\",LOOKUP(K287,ByM!$A$2:$B$462)+LOOKUP(L287,ByM!$A$2:$B$462)+LOOKUP(M287,ByM!$A$2:$B$462)+LOOKUP(N287,ByM!$A$2:$B$462)+LOOKUP(O287,ByM!$A$2:$B$462))","v":""}]
[null,null,null,null,null,null,null,null,null,null,null,null,null,null,null,{"$f":"IF(C288=\"\",\"\",(F288*3)+G288+H288-E288)","v":""},{"$f":"IF(C288=\"\",\"\",LOOKUP(K288,ByM!$A$2:$B$462)+LOOKUP(L288,ByM!$A$2:$B$462)+LOOKUP(M288,ByM!$A$2:$B$462)+LOOKUP(N288,ByM!$A$2:$B$462)+LOOKUP(O288,ByM!$A$2:$B$462))","v":""}]
[null,null,null,null,null,null,null,null,null,null,null,null,null,null,null,{"$f":"IF(C289=\"\",\"\",(F289*3)+G289+H289-E289)","v":""},{"$f":"IF(C289=\"\",\"\",LOOKUP(K289,ByM!$A$2:$B$462)+LOOKUP(L289,ByM!$A$2:$B$462)+LOOKUP(M289,ByM!$A$2:$B$462)+LOOKUP(N289,ByM!$A$2:$B$462)+LOOKUP(O289,ByM!$A$2:$B$462))","v":""}]
[null,null,null,null,null,null,null,null,null,null,null,null,null,null,null,{"$f":"IF(C290=\"\",\"\",(F290*3)+G290+H290-E290)","v":""},{"$f":"IF(C290=\"\",\"\",LOOKUP(K290,ByM!$A$2:$B$462)+LOOKUP(L290,ByM!$A$2:$B$462)+LOOKUP(M290,ByM!$A$2:$B$462)+LOOKUP(N290,ByM!$A$2:$B$462)+LOOKUP(O290,ByM!$A$2:$B$462))","v":""}]
[null,null,null,null,null,null,null,null,null,null,null,null,null,null,null,{"$f":"IF(C291=\"\",\"\",(F291*3)+G291+H291-E291)","v":""},{"$f":"IF(C291=\"\",\"\",LOOKUP(K291,ByM!$A$2:$B$462)+LOOKUP(L291,ByM!$A$2:$B$462)+LOOKUP(M291,ByM!$A$2:$B$462)+LOOKUP(N291,ByM!$A$2:$B$462)+LOOKUP(O291,ByM!$A$2:$B$462))","v":""}]
[null,null,null,null,null,null,null,null,null,null,null,null,null,null,null,{"$f":"IF(C292=\"\",\"\",(F292*3)+G292+H292-E292)","v":""},{"$f":"IF(C292=\"\",\"\",LOOKUP(K292,ByM!$A$2:$B$462)+LOOKUP(L292,ByM!$A$2:$B$462)+LOOKUP(M292,ByM!$A$2:$B$462)+LOOKUP(N292,ByM!$A$2:$B$462)+LOOKUP(O292,ByM!$A$2:$B$462))","v":""}]
[null,null,null,null,null,null,null,null,null,null,null,null,null,null,null,{"$f":"IF(C293=\"\",\"\",(F293*3)+G293+H293-E293)","v":""},{"$f":"IF(C293=\"\",\"\",LOOKUP(K293,ByM!$A$2:$B$462)+LOOKUP(L293,ByM!$A$2:$B$462)+LOOKUP(M293,ByM!$A$2:$B$462)+LOOKUP(N293,ByM!$A$2:$B$462)+LOOKUP(O293,ByM!$A$2:$B$462))","v":""}]
[null,null,null,null,null,null,null,null,null,null,null,null,null,null,null,{"$f":"IF(C294=\"\",\"\",(F294*3)+G294+H294-E294)","v":""},{"$f":"IF(C294=\"\",\"\",LOOKUP(K294,ByM!$A$2:$B$462)+LOOKUP(L294,ByM!$A$2:$B$462)+LOOKUP(M294,ByM!$A$2:$B$462)+LOOKUP(N294,ByM!$A$2:$B$462)+LOOKUP(O294,ByM!$A$2:$B$462))","v":""}]
[null,null,null,null,null,null,null,null,null,null,null,null,null,null,null,{"$f":"IF(C295=\"\",\"\",(F295*3)+G295+H295-E295)","v":""},{"$f":"IF(C295=\"\",\"\",LOOKUP(K295,ByM!$A$2:$B$462)+LOOKUP(L295,ByM!$A$2:$B$462)+LOOKUP(M295,ByM!$A$2:$B$462)+LOOKUP(N295,ByM!$A$2:$B$462)+LOOKUP(O295,ByM!$A$2:$B$462))","v":""}]
[null,null,null,null,null,null,null,null,null,null,null,null,null,null,null,{"$f":"IF(C296=\"\",\"\",(F296*3)+G296+H296-E296)","v":""},{"$f":"IF(C296=\"\",\"\",LOOKUP(K296,ByM!$A$2:$B$462)+LOOKUP(L296,ByM!$A$2:$B$462)+LOOKUP(M296,ByM!$A$2:$B$462)+LOOKUP(N296,ByM!$A$2:$B$462)+LOOKUP(O296,ByM!$A$2:$B$462))","v":""}]
[null,null,null,null,null,null,null,null,null,null,null,null,null,null,null,{"$f":"IF(C297=\"\",\"\",(F297*3)+G297+H297-E297)","v":""},{"$f":"IF(C297=\"\",\"\",LOOKUP(K297,ByM!$A$2:$B$462)+LOOKUP(L297,ByM!$A$2:$B$462)+LOOKUP(M297,ByM!$A$2:$B$462)+LOOKUP(N297,ByM!$A$2:$B$462)+LOOKUP(O297,ByM!$A$2:$B$462))","v":""}]
[null,null,null,null,null,null,null,null,null,null,null,null,null,null,null,{"$f":"IF(C298=\"\",\"\",(F298*3)+G298+H298-E298)","v":""},{"$f":"IF(C298=\"\",\"\",LOOKUP(K298,ByM!$A$2:$B$462)+LOOKUP(L298,ByM!$A$2:$B$462)+LOOKUP(M298,ByM!$A$2:$B$462)+LOOKUP(N298,ByM!$A$2:$B$462)+LOOKUP(O298,ByM!$A$2:$B$462))","v":""}]
[null,null,null,null,null,null,null,null,null,null,null,null,null,null,null,{"$f":"IF(C299=\"\",\"\",LOOKUP(E299,$P$2:$Q$11)+LOOKUP(F299,$P$2:$Q$11)+LOOKUP(G299,$P$2:$Q$11)+LOOKUP(H299,$P$2:$Q$11)+LOOKUP(I299,$P$2:$Q$11))","v":""},{"$f":"IF(C299=\"\",\"\",LOOKUP(K299,ByM!$A$2:$B$462)+LOOKUP(L299,ByM!$A$2:$B$462)+LOOKUP(M299,ByM!$A$2:$B$462)+LOOKUP(N299,ByM!$A$2:$B$462)+LOOKUP(O299,ByM!$A$2:$B$462))","v":""}]
[null,null,null,null,null,null,null,null,null,null,null,null,null,null,null,{"$f":"IF(C300=\"\",\"\",LOOKUP(E300,$P$2:$Q$11)+LOOKUP(F300,$P$2:$Q$11)+LOOKUP(G300,$P$2:$Q$11)+LOOKUP(H300,$P$2:$Q$11)+LOOKUP(I300,$P$2:$Q$11))","v":""},{"$f":"IF(C300=\"\",\"\",LOOKUP(K300,ByM!$A$2:$B$462)+LOOKUP(L300,ByM!$A$2:$B$462)+LOOKUP(M300,ByM!$A$2:$B$462)+LOOKUP(N300,ByM!$A$2:$B$462)+LOOKUP(O300,ByM!$A$2:$B$462))","v":""}]
[null,null,null,null,null,null,null,null,null,null,null,null,null,null,null,{"$f":"IF(C301=\"\",\"\",LOOKUP(E301,$P$2:$Q$11)+LOOKUP(F301,$P$2:$Q$11)+LOOKUP(G301,$P$2:$Q$11)+LOOKUP(H301,$P$2:$Q$11)+LOOKUP(I301,$P$2:$Q$11))","v":""},{"$f":"IF(C301=\"\",\"\",LOOKUP(K301,ByM!$A$2:$B$462)+LOOKUP(L301,ByM!$A$2:$B$462)+LOOKUP(M301,ByM!$A$2:$B$462)+LOOKUP(N301,ByM!$A$2:$B$462)+LOOKUP(O301,ByM!$A$2:$B$462))","v":""}]

{"sheet":"Metahabilidad","index":3,"n_rows":332,"n_cols":17,"rows_kept":332,"cut":false,"hidden":false,"merged":[]}
[]
[null,"Nombre:","Nombre",null,"Atributos:",null,null,null,null,null,"Coste del arquetipo:"]
[null,"Bonus 1:","-",{"$f":"LOOKUP(C3,ByM!$A$2:$B$462)","v":0},"ENE","ALC","CAL",null,"ARE",null,{"$f":"IF(SUM(D3:D7,F5+G5+I5-E5)<1,1,SUM(D3:D7,F5+G5+I5-E5))","v":1},{"$f":"LOOKUP(C3,ByM!$A$2:$C$462)","v":"-"}]
[null,"Bonus 2:","-",{"$f":"LOOKUP(C4,ByM!$A$2:$B$462)","v":0},1,0,1,null,"-",null,null,{"$f":"LOOKUP(C4,ByM!$A$2:$C$462)","v":"-"}]
[null,"Bonus 3:","-",{"$f":"LOOKUP(C5,ByM!$A$2:$B$462)","v":0},{"$f":"E4*3","v":3},{"$f":"F4","v":0},{"$f":"G4","v":1},null,{"$f":"LOOKUP(I4,Area!$A$2:$B$71)","v":0},null,null,{"$f":"LOOKUP(C5,ByM!$A$2:$C$462)","v":"-"}]
[null,"Bonus 4:","-",{"$f":"LOOKUP(C6,ByM!$A$2:$B$462)","v":0},null,null,null,null,null,null,null,{"$f":"LOOKUP(C6,ByM!$A$2:$C$462)","v":"-"}]
[null,"Bonus 5:","-",{"$f":"LOOKUP(C7,ByM!$A$2:$B$462)","v":0},null,null,null,null,null,null,null,{"$f":"LOOKUP(C7,ByM!$A$2:$C$462)","v":"-"}]
[null,"Descripción:"]
[]
[]
[]
[]
[]
[null,"Tipo","Nombre","Desc","ENE","ALC",".","CAL","PTS","ARE","Bonus 1","Bonus 2","Bonus 3","Bonus 4","Bonus 5","Pts Atr.","Pts ByM"]
[null,"Invocación","¡Plaf!",null,3,0,null,3,12,"-","Invocación","Escuchimizado","Maleficio (escuchimizado)","-","-",{"$f":"IF(C15=\"\",\"\",H15+F15-(E15*3))","v":-6},{"$f":"IF(C15=\"\",\"\",LOOKUP(J15,Area!$A$2:$B$71)+LOOKUP(K15,ByM!$A$2:$B$462)+LOOKUP(L15,ByM!$A$2:$B$462)+LOOKUP(M15,ByM!$A$2:$B$462)+LOOKUP(N15,ByM!$A$2:$B$462)+LOOKUP(O15,ByM!$A$2:$B$462))","v":-2}]
[null,"Invocación","Absorción vital",null,2,0,null,3,9,"-","Invocación","La mano de la muerte","-","-","-",{"$f":"IF(C16=\"\",\"\",H16+F16-(E16*3))","v":-3},{"$f":"IF(C16=\"\",\"\",LOOKUP(J16,Area!$A$2:$B$71)+LOOKUP(K16,ByM!$A$2:$B$462)+LOOKUP(L16,ByM!$A$2:$B$462)+LOOKUP(M16,ByM!$A$2:$B$462)+LOOKUP(N16,ByM!$A$2:$B$462)+LOOKUP(O16,ByM!$A$2:$B$462))","v":12}]
[null,"Invocación","Alucinación",null,6,0,null,3,21,"R3","Invocación","Maleficio (Muy miedoso)","Maleficio (Tuerto)","Muy miedoso","Tuerto",{"$f":"IF(C17=\"\",\"\",H17+F17-(E17*3))","v":-15},{"$f":"IF(C17=\"\",\"\",LOOKUP(J17,Area!$A$2:$B$71)+LOOKUP(K17,ByM!$A$2:$B$462)+LOOKUP(L17,ByM!$A$2:$B$462)+LOOKUP(M17,ByM!$A$2:$B$462)+LOOKUP(N17,ByM!$A$2:$B$462)+LOOKUP(O17,ByM!$A$2:$B$462))","v":-4}]
[null,"Invocación","Apaciguar los muertos",null,3,0,null,3,8,"-","Invocación","Magia: dormir (no vivo)","Magia: tranquilizar (no vivo)","-","-",{"$f":"IF(C18=\"\",\"\",H18+F18-(E18*3))","v":-6},{"$f":"IF(C18=\"\",\"\",LOOKUP(J18,Area!$A$2:$B$71)+LOOKUP(K18,ByM!$A$2:$B$462)+LOOKUP(L18,ByM!$A$2:$B$462)+LOOKUP(M18,ByM!$A$2:$B$462)+LOOKUP(N18,ByM!$A$2:$B$462)+LOOKUP(O18,ByM!$A$2:$B$462))","v":14}]
[null,"Invocación","Azote psíquico",null,4,0,null,3,13,"-","Invocación","Runas de combate","Shin","-","-",{"$f":"IF(C19=\"\",\"\",H19+F19-(E19*3))","v":-9},{"$f":"IF(C19=\"\",\"\",LOOKUP(J19,Area!$A$2:$B$71)+LOOKUP(K19,ByM!$A$2:$B$462)+LOOKUP(L19,ByM!$A$2:$B$462)+LOOKUP(M19,ByM!$A$2:$B$462)+LOOKUP(N19,ByM!$A$2:$B$462)+LOOKUP(O19,ByM!$A$2:$B$462))","v":22}]
[null,"Invocación","Barrera psíquica",null,3,0,null,3,6,"-","Invocación","Escudo de energía N01","-","-","-",{"$f":"IF(C20=\"\",\"\",H20+F20-(E20*3))","v":-6},{"$f":"IF(C20=\"\",\"\",LOOKUP(J20,Area!$A$2:$B$71)+LOOKUP(K20,ByM!$A$2:$B$462)+LOOKUP(L20,ByM!$A$2:$B$462)+LOOKUP(M20,ByM!$A$2:$B$462)+LOOKUP(N20,ByM!$A$2:$B$462)+LOOKUP(O20,ByM!$A$2:$B$462))","v":12}]
[null,"Invocación","Cántico de odio",null,5,0,null,3,15,"-","Invocación","Grito berserker","-","-","-",{"$f":"IF(C21=\"\",\"\",H21+F21-(E21*3))","v":-12},{"$f":"IF(C21=\"\",\"\",LOOKUP(J21,Area!$A$2:$B$71)+LOOKUP(K21,ByM!$A$2:$B$462)+LOOKUP(L21,ByM!$A$2:$B$462)+LOOKUP(M21,ByM!$A$2:$B$462)+LOOKUP(N21,ByM!$A$2:$B$462)+LOOKUP(O21,ByM!$A$2:$B$462))","v":27}]
[null,"Invocación","Catecismo de fuego",null,5,0,null,3,12,"R3","Invocación","Munición reforzada","-","-","-",{"$f":"IF(C22=\"\",\"\",H22+F22-(E22*3))","v":-12},{"$f":"IF(C22=\"\",\"\",LOOKUP(J22,Area!$A$2:$B$71)+LOOKUP(K22,ByM!$A$2:$B$462)+LOOKUP(L22,ByM!$A$2:$B$462)+LOOKUP(M22,ByM!$A$2:$B$462)+LOOKUP(N22,ByM!$A$2:$B$462)+LOOKUP(O22,ByM!$A$2:$B$462))","v":24}]
[null,"Invocación","Cicatrización de Mitra",null,2,0,null,3,14,"-","Invocación","Elixir N3","Un uso por actuación","-","-",{"$f":"IF(C23=\"\",\"\",H23+F23-(E23*3))","v":-3},{"$f":"IF(C23=\"\",\"\",LOOKUP(J23,Area!$A$2:$B$71)+LOOKUP(K23,ByM!$A$2:$B$462)+LOOKUP(L23,ByM!$A$2:$B$462)+LOOKUP(M23,ByM!$A$2:$B$462)+LOOKUP(N23,ByM!$A$2:$B$462)+LOOKUP(O23,ByM!$A$2:$B$462))","v":17}]
[null,"Invocación","Comunión con lo salvaje",null,2,0,null,3,14,"-","Invocación","Berserker","Sed de sangre","-","-",{"$f":"IF(C24=\"\",\"\",H24+F24-(E24*3))","v":-3},{"$f":"IF(C24=\"\",\"\",LOOKUP(J24,Area!$A$2:$B$71)+LOOKUP(K24,ByM!$A$2:$B$462)+LOOKUP(L24,ByM!$A$2:$B$462)+LOOKUP(M24,ByM!$A$2:$B$462)+LOOKUP(N24,ByM!$A$2:$B$462)+LOOKUP(O24,ByM!$A$2:$B$462))","v":17}]
[null,"Invocación","Confusión",null,3,0,null,3,6,"-","Invocación","Magia: despistar","-","-","-",{"$f":"IF(C25=\"\",\"\",H25+F25-(E25*3))","v":-6},{"$f":"IF(C25=\"\",\"\",LOOKUP(J25,Area!$A$2:$B$71)+LOOKUP(K25,ByM!$A$2:$B$462)+LOOKUP(L25,ByM!$A$2:$B$462)+LOOKUP(M25,ByM!$A$2:$B$462)+LOOKUP(N25,ByM!$A$2:$B$462)+LOOKUP(O25,ByM!$A$2:$B$462))","v":12}]
[null,"Invocación","Copiar al mimo",null,3,0,null,3,11,"-","Invocación","Maestría en combate (poseer)","-","-","-",{"$f":"IF(C26=\"\",\"\",H26+F26-(E26*3))","v":-6},{"$f":"IF(C26=\"\",\"\",LOOKUP(J26,Area!$A$2:$B$71)+LOOKUP(K26,ByM!$A$2:$B$462)+LOOKUP(L26,ByM!$A$2:$B$462)+LOOKUP(M26,ByM!$A$2:$B$462)+LOOKUP(N26,ByM!$A$2:$B$462)+LOOKUP(O26,ByM!$A$2:$B$462))","v":17}]
[null,"Invocación","Corredor temporal",null,5,0,null,3,7,"R3","Invocación","Teleport","-","-","-",{"$f":"IF(C27=\"\",\"\",H27+F27-(E27*3))","v":-12},{"$f":"IF(C27=\"\",\"\",LOOKUP(J27,Area!$A$2:$B$71)+LOOKUP(K27,ByM!$A$2:$B$462)+LOOKUP(L27,ByM!$A$2:$B$462)+LOOKUP(M27,ByM!$A$2:$B$462)+LOOKUP(N27,ByM!$A$2:$B$462)+LOOKUP(O27,ByM!$A$2:$B$462))","v":19}]
[null,"Invocación","Deambulación astral",null,1,0,null,3,12,"-","Invocación","Incorpóreo","-","-","-",{"$f":"IF(C28=\"\",\"\",H28+F28-(E28*3))","v":0},{"$f":"IF(C28=\"\",\"\",LOOKUP(J28,Area!$A$2:$B$71)+LOOKUP(K28,ByM!$A$2:$B$462)+LOOKUP(L28,ByM!$A$2:$B$462)+LOOKUP(M28,ByM!$A$2:$B$462)+LOOKUP(N28,ByM!$A$2:$B$462)+LOOKUP(O28,ByM!$A$2:$B$462))","v":12}]
[null,"Invocación","Desarme",null,3,0,null,3,6,"-","Invocación","Magia: telekinesis","-","-","-",{"$f":"IF(C29=\"\",\"\",H29+F29-(E29*3))","v":-6},{"$f":"IF(C29=\"\",\"\",LOOKUP(J29,Area!$A$2:$B$71)+LOOKUP(K29,ByM!$A$2:$B$462)+LOOKUP(L29,ByM!$A$2:$B$462)+LOOKUP(M29,ByM!$A$2:$B$462)+LOOKUP(N29,ByM!$A$2:$B$462)+LOOKUP(O29,ByM!$A$2:$B$462))","v":12}]
[null,"Invocación","Disputa",null,3,0,null,3,6,"-","Invocación","Magia: despistar","-","-","-",{"$f":"IF(C30=\"\",\"\",H30+F30-(E30*3))","v":-6},{"$f":"IF(C30=\"\",\"\",LOOKUP(J30,Area!$A$2:$B$71)+LOOKUP(K30,ByM!$A$2:$B$462)+LOOKUP(L30,ByM!$A$2:$B$462)+LOOKUP(M30,ByM!$A$2:$B$462)+LOOKUP(N30,ByM!$A$2:$B$462)+LOOKUP(O30,ByM!$A$2:$B$462))","v":12}]
[null,"Invocación","Doble de Majachsuwi",null,3,0,null,3,11,"-","Invocación","Señuelo","Un uso por aventura","-","-",{"$f":"IF(C31=\"\",\"\",H31+F31-(E31*3))","v":-6},{"$f":"IF(C31=\"\",\"\",LOOKUP(J31,Area!$A$2:$B$71)+LOOKUP(K31,ByM!$A$2:$B$462)+LOOKUP(L31,ByM!$A$2:$B$462)+LOOKUP(M31,ByM!$A$2:$B$462)+LOOKUP(N31,ByM!$A$2:$B$462)+LOOKUP(O31,ByM!$A$2:$B$462))","v":17}]
[null,"Invocación","Esclavizar",null,2,0,null,3,9,"-","Invocación","Maestría (poseer)","-","-","-",{"$f":"IF(C32=\"\",\"\",H32+F32-(E32*3))","v":-3},{"$f":"IF(C32=\"\",\"\",LOOKUP(J32,Area!$A$2:$B$71)+LOOKUP(K32,ByM!$A$2:$B$462)+LOOKUP(L32,ByM!$A$2:$B$462)+LOOKUP(M32,ByM!$A$2:$B$462)+LOOKUP(N32,ByM!$A$2:$B$462)+LOOKUP(O32,ByM!$A$2:$B$462))","v":12}]
[null,"Invocación","Espíritu de la raptura",null,3,0,null,3,1,"-","Invocación","Saltador","Un uso por aventura","-","-",{"$f":"IF(C33=\"\",\"\",H33+F33-(E33*3))","v":-6},{"$f":"IF(C33=\"\",\"\",LOOKUP(J33,Area!$A$2:$B$71)+LOOKUP(K33,ByM!$A$2:$B$462)+LOOKUP(L33,ByM!$A$2:$B$462)+LOOKUP(M33,ByM!$A$2:$B$462)+LOOKUP(N33,ByM!$A$2:$B$462)+LOOKUP(O33,ByM!$A$2:$B$462))","v":2}]
[null,"Invocación","Espíritu del bufamello",null,3,0,null,3,1,"-","Invocación","Magia: despistar","Un uso por aventura","-","-",{"$f":"IF(C34=\"\",\"\",H34+F34-(E34*3))","v":-6},{"$f":"IF(C34=\"\",\"\",LOOKUP(J34,Area!$A$2:$B$71)+LOOKUP(K34,ByM!$A$2:$B$462)+LOOKUP(L34,ByM!$A$2:$B$462)+LOOKUP(M34,ByM!$A$2:$B$462)+LOOKUP(N34,ByM!$A$2:$B$462)+LOOKUP(O34,ByM!$A$2:$B$462))","v":2}]
[null,"Invocación","Espíritu del mongolongo",null,3,0,null,3,1,"-","Invocación","Cojitranco","Maleficio (cojitranco)","Un uso por aventura","-",{"$f":"IF(C35=\"\",\"\",H35+F35-(E35*3))","v":-6},{"$f":"IF(C35=\"\",\"\",LOOKUP(J35,Area!$A$2:$B$71)+LOOKUP(K35,ByM!$A$2:$B$462)+LOOKUP(L35,ByM!$A$2:$B$462)+LOOKUP(M35,ByM!$A$2:$B$462)+LOOKUP(N35,ByM!$A$2:$B$462)+LOOKUP(O35,ByM!$A$2:$B$462))","v":-7}]
[null,"Invocación","Espíritu del ojaldrón",null,3,0,null,3,22,"-","Invocación","Maleficio (tembleque)","Tembleque","Un uso por aventura","-",{"$f":"IF(C36=\"\",\"\",H36+F36-(E36*3))","v":-6},{"$f":"IF(C36=\"\",\"\",LOOKUP(J36,Area!$A$2:$B$71)+LOOKUP(K36,ByM!$A$2:$B$462)+LOOKUP(L36,ByM!$A$2:$B$462)+LOOKUP(M36,ByM!$A$2:$B$462)+LOOKUP(N36,ByM!$A$2:$B$462)+LOOKUP(O36,ByM!$A$2:$B$462))","v":-32}]
[null,"Invocación","Exhortación de ira",null,5,0,null,3,20,"-","Invocación","Grito de muerte","-","-","-",{"$f":"IF(C37=\"\",\"\",H37+F37-(E37*3))","v":-12},{"$f":"IF(C37=\"\",\"\",LOOKUP(J37,Area!$A$2:$B$71)+LOOKUP(K37,ByM!$A$2:$B$462)+LOOKUP(L37,ByM!$A$2:$B$462)+LOOKUP(M37,ByM!$A$2:$B$462)+LOOKUP(N37,ByM!$A$2:$B$462)+LOOKUP(O37,ByM!$A$2:$B$462))","v":32}]
[null,"Invocación","Fortaleza psíquica",null,6,0,null,3,19,"R3","Invocación","Salvaguarda","-","-","-",{"$f":"IF(C38=\"\",\"\",H38+F38-(E38*3))","v":-15},{"$f":"IF(C38=\"\",\"\",LOOKUP(J38,Area!$A$2:$B$71)+LOOKUP(K38,ByM!$A$2:$B$462)+LOOKUP(L38,ByM!$A$2:$B$462)+LOOKUP(M38,ByM!$A$2:$B$462)+LOOKUP(N38,ByM!$A$2:$B$462)+LOOKUP(O38,ByM!$A$2:$B$462))","v":34}]
[null,"Invocación","Fulgor de Majachsuwi",null,3,0,null,3,1,"-","Invocación","Humo denso","Un uso por aventura","-","-",{"$f":"IF(C39=\"\",\"\",H39+F39-(E39*3))","v":-6},{"$f":"IF(C39=\"\",\"\",LOOKUP(J39,Area!$A$2:$B$71)+LOOKUP(K39,ByM!$A$2:$B$462)+LOOKUP(L39,ByM!$A$2:$B$462)+LOOKUP(M39,ByM!$A$2:$B$462)+LOOKUP(N39,ByM!$A$2:$B$462)+LOOKUP(O39,ByM!$A$2:$B$462))","v":3}]
[null,"Invocación","Halo de Mitra",null,3,0,null,4,7,"-","Invocación","Escudo de energía N01","-","-","-",{"$f":"IF(C40=\"\",\"\",H40+F40-(E40*3))","v":-5},{"$f":"IF(C40=\"\",\"\",LOOKUP(J40,Area!$A$2:$B$71)+LOOKUP(K40,ByM!$A$2:$B$462)+LOOKUP(L40,ByM!$A$2:$B$462)+LOOKUP(M40,ByM!$A$2:$B$462)+LOOKUP(N40,ByM!$A$2:$B$462)+LOOKUP(O40,ByM!$A$2:$B$462))","v":12}]
[null,"Invocación","Halo de Set",null,2,0,null,3,19,"-","Invocación","Baño de acero","-","-","-",{"$f":"IF(C41=\"\",\"\",H41+F41-(E41*3))","v":-3},{"$f":"IF(C41=\"\",\"\",LOOKUP(J41,Area!$A$2:$B$71)+LOOKUP(K41,ByM!$A$2:$B$462)+LOOKUP(L41,ByM!$A$2:$B$462)+LOOKUP(M41,ByM!$A$2:$B$462)+LOOKUP(N41,ByM!$A$2:$B$462)+LOOKUP(O41,ByM!$A$2:$B$462))","v":22}]
[null,"Invocación","Letanía de fe",null,5,0,null,3,9,"R3","Invocación","Afortunado","-","-","-",{"$f":"IF(C42=\"\",\"\",H42+F42-(E42*3))","v":-12},{"$f":"IF(C42=\"\",\"\",LOOKUP(J42,Area!$A$2:$B$71)+LOOKUP(K42,ByM!$A$2:$B$462)+LOOKUP(L42,ByM!$A$2:$B$462)+LOOKUP(M42,ByM!$A$2:$B$462)+LOOKUP(N42,ByM!$A$2:$B$462)+LOOKUP(O42,ByM!$A$2:$B$462))","v":21}]
[null,"Invocación","Letanía de odio",null,5,0,null,3,17,"R3","Invocación","De precisión","-","-","-",{"$f":"IF(C43=\"\",\"\",H43+F43-(E43*3))","v":-12},{"$f":"IF(C43=\"\",\"\",LOOKUP(J43,Area!$A$2:$B$71)+LOOKUP(K43,ByM!$A$2:$B$462)+LOOKUP(L43,ByM!$A$2:$B$462)+LOOKUP(M43,ByM!$A$2:$B$462)+LOOKUP(N43,ByM!$A$2:$B$462)+LOOKUP(O43,ByM!$A$2:$B$462))","v":29}]
[null,"Invocación","Levantar a los muertos",null,3,0,null,3,6,"-","Invocación","Magia: resucitar","-","-","-",{"$f":"IF(C44=\"\",\"\",H44+F44-(E44*3))","v":-6},{"$f":"IF(C44=\"\",\"\",LOOKUP(J44,Area!$A$2:$B$71)+LOOKUP(K44,ByM!$A$2:$B$462)+LOOKUP(L44,ByM!$A$2:$B$462)+LOOKUP(M44,ByM!$A$2:$B$462)+LOOKUP(N44,ByM!$A$2:$B$462)+LOOKUP(O44,ByM!$A$2:$B$462))","v":12}]
[null,"Invocación","Llevado por el viento",null,1,0,null,4,9,"-","Invocación","Vuelo","-","-","-",{"$f":"IF(C45=\"\",\"\",H45+F45-(E45*3))","v":1},{"$f":"IF(C45=\"\",\"\",LOOKUP(J45,Area!$A$2:$B$71)+LOOKUP(K45,ByM!$A$2:$B$462)+LOOKUP(L45,ByM!$A$2:$B$462)+LOOKUP(M45,ByM!$A$2:$B$462)+LOOKUP(N45,ByM!$A$2:$B$462)+LOOKUP(O45,ByM!$A$2:$B$462))","v":8}]
[null,"Invocación","Mantra de fuerza",null,5,0,null,3,20,"-","Invocación","Afilada","Maestro carnicero","Profesión bárbaro","-",{"$f":"IF(C46=\"\",\"\",H46+F46-(E46*3))","v":-12},{"$f":"IF(C46=\"\",\"\",LOOKUP(J46,Area!$A$2:$B$71)+LOOKUP(K46,ByM!$A$2:$B$462)+LOOKUP(L46,ByM!$A$2:$B$462)+LOOKUP(M46,ByM!$A$2:$B$462)+LOOKUP(N46,ByM!$A$2:$B$462)+LOOKUP(O46,ByM!$A$2:$B$462))","v":32}]
[null,"Invocación","Mareo mágico",null,2,0,null,3,15,"-","Invocación","Maleficio (Muy torpe)","Muy torpe","-","-",{"$f":"IF(C47=\"\",\"\",H47+F47-(E47*3))","v":-3},{"$f":"IF(C47=\"\",\"\",LOOKUP(J47,Area!$A$2:$B$71)+LOOKUP(K47,ByM!$A$2:$B$462)+LOOKUP(L47,ByM!$A$2:$B$462)+LOOKUP(M47,ByM!$A$2:$B$462)+LOOKUP(N47,ByM!$A$2:$B$462)+LOOKUP(O47,ByM!$A$2:$B$462))","v":-2}]
[null,"Invocación","Mirada del escrutador (Phobos)",null,6,0,null,3,19,"R3","Invocación","De precisión","Munición buscadora","-","-",{"$f":"IF(C48=\"\",\"\",H48+F48-(E48*3))","v":-15},{"$f":"IF(C48=\"\",\"\",LOOKUP(J48,Area!$A$2:$B$71)+LOOKUP(K48,ByM!$A$2:$B$462)+LOOKUP(L48,ByM!$A$2:$B$462)+LOOKUP(M48,ByM!$A$2:$B$462)+LOOKUP(N48,ByM!$A$2:$B$462)+LOOKUP(O48,ByM!$A$2:$B$462))","v":34}]
[null,"Invocación","Muro imaginario",null,3,0,null,3,16,"-","Invocación","Escudo de energía N03","-","-","-",{"$f":"IF(C49=\"\",\"\",H49+F49-(E49*3))","v":-6},{"$f":"IF(C49=\"\",\"\",LOOKUP(J49,Area!$A$2:$B$71)+LOOKUP(K49,ByM!$A$2:$B$462)+LOOKUP(L49,ByM!$A$2:$B$462)+LOOKUP(M49,ByM!$A$2:$B$462)+LOOKUP(N49,ByM!$A$2:$B$462)+LOOKUP(O49,ByM!$A$2:$B$462))","v":22}]
[null,"Invocación","Ocultación (Phobos)",null,4,0,null,3,10,"R3","Invocación","Mimético","-","-","-",{"$f":"IF(C50=\"\",\"\",H50+F50-(E50*3))","v":-9},{"$f":"IF(C50=\"\",\"\",LOOKUP(J50,Area!$A$2:$B$71)+LOOKUP(K50,ByM!$A$2:$B$462)+LOOKUP(L50,ByM!$A$2:$B$462)+LOOKUP(M50,ByM!$A$2:$B$462)+LOOKUP(N50,ByM!$A$2:$B$462)+LOOKUP(O50,ByM!$A$2:$B$462))","v":19}]
[null,"Invocación","Poder de los héroes",null,6,0,null,3,12,"-","Invocación","Profesión acróbata","Profesión bárbaro","-","-",{"$f":"IF(C51=\"\",\"\",H51+F51-(E51*3))","v":-15},{"$f":"IF(C51=\"\",\"\",LOOKUP(J51,Area!$A$2:$B$71)+LOOKUP(K51,ByM!$A$2:$B$462)+LOOKUP(L51,ByM!$A$2:$B$462)+LOOKUP(M51,ByM!$A$2:$B$462)+LOOKUP(N51,ByM!$A$2:$B$462)+LOOKUP(O51,ByM!$A$2:$B$462))","v":27}]
[null,"Invocación","Posesión de Set",null,2,0,null,4,11,"-","Invocación","Cojitranco","Maleficio (cojitranco)","-","-",{"$f":"IF(C52=\"\",\"\",H52+F52-(E52*3))","v":-2},{"$f":"IF(C52=\"\",\"\",LOOKUP(J52,Area!$A$2:$B$71)+LOOKUP(K52,ByM!$A$2:$B$462)+LOOKUP(L52,ByM!$A$2:$B$462)+LOOKUP(M52,ByM!$A$2:$B$462)+LOOKUP(N52,ByM!$A$2:$B$462)+LOOKUP(O52,ByM!$A$2:$B$462))","v":3}]
[null,"Invocación","Potenciación",null,3,0,null,3,11,"-","Invocación","Maestro de esgrima","-","-","-",{"$f":"IF(C53=\"\",\"\",H53+F53-(E53*3))","v":-6},{"$f":"IF(C53=\"\",\"\",LOOKUP(J53,Area!$A$2:$B$71)+LOOKUP(K53,ByM!$A$2:$B$462)+LOOKUP(L53,ByM!$A$2:$B$462)+LOOKUP(M53,ByM!$A$2:$B$462)+LOOKUP(N53,ByM!$A$2:$B$462)+LOOKUP(O53,ByM!$A$2:$B$462))","v":17}]
[null,"Invocación","Recital de concentración",null,5,0,null,3,20,"-","Invocación","Grito de fuego","-","-","-",{"$f":"IF(C54=\"\",\"\",H54+F54-(E54*3))","v":-12},{"$f":"IF(C54=\"\",\"\",LOOKUP(J54,Area!$A$2:$B$71)+LOOKUP(K54,ByM!$A$2:$B$462)+LOOKUP(L54,ByM!$A$2:$B$462)+LOOKUP(M54,ByM!$A$2:$B$462)+LOOKUP(N54,ByM!$A$2:$B$462)+LOOKUP(O54,ByM!$A$2:$B$462))","v":32}]
[null,"Invocación","Regalo de vida",null,2,0,null,3,9,"-","Invocación","Elixir N2","Un uso por actuación","-","-",{"$f":"IF(C55=\"\",\"\",H55+F55-(E55*3))","v":-3},{"$f":"IF(C55=\"\",\"\",LOOKUP(J55,Area!$A$2:$B$71)+LOOKUP(K55,ByM!$A$2:$B$462)+LOOKUP(L55,ByM!$A$2:$B$462)+LOOKUP(M55,ByM!$A$2:$B$462)+LOOKUP(N55,ByM!$A$2:$B$462)+LOOKUP(O55,ByM!$A$2:$B$462))","v":12}]
[null,"Invocación","Resistencia de Majachsuwi",null,2,0,null,3,14,"-","Invocación","Baño de acero","Un uso por actuación","-","-",{"$f":"IF(C56=\"\",\"\",H56+F56-(E56*3))","v":-3},{"$f":"IF(C56=\"\",\"\",LOOKUP(J56,Area!$A$2:$B$71)+LOOKUP(K56,ByM!$A$2:$B$462)+LOOKUP(L56,ByM!$A$2:$B$462)+LOOKUP(M56,ByM!$A$2:$B$462)+LOOKUP(N56,ByM!$A$2:$B$462)+LOOKUP(O56,ByM!$A$2:$B$462))","v":17}]
[null,"Invocación","Robo de energía",null,1,0,null,2,11,"-","Invocación","Sed de energía","-","-","-",{"$f":"IF(C57=\"\",\"\",H57+F57-(E57*3))","v":-1},{"$f":"IF(C57=\"\",\"\",LOOKUP(J57,Area!$A$2:$B$71)+LOOKUP(K57,ByM!$A$2:$B$462)+LOOKUP(L57,ByM!$A$2:$B$462)+LOOKUP(M57,ByM!$A$2:$B$462)+LOOKUP(N57,ByM!$A$2:$B$462)+LOOKUP(O57,ByM!$A$2:$B$462))","v":12}]
[null,"Invocación","Someter al rebaño",null,3,0,null,3,16,"R4","Invocación","Acobardamiento","-","-","-",{"$f":"IF(C58=\"\",\"\",H58+F58-(E58*3))","v":-6},{"$f":"IF(C58=\"\",\"\",LOOKUP(J58,Area!$A$2:$B$71)+LOOKUP(K58,ByM!$A$2:$B$462)+LOOKUP(L58,ByM!$A$2:$B$462)+LOOKUP(M58,ByM!$A$2:$B$462)+LOOKUP(N58,ByM!$A$2:$B$462)+LOOKUP(O58,ByM!$A$2:$B$462))","v":22}]
[null,"Invocación","Telekinesis",null,1,0,null,3,12,"-","Invocación","Magia: telekinesis","-","-","-",{"$f":"IF(C59=\"\",\"\",H59+F59-(E59*3))","v":0},{"$f":"IF(C59=\"\",\"\",LOOKUP(J59,Area!$A$2:$B$71)+LOOKUP(K59,ByM!$A$2:$B$462)+LOOKUP(L59,ByM!$A$2:$B$462)+LOOKUP(M59,ByM!$A$2:$B$462)+LOOKUP(N59,ByM!$A$2:$B$462)+LOOKUP(O59,ByM!$A$2:$B$462))","v":12}]
[null,"Invocación","Teleportación",null,3,0,null,2,1,"-","Invocación","Teleport","Un uso por actuación","-","-",{"$f":"IF(C60=\"\",\"\",H60+F60-(E60*3))","v":-7},{"$f":"IF(C60=\"\",\"\",LOOKUP(J60,Area!$A$2:$B$71)+LOOKUP(K60,ByM!$A$2:$B$462)+LOOKUP(L60,ByM!$A$2:$B$462)+LOOKUP(M60,ByM!$A$2:$B$462)+LOOKUP(N60,ByM!$A$2:$B$462)+LOOKUP(O60,ByM!$A$2:$B$462))","v":7}]
[null,"Invocación","Velo termporal",null,6,0,null,3,25,"R4","Invocación","Grito berserker","-","-","-",{"$f":"IF(C61=\"\",\"\",H61+F61-(E61*3))","v":-15},{"$f":"IF(C61=\"\",\"\",LOOKUP(J61,Area!$A$2:$B$71)+LOOKUP(K61,ByM!$A$2:$B$462)+LOOKUP(L61,ByM!$A$2:$B$462)+LOOKUP(M61,ByM!$A$2:$B$462)+LOOKUP(N61,ByM!$A$2:$B$462)+LOOKUP(O61,ByM!$A$2:$B$462))","v":40}]
[null,"Invocación","Zona de anulación",null,7,0,null,3,39,"R3","Invocación","Distorsión psíquica","Hálito de imbecilidad","Munición vida o muerte","-",{"$f":"IF(C62=\"\",\"\",H62+F62-(E62*3))","v":-18},{"$f":"IF(C62=\"\",\"\",LOOKUP(J62,Area!$A$2:$B$71)+LOOKUP(K62,ByM!$A$2:$B$462)+LOOKUP(L62,ByM!$A$2:$B$462)+LOOKUP(M62,ByM!$A$2:$B$462)+LOOKUP(N62,ByM!$A$2:$B$462)+LOOKUP(O62,ByM!$A$2:$B$462))","v":57}]
[null,null,"zzzz*"]
[null,null,null,null,null,null,null,null,null,null,null,null,null,null,null,{"$f":"IF(C64=\"\",\"\",#REF!+(LOOKUP(F64,Area!$A$2:$B$71))+G64-(E64*3))","v":""},{"$f":"IF(C64=\"\",\"\",LOOKUP(K64,ByM!$A$2:$B$462)+LOOKUP(L64,ByM!$A$2:$B$462)+LOOKUP(M64,ByM!$A$2:$B$462)+LOOKUP(N64,ByM!$A$2:$B$462)+LOOKUP(O64,ByM!$A$2:$B$462))","v":""}]
[null,null,null,null,null,null,null,null,null,null,null,null,null,null,null,{"$f":"IF(C65=\"\",\"\",#REF!+(LOOKUP(F65,Area!$A$2:$B$71))+G65-(E65*3))","v":""},{"$f":"IF(C65=\"\",\"\",LOOKUP(K65,ByM!$A$2:$B$462)+LOOKUP(L65,ByM!$A$2:$B$462)+LOOKUP(M65,ByM!$A$2:$B$462)+LOOKUP(N65,ByM!$A$2:$B$462)+LOOKUP(O65,ByM!$A$2:$B$462))","v":""}]
[null,null,null,null,null,null,null,null,null,null,null,null,null,null,null,{"$f":"IF(C66=\"\",\"\",#REF!+(LOOKUP(F66,Area!$A$2:$B$71))+G66-(E66*3))","v":""},{"$f":"IF(C66=\"\",\"\",LOOKUP(K66,ByM!$A$2:$B$462)+LOOKUP(L66,ByM!$A$2:$B$462)+LOOKUP(M66,ByM!$A$2:$B$462)+LOOKUP(N66,ByM!$A$2:$B$462)+LOOKUP(O66,ByM!$A$2:$B$462))","v":""}]
[null,null,null,null,null,null,null,null,null,null,null,null,null,null,null,{"$f":"IF(C67=\"\",\"\",#REF!+(LOOKUP(F67,Area!$A$2:$B$71))+G67-(E67*3))","v":""},{"$f":"IF(C67=\"\",\"\",LOOKUP(K67,ByM!$A$2:$B$462)+LOOKUP(L67,ByM!$A$2:$B$462)+LOOKUP(M67,ByM!$A$2:$B$462)+LOOKUP(N67,ByM!$A$2:$B$462)+LOOKUP(O67,ByM!$A$2:$B$462))","v":""}]
[null,null,null,null,null,null,null,null,null,null,null,null,null,null,null,{"$f":"IF(C68=\"\",\"\",#REF!+(LOOKUP(F68,Area!$A$2:$B$71))+G68-(E68*3))","v":""},{"$f":"IF(C68=\"\",\"\",LOOKUP(K68,ByM!$A$2:$B$462)+LOOKUP(L68,ByM!$A$2:$B$462)+LOOKUP(M68,ByM!$A$2:$B$462)+LOOKUP(N68,ByM!$A$2:$B$462)+LOOKUP(O68,ByM!$A$2:$B$462))","v":""}]
[null,null,null,null,null,null,null,null,null,null,null,null,null,null,null,{"$f":"IF(C69=\"\",\"\",#REF!+(LOOKUP(F69,Area!$A$2:$B$71))+G69-(E69*3))","v":""},{"$f":"IF(C69=\"\",\"\",LOOKUP(K69,ByM!$A$2:$B$462)+LOOKUP(L69,ByM!$A$2:$B$462)+LOOKUP(M69,ByM!$A$2:$B$462)+LOOKUP(N69,ByM!$A$2:$B$462)+LOOKUP(O69,ByM!$A$2:$B$462))","v":""}]
[null,null,null,null,null,null,null,null,null,null,null,null,null,null,null,{"$f":"IF(C70=\"\",\"\",#REF!+(LOOKUP(F70,Area!$A$2:$B$71))+G70-(E70*3))","v":""},{"$f":"IF(C70=\"\",\"\",LOOKUP(K70,ByM!$A$2:$B$462)+LOOKUP(L70,ByM!$A$2:$B$462)+LOOKUP(M70,ByM!$A$2:$B$462)+LOOKUP(N70,ByM!$A$2:$B$462)+LOOKUP(O70,ByM!$A$2:$B$462))","v":""}]
[null,null,null,null,null,null,null,null,null,null,null,null,null,null,null,{"$f":"IF(C71=\"\",\"\",#REF!+(LOOKUP(F71,Area!$A$2:$B$71))+G71-(E71*3))","v":""},{"$f":"IF(C71=\"\",\"\",LOOKUP(K71,ByM!$A$2:$B$462)+LOOKUP(L71,ByM!$A$2:$B$462)+LOOKUP(M71,ByM!$A$2:$B$462)+LOOKUP(N71,ByM!$A$2:$B$462)+LOOKUP(O71,ByM!$A$2:$B$462))","v":""}]
[null,null,null,null,null,null,null,null,null,null,null,null,null,null,null,{"$f":"IF(C72=\"\",\"\",#REF!+(LOOKUP(F72,Area!$A$2:$B$71))+G72-(E72*3))","v":""},{"$f":"IF(C72=\"\",\"\",LOOKUP(K72,ByM!$A$2:$B$462)+LOOKUP(L72,ByM!$A$2:$B$462)+LOOKUP(M72,ByM!$A$2:$B$462)+LOOKUP(N72,ByM!$A$2:$B$462)+LOOKUP(O72,ByM!$A$2:$B$462))","v":""}]
[null,null,null,null,null,null,null,null,null,null,null,null,null,null,null,{"$f":"IF(C73=\"\",\"\",#REF!+(LOOKUP(F73,Area!$A$2:$B$71))+G73-(E73*3))","v":""},{"$f":"IF(C73=\"\",\"\",LOOKUP(K73,ByM!$A$2:$B$462)+LOOKUP(L73,ByM!$A$2:$B$462)+LOOKUP(M73,ByM!$A$2:$B$462)+LOOKUP(N73,ByM!$A$2:$B$462)+LOOKUP(O73,ByM!$A$2:$B$462))","v":""}]
[null,null,null,null,null,null,null,null,null,null,null,null,null,null,null,{"$f":"IF(C74=\"\",\"\",#REF!+(LOOKUP(F74,Area!$A$2:$B$71))+G74-(E74*3))","v":""},{"$f":"IF(C74=\"\",\"\",LOOKUP(K74,ByM!$A$2:$B$462)+LOOKUP(L74,ByM!$A$2:$B$462)+LOOKUP(M74,ByM!$A$2:$B$462)+LOOKUP(N74,ByM!$A$2:$B$462)+LOOKUP(O74,ByM!$A$2:$B$462))","v":""}]
[null,null,null,null,null,null,null,null,null,null,null,null,null,null,null,{"$f":"IF(C75=\"\",\"\",#REF!+(LOOKUP(F75,Area!$A$2:$B$71))+G75-(E75*3))","v":""},{"$f":"IF(C75=\"\",\"\",LOOKUP(K75,ByM!$A$2:$B$462)+LOOKUP(L75,ByM!$A$2:$B$462)+LOOKUP(M75,ByM!$A$2:$B$462)+LOOKUP(N75,ByM!$A$2:$B$462)+LOOKUP(O75,ByM!$A$2:$B$462))","v":""}]
[null,null,null,null,null,null,null,null,null,null,null,null,null,null,null,{"$f":"IF(C76=\"\",\"\",#REF!+(LOOKUP(F76,Area!$A$2:$B$71))+G76-(E76*3))","v":""},{"$f":"IF(C76=\"\",\"\",LOOKUP(K76,ByM!$A$2:$B$462)+LOOKUP(L76,ByM!$A$2:$B$462)+LOOKUP(M76,ByM!$A$2:$B$462)+LOOKUP(N76,ByM!$A$2:$B$462)+LOOKUP(O76,ByM!$A$2:$B$462))","v":""}]
[null,null,null,null,null,null,null,null,null,null,null,null,null,null,null,{"$f":"IF(C77=\"\",\"\",#REF!+(LOOKUP(F77,Area!$A$2:$B$71))+G77-(E77*3))","v":""},{"$f":"IF(C77=\"\",\"\",LOOKUP(K77,ByM!$A$2:$B$462)+LOOKUP(L77,ByM!$A$2:$B$462)+LOOKUP(M77,ByM!$A$2:$B$462)+LOOKUP(N77,ByM!$A$2:$B$462)+LOOKUP(O77,ByM!$A$2:$B$462))","v":""}]
[null,null,null,null,null,null,null,null,null,null,null,null,null,null,null,{"$f":"IF(C78=\"\",\"\",#REF!+(LOOKUP(F78,Area!$A$2:$B$71))+G78-(E78*3))","v":""},{"$f":"IF(C78=\"\",\"\",LOOKUP(K78,ByM!$A$2:$B$462)+LOOKUP(L78,ByM!$A$2:$B$462)+LOOKUP(M78,ByM!$A$2:$B$462)+LOOKUP(N78,ByM!$A$2:$B$462)+LOOKUP(O78,ByM!$A$2:$B$462))","v":""}]
[null,null,null,null,null,null,null,null,null,null,null,null,null,null,null,{"$f":"IF(C79=\"\",\"\",#REF!+(LOOKUP(F79,Area!$A$2:$B$71))+G79-(E79*3))","v":""},{"$f":"IF(C79=\"\",\"\",LOOKUP(K79,ByM!$A$2:$B$462)+LOOKUP(L79,ByM!$A$2:$B$462)+LOOKUP(M79,ByM!$A$2:$B$462)+LOOKUP(N79,ByM!$A$2:$B$462)+LOOKUP(O79,ByM!$A$2:$B$462))","v":""}]
[null,null,null,null,null,null,null,null,null,null,null,null,null,null,null,{"$f":"IF(C80=\"\",\"\",#REF!+(LOOKUP(F80,Area!$A$2:$B$71))+G80-(E80*3))","v":""},{"$f":"IF(C80=\"\",\"\",LOOKUP(K80,ByM!$A$2:$B$462)+LOOKUP(L80,ByM!$A$2:$B$462)+LOOKUP(M80,ByM!$A$2:$B$462)+LOOKUP(N80,ByM!$A$2:$B$462)+LOOKUP(O80,ByM!$A$2:$B$462))","v":""}]
[null,null,null,null,null,null,null,null,null,null,null,null,null,null,null,{"$f":"IF(C81=\"\",\"\",#REF!+(LOOKUP(F81,Area!$A$2:$B$71))+G81-(E81*3))","v":""},{"$f":"IF(C81=\"\",\"\",LOOKUP(K81,ByM!$A$2:$B$462)+LOOKUP(L81,ByM!$A$2:$B$462)+LOOKUP(M81,ByM!$A$2:$B$462)+LOOKUP(N81,ByM!$A$2:$B$462)+LOOKUP(O81,ByM!$A$2:$B$462))","v":""}]
[null,null,null,null,null,null,null,null,null,null,null,null,null,null,null,{"$f":"IF(C82=\"\",\"\",#REF!+(LOOKUP(F82,Area!$A$2:$B$71))+G82-(E82*3))","v":""},{"$f":"IF(C82=\"\",\"\",LOOKUP(K82,ByM!$A$2:$B$462)+LOOKUP(L82,ByM!$A$2:$B$462)+LOOKUP(M82,ByM!$A$2:$B$462)+LOOKUP(N82,ByM!$A$2:$B$462)+LOOKUP(O82,ByM!$A$2:$B$462))","v":""}]
[null,null,null,null,null,null,null,null,null,null,null,null,null,null,null,{"$f":"IF(C83=\"\",\"\",#REF!+(LOOKUP(F83,Area!$A$2:$B$71))+G83-(E83*3))","v":""},{"$f":"IF(C83=\"\",\"\",LOOKUP(K83,ByM!$A$2:$B$462)+LOOKUP(L83,ByM!$A$2:$B$462)+LOOKUP(M83,ByM!$A$2:$B$462)+LOOKUP(N83,ByM!$A$2:$B$462)+LOOKUP(O83,ByM!$A$2:$B$462))","v":""}]
[null,null,null,null,null,null,null,null,null,null,null,null,null,null,null,{"$f":"IF(C84=\"\",\"\",#REF!+(LOOKUP(F84,Area!$A$2:$B$71))+G84-(E84*3))","v":""},{"$f":"IF(C84=\"\",\"\",LOOKUP(K84,ByM!$A$2:$B$462)+LOOKUP(L84,ByM!$A$2:$B$462)+LOOKUP(M84,ByM!$A$2:$B$462)+LOOKUP(N84,ByM!$A$2:$B$462)+LOOKUP(O84,ByM!$A$2:$B$462))","v":""}]
[null,null,null,null,null,null,null,null,null,null,null,null,null,null,null,{"$f":"IF(C85=\"\",\"\",#REF!+(LOOKUP(F85,Area!$A$2:$B$71))+G85-(E85*3))","v":""},{"$f":"IF(C85=\"\",\"\",LOOKUP(K85,ByM!$A$2:$B$462)+LOOKUP(L85,ByM!$A$2:$B$462)+LOOKUP(M85,ByM!$A$2:$B$462)+LOOKUP(N85,ByM!$A$2:$B$462)+LOOKUP(O85,ByM!$A$2:$B$462))","v":""}]
[null,null,null,null,null,null,null,null,null,null,null,null,null,null,null,{"$f":"IF(C86=\"\",\"\",#REF!+(LOOKUP(F86,Area!$A$2:$B$71))+G86-(E86*3))","v":""},{"$f":"IF(C86=\"\",\"\",LOOKUP(K86,ByM!$A$2:$B$462)+LOOKUP(L86,ByM!$A$2:$B$462)+LOOKUP(M86,ByM!$A$2:$B$462)+LOOKUP(N86,ByM!$A$2:$B$462)+LOOKUP(O86,ByM!$A$2:$B$462))","v":""}]
[null,null,null,null,null,null,null,null,null,null,null,null,null,null,null,{"$f":"IF(C87=\"\",\"\",#REF!+(LOOKUP(F87,Area!$A$2:$B$71))+G87-(E87*3))","v":""},{"$f":"IF(C87=\"\",\"\",LOOKUP(K87,ByM!$A$2:$B$462)+LOOKUP(L87,ByM!$A$2:$B$462)+LOOKUP(M87,ByM!$A$2:$B$462)+LOOKUP(N87,ByM!$A$2:$B$462)+LOOKUP(O87,ByM!$A$2:$B$462))","v":""}]
[null,null,null,null,null,null,null,null,null,null,null,null,null,null,null,{"$f":"IF(C88=\"\",\"\",#REF!+(LOOKUP(F88,Area!$A$2:$B$71))+G88-(E88*3))","v":""},{"$f":"IF(C88=\"\",\"\",LOOKUP(K88,ByM!$A$2:$B$462)+LOOKUP(L88,ByM!$A$2:$B$462)+LOOKUP(M88,ByM!$A$2:$B$462)+LOOKUP(N88,ByM!$A$2:$B$462)+LOOKUP(O88,ByM!$A$2:$B$462))","v":""}]
[null,null,null,null,null,null,null,null,null,null,null,null,null,null,null,{"$f":"IF(C89=\"\",\"\",#REF!+(LOOKUP(F89,Area!$A$2:$B$71))+G89-(E89*3))","v":""},{"$f":"IF(C89=\"\",\"\",LOOKUP(K89,ByM!$A$2:$B$462)+LOOKUP(L89,ByM!$A$2:$B$462)+LOOKUP(M89,ByM!$A$2:$B$462)+LOOKUP(N89,ByM!$A$2:$B$462)+LOOKUP(O89,ByM!$A$2:$B$462))","v":""}]
[null,null,null,null,null,null,null,null,null,null,null,null,null,null,null,{"$f":"IF(C90=\"\",\"\",#REF!+(LOOKUP(F90,Area!$A$2:$B$71))+G90-(E90*3))","v":""},{"$f":"IF(C90=\"\",\"\",LOOKUP(K90,ByM!$A$2:$B$462)+LOOKUP(L90,ByM!$A$2:$B$462)+LOOKUP(M90,ByM!$A$2:$B$462)+LOOKUP(N90,ByM!$A$2:$B$462)+LOOKUP(O90,ByM!$A$2:$B$462))","v":""}]
[null,null,null,null,null,null,null,null,null,null,null,null,null,null,null,{"$f":"IF(C91=\"\",\"\",#REF!+(LOOKUP(F91,Area!$A$2:$B$71))+G91-(E91*3))","v":""},{"$f":"IF(C91=\"\",\"\",LOOKUP(K91,ByM!$A$2:$B$462)+LOOKUP(L91,ByM!$A$2:$B$462)+LOOKUP(M91,ByM!$A$2:$B$462)+LOOKUP(N91,ByM!$A$2:$B$462)+LOOKUP(O91,ByM!$A$2:$B$462))","v":""}]
[null,null,null,null,null,null,null,null,null,null,null,null,null,null,null,{"$f":"IF(C92=\"\",\"\",#REF!+(LOOKUP(F92,Area!$A$2:$B$71))+G92-(E92*3))","v":""},{"$f":"IF(C92=\"\",\"\",LOOKUP(K92,ByM!$A$2:$B$462)+LOOKUP(L92,ByM!$A$2:$B$462)+LOOKUP(M92,ByM!$A$2:$B$462)+LOOKUP(N92,ByM!$A$2:$B$462)+LOOKUP(O92,ByM!$A$2:$B$462))","v":""}]
[null,null,null,null,null,null,null,null,null,null,null,null,null,null,null,{"$f":"IF(C93=\"\",\"\",#REF!+(LOOKUP(F93,Area!$A$2:$B$71))+G93-(E93*3))","v":""},{"$f":"IF(C93=\"\",\"\",LOOKUP(K93,ByM!$A$2:$B$462)+LOOKUP(L93,ByM!$A$2:$B$462)+LOOKUP(M93,ByM!$A$2:$B$462)+LOOKUP(N93,ByM!$A$2:$B$462)+LOOKUP(O93,ByM!$A$2:$B$462))","v":""}]
[null,null,null,null,null,null,null,null,null,null,null,null,null,null,null,{"$f":"IF(C94=\"\",\"\",#REF!+(LOOKUP(F94,Area!$A$2:$B$71))+G94-(E94*3))","v":""},{"$f":"IF(C94=\"\",\"\",LOOKUP(K94,ByM!$A$2:$B$462)+LOOKUP(L94,ByM!$A$2:$B$462)+LOOKUP(M94,ByM!$A$2:$B$462)+LOOKUP(N94,ByM!$A$2:$B$462)+LOOKUP(O94,ByM!$A$2:$B$462))","v":""}]
[null,null,null,null,null,null,null,null,null,null,null,null,null,null,null,{"$f":"IF(C95=\"\",\"\",#REF!+(LOOKUP(F95,Area!$A$2:$B$71))+G95-(E95*3))","v":""},{"$f":"IF(C95=\"\",\"\",LOOKUP(K95,ByM!$A$2:$B$462)+LOOKUP(L95,ByM!$A$2:$B$462)+LOOKUP(M95,ByM!$A$2:$B$462)+LOOKUP(N95,ByM!$A$2:$B$462)+LOOKUP(O95,ByM!$A$2:$B$462))","v":""}]
[null,null,null,null,null,null,null,null,null,null,null,null,null,null,null,{"$f":"IF(C96=\"\",\"\",#REF!+(LOOKUP(F96,Area!$A$2:$B$71))+G96-(E96*3))","v":""},{"$f":"IF(C96=\"\",\"\",LOOKUP(K96,ByM!$A$2:$B$462)+LOOKUP(L96,ByM!$A$2:$B$462)+LOOKUP(M96,ByM!$A$2:$B$462)+LOOKUP(N96,ByM!$A$2:$B$462)+LOOKUP(O96,ByM!$A$2:$B$462))","v":""}]
[null,null,null,null,null,null,null,null,null,null,null,null,null,null,null,{"$f":"IF(C97=\"\",\"\",#REF!+(LOOKUP(F97,Area!$A$2:$B$71))+G97-(E97*3))","v":""},{"$f":"IF(C97=\"\",\"\",LOOKUP(K97,ByM!$A$2:$B$462)+LOOKUP(L97,ByM!$A$2:$B$462)+LOOKUP(M97,ByM!$A$2:$B$462)+LOOKUP(N97,ByM!$A$2:$B$462)+LOOKUP(O97,ByM!$A$2:$B$462))","v":""}]
[null,null,null,null,null,null,null,null,null,null,null,null,null,null,null,{"$f":"IF(C98=\"\",\"\",#REF!+(LOOKUP(F98,Area!$A$2:$B$71))+G98-(E98*3))","v":""},{"$f":"IF(C98=\"\",\"\",LOOKUP(K98,ByM!$A$2:$B$462)+LOOKUP(L98,ByM!$A$2:$B$462)+LOOKUP(M98,ByM!$A$2:$B$462)+LOOKUP(N98,ByM!$A$2:$B$462)+LOOKUP(O98,ByM!$A$2:$B$462))","v":""}]
[null,null,null,null,null,null,null,null,null,null,null,null,null,null,null,{"$f":"IF(C99=\"\",\"\",#REF!+(LOOKUP(F99,Area!$A$2:$B$71))+G99-(E99*3))","v":""},{"$f":"IF(C99=\"\",\"\",LOOKUP(K99,ByM!$A$2:$B$462)+LOOKUP(L99,ByM!$A$2:$B$462)+LOOKUP(M99,ByM!$A$2:$B$462)+LOOKUP(N99,ByM!$A$2:$B$462)+LOOKUP(O99,ByM!$A$2:$B$462))","v":""}]
[null,null,null,null,null,null,null,null,null,null,null,null,null,null,null,{"$f":"IF(C100=\"\",\"\",#REF!+(LOOKUP(F100,Area!$A$2:$B$71))+G100-(E100*3))","v":""},{"$f":"IF(C100=\"\",\"\",LOOKUP(K100,ByM!$A$2:$B$462)+LOOKUP(L100,ByM!$A$2:$B$462)+LOOKUP(M100,ByM!$A$2:$B$462)+LOOKUP(N100,ByM!$A$2:$B$462)+LOOKUP(O100,ByM!$A$2:$B$462))","v":""}]
[null,null,null,null,null,null,null,null,null,null,null,null,null,null,null,{"$f":"IF(C101=\"\",\"\",#REF!+(LOOKUP(F101,Area!$A$2:$B$71))+G101-(E101*3))","v":""},{"$f":"IF(C101=\"\",\"\",LOOKUP(K101,ByM!$A$2:$B$462)+LOOKUP(L101,ByM!$A$2:$B$462)+LOOKUP(M101,ByM!$A$2:$B$462)+LOOKUP(N101,ByM!$A$2:$B$462)+LOOKUP(O101,ByM!$A$2:$B$462))","v":""}]
[null,null,null,null,null,null,null,null,null,null,null,null,null,null,null,{"$f":"IF(C102=\"\",\"\",#REF!+(LOOKUP(F102,Area!$A$2:$B$71))+G102-(E102*3))","v":""},{"$f":"IF(C102=\"\",\"\",LOOKUP(K102,ByM!$A$2:$B$462)+LOOKUP(L102,ByM!$A$2:$B$462)+LOOKUP(M102,ByM!$A$2:$B$462)+LOOKUP(N102,ByM!$A$2:$B$462)+LOOKUP(O102,ByM!$A$2:$B$462))","v":""}]
[null,null,null,null,null,null,null,null,null,null,null,null,null,null,null,{"$f":"IF(C103=\"\",\"\",#REF!+(LOOKUP(F103,Area!$A$2:$B$71))+G103-(E103*3))","v":""},{"$f":"IF(C103=\"\",\"\",LOOKUP(K103,ByM!$A$2:$B$462)+LOOKUP(L103,ByM!$A$2:$B$462)+LOOKUP(M103,ByM!$A$2:$B$462)+LOOKUP(N103,ByM!$A$2:$B$462)+LOOKUP(O103,ByM!$A$2:$B$462))","v":""}]
[null,null,null,null,null,null,null,null,null,null,null,null,null,null,null,{"$f":"IF(C104=\"\",\"\",#REF!+(LOOKUP(F104,Area!$A$2:$B$71))+G104-(E104*3))","v":""},{"$f":"IF(C104=\"\",\"\",LOOKUP(K104,ByM!$A$2:$B$462)+LOOKUP(L104,ByM!$A$2:$B$462)+LOOKUP(M104,ByM!$A$2:$B$462)+LOOKUP(N104,ByM!$A$2:$B$462)+LOOKUP(O104,ByM!$A$2:$B$462))","v":""}]
[null,null,null,null,null,null,null,null,null,null,null,null,null,null,null,{"$f":"IF(C105=\"\",\"\",#REF!+(LOOKUP(F105,Area!$A$2:$B$71))+G105-(E105*3))","v":""},{"$f":"IF(C105=\"\",\"\",LOOKUP(K105,ByM!$A$2:$B$462)+LOOKUP(L105,ByM!$A$2:$B$462)+LOOKUP(M105,ByM!$A$2:$B$462)+LOOKUP(N105,ByM!$A$2:$B$462)+LOOKUP(O105,ByM!$A$2:$B$462))","v":""}]
[null,null,null,null,null,null,null,null,null,null,null,null,null,null,null,{"$f":"IF(C106=\"\",\"\",#REF!+(LOOKUP(F106,Area!$A$2:$B$71))+G106-(E106*3))","v":""},{"$f":"IF(C106=\"\",\"\",LOOKUP(K106,ByM!$A$2:$B$462)+LOOKUP(L106,ByM!$A$2:$B$462)+LOOKUP(M106,ByM!$A$2:$B$462)+LOOKUP(N106,ByM!$A$2:$B$462)+LOOKUP(O106,ByM!$A$2:$B$462))","v":""}]
[null,null,null,null,null,null,null,null,null,null,null,null,null,null,null,{"$f":"IF(C107=\"\",\"\",#REF!+(LOOKUP(F107,Area!$A$2:$B$71))+G107-(E107*3))","v":""},{"$f":"IF(C107=\"\",\"\",LOOKUP(K107,ByM!$A$2:$B$462)+LOOKUP(L107,ByM!$A$2:$B$462)+LOOKUP(M107,ByM!$A$2:$B$462)+LOOKUP(N107,ByM!$A$2:$B$462)+LOOKUP(O107,ByM!$A$2:$B$462))","v":""}]
[null,null,null,null,null,null,null,null,null,null,null,null,null,null,null,{"$f":"IF(C108=\"\",\"\",#REF!+(LOOKUP(F108,Area!$A$2:$B$71))+G108-(E108*3))","v":""},{"$f":"IF(C108=\"\",\"\",LOOKUP(K108,ByM!$A$2:$B$462)+LOOKUP(L108,ByM!$A$2:$B$462)+LOOKUP(M108,ByM!$A$2:$B$462)+LOOKUP(N108,ByM!$A$2:$B$462)+LOOKUP(O108,ByM!$A$2:$B$462))","v":""}]
[null,null,null,null,null,null,null,null,null,null,null,null,null,null,null,{"$f":"IF(C109=\"\",\"\",#REF!+(LOOKUP(F109,Area!$A$2:$B$71))+G109-(E109*3))","v":""},{"$f":"IF(C109=\"\",\"\",LOOKUP(K109,ByM!$A$2:$B$462)+LOOKUP(L109,ByM!$A$2:$B$462)+LOOKUP(M109,ByM!$A$2:$B$462)+LOOKUP(N109,ByM!$A$2:$B$462)+LOOKUP(O109,ByM!$A$2:$B$462))","v":""}]
[null,null,null,null,null,null,null,null,null,null,null,null,null,null,null,{"$f":"IF(C110=\"\",\"\",#REF!+(LOOKUP(F110,Area!$A$2:$B$71))+G110-(E110*3))","v":""},{"$f":"IF(C110=\"\",\"\",LOOKUP(K110,ByM!$A$2:$B$462)+LOOKUP(L110,ByM!$A$2:$B$462)+LOOKUP(M110,ByM!$A$2:$B$462)+LOOKUP(N110,ByM!$A$2:$B$462)+LOOKUP(O110,ByM!$A$2:$B$462))","v":""}]
[null,null,null,null,null,null,null,null,null,null,null,null,null,null,null,{"$f":"IF(C111=\"\",\"\",#REF!+(LOOKUP(F111,Area!$A$2:$B$71))+G111-(E111*3))","v":""},{"$f":"IF(C111=\"\",\"\",LOOKUP(K111,ByM!$A$2:$B$462)+LOOKUP(L111,ByM!$A$2:$B$462)+LOOKUP(M111,ByM!$A$2:$B$462)+LOOKUP(N111,ByM!$A$2:$B$462)+LOOKUP(O111,ByM!$A$2:$B$462))","v":""}]
[null,null,null,null,null,null,null,null,null,null,null,null,null,null,null,{"$f":"IF(C112=\"\",\"\",#REF!+(LOOKUP(F112,Area!$A$2:$B$71))+G112-(E112*3))","v":""},{"$f":"IF(C112=\"\",\"\",LOOKUP(K112,ByM!$A$2:$B$462)+LOOKUP(L112,ByM!$A$2:$B$462)+LOOKUP(M112,ByM!$A$2:$B$462)+LOOKUP(N112,ByM!$A$2:$B$462)+LOOKUP(O112,ByM!$A$2:$B$462))","v":""}]
[null,null,null,null,null,null,null,null,null,null,null,null,null,null,null,{"$f":"IF(C113=\"\",\"\",#REF!+(LOOKUP(F113,Area!$A$2:$B$71))+G113-(E113*3))","v":""},{"$f":"IF(C113=\"\",\"\",LOOKUP(K113,ByM!$A$2:$B$462)+LOOKUP(L113,ByM!$A$2:$B$462)+LOOKUP(M113,ByM!$A$2:$B$462)+LOOKUP(N113,ByM!$A$2:$B$462)+LOOKUP(O113,ByM!$A$2:$B$462))","v":""}]
[null,null,null,null,null,null,null,null,null,null,null,null,null,null,null,{"$f":"IF(C114=\"\",\"\",#REF!+(LOOKUP(F114,Area!$A$2:$B$71))+G114-(E114*3))","v":""},{"$f":"IF(C114=\"\",\"\",LOOKUP(K114,ByM!$A$2:$B$462)+LOOKUP(L114,ByM!$A$2:$B$462)+LOOKUP(M114,ByM!$A$2:$B$462)+LOOKUP(N114,ByM!$A$2:$B$462)+LOOKUP(O114,ByM!$A$2:$B$462))","v":""}]
[null,null,null,null,null,null,null,null,null,null,null,null,null,null,null,{"$f":"IF(C115=\"\",\"\",#REF!+(LOOKUP(F115,Area!$A$2:$B$71))+G115-(E115*3))","v":""},{"$f":"IF(C115=\"\",\"\",LOOKUP(K115,ByM!$A$2:$B$462)+LOOKUP(L115,ByM!$A$2:$B$462)+LOOKUP(M115,ByM!$A$2:$B$462)+LOOKUP(N115,ByM!$A$2:$B$462)+LOOKUP(O115,ByM!$A$2:$B$462))","v":""}]
[null,null,null,null,null,null,null,null,null,null,null,null,null,null,null,{"$f":"IF(C116=\"\",\"\",#REF!+(LOOKUP(F116,Area!$A$2:$B$71))+G116-(E116*3))","v":""},{"$f":"IF(C116=\"\",\"\",LOOKUP(K116,ByM!$A$2:$B$462)+LOOKUP(L116,ByM!$A$2:$B$462)+LOOKUP(M116,ByM!$A$2:$B$462)+LOOKUP(N116,ByM!$A$2:$B$462)+LOOKUP(O116,ByM!$A$2:$B$462))","v":""}]
[null,null,null,null,null,null,null,null,null,null,null,null,null,null,null,{"$f":"IF(C117=\"\",\"\",#REF!+(LOOKUP(F117,Area!$A$2:$B$71))+G117-(E117*3))","v":""},{"$f":"IF(C117=\"\",\"\",LOOKUP(K117,ByM!$A$2:$B$462)+LOOKUP(L117,ByM!$A$2:$B$462)+LOOKUP(M117,ByM!$A$2:$B$462)+LOOKUP(N117,ByM!$A$2:$B$462)+LOOKUP(O117,ByM!$A$2:$B$462))","v":""}]
[null,null,null,null,null,null,null,null,null,null,null,null,null,null,null,{"$f":"IF(C118=\"\",\"\",#REF!+(LOOKUP(F118,Area!$A$2:$B$71))+G118-(E118*3))","v":""},{"$f":"IF(C118=\"\",\"\",LOOKUP(K118,ByM!$A$2:$B$462)+LOOKUP(L118,ByM!$A$2:$B$462)+LOOKUP(M118,ByM!$A$2:$B$462)+LOOKUP(N118,ByM!$A$2:$B$462)+LOOKUP(O118,ByM!$A$2:$B$462))","v":""}]
[null,null,null,null,null,null,null,null,null,null,null,null,null,null,null,{"$f":"IF(C119=\"\",\"\",#REF!+(LOOKUP(F119,Area!$A$2:$B$71))+G119-(E119*3))","v":""},{"$f":"IF(C119=\"\",\"\",LOOKUP(K119,ByM!$A$2:$B$462)+LOOKUP(L119,ByM!$A$2:$B$462)+LOOKUP(M119,ByM!$A$2:$B$462)+LOOKUP(N119,ByM!$A$2:$B$462)+LOOKUP(O119,ByM!$A$2:$B$462))","v":""}]
[null,null,null,null,null,null,null,null,null,null,null,null,null,null,null,{"$f":"IF(C120=\"\",\"\",#REF!+(LOOKUP(F120,Area!$A$2:$B$71))+G120-(E120*3))","v":""},{"$f":"IF(C120=\"\",\"\",LOOKUP(K120,ByM!$A$2:$B$462)+LOOKUP(L120,ByM!$A$2:$B$462)+LOOKUP(M120,ByM!$A$2:$B$462)+LOOKUP(N120,ByM!$A$2:$B$462)+LOOKUP(O120,ByM!$A$2:$B$462))","v":""}]
[null,null,null,null,null,null,null,null,null,null,null,null,null,null,null,{"$f":"IF(C121=\"\",\"\",#REF!+(LOOKUP(F121,Area!$A$2:$B$71))+G121-(E121*3))","v":""},{"$f":"IF(C121=\"\",\"\",LOOKUP(K121,ByM!$A$2:$B$462)+LOOKUP(L121,ByM!$A$2:$B$462)+LOOKUP(M121,ByM!$A$2:$B$462)+LOOKUP(N121,ByM!$A$2:$B$462)+LOOKUP(O121,ByM!$A$2:$B$462))","v":""}]
[null,null,null,null,null,null,null,null,null,null,null,null,null,null,null,{"$f":"IF(C122=\"\",\"\",#REF!+(LOOKUP(F122,Area!$A$2:$B$71))+G122-(E122*3))","v":""},{"$f":"IF(C122=\"\",\"\",LOOKUP(K122,ByM!$A$2:$B$462)+LOOKUP(L122,ByM!$A$2:$B$462)+LOOKUP(M122,ByM!$A$2:$B$462)+LOOKUP(N122,ByM!$A$2:$B$462)+LOOKUP(O122,ByM!$A$2:$B$462))","v":""}]
[null,null,null,null,null,null,null,null,null,null,null,null,null,null,null,{"$f":"IF(C123=\"\",\"\",#REF!+(LOOKUP(F123,Area!$A$2:$B$71))+G123-(E123*3))","v":""},{"$f":"IF(C123=\"\",\"\",LOOKUP(K123,ByM!$A$2:$B$462)+LOOKUP(L123,ByM!$A$2:$B$462)+LOOKUP(M123,ByM!$A$2:$B$462)+LOOKUP(N123,ByM!$A$2:$B$462)+LOOKUP(O123,ByM!$A$2:$B$462))","v":""}]
[null,null,null,null,null,null,null,null,null,null,null,null,null,null,null,{"$f":"IF(C124=\"\",\"\",#REF!+(LOOKUP(F124,Area!$A$2:$B$71))+G124-(E124*3))","v":""},{"$f":"IF(C124=\"\",\"\",LOOKUP(K124,ByM!$A$2:$B$462)+LOOKUP(L124,ByM!$A$2:$B$462)+LOOKUP(M124,ByM!$A$2:$B$462)+LOOKUP(N124,ByM!$A$2:$B$462)+LOOKUP(O124,ByM!$A$2:$B$462))","v":""}]
[null,null,null,null,null,null,null,null,null,null,null,null,null,null,null,{"$f":"IF(C125=\"\",\"\",#REF!+(LOOKUP(F125,Area!$A$2:$B$71))+G125-(E125*3))","v":""},{"$f":"IF(C125=\"\",\"\",LOOKUP(K125,ByM!$A$2:$B$462)+LOOKUP(L125,ByM!$A$2:$B$462)+LOOKUP(M125,ByM!$A$2:$B$462)+LOOKUP(N125,ByM!$A$2:$B$462)+LOOKUP(O125,ByM!$A$2:$B$462))","v":""}]
[null,null,null,null,null,null,null,null,null,null,null,null,null,null,null,{"$f":"IF(C126=\"\",\"\",#REF!+(LOOKUP(F126,Area!$A$2:$B$71))+G126-(E126*3))","v":""},{"$f":"IF(C126=\"\",\"\",LOOKUP(K126,ByM!$A$2:$B$462)+LOOKUP(L126,ByM!$A$2:$B$462)+LOOKUP(M126,ByM!$A$2:$B$462)+LOOKUP(N126,ByM!$A$2:$B$462)+LOOKUP(O126,ByM!$A$2:$B$462))","v":""}]
[null,null,null,null,null,null,null,null,null,null,null,null,null,null,null,{"$f":"IF(C127=\"\",\"\",#REF!+(LOOKUP(F127,Area!$A$2:$B$71))+G127-(E127*3))","v":""},{"$f":"IF(C127=\"\",\"\",LOOKUP(K127,ByM!$A$2:$B$462)+LOOKUP(L127,ByM!$A$2:$B$462)+LOOKUP(M127,ByM!$A$2:$B$462)+LOOKUP(N127,ByM!$A$2:$B$462)+LOOKUP(O127,ByM!$A$2:$B$462))","v":""}]
[null,null,null,null,null,null,null,null,null,null,null,null,null,null,null,{"$f":"IF(C128=\"\",\"\",#REF!+(LOOKUP(F128,Area!$A$2:$B$71))+G128-(E128*3))","v":""},{"$f":"IF(C128=\"\",\"\",LOOKUP(K128,ByM!$A$2:$B$462)+LOOKUP(L128,ByM!$A$2:$B$462)+LOOKUP(M128,ByM!$A$2:$B$462)+LOOKUP(N128,ByM!$A$2:$B$462)+LOOKUP(O128,ByM!$A$2:$B$462))","v":""}]
[null,null,null,null,null,null,null,null,null,null,null,null,null,null,null,{"$f":"IF(C129=\"\",\"\",#REF!+(LOOKUP(F129,Area!$A$2:$B$71))+G129-(E129*3))","v":""},{"$f":"IF(C129=\"\",\"\",LOOKUP(K129,ByM!$A$2:$B$462)+LOOKUP(L129,ByM!$A$2:$B$462)+LOOKUP(M129,ByM!$A$2:$B$462)+LOOKUP(N129,ByM!$A$2:$B$462)+LOOKUP(O129,ByM!$A$2:$B$462))","v":""}]
[null,null,null,null,null,null,null,null,null,null,null,null,null,null,null,{"$f":"IF(C130=\"\",\"\",#REF!+(LOOKUP(F130,Area!$A$2:$B$71))+G130-(E130*3))","v":""},{"$f":"IF(C130=\"\",\"\",LOOKUP(K130,ByM!$A$2:$B$462)+LOOKUP(L130,ByM!$A$2:$B$462)+LOOKUP(M130,ByM!$A$2:$B$462)+LOOKUP(N130,ByM!$A$2:$B$462)+LOOKUP(O130,ByM!$A$2:$B$462))","v":""}]
[null,null,null,null,null,null,null,null,null,null,null,null,null,null,null,{"$f":"IF(C131=\"\",\"\",#REF!+(LOOKUP(F131,Area!$A$2:$B$71))+G131-(E131*3))","v":""},{"$f":"IF(C131=\"\",\"\",LOOKUP(K131,ByM!$A$2:$B$462)+LOOKUP(L131,ByM!$A$2:$B$462)+LOOKUP(M131,ByM!$A$2:$B$462)+LOOKUP(N131,ByM!$A$2:$B$462)+LOOKUP(O131,ByM!$A$2:$B$462))","v":""}]
[null,null,null,null,null,null,null,null,null,null,null,null,null,null,null,{"$f":"IF(C132=\"\",\"\",#REF!+(LOOKUP(F132,Area!$A$2:$B$71))+G132-(E132*3))","v":""},{"$f":"IF(C132=\"\",\"\",LOOKUP(K132,ByM!$A$2:$B$462)+LOOKUP(L132,ByM!$A$2:$B$462)+LOOKUP(M132,ByM!$A$2:$B$462)+LOOKUP(N132,ByM!$A$2:$B$462)+LOOKUP(O132,ByM!$A$2:$B$462))","v":""}]
[null,null,null,null,null,null,null,null,null,null,null,null,null,null,null,{"$f":"IF(C133=\"\",\"\",#REF!+(LOOKUP(F133,Area!$A$2:$B$71))+G133-(E133*3))","v":""},{"$f":"IF(C133=\"\",\"\",LOOKUP(K133,ByM!$A$2:$B$462)+LOOKUP(L133,ByM!$A$2:$B$462)+LOOKUP(M133,ByM!$A$2:$B$462)+LOOKUP(N133,ByM!$A$2:$B$462)+LOOKUP(O133,ByM!$A$2:$B$462))","v":""}]
[null,null,null,null,null,null,null,null,null,null,null,null,null,null,null,{"$f":"IF(C134=\"\",\"\",#REF!+(LOOKUP(F134,Area!$A$2:$B$71))+G134-(E134*3))","v":""},{"$f":"IF(C134=\"\",\"\",LOOKUP(K134,ByM!$A$2:$B$462)+LOOKUP(L134,ByM!$A$2:$B$462)+LOOKUP(M134,ByM!$A$2:$B$462)+LOOKUP(N134,ByM!$A$2:$B$462)+LOOKUP(O134,ByM!$A$2:$B$462))","v":""}]
[null,null,null,null,null,null,null,null,null,null,null,null,null,null,null,{"$f":"IF(C135=\"\",\"\",#REF!+(LOOKUP(F135,Area!$A$2:$B$71))+G135-(E135*3))","v":""},{"$f":"IF(C135=\"\",\"\",LOOKUP(K135,ByM!$A$2:$B$462)+LOOKUP(L135,ByM!$A$2:$B$462)+LOOKUP(M135,ByM!$A$2:$B$462)+LOOKUP(N135,ByM!$A$2:$B$462)+LOOKUP(O135,ByM!$A$2:$B$462))","v":""}]
[null,null,null,null,null,null,null,null,null,null,null,null,null,null,null,{"$f":"IF(C136=\"\",\"\",#REF!+(LOOKUP(F136,Area!$A$2:$B$71))+G136-(E136*3))","v":""},{"$f":"IF(C136=\"\",\"\",LOOKUP(K136,ByM!$A$2:$B$462)+LOOKUP(L136,ByM!$A$2:$B$462)+LOOKUP(M136,ByM!$A$2:$B$462)+LOOKUP(N136,ByM!$A$2:$B$462)+LOOKUP(O136,ByM!$A$2:$B$462))","v":""}]
[null,null,null,null,null,null,null,null,null,null,null,null,null,null,null,{"$f":"IF(C137=\"\",\"\",#REF!+(LOOKUP(F137,Area!$A$2:$B$71))+G137-(E137*3))","v":""},{"$f":"IF(C137=\"\",\"\",LOOKUP(K137,ByM!$A$2:$B$462)+LOOKUP(L137,ByM!$A$2:$B$462)+LOOKUP(M137,ByM!$A$2:$B$462)+LOOKUP(N137,ByM!$A$2:$B$462)+LOOKUP(O137,ByM!$A$2:$B$462))","v":""}]
[null,null,null,null,null,null,null,null,null,null,null,null,null,null,null,{"$f":"IF(C138=\"\",\"\",#REF!+(LOOKUP(F138,Area!$A$2:$B$71))+G138-(E138*3))","v":""},{"$f":"IF(C138=\"\",\"\",LOOKUP(K138,ByM!$A$2:$B$462)+LOOKUP(L138,ByM!$A$2:$B$462)+LOOKUP(M138,ByM!$A$2:$B$462)+LOOKUP(N138,ByM!$A$2:$B$462)+LOOKUP(O138,ByM!$A$2:$B$462))","v":""}]
[null,null,null,null,null,null,null,null,null,null,null,null,null,null,null,{"$f":"IF(C139=\"\",\"\",#REF!+(LOOKUP(F139,Area!$A$2:$B$71))+G139-(E139*3))","v":""},{"$f":"IF(C139=\"\",\"\",LOOKUP(K139,ByM!$A$2:$B$462)+LOOKUP(L139,ByM!$A$2:$B$462)+LOOKUP(M139,ByM!$A$2:$B$462)+LOOKUP(N139,ByM!$A$2:$B$462)+LOOKUP(O139,ByM!$A$2:$B$462))","v":""}]
[null,null,null,null,null,null,null,null,null,null,null,null,null,null,null,{"$f":"IF(C140=\"\",\"\",#REF!+(LOOKUP(F140,Area!$A$2:$B$71))+G140-(E140*3))","v":""},{"$f":"IF(C140=\"\",\"\",LOOKUP(K140,ByM!$A$2:$B$462)+LOOKUP(L140,ByM!$A$2:$B$462)+LOOKUP(M140,ByM!$A$2:$B$462)+LOOKUP(N140,ByM!$A$2:$B$462)+LOOKUP(O140,ByM!$A$2:$B$462))","v":""}]
[null,null,null,null,null,null,null,null,null,null,null,null,null,null,null,{"$f":"IF(C141=\"\",\"\",#REF!+(LOOKUP(F141,Area!$A$2:$B$71))+G141-(E141*3))","v":""},{"$f":"IF(C141=\"\",\"\",LOOKUP(K141,ByM!$A$2:$B$462)+LOOKUP(L141,ByM!$A$2:$B$462)+LOOKUP(M141,ByM!$A$2:$B$462)+LOOKUP(N141,ByM!$A$2:$B$462)+LOOKUP(O141,ByM!$A$2:$B$462))","v":""}]
[null,null,null,null,null,null,null,null,null,null,null,null,null,null,null,{"$f":"IF(C142=\"\",\"\",#REF!+(LOOKUP(F142,Area!$A$2:$B$71))+G142-(E142*3))","v":""},{"$f":"IF(C142=\"\",\"\",LOOKUP(K142,ByM!$A$2:$B$462)+LOOKUP(L142,ByM!$A$2:$B$462)+LOOKUP(M142,ByM!$A$2:$B$462)+LOOKUP(N142,ByM!$A$2:$B$462)+LOOKUP(O142,ByM!$A$2:$B$462))","v":""}]
[null,null,null,null,null,null,null,null,null,null,null,null,null,null,null,{"$f":"IF(C143=\"\",\"\",#REF!+(LOOKUP(F143,Area!$A$2:$B$71))+G143-(E143*3))","v":""},{"$f":"IF(C143=\"\",\"\",LOOKUP(K143,ByM!$A$2:$B$462)+LOOKUP(L143,ByM!$A$2:$B$462)+LOOKUP(M143,ByM!$A$2:$B$462)+LOOKUP(N143,ByM!$A$2:$B$462)+LOOKUP(O143,ByM!$A$2:$B$462))","v":""}]
[null,null,null,null,null,null,null,null,null,null,null,null,null,null,null,{"$f":"IF(C144=\"\",\"\",#REF!+(LOOKUP(F144,Area!$A$2:$B$71))+G144-(E144*3))","v":""},{"$f":"IF(C144=\"\",\"\",LOOKUP(K144,ByM!$A$2:$B$462)+LOOKUP(L144,ByM!$A$2:$B$462)+LOOKUP(M144,ByM!$A$2:$B$462)+LOOKUP(N144,ByM!$A$2:$B$462)+LOOKUP(O144,ByM!$A$2:$B$462))","v":""}]
[null,null,null,null,null,null,null,null,null,null,null,null,null,null,null,{"$f":"IF(C145=\"\",\"\",#REF!+(LOOKUP(F145,Area!$A$2:$B$71))+G145-(E145*3))","v":""},{"$f":"IF(C145=\"\",\"\",LOOKUP(K145,ByM!$A$2:$B$462)+LOOKUP(L145,ByM!$A$2:$B$462)+LOOKUP(M145,ByM!$A$2:$B$462)+LOOKUP(N145,ByM!$A$2:$B$462)+LOOKUP(O145,ByM!$A$2:$B$462))","v":""}]
[null,null,null,null,null,null,null,null,null,null,null,null,null,null,null,{"$f":"IF(C146=\"\",\"\",#REF!+(LOOKUP(F146,Area!$A$2:$B$71))+G146-(E146*3))","v":""},{"$f":"IF(C146=\"\",\"\",LOOKUP(K146,ByM!$A$2:$B$462)+LOOKUP(L146,ByM!$A$2:$B$462)+LOOKUP(M146,ByM!$A$2:$B$462)+LOOKUP(N146,ByM!$A$2:$B$462)+LOOKUP(O146,ByM!$A$2:$B$462))","v":""}]
[null,null,null,null,null,null,null,null,null,null,null,null,null,null,null,{"$f":"IF(C147=\"\",\"\",#REF!+(LOOKUP(F147,Area!$A$2:$B$71))+G147-(E147*3))","v":""},{"$f":"IF(C147=\"\",\"\",LOOKUP(K147,ByM!$A$2:$B$462)+LOOKUP(L147,ByM!$A$2:$B$462)+LOOKUP(M147,ByM!$A$2:$B$462)+LOOKUP(N147,ByM!$A$2:$B$462)+LOOKUP(O147,ByM!$A$2:$B$462))","v":""}]
[null,null,null,null,null,null,null,null,null,null,null,null,null,null,null,{"$f":"IF(C148=\"\",\"\",#REF!+(LOOKUP(F148,Area!$A$2:$B$71))+G148-(E148*3))","v":""},{"$f":"IF(C148=\"\",\"\",LOOKUP(K148,ByM!$A$2:$B$462)+LOOKUP(L148,ByM!$A$2:$B$462)+LOOKUP(M148,ByM!$A$2:$B$462)+LOOKUP(N148,ByM!$A$2:$B$462)+LOOKUP(O148,ByM!$A$2:$B$462))","v":""}]
[null,null,null,null,null,null,null,null,null,null,null,null,null,null,null,{"$f":"IF(C149=\"\",\"\",#REF!+(LOOKUP(F149,Area!$A$2:$B$71))+G149-(E149*3))","v":""},{"$f":"IF(C149=\"\",\"\",LOOKUP(K149,ByM!$A$2:$B$462)+LOOKUP(L149,ByM!$A$2:$B$462)+LOOKUP(M149,ByM!$A$2:$B$462)+LOOKUP(N149,ByM!$A$2:$B$462)+LOOKUP(O149,ByM!$A$2:$B$462))","v":""}]
[null,null,null,null,null,null,null,null,null,null,null,null,null,null,null,{"$f":"IF(C150=\"\",\"\",#REF!+(LOOKUP(F150,Area!$A$2:$B$71))+G150-(E150*3))","v":""},{"$f":"IF(C150=\"\",\"\",LOOKUP(K150,ByM!$A$2:$B$462)+LOOKUP(L150,ByM!$A$2:$B$462)+LOOKUP(M150,ByM!$A$2:$B$462)+LOOKUP(N150,ByM!$A$2:$B$462)+LOOKUP(O150,ByM!$A$2:$B$462))","v":""}]
[null,null,null,null,null,null,null,null,null,null,null,null,null,null,null,{"$f":"IF(C151=\"\",\"\",#REF!+(LOOKUP(F151,Area!$A$2:$B$71))+G151-(E151*3))","v":""},{"$f":"IF(C151=\"\",\"\",LOOKUP(K151,ByM!$A$2:$B$462)+LOOKUP(L151,ByM!$A$2:$B$462)+LOOKUP(M151,ByM!$A$2:$B$462)+LOOKUP(N151,ByM!$A$2:$B$462)+LOOKUP(O151,ByM!$A$2:$B$462))","v":""}]
[null,null,null,null,null,null,null,null,null,null,null,null,null,null,null,{"$f":"IF(C152=\"\",\"\",#REF!+(LOOKUP(F152,Area!$A$2:$B$71))+G152-(E152*3))","v":""},{"$f":"IF(C152=\"\",\"\",LOOKUP(K152,ByM!$A$2:$B$462)+LOOKUP(L152,ByM!$A$2:$B$462)+LOOKUP(M152,ByM!$A$2:$B$462)+LOOKUP(N152,ByM!$A$2:$B$462)+LOOKUP(O152,ByM!$A$2:$B$462))","v":""}]
[null,null,null,null,null,null,null,null,null,null,null,null,null,null,null,{"$f":"IF(C153=\"\",\"\",#REF!+(LOOKUP(F153,Area!$A$2:$B$71))+G153-(E153*3))","v":""},{"$f":"IF(C153=\"\",\"\",LOOKUP(K153,ByM!$A$2:$B$462)+LOOKUP(L153,ByM!$A$2:$B$462)+LOOKUP(M153,ByM!$A$2:$B$462)+LOOKUP(N153,ByM!$A$2:$B$462)+LOOKUP(O153,ByM!$A$2:$B$462))","v":""}]
[null,null,null,null,null,null,null,null,null,null,null,null,null,null,null,{"$f":"IF(C154=\"\",\"\",#REF!+(LOOKUP(F154,Area!$A$2:$B$71))+G154-(E154*3))","v":""},{"$f":"IF(C154=\"\",\"\",LOOKUP(K154,ByM!$A$2:$B$462)+LOOKUP(L154,ByM!$A$2:$B$462)+LOOKUP(M154,ByM!$A$2:$B$462)+LOOKUP(N154,ByM!$A$2:$B$462)+LOOKUP(O154,ByM!$A$2:$B$462))","v":""}]
[null,null,null,null,null,null,null,null,null,null,null,null,null,null,null,{"$f":"IF(C155=\"\",\"\",#REF!+(LOOKUP(F155,Area!$A$2:$B$71))+G155-(E155*3))","v":""},{"$f":"IF(C155=\"\",\"\",LOOKUP(K155,ByM!$A$2:$B$462)+LOOKUP(L155,ByM!$A$2:$B$462)+LOOKUP(M155,ByM!$A$2:$B$462)+LOOKUP(N155,ByM!$A$2:$B$462)+LOOKUP(O155,ByM!$A$2:$B$462))","v":""}]
[null,null,null,null,null,null,null,null,null,null,null,null,null,null,null,{"$f":"IF(C156=\"\",\"\",#REF!+(LOOKUP(F156,Area!$A$2:$B$71))+G156-(E156*3))","v":""},{"$f":"IF(C156=\"\",\"\",LOOKUP(K156,ByM!$A$2:$B$462)+LOOKUP(L156,ByM!$A$2:$B$462)+LOOKUP(M156,ByM!$A$2:$B$462)+LOOKUP(N156,ByM!$A$2:$B$462)+LOOKUP(O156,ByM!$A$2:$B$462))","v":""}]
[null,null,null,null,null,null,null,null,null,null,null,null,null,null,null,{"$f":"IF(C157=\"\",\"\",#REF!+(LOOKUP(F157,Area!$A$2:$B$71))+G157-(E157*3))","v":""},{"$f":"IF(C157=\"\",\"\",LOOKUP(K157,ByM!$A$2:$B$462)+LOOKUP(L157,ByM!$A$2:$B$462)+LOOKUP(M157,ByM!$A$2:$B$462)+LOOKUP(N157,ByM!$A$2:$B$462)+LOOKUP(O157,ByM!$A$2:$B$462))","v":""}]
[null,null,null,null,null,null,null,null,null,null,null,null,null,null,null,{"$f":"IF(C158=\"\",\"\",#REF!+(LOOKUP(F158,Area!$A$2:$B$71))+G158-(E158*3))","v":""},{"$f":"IF(C158=\"\",\"\",LOOKUP(K158,ByM!$A$2:$B$462)+LOOKUP(L158,ByM!$A$2:$B$462)+LOOKUP(M158,ByM!$A$2:$B$462)+LOOKUP(N158,ByM!$A$2:$B$462)+LOOKUP(O158,ByM!$A$2:$B$462))","v":""}]
[null,null,null,null,null,null,null,null,null,null,null,null,null,null,null,{"$f":"IF(C159=\"\",\"\",#REF!+(LOOKUP(F159,Area!$A$2:$B$71))+G159-(E159*3))","v":""},{"$f":"IF(C159=\"\",\"\",LOOKUP(K159,ByM!$A$2:$B$462)+LOOKUP(L159,ByM!$A$2:$B$462)+LOOKUP(M159,ByM!$A$2:$B$462)+LOOKUP(N159,ByM!$A$2:$B$462)+LOOKUP(O159,ByM!$A$2:$B$462))","v":""}]
[null,null,null,null,null,null,null,null,null,null,null,null,null,null,null,{"$f":"IF(C160=\"\",\"\",#REF!+(LOOKUP(F160,Area!$A$2:$B$71))+G160-(E160*3))","v":""},{"$f":"IF(C160=\"\",\"\",LOOKUP(K160,ByM!$A$2:$B$462)+LOOKUP(L160,ByM!$A$2:$B$462)+LOOKUP(M160,ByM!$A$2:$B$462)+LOOKUP(N160,ByM!$A$2:$B$462)+LOOKUP(O160,ByM!$A$2:$B$462))","v":""}]
[null,null,null,null,null,null,null,null,null,null,null,null,null,null,null,{"$f":"IF(C161=\"\",\"\",#REF!+(LOOKUP(F161,Area!$A$2:$B$71))+G161-(E161*3))","v":""},{"$f":"IF(C161=\"\",\"\",LOOKUP(K161,ByM!$A$2:$B$462)+LOOKUP(L161,ByM!$A$2:$B$462)+LOOKUP(M161,ByM!$A$2:$B$462)+LOOKUP(N161,ByM!$A$2:$B$462)+LOOKUP(O161,ByM!$A$2:$B$462))","v":""}]
[null,null,null,null,null,null,null,null,null,null,null,null,null,null,null,{"$f":"IF(C162=\"\",\"\",#REF!+(LOOKUP(F162,Area!$A$2:$B$71))+G162-(E162*3))","v":""},{"$f":"IF(C162=\"\",\"\",LOOKUP(K162,ByM!$A$2:$B$462)+LOOKUP(L162,ByM!$A$2:$B$462)+LOOKUP(M162,ByM!$A$2:$B$462)+LOOKUP(N162,ByM!$A$2:$B$462)+LOOKUP(O162,ByM!$A$2:$B$462))","v":""}]
[null,null,null,null,null,null,null,null,null,null,null,null,null,null,null,{"$f":"IF(C163=\"\",\"\",#REF!+(LOOKUP(F163,Area!$A$2:$B$71))+G163-(E163*3))","v":""},{"$f":"IF(C163=\"\",\"\",LOOKUP(K163,ByM!$A$2:$B$462)+LOOKUP(L163,ByM!$A$2:$B$462)+LOOKUP(M163,ByM!$A$2:$B$462)+LOOKUP(N163,ByM!$A$2:$B$462)+LOOKUP(O163,ByM!$A$2:$B$462))","v":""}]
[null,null,null,null,null,null,null,null,null,null,null,null,null,null,null,{"$f":"IF(C164=\"\",\"\",#REF!+(LOOKUP(F164,Area!$A$2:$B$71))+G164-(E164*3))","v":""},{"$f":"IF(C164=\"\",\"\",LOOKUP(K164,ByM!$A$2:$B$462)+LOOKUP(L164,ByM!$A$2:$B$462)+LOOKUP(M164,ByM!$A$2:$B$462)+LOOKUP(N164,ByM!$A$2:$B$462)+LOOKUP(O164,ByM!$A$2:$B$462))","v":""}]
[null,null,null,null,null,null,null,null,null,null,null,null,null,null,null,{"$f":"IF(C165=\"\",\"\",#REF!+(LOOKUP(F165,Area!$A$2:$B$71))+G165-(E165*3))","v":""},{"$f":"IF(C165=\"\",\"\",LOOKUP(K165,ByM!$A$2:$B$462)+LOOKUP(L165,ByM!$A$2:$B$462)+LOOKUP(M165,ByM!$A$2:$B$462)+LOOKUP(N165,ByM!$A$2:$B$462)+LOOKUP(O165,ByM!$A$2:$B$462))","v":""}]
[null,null,null,null,null,null,null,null,null,null,null,null,null,null,null,{"$f":"IF(C166=\"\",\"\",#REF!+(LOOKUP(F166,Area!$A$2:$B$71))+G166-(E166*3))","v":""},{"$f":"IF(C166=\"\",\"\",LOOKUP(K166,ByM!$A$2:$B$462)+LOOKUP(L166,ByM!$A$2:$B$462)+LOOKUP(M166,ByM!$A$2:$B$462)+LOOKUP(N166,ByM!$A$2:$B$462)+LOOKUP(O166,ByM!$A$2:$B$462))","v":""}]
[null,null,null,null,null,null,null,null,null,null,null,null,null,null,null,{"$f":"IF(C167=\"\",\"\",#REF!+(LOOKUP(F167,Area!$A$2:$B$71))+G167-(E167*3))","v":""},{"$f":"IF(C167=\"\",\"\",LOOKUP(K167,ByM!$A$2:$B$462)+LOOKUP(L167,ByM!$A$2:$B$462)+LOOKUP(M167,ByM!$A$2:$B$462)+LOOKUP(N167,ByM!$A$2:$B$462)+LOOKUP(O167,ByM!$A$2:$B$462))","v":""}]
[null,null,null,null,null,null,null,null,null,null,null,null,null,null,null,{"$f":"IF(C168=\"\",\"\",#REF!+(LOOKUP(F168,Area!$A$2:$B$71))+G168-(E168*3))","v":""},{"$f":"IF(C168=\"\",\"\",LOOKUP(K168,ByM!$A$2:$B$462)+LOOKUP(L168,ByM!$A$2:$B$462)+LOOKUP(M168,ByM!$A$2:$B$462)+LOOKUP(N168,ByM!$A$2:$B$462)+LOOKUP(O168,ByM!$A$2:$B$462))","v":""}]
[null,null,null,null,null,null,null,null,null,null,null,null,null,null,null,{"$f":"IF(C169=\"\",\"\",#REF!+(LOOKUP(F169,Area!$A$2:$B$71))+G169-(E169*3))","v":""},{"$f":"IF(C169=\"\",\"\",LOOKUP(K169,ByM!$A$2:$B$462)+LOOKUP(L169,ByM!$A$2:$B$462)+LOOKUP(M169,ByM!$A$2:$B$462)+LOOKUP(N169,ByM!$A$2:$B$462)+LOOKUP(O169,ByM!$A$2:$B$462))","v":""}]
[null,null,null,null,null,null,null,null,null,null,null,null,null,null,null,{"$f":"IF(C170=\"\",\"\",#REF!+(LOOKUP(F170,Area!$A$2:$B$71))+G170-(E170*3))","v":""},{"$f":"IF(C170=\"\",\"\",LOOKUP(K170,ByM!$A$2:$B$462)+LOOKUP(L170,ByM!$A$2:$B$462)+LOOKUP(M170,ByM!$A$2:$B$462)+LOOKUP(N170,ByM!$A$2:$B$462)+LOOKUP(O170,ByM!$A$2:$B$462))","v":""}]
[null,null,null,null,null,null,null,null,null,null,null,null,null,null,null,{"$f":"IF(C171=\"\",\"\",#REF!+(LOOKUP(F171,Area!$A$2:$B$71))+G171-(E171*3))","v":""},{"$f":"IF(C171=\"\",\"\",LOOKUP(K171,ByM!$A$2:$B$462)+LOOKUP(L171,ByM!$A$2:$B$462)+LOOKUP(M171,ByM!$A$2:$B$462)+LOOKUP(N171,ByM!$A$2:$B$462)+LOOKUP(O171,ByM!$A$2:$B$462))","v":""}]
[null,null,null,null,null,null,null,null,null,null,null,null,null,null,null,{"$f":"IF(C172=\"\",\"\",#REF!+(LOOKUP(F172,Area!$A$2:$B$71))+G172-(E172*3))","v":""},{"$f":"IF(C172=\"\",\"\",LOOKUP(K172,ByM!$A$2:$B$462)+LOOKUP(L172,ByM!$A$2:$B$462)+LOOKUP(M172,ByM!$A$2:$B$462)+LOOKUP(N172,ByM!$A$2:$B$462)+LOOKUP(O172,ByM!$A$2:$B$462))","v":""}]
[null,null,null,null,null,null,null,null,null,null,null,null,null,null,null,{"$f":"IF(C173=\"\",\"\",#REF!+(LOOKUP(F173,Area!$A$2:$B$71))+G173-(E173*3))","v":""},{"$f":"IF(C173=\"\",\"\",LOOKUP(K173,ByM!$A$2:$B$462)+LOOKUP(L173,ByM!$A$2:$B$462)+LOOKUP(M173,ByM!$A$2:$B$462)+LOOKUP(N173,ByM!$A$2:$B$462)+LOOKUP(O173,ByM!$A$2:$B$462))","v":""}]
[null,null,null,null,null,null,null,null,null,null,null,null,null,null,null,{"$f":"IF(C174=\"\",\"\",#REF!+(LOOKUP(F174,Area!$A$2:$B$71))+G174-(E174*3))","v":""},{"$f":"IF(C174=\"\",\"\",LOOKUP(K174,ByM!$A$2:$B$462)+LOOKUP(L174,ByM!$A$2:$B$462)+LOOKUP(M174,ByM!$A$2:$B$462)+LOOKUP(N174,ByM!$A$2:$B$462)+LOOKUP(O174,ByM!$A$2:$B$462))","v":""}]
[null,null,null,null,null,null,null,null,null,null,null,null,null,null,null,{"$f":"IF(C175=\"\",\"\",#REF!+(LOOKUP(F175,Area!$A$2:$B$71))+G175-(E175*3))","v":""},{"$f":"IF(C175=\"\",\"\",LOOKUP(K175,ByM!$A$2:$B$462)+LOOKUP(L175,ByM!$A$2:$B$462)+LOOKUP(M175,ByM!$A$2:$B$462)+LOOKUP(N175,ByM!$A$2:$B$462)+LOOKUP(O175,ByM!$A$2:$B$462))","v":""}]
[null,null,null,null,null,null,null,null,null,null,null,null,null,null,null,{"$f":"IF(C176=\"\",\"\",#REF!+(LOOKUP(F176,Area!$A$2:$B$71))+G176-(E176*3))","v":""},{"$f":"IF(C176=\"\",\"\",LOOKUP(K176,ByM!$A$2:$B$462)+LOOKUP(L176,ByM!$A$2:$B$462)+LOOKUP(M176,ByM!$A$2:$B$462)+LOOKUP(N176,ByM!$A$2:$B$462)+LOOKUP(O176,ByM!$A$2:$B$462))","v":""}]
[null,null,null,null,null,null,null,null,null,null,null,null,null,null,null,{"$f":"IF(C177=\"\",\"\",#REF!+(LOOKUP(F177,Area!$A$2:$B$71))+G177-(E177*3))","v":""},{"$f":"IF(C177=\"\",\"\",LOOKUP(K177,ByM!$A$2:$B$462)+LOOKUP(L177,ByM!$A$2:$B$462)+LOOKUP(M177,ByM!$A$2:$B$462)+LOOKUP(N177,ByM!$A$2:$B$462)+LOOKUP(O177,ByM!$A$2:$B$462))","v":""}]
[null,null,null,null,null,null,null,null,null,null,null,null,null,null,null,{"$f":"IF(C178=\"\",\"\",#REF!+(LOOKUP(F178,Area!$A$2:$B$71))+G178-(E178*3))","v":""},{"$f":"IF(C178=\"\",\"\",LOOKUP(K178,ByM!$A$2:$B$462)+LOOKUP(L178,ByM!$A$2:$B$462)+LOOKUP(M178,ByM!$A$2:$B$462)+LOOKUP(N178,ByM!$A$2:$B$462)+LOOKUP(O178,ByM!$A$2:$B$462))","v":""}]
[null,null,null,null,null,null,null,null,null,null,null,null,null,null,null,{"$f":"IF(C179=\"\",\"\",#REF!+(LOOKUP(F179,Area!$A$2:$B$71))+G179-(E179*3))","v":""},{"$f":"IF(C179=\"\",\"\",LOOKUP(K179,ByM!$A$2:$B$462)+LOOKUP(L179,ByM!$A$2:$B$462)+LOOKUP(M179,ByM!$A$2:$B$462)+LOOKUP(N179,ByM!$A$2:$B$462)+LOOKUP(O179,ByM!$A$2:$B$462))","v":""}]
[null,null,null,null,null,null,null,null,null,null,null,null,null,null,null,{"$f":"IF(C180=\"\",\"\",#REF!+(LOOKUP(F180,Area!$A$2:$B$71))+G180-(E180*3))","v":""},{"$f":"IF(C180=\"\",\"\",LOOKUP(K180,ByM!$A$2:$B$462)+LOOKUP(L180,ByM!$A$2:$B$462)+LOOKUP(M180,ByM!$A$2:$B$462)+LOOKUP(N180,ByM!$A$2:$B$462)+LOOKUP(O180,ByM!$A$2:$B$462))","v":""}]
[null,null,null,null,null,null,null,null,null,null,null,null,null,null,null,{"$f":"IF(C181=\"\",\"\",#REF!+(LOOKUP(F181,Area!$A$2:$B$71))+G181-(E181*3))","v":""},{"$f":"IF(C181=\"\",\"\",LOOKUP(K181,ByM!$A$2:$B$462)+LOOKUP(L181,ByM!$A$2:$B$462)+LOOKUP(M181,ByM!$A$2:$B$462)+LOOKUP(N181,ByM!$A$2:$B$462)+LOOKUP(O181,ByM!$A$2:$B$462))","v":""}]
[null,null,null,null,null,null,null,null,null,null,null,null,null,null,null,{"$f":"IF(C182=\"\",\"\",#REF!+(LOOKUP(F182,Area!$A$2:$B$71))+G182-(E182*3))","v":""},{"$f":"IF(C182=\"\",\"\",LOOKUP(K182,ByM!$A$2:$B$462)+LOOKUP(L182,ByM!$A$2:$B$462)+LOOKUP(M182,ByM!$A$2:$B$462)+LOOKUP(N182,ByM!$A$2:$B$462)+LOOKUP(O182,ByM!$A$2:$B$462))","v":""}]
[null,null,null,null,null,null,null,null,null,null,null,null,null,null,null,{"$f":"IF(C183=\"\",\"\",#REF!+(LOOKUP(F183,Area!$A$2:$B$71))+G183-(E183*3))","v":""},{"$f":"IF(C183=\"\",\"\",LOOKUP(K183,ByM!$A$2:$B$462)+LOOKUP(L183,ByM!$A$2:$B$462)+LOOKUP(M183,ByM!$A$2:$B$462)+LOOKUP(N183,ByM!$A$2:$B$462)+LOOKUP(O183,ByM!$A$2:$B$462))","v":""}]
[null,null,null,null,null,null,null,null,null,null,null,null,null,null,null,{"$f":"IF(C184=\"\",\"\",#REF!+(LOOKUP(F184,Area!$A$2:$B$71))+G184-(E184*3))","v":""},{"$f":"IF(C184=\"\",\"\",LOOKUP(K184,ByM!$A$2:$B$462)+LOOKUP(L184,ByM!$A$2:$B$462)+LOOKUP(M184,ByM!$A$2:$B$462)+LOOKUP(N184,ByM!$A$2:$B$462)+LOOKUP(O184,ByM!$A$2:$B$462))","v":""}]
[null,null,null,null,null,null,null,null,null,null,null,null,null,null,null,{"$f":"IF(C185=\"\",\"\",#REF!+(LOOKUP(F185,Area!$A$2:$B$71))+G185-(E185*3))","v":""},{"$f":"IF(C185=\"\",\"\",LOOKUP(K185,ByM!$A$2:$B$462)+LOOKUP(L185,ByM!$A$2:$B$462)+LOOKUP(M185,ByM!$A$2:$B$462)+LOOKUP(N185,ByM!$A$2:$B$462)+LOOKUP(O185,ByM!$A$2:$B$462))","v":""}]
[null,null,null,null,null,null,null,null,null,null,null,null,null,null,null,{"$f":"IF(C186=\"\",\"\",#REF!+(LOOKUP(F186,Area!$A$2:$B$71))+G186-(E186*3))","v":""},{"$f":"IF(C186=\"\",\"\",LOOKUP(K186,ByM!$A$2:$B$462)+LOOKUP(L186,ByM!$A$2:$B$462)+LOOKUP(M186,ByM!$A$2:$B$462)+LOOKUP(N186,ByM!$A$2:$B$462)+LOOKUP(O186,ByM!$A$2:$B$462))","v":""}]
[null,null,null,null,null,null,null,null,null,null,null,null,null,null,null,{"$f":"IF(C187=\"\",\"\",#REF!+(LOOKUP(F187,Area!$A$2:$B$71))+G187-(E187*3))","v":""},{"$f":"IF(C187=\"\",\"\",LOOKUP(K187,ByM!$A$2:$B$462)+LOOKUP(L187,ByM!$A$2:$B$462)+LOOKUP(M187,ByM!$A$2:$B$462)+LOOKUP(N187,ByM!$A$2:$B$462)+LOOKUP(O187,ByM!$A$2:$B$462))","v":""}]
[null,null,null,null,null,null,null,null,null,null,null,null,null,null,null,{"$f":"IF(C188=\"\",\"\",#REF!+(LOOKUP(F188,Area!$A$2:$B$71))+G188-(E188*3))","v":""},{"$f":"IF(C188=\"\",\"\",LOOKUP(K188,ByM!$A$2:$B$462)+LOOKUP(L188,ByM!$A$2:$B$462)+LOOKUP(M188,ByM!$A$2:$B$462)+LOOKUP(N188,ByM!$A$2:$B$462)+LOOKUP(O188,ByM!$A$2:$B$462))","v":""}]
[null,null,null,null,null,null,null,null,null,null,null,null,null,null,null,{"$f":"IF(C189=\"\",\"\",#REF!+(LOOKUP(F189,Area!$A$2:$B$71))+G189-(E189*3))","v":""},{"$f":"IF(C189=\"\",\"\",LOOKUP(K189,ByM!$A$2:$B$462)+LOOKUP(L189,ByM!$A$2:$B$462)+LOOKUP(M189,ByM!$A$2:$B$462)+LOOKUP(N189,ByM!$A$2:$B$462)+LOOKUP(O189,ByM!$A$2:$B$462))","v":""}]
[null,null,null,null,null,null,null,null,null,null,null,null,null,null,null,{"$f":"IF(C190=\"\",\"\",#REF!+(LOOKUP(F190,Area!$A$2:$B$71))+G190-(E190*3))","v":""},{"$f":"IF(C190=\"\",\"\",LOOKUP(K190,ByM!$A$2:$B$462)+LOOKUP(L190,ByM!$A$2:$B$462)+LOOKUP(M190,ByM!$A$2:$B$462)+LOOKUP(N190,ByM!$A$2:$B$462)+LOOKUP(O190,ByM!$A$2:$B$462))","v":""}]
[null,null,null,null,null,null,null,null,null,null,null,null,null,null,null,{"$f":"IF(C191=\"\",\"\",#REF!+(LOOKUP(F191,Area!$A$2:$B$71))+G191-(E191*3))","v":""},{"$f":"IF(C191=\"\",\"\",LOOKUP(K191,ByM!$A$2:$B$462)+LOOKUP(L191,ByM!$A$2:$B$462)+LOOKUP(M191,ByM!$A$2:$B$462)+LOOKUP(N191,ByM!$A$2:$B$462)+LOOKUP(O191,ByM!$A$2:$B$462))","v":""}]
[null,null,null,null,null,null,null,null,null,null,null,null,null,null,null,{"$f":"IF(C192=\"\",\"\",#REF!+(LOOKUP(F192,Area!$A$2:$B$71))+G192-(E192*3))","v":""},{"$f":"IF(C192=\"\",\"\",LOOKUP(K192,ByM!$A$2:$B$462)+LOOKUP(L192,ByM!$A$2:$B$462)+LOOKUP(M192,ByM!$A$2:$B$462)+LOOKUP(N192,ByM!$A$2:$B$462)+LOOKUP(O192,ByM!$A$2:$B$462))","v":""}]
[null,null,null,null,null,null,null,null,null,null,null,null,null,null,null,{"$f":"IF(C193=\"\",\"\",#REF!+(LOOKUP(F193,Area!$A$2:$B$71))+G193-(E193*3))","v":""},{"$f":"IF(C193=\"\",\"\",LOOKUP(K193,ByM!$A$2:$B$462)+LOOKUP(L193,ByM!$A$2:$B$462)+LOOKUP(M193,ByM!$A$2:$B$462)+LOOKUP(N193,ByM!$A$2:$B$462)+LOOKUP(O193,ByM!$A$2:$B$462))","v":""}]
[null,null,null,null,null,null,null,null,null,null,null,null,null,null,null,{"$f":"IF(C194=\"\",\"\",#REF!+(LOOKUP(F194,Area!$A$2:$B$71))+G194-(E194*3))","v":""},{"$f":"IF(C194=\"\",\"\",LOOKUP(K194,ByM!$A$2:$B$462)+LOOKUP(L194,ByM!$A$2:$B$462)+LOOKUP(M194,ByM!$A$2:$B$462)+LOOKUP(N194,ByM!$A$2:$B$462)+LOOKUP(O194,ByM!$A$2:$B$462))","v":""}]
[null,null,null,null,null,null,null,null,null,null,null,null,null,null,null,{"$f":"IF(C195=\"\",\"\",#REF!+(LOOKUP(F195,Area!$A$2:$B$71))+G195-(E195*3))","v":""},{"$f":"IF(C195=\"\",\"\",LOOKUP(K195,ByM!$A$2:$B$462)+LOOKUP(L195,ByM!$A$2:$B$462)+LOOKUP(M195,ByM!$A$2:$B$462)+LOOKUP(N195,ByM!$A$2:$B$462)+LOOKUP(O195,ByM!$A$2:$B$462))","v":""}]
[null,null,null,null,null,null,null,null,null,null,null,null,null,null,null,{"$f":"IF(C196=\"\",\"\",#REF!+(LOOKUP(F196,Area!$A$2:$B$71))+G196-(E196*3))","v":""},{"$f":"IF(C196=\"\",\"\",LOOKUP(K196,ByM!$A$2:$B$462)+LOOKUP(L196,ByM!$A$2:$B$462)+LOOKUP(M196,ByM!$A$2:$B$462)+LOOKUP(N196,ByM!$A$2:$B$462)+LOOKUP(O196,ByM!$A$2:$B$462))","v":""}]
[null,null,null,null,null,null,null,null,null,null,null,null,null,null,null,{"$f":"IF(C197=\"\",\"\",#REF!+(LOOKUP(F197,Area!$A$2:$B$71))+G197-(E197*3))","v":""},{"$f":"IF(C197=\"\",\"\",LOOKUP(K197,ByM!$A$2:$B$462)+LOOKUP(L197,ByM!$A$2:$B$462)+LOOKUP(M197,ByM!$A$2:$B$462)+LOOKUP(N197,ByM!$A$2:$B$462)+LOOKUP(O197,ByM!$A$2:$B$462))","v":""}]
[null,null,null,null,null,null,null,null,null,null,null,null,null,null,null,{"$f":"IF(C198=\"\",\"\",#REF!+(LOOKUP(F198,Area!$A$2:$B$71))+G198-(E198*3))","v":""},{"$f":"IF(C198=\"\",\"\",LOOKUP(K198,ByM!$A$2:$B$462)+LOOKUP(L198,ByM!$A$2:$B$462)+LOOKUP(M198,ByM!$A$2:$B$462)+LOOKUP(N198,ByM!$A$2:$B$462)+LOOKUP(O198,ByM!$A$2:$B$462))","v":""}]
[null,null,null,null,null,null,null,null,null,null,null,null,null,null,null,{"$f":"IF(C199=\"\",\"\",#REF!+(LOOKUP(F199,Area!$A$2:$B$71))+G199-(E199*3))","v":""},{"$f":"IF(C199=\"\",\"\",LOOKUP(K199,ByM!$A$2:$B$462)+LOOKUP(L199,ByM!$A$2:$B$462)+LOOKUP(M199,ByM!$A$2:$B$462)+LOOKUP(N199,ByM!$A$2:$B$462)+LOOKUP(O199,ByM!$A$2:$B$462))","v":""}]
[null,null,null,null,null,null,null,null,null,null,null,null,null,null,null,{"$f":"IF(C200=\"\",\"\",#REF!+(LOOKUP(F200,Area!$A$2:$B$71))+G200-(E200*3))","v":""},{"$f":"IF(C200=\"\",\"\",LOOKUP(K200,ByM!$A$2:$B$462)+LOOKUP(L200,ByM!$A$2:$B$462)+LOOKUP(M200,ByM!$A$2:$B$462)+LOOKUP(N200,ByM!$A$2:$B$462)+LOOKUP(O200,ByM!$A$2:$B$462))","v":""}]
[null,null,null,null,null,null,null,null,null,null,null,null,null,null,null,{"$f":"IF(C201=\"\",\"\",#REF!+(LOOKUP(F201,Area!$A$2:$B$71))+G201-(E201*3))","v":""},{"$f":"IF(C201=\"\",\"\",LOOKUP(K201,ByM!$A$2:$B$462)+LOOKUP(L201,ByM!$A$2:$B$462)+LOOKUP(M201,ByM!$A$2:$B$462)+LOOKUP(N201,ByM!$A$2:$B$462)+LOOKUP(O201,ByM!$A$2:$B$462))","v":""}]
[null,null,null,null,null,null,null,null,null,null,null,null,null,null,null,{"$f":"IF(C202=\"\",\"\",#REF!+(LOOKUP(F202,Area!$A$2:$B$71))+G202-(E202*3))","v":""},{"$f":"IF(C202=\"\",\"\",LOOKUP(K202,ByM!$A$2:$B$462)+LOOKUP(L202,ByM!$A$2:$B$462)+LOOKUP(M202,ByM!$A$2:$B$462)+LOOKUP(N202,ByM!$A$2:$B$462)+LOOKUP(O202,ByM!$A$2:$B$462))","v":""}]
[null,null,null,null,null,null,null,null,null,null,null,null,null,null,null,{"$f":"IF(C203=\"\",\"\",#REF!+(LOOKUP(F203,Area!$A$2:$B$71))+G203-(E203*3))","v":""},{"$f":"IF(C203=\"\",\"\",LOOKUP(K203,ByM!$A$2:$B$462)+LOOKUP(L203,ByM!$A$2:$B$462)+LOOKUP(M203,ByM!$A$2:$B$462)+LOOKUP(N203,ByM!$A$2:$B$462)+LOOKUP(O203,ByM!$A$2:$B$462))","v":""}]
[null,null,null,null,null,null,null,null,null,null,null,null,null,null,null,{"$f":"IF(C204=\"\",\"\",#REF!+(LOOKUP(F204,Area!$A$2:$B$71))+G204-(E204*3))","v":""},{"$f":"IF(C204=\"\",\"\",LOOKUP(K204,ByM!$A$2:$B$462)+LOOKUP(L204,ByM!$A$2:$B$462)+LOOKUP(M204,ByM!$A$2:$B$462)+LOOKUP(N204,ByM!$A$2:$B$462)+LOOKUP(O204,ByM!$A$2:$B$462))","v":""}]
[null,null,null,null,null,null,null,null,null,null,null,null,null,null,null,{"$f":"IF(C205=\"\",\"\",#REF!+(LOOKUP(F205,Area!$A$2:$B$71))+G205-(E205*3))","v":""},{"$f":"IF(C205=\"\",\"\",LOOKUP(K205,ByM!$A$2:$B$462)+LOOKUP(L205,ByM!$A$2:$B$462)+LOOKUP(M205,ByM!$A$2:$B$462)+LOOKUP(N205,ByM!$A$2:$B$462)+LOOKUP(O205,ByM!$A$2:$B$462))","v":""}]
[null,null,null,null,null,null,null,null,null,null,null,null,null,null,null,{"$f":"IF(C206=\"\",\"\",#REF!+(LOOKUP(F206,Area!$A$2:$B$71))+G206-(E206*3))","v":""},{"$f":"IF(C206=\"\",\"\",LOOKUP(K206,ByM!$A$2:$B$462)+LOOKUP(L206,ByM!$A$2:$B$462)+LOOKUP(M206,ByM!$A$2:$B$462)+LOOKUP(N206,ByM!$A$2:$B$462)+LOOKUP(O206,ByM!$A$2:$B$462))","v":""}]
[null,null,null,null,null,null,null,null,null,null,null,null,null,null,null,{"$f":"IF(C207=\"\",\"\",#REF!+(LOOKUP(F207,Area!$A$2:$B$71))+G207-(E207*3))","v":""},{"$f":"IF(C207=\"\",\"\",LOOKUP(K207,ByM!$A$2:$B$462)+LOOKUP(L207,ByM!$A$2:$B$462)+LOOKUP(M207,ByM!$A$2:$B$462)+LOOKUP(N207,ByM!$A$2:$B$462)+LOOKUP(O207,ByM!$A$2:$B$462))","v":""}]
[null,null,null,null,null,null,null,null,null,null,null,null,null,null,null,{"$f":"IF(C208=\"\",\"\",#REF!+(LOOKUP(F208,Area!$A$2:$B$71))+G208-(E208*3))","v":""},{"$f":"IF(C208=\"\",\"\",LOOKUP(K208,ByM!$A$2:$B$462)+LOOKUP(L208,ByM!$A$2:$B$462)+LOOKUP(M208,ByM!$A$2:$B$462)+LOOKUP(N208,ByM!$A$2:$B$462)+LOOKUP(O208,ByM!$A$2:$B$462))","v":""}]
[null,null,null,null,null,null,null,null,null,null,null,null,null,null,null,{"$f":"IF(C209=\"\",\"\",#REF!+(LOOKUP(F209,Area!$A$2:$B$71))+G209-(E209*3))","v":""},{"$f":"IF(C209=\"\",\"\",LOOKUP(K209,ByM!$A$2:$B$462)+LOOKUP(L209,ByM!$A$2:$B$462)+LOOKUP(M209,ByM!$A$2:$B$462)+LOOKUP(N209,ByM!$A$2:$B$462)+LOOKUP(O209,ByM!$A$2:$B$462))","v":""}]
[null,null,null,null,null,null,null,null,null,null,null,null,null,null,null,{"$f":"IF(C210=\"\",\"\",#REF!+(LOOKUP(F210,Area!$A$2:$B$71))+G210-(E210*3))","v":""},{"$f":"IF(C210=\"\",\"\",LOOKUP(K210,ByM!$A$2:$B$462)+LOOKUP(L210,ByM!$A$2:$B$462)+LOOKUP(M210,ByM!$A$2:$B$462)+LOOKUP(N210,ByM!$A$2:$B$462)+LOOKUP(O210,ByM!$A$2:$B$462))","v":""}]
[null,null,null,null,null,null,null,null,null,null,null,null,null,null,null,{"$f":"IF(C211=\"\",\"\",#REF!+(LOOKUP(F211,Area!$A$2:$B$71))+G211-(E211*3))","v":""},{"$f":"IF(C211=\"\",\"\",LOOKUP(K211,ByM!$A$2:$B$462)+LOOKUP(L211,ByM!$A$2:$B$462)+LOOKUP(M211,ByM!$A$2:$B$462)+LOOKUP(N211,ByM!$A$2:$B$462)+LOOKUP(O211,ByM!$A$2:$B$462))","v":""}]
[null,null,null,null,null,null,null,null,null,null,null,null,null,null,null,{"$f":"IF(C212=\"\",\"\",#REF!+(LOOKUP(F212,Area!$A$2:$B$71))+G212-(E212*3))","v":""},{"$f":"IF(C212=\"\",\"\",LOOKUP(K212,ByM!$A$2:$B$462)+LOOKUP(L212,ByM!$A$2:$B$462)+LOOKUP(M212,ByM!$A$2:$B$462)+LOOKUP(N212,ByM!$A$2:$B$462)+LOOKUP(O212,ByM!$A$2:$B$462))","v":""}]
[null,null,null,null,null,null,null,null,null,null,null,null,null,null,null,{"$f":"IF(C213=\"\",\"\",#REF!+(LOOKUP(F213,Area!$A$2:$B$71))+G213-(E213*3))","v":""},{"$f":"IF(C213=\"\",\"\",LOOKUP(K213,ByM!$A$2:$B$462)+LOOKUP(L213,ByM!$A$2:$B$462)+LOOKUP(M213,ByM!$A$2:$B$462)+LOOKUP(N213,ByM!$A$2:$B$462)+LOOKUP(O213,ByM!$A$2:$B$462))","v":""}]
[null,null,null,null,null,null,null,null,null,null,null,null,null,null,null,{"$f":"IF(C214=\"\",\"\",#REF!+(LOOKUP(F214,Area!$A$2:$B$71))+G214-(E214*3))","v":""},{"$f":"IF(C214=\"\",\"\",LOOKUP(K214,ByM!$A$2:$B$462)+LOOKUP(L214,ByM!$A$2:$B$462)+LOOKUP(M214,ByM!$A$2:$B$462)+LOOKUP(N214,ByM!$A$2:$B$462)+LOOKUP(O214,ByM!$A$2:$B$462))","v":""}]
[null,null,null,null,null,null,null,null,null,null,null,null,null,null,null,{"$f":"IF(C215=\"\",\"\",#REF!+(LOOKUP(F215,Area!$A$2:$B$71))+G215-(E215*3))","v":""},{"$f":"IF(C215=\"\",\"\",LOOKUP(K215,ByM!$A$2:$B$462)+LOOKUP(L215,ByM!$A$2:$B$462)+LOOKUP(M215,ByM!$A$2:$B$462)+LOOKUP(N215,ByM!$A$2:$B$462)+LOOKUP(O215,ByM!$A$2:$B$462))","v":""}]
[null,null,null,null,null,null,null,null,null,null,null,null,null,null,null,{"$f":"IF(C216=\"\",\"\",#REF!+(LOOKUP(F216,Area!$A$2:$B$71))+G216-(E216*3))","v":""},{"$f":"IF(C216=\"\",\"\",LOOKUP(K216,ByM!$A$2:$B$462)+LOOKUP(L216,ByM!$A$2:$B$462)+LOOKUP(M216,ByM!$A$2:$B$462)+LOOKUP(N216,ByM!$A$2:$B$462)+LOOKUP(O216,ByM!$A$2:$B$462))","v":""}]
[null,null,null,null,null,null,null,null,null,null,null,null,null,null,null,{"$f":"IF(C217=\"\",\"\",#REF!+(LOOKUP(F217,Area!$A$2:$B$71))+G217-(E217*3))","v":""},{"$f":"IF(C217=\"\",\"\",LOOKUP(K217,ByM!$A$2:$B$462)+LOOKUP(L217,ByM!$A$2:$B$462)+LOOKUP(M217,ByM!$A$2:$B$462)+LOOKUP(N217,ByM!$A$2:$B$462)+LOOKUP(O217,ByM!$A$2:$B$462))","v":""}]
[null,null,null,null,null,null,null,null,null,null,null,null,null,null,null,{"$f":"IF(C218=\"\",\"\",#REF!+(LOOKUP(F218,Area!$A$2:$B$71))+G218-(E218*3))","v":""},{"$f":"IF(C218=\"\",\"\",LOOKUP(K218,ByM!$A$2:$B$462)+LOOKUP(L218,ByM!$A$2:$B$462)+LOOKUP(M218,ByM!$A$2:$B$462)+LOOKUP(N218,ByM!$A$2:$B$462)+LOOKUP(O218,ByM!$A$2:$B$462))","v":""}]
[null,null,null,null,null,null,null,null,null,null,null,null,null,null,null,{"$f":"IF(C219=\"\",\"\",#REF!+(LOOKUP(F219,Area!$A$2:$B$71))+G219-(E219*3))","v":""},{"$f":"IF(C219=\"\",\"\",LOOKUP(K219,ByM!$A$2:$B$462)+LOOKUP(L219,ByM!$A$2:$B$462)+LOOKUP(M219,ByM!$A$2:$B$462)+LOOKUP(N219,ByM!$A$2:$B$462)+LOOKUP(O219,ByM!$A$2:$B$462))","v":""}]
[null,null,null,null,null,null,null,null,null,null,null,null,null,null,null,{"$f":"IF(C220=\"\",\"\",#REF!+(LOOKUP(F220,Area!$A$2:$B$71))+G220-(E220*3))","v":""},{"$f":"IF(C220=\"\",\"\",LOOKUP(K220,ByM!$A$2:$B$462)+LOOKUP(L220,ByM!$A$2:$B$462)+LOOKUP(M220,ByM!$A$2:$B$462)+LOOKUP(N220,ByM!$A$2:$B$462)+LOOKUP(O220,ByM!$A$2:$B$462))","v":""}]
[null,null,null,null,null,null,null,null,null,null,null,null,null,null,null,{"$f":"IF(C221=\"\",\"\",#REF!+(LOOKUP(F221,Area!$A$2:$B$71))+G221-(E221*3))","v":""},{"$f":"IF(C221=\"\",\"\",LOOKUP(K221,ByM!$A$2:$B$462)+LOOKUP(L221,ByM!$A$2:$B$462)+LOOKUP(M221,ByM!$A$2:$B$462)+LOOKUP(N221,ByM!$A$2:$B$462)+LOOKUP(O221,ByM!$A$2:$B$462))","v":""}]
[null,null,null,null,null,null,null,null,null,null,null,null,null,null,null,{"$f":"IF(C222=\"\",\"\",#REF!+(LOOKUP(F222,Area!$A$2:$B$71))+G222-(E222*3))","v":""},{"$f":"IF(C222=\"\",\"\",LOOKUP(K222,ByM!$A$2:$B$462)+LOOKUP(L222,ByM!$A$2:$B$462)+LOOKUP(M222,ByM!$A$2:$B$462)+LOOKUP(N222,ByM!$A$2:$B$462)+LOOKUP(O222,ByM!$A$2:$B$462))","v":""}]
[null,null,null,null,null,null,null,null,null,null,null,null,null,null,null,{"$f":"IF(C223=\"\",\"\",#REF!+(LOOKUP(F223,Area!$A$2:$B$71))+G223-(E223*3))","v":""},{"$f":"IF(C223=\"\",\"\",LOOKUP(K223,ByM!$A$2:$B$462)+LOOKUP(L223,ByM!$A$2:$B$462)+LOOKUP(M223,ByM!$A$2:$B$462)+LOOKUP(N223,ByM!$A$2:$B$462)+LOOKUP(O223,ByM!$A$2:$B$462))","v":""}]
[null,null,null,null,null,null,null,null,null,null,null,null,null,null,null,{"$f":"IF(C224=\"\",\"\",#REF!+(LOOKUP(F224,Area!$A$2:$B$71))+G224-(E224*3))","v":""},{"$f":"IF(C224=\"\",\"\",LOOKUP(K224,ByM!$A$2:$B$462)+LOOKUP(L224,ByM!$A$2:$B$462)+LOOKUP(M224,ByM!$A$2:$B$462)+LOOKUP(N224,ByM!$A$2:$B$462)+LOOKUP(O224,ByM!$A$2:$B$462))","v":""}]
[null,null,null,null,null,null,null,null,null,null,null,null,null,null,null,{"$f":"IF(C225=\"\",\"\",#REF!+(LOOKUP(F225,Area!$A$2:$B$71))+G225-(E225*3))","v":""},{"$f":"IF(C225=\"\",\"\",LOOKUP(K225,ByM!$A$2:$B$462)+LOOKUP(L225,ByM!$A$2:$B$462)+LOOKUP(M225,ByM!$A$2:$B$462)+LOOKUP(N225,ByM!$A$2:$B$462)+LOOKUP(O225,ByM!$A$2:$B$462))","v":""}]
[null,null,null,null,null,null,null,null,null,null,null,null,null,null,null,{"$f":"IF(C226=\"\",\"\",#REF!+(LOOKUP(F226,Area!$A$2:$B$71))+G226-(E226*3))","v":""},{"$f":"IF(C226=\"\",\"\",LOOKUP(K226,ByM!$A$2:$B$462)+LOOKUP(L226,ByM!$A$2:$B$462)+LOOKUP(M226,ByM!$A$2:$B$462)+LOOKUP(N226,ByM!$A$2:$B$462)+LOOKUP(O226,ByM!$A$2:$B$462))","v":""}]
[null,null,null,null,null,null,null,null,null,null,null,null,null,null,null,{"$f":"IF(C227=\"\",\"\",#REF!+(LOOKUP(F227,Area!$A$2:$B$71))+G227-(E227*3))","v":""},{"$f":"IF(C227=\"\",\"\",LOOKUP(K227,ByM!$A$2:$B$462)+LOOKUP(L227,ByM!$A$2:$B$462)+LOOKUP(M227,ByM!$A$2:$B$462)+LOOKUP(N227,ByM!$A$2:$B$462)+LOOKUP(O227,ByM!$A$2:$B$462))","v":""}]
[null,null,null,null,null,null,null,null,null,null,null,null,null,null,null,{"$f":"IF(C228=\"\",\"\",#REF!+(LOOKUP(F228,Area!$A$2:$B$71))+G228-(E228*3))","v":""},{"$f":"IF(C228=\"\",\"\",LOOKUP(K228,ByM!$A$2:$B$462)+LOOKUP(L228,ByM!$A$2:$B$462)+LOOKUP(M228,ByM!$A$2:$B$462)+LOOKUP(N228,ByM!$A$2:$B$462)+LOOKUP(O228,ByM!$A$2:$B$462))","v":""}]
[null,null,null,null,null,null,null,null,null,null,null,null,null,null,null,{"$f":"IF(C229=\"\",\"\",#REF!+(LOOKUP(F229,Area!$A$2:$B$71))+G229-(E229*3))","v":""},{"$f":"IF(C229=\"\",\"\",LOOKUP(K229,ByM!$A$2:$B$462)+LOOKUP(L229,ByM!$A$2:$B$462)+LOOKUP(M229,ByM!$A$2:$B$462)+LOOKUP(N229,ByM!$A$2:$B$462)+LOOKUP(O229,ByM!$A$2:$B$462))","v":""}]
[null,null,null,null,null,null,null,null,null,null,null,null,null,null,null,{"$f":"IF(C230=\"\",\"\",#REF!+(LOOKUP(F230,Area!$A$2:$B$71))+G230-(E230*3))","v":""},{"$f":"IF(C230=\"\",\"\",LOOKUP(K230,ByM!$A$2:$B$462)+LOOKUP(L230,ByM!$A$2:$B$462)+LOOKUP(M230,ByM!$A$2:$B$462)+LOOKUP(N230,ByM!$A$2:$B$462)+LOOKUP(O230,ByM!$A$2:$B$462))","v":""}]
[null,null,null,null,null,null,null,null,null,null,null,null,null,null,null,{"$f":"IF(C231=\"\",\"\",#REF!+(LOOKUP(F231,Area!$A$2:$B$71))+G231-(E231*3))","v":""},{"$f":"IF(C231=\"\",\"\",LOOKUP(K231,ByM!$A$2:$B$462)+LOOKUP(L231,ByM!$A$2:$B$462)+LOOKUP(M231,ByM!$A$2:$B$462)+LOOKUP(N231,ByM!$A$2:$B$462)+LOOKUP(O231,ByM!$A$2:$B$462))","v":""}]
[null,null,null,null,null,null,null,null,null,null,null,null,null,null,null,{"$f":"IF(C232=\"\",\"\",#REF!+(LOOKUP(F232,Area!$A$2:$B$71))+G232-(E232*3))","v":""},{"$f":"IF(C232=\"\",\"\",LOOKUP(K232,ByM!$A$2:$B$462)+LOOKUP(L232,ByM!$A$2:$B$462)+LOOKUP(M232,ByM!$A$2:$B$462)+LOOKUP(N232,ByM!$A$2:$B$462)+LOOKUP(O232,ByM!$A$2:$B$462))","v":""}]
[null,null,null,null,null,null,null,null,null,null,null,null,null,null,null,{"$f":"IF(C233=\"\",\"\",#REF!+(LOOKUP(F233,Area!$A$2:$B$71))+G233-(E233*3))","v":""},{"$f":"IF(C233=\"\",\"\",LOOKUP(K233,ByM!$A$2:$B$462)+LOOKUP(L233,ByM!$A$2:$B$462)+LOOKUP(M233,ByM!$A$2:$B$462)+LOOKUP(N233,ByM!$A$2:$B$462)+LOOKUP(O233,ByM!$A$2:$B$462))","v":""}]
[null,null,null,null,null,null,null,null,null,null,null,null,null,null,null,{"$f":"IF(C234=\"\",\"\",#REF!+(LOOKUP(F234,Area!$A$2:$B$71))+G234-(E234*3))","v":""},{"$f":"IF(C234=\"\",\"\",LOOKUP(K234,ByM!$A$2:$B$462)+LOOKUP(L234,ByM!$A$2:$B$462)+LOOKUP(M234,ByM!$A$2:$B$462)+LOOKUP(N234,ByM!$A$2:$B$462)+LOOKUP(O234,ByM!$A$2:$B$462))","v":""}]
[null,null,null,null,null,null,null,null,null,null,null,null,null,null,null,{"$f":"IF(C235=\"\",\"\",#REF!+(LOOKUP(F235,Area!$A$2:$B$71))+G235-(E235*3))","v":""},{"$f":"IF(C235=\"\",\"\",LOOKUP(K235,ByM!$A$2:$B$462)+LOOKUP(L235,ByM!$A$2:$B$462)+LOOKUP(M235,ByM!$A$2:$B$462)+LOOKUP(N235,ByM!$A$2:$B$462)+LOOKUP(O235,ByM!$A$2:$B$462))","v":""}]
[null,null,null,null,null,null,null,null,null,null,null,null,null,null,null,{"$f":"IF(C236=\"\",\"\",#REF!+(LOOKUP(F236,Area!$A$2:$B$71))+G236-(E236*3))","v":""},{"$f":"IF(C236=\"\",\"\",LOOKUP(K236,ByM!$A$2:$B$462)+LOOKUP(L236,ByM!$A$2:$B$462)+LOOKUP(M236,ByM!$A$2:$B$462)+LOOKUP(N236,ByM!$A$2:$B$462)+LOOKUP(O236,ByM!$A$2:$B$462))","v":""}]
[null,null,null,null,null,null,null,null,null,null,null,null,null,null,null,{"$f":"IF(C237=\"\",\"\",#REF!+(LOOKUP(F237,Area!$A$2:$B$71))+G237-(E237*3))","v":""},{"$f":"IF(C237=\"\",\"\",LOOKUP(K237,ByM!$A$2:$B$462)+LOOKUP(L237,ByM!$A$2:$B$462)+LOOKUP(M237,ByM!$A$2:$B$462)+LOOKUP(N237,ByM!$A$2:$B$462)+LOOKUP(O237,ByM!$A$2:$B$462))","v":""}]
[null,null,null,null,null,null,null,null,null,null,null,null,null,null,null,{"$f":"IF(C238=\"\",\"\",#REF!+(LOOKUP(F238,Area!$A$2:$B$71))+G238-(E238*3))","v":""},{"$f":"IF(C238=\"\",\"\",LOOKUP(K238,ByM!$A$2:$B$462)+LOOKUP(L238,ByM!$A$2:$B$462)+LOOKUP(M238,ByM!$A$2:$B$462)+LOOKUP(N238,ByM!$A$2:$B$462)+LOOKUP(O238,ByM!$A$2:$B$462))","v":""}]
[null,null,null,null,null,null,null,null,null,null,null,null,null,null,null,{"$f":"IF(C239=\"\",\"\",#REF!+(LOOKUP(F239,Area!$A$2:$B$71))+G239-(E239*3))","v":""},{"$f":"IF(C239=\"\",\"\",LOOKUP(K239,ByM!$A$2:$B$462)+LOOKUP(L239,ByM!$A$2:$B$462)+LOOKUP(M239,ByM!$A$2:$B$462)+LOOKUP(N239,ByM!$A$2:$B$462)+LOOKUP(O239,ByM!$A$2:$B$462))","v":""}]
[null,null,null,null,null,null,null,null,null,null,null,null,null,null,null,{"$f":"IF(C240=\"\",\"\",#REF!+(LOOKUP(F240,Area!$A$2:$B$71))+G240-(E240*3))","v":""},{"$f":"IF(C240=\"\",\"\",LOOKUP(K240,ByM!$A$2:$B$462)+LOOKUP(L240,ByM!$A$2:$B$462)+LOOKUP(M240,ByM!$A$2:$B$462)+LOOKUP(N240,ByM!$A$2:$B$462)+LOOKUP(O240,ByM!$A$2:$B$462))","v":""}]
[null,null,null,null,null,null,null,null,null,null,null,null,null,null,null,{"$f":"IF(C241=\"\",\"\",#REF!+(LOOKUP(F241,Area!$A$2:$B$71))+G241-(E241*3))","v":""},{"$f":"IF(C241=\"\",\"\",LOOKUP(K241,ByM!$A$2:$B$462)+LOOKUP(L241,ByM!$A$2:$B$462)+LOOKUP(M241,ByM!$A$2:$B$462)+LOOKUP(N241,ByM!$A$2:$B$462)+LOOKUP(O241,ByM!$A$2:$B$462))","v":""}]
[null,null,null,null,null,null,null,null,null,null,null,null,null,null,null,{"$f":"IF(C242=\"\",\"\",#REF!+(LOOKUP(F242,Area!$A$2:$B$71))+G242-(E242*3))","v":""},{"$f":"IF(C242=\"\",\"\",LOOKUP(K242,ByM!$A$2:$B$462)+LOOKUP(L242,ByM!$A$2:$B$462)+LOOKUP(M242,ByM!$A$2:$B$462)+LOOKUP(N242,ByM!$A$2:$B$462)+LOOKUP(O242,ByM!$A$2:$B$462))","v":""}]
[null,null,null,null,null,null,null,null,null,null,null,null,null,null,null,{"$f":"IF(C243=\"\",\"\",#REF!+(LOOKUP(F243,Area!$A$2:$B$71))+G243-(E243*3))","v":""},{"$f":"IF(C243=\"\",\"\",LOOKUP(K243,ByM!$A$2:$B$462)+LOOKUP(L243,ByM!$A$2:$B$462)+LOOKUP(M243,ByM!$A$2:$B$462)+LOOKUP(N243,ByM!$A$2:$B$462)+LOOKUP(O243,ByM!$A$2:$B$462))","v":""}]
[null,null,null,null,null,null,null,null,null,null,null,null,null,null,null,{"$f":"IF(C244=\"\",\"\",#REF!+(LOOKUP(F244,Area!$A$2:$B$71))+G244-(E244*3))","v":""},{"$f":"IF(C244=\"\",\"\",LOOKUP(K244,ByM!$A$2:$B$462)+LOOKUP(L244,ByM!$A$2:$B$462)+LOOKUP(M244,ByM!$A$2:$B$462)+LOOKUP(N244,ByM!$A$2:$B$462)+LOOKUP(O244,ByM!$A$2:$B$462))","v":""}]
[null,null,null,null,null,null,null,null,null,null,null,null,null,null,null,{"$f":"IF(C245=\"\",\"\",#REF!+(LOOKUP(F245,Area!$A$2:$B$71))+G245-(E245*3))","v":""},{"$f":"IF(C245=\"\",\"\",LOOKUP(K245,ByM!$A$2:$B$462)+LOOKUP(L245,ByM!$A$2:$B$462)+LOOKUP(M245,ByM!$A$2:$B$462)+LOOKUP(N245,ByM!$A$2:$B$462)+LOOKUP(O245,ByM!$A$2:$B$462))","v":""}]
[null,null,null,null,null,null,null,null,null,null,null,null,null,null,null,{"$f":"IF(C246=\"\",\"\",#REF!+(LOOKUP(F246,Area!$A$2:$B$71))+G246-(E246*3))","v":""},{"$f":"IF(C246=\"\",\"\",LOOKUP(K246,ByM!$A$2:$B$462)+LOOKUP(L246,ByM!$A$2:$B$462)+LOOKUP(M246,ByM!$A$2:$B$462)+LOOKUP(N246,ByM!$A$2:$B$462)+LOOKUP(O246,ByM!$A$2:$B$462))","v":""}]
[null,null,null,null,null,null,null,null,null,null,null,null,null,null,null,{"$f":"IF(C247=\"\",\"\",#REF!+(LOOKUP(F247,Area!$A$2:$B$71))+G247-(E247*3))","v":""},{"$f":"IF(C247=\"\",\"\",LOOKUP(K247,ByM!$A$2:$B$462)+LOOKUP(L247,ByM!$A$2:$B$462)+LOOKUP(M247,ByM!$A$2:$B$462)+LOOKUP(N247,ByM!$A$2:$B$462)+LOOKUP(O247,ByM!$A$2:$B$462))","v":""}]
[null,null,null,null,null,null,null,null,null,null,null,null,null,null,null,{"$f":"IF(C248=\"\",\"\",#REF!+(LOOKUP(F248,Area!$A$2:$B$71))+G248-(E248*3))","v":""},{"$f":"IF(C248=\"\",\"\",LOOKUP(K248,ByM!$A$2:$B$462)+LOOKUP(L248,ByM!$A$2:$B$462)+LOOKUP(M248,ByM!$A$2:$B$462)+LOOKUP(N248,ByM!$A$2:$B$462)+LOOKUP(O248,ByM!$A$2:$B$462))","v":""}]
[null,null,null,null,null,null,null,null,null,null,null,null,null,null,null,{"$f":"IF(C249=\"\",\"\",#REF!+(LOOKUP(F249,Area!$A$2:$B$71))+G249-(E249*3))","v":""},{"$f":"IF(C249=\"\",\"\",LOOKUP(K249,ByM!$A$2:$B$462)+LOOKUP(L249,ByM!$A$2:$B$462)+LOOKUP(M249,ByM!$A$2:$B$462)+LOOKUP(N249,ByM!$A$2:$B$462)+LOOKUP(O249,ByM!$A$2:$B$462))","v":""}]
[null,null,null,null,null,null,null,null,null,null,null,null,null,null,null,{"$f":"IF(C250=\"\",\"\",#REF!+(LOOKUP(F250,Area!$A$2:$B$71))+G250-(E250*3))","v":""},{"$f":"IF(C250=\"\",\"\",LOOKUP(K250,ByM!$A$2:$B$462)+LOOKUP(L250,ByM!$A$2:$B$462)+LOOKUP(M250,ByM!$A$2:$B$462)+LOOKUP(N250,ByM!$A$2:$B$462)+LOOKUP(O250,ByM!$A$2:$B$462))","v":""}]
[null,null,null,null,null,null,null,null,null,null,null,null,null,null,null,{"$f":"IF(C251=\"\",\"\",#REF!+(LOOKUP(F251,Area!$A$2:$B$71))+G251-(E251*3))","v":""},{"$f":"IF(C251=\"\",\"\",LOOKUP(K251,ByM!$A$2:$B$462)+LOOKUP(L251,ByM!$A$2:$B$462)+LOOKUP(M251,ByM!$A$2:$B$462)+LOOKUP(N251,ByM!$A$2:$B$462)+LOOKUP(O251,ByM!$A$2:$B$462))","v":""}]
[null,null,null,null,null,null,null,null,null,null,null,null,null,null,null,{"$f":"IF(C252=\"\",\"\",#REF!+(LOOKUP(F252,Area!$A$2:$B$71))+G252-(E252*3))","v":""},{"$f":"IF(C252=\"\",\"\",LOOKUP(K252,ByM!$A$2:$B$462)+LOOKUP(L252,ByM!$A$2:$B$462)+LOOKUP(M252,ByM!$A$2:$B$462)+LOOKUP(N252,ByM!$A$2:$B$462)+LOOKUP(O252,ByM!$A$2:$B$462))","v":""}]
[null,null,null,null,null,null,null,null,null,null,null,null,null,null,null,{"$f":"IF(C253=\"\",\"\",#REF!+(LOOKUP(F253,Area!$A$2:$B$71))+G253-(E253*3))","v":""},{"$f":"IF(C253=\"\",\"\",LOOKUP(K253,ByM!$A$2:$B$462)+LOOKUP(L253,ByM!$A$2:$B$462)+LOOKUP(M253,ByM!$A$2:$B$462)+LOOKUP(N253,ByM!$A$2:$B$462)+LOOKUP(O253,ByM!$A$2:$B$462))","v":""}]
[null,null,null,null,null,null,null,null,null,null,null,null,null,null,null,{"$f":"IF(C254=\"\",\"\",#REF!+(LOOKUP(F254,Area!$A$2:$B$71))+G254-(E254*3))","v":""},{"$f":"IF(C254=\"\",\"\",LOOKUP(K254,ByM!$A$2:$B$462)+LOOKUP(L254,ByM!$A$2:$B$462)+LOOKUP(M254,ByM!$A$2:$B$462)+LOOKUP(N254,ByM!$A$2:$B$462)+LOOKUP(O254,ByM!$A$2:$B$462))","v":""}]
[null,null,null,null,null,null,null,null,null,null,null,null,null,null,null,{"$f":"IF(C255=\"\",\"\",#REF!+(LOOKUP(F255,Area!$A$2:$B$71))+G255-(E255*3))","v":""},{"$f":"IF(C255=\"\",\"\",LOOKUP(K255,ByM!$A$2:$B$462)+LOOKUP(L255,ByM!$A$2:$B$462)+LOOKUP(M255,ByM!$A$2:$B$462)+LOOKUP(N255,ByM!$A$2:$B$462)+LOOKUP(O255,ByM!$A$2:$B$462))","v":""}]
[null,null,null,null,null,null,null,null,null,null,null,null,null,null,null,{"$f":"IF(C256=\"\",\"\",#REF!+(LOOKUP(F256,Area!$A$2:$B$71))+G256-(E256*3))","v":""},{"$f":"IF(C256=\"\",\"\",LOOKUP(K256,ByM!$A$2:$B$462)+LOOKUP(L256,ByM!$A$2:$B$462)+LOOKUP(M256,ByM!$A$2:$B$462)+LOOKUP(N256,ByM!$A$2:$B$462)+LOOKUP(O256,ByM!$A$2:$B$462))","v":""}]
[null,null,null,null,null,null,null,null,null,null,null,null,null,null,null,{"$f":"IF(C257=\"\",\"\",#REF!+(LOOKUP(F257,Area!$A$2:$B$71))+G257-(E257*3))","v":""},{"$f":"IF(C257=\"\",\"\",LOOKUP(K257,ByM!$A$2:$B$462)+LOOKUP(L257,ByM!$A$2:$B$462)+LOOKUP(M257,ByM!$A$2:$B$462)+LOOKUP(N257,ByM!$A$2:$B$462)+LOOKUP(O257,ByM!$A$2:$B$462))","v":""}]
[null,null,null,null,null,null,null,null,null,null,null,null,null,null,null,{"$f":"IF(C258=\"\",\"\",#REF!+(LOOKUP(F258,Area!$A$2:$B$71))+G258-(E258*3))","v":""},{"$f":"IF(C258=\"\",\"\",LOOKUP(K258,ByM!$A$2:$B$462)+LOOKUP(L258,ByM!$A$2:$B$462)+LOOKUP(M258,ByM!$A$2:$B$462)+LOOKUP(N258,ByM!$A$2:$B$462)+LOOKUP(O258,ByM!$A$2:$B$462))","v":""}]
[null,null,null,null,null,null,null,null,null,null,null,null,null,null,null,{"$f":"IF(C259=\"\",\"\",#REF!+(LOOKUP(F259,Area!$A$2:$B$71))+G259-(E259*3))","v":""},{"$f":"IF(C259=\"\",\"\",LOOKUP(K259,ByM!$A$2:$B$462)+LOOKUP(L259,ByM!$A$2:$B$462)+LOOKUP(M259,ByM!$A$2:$B$462)+LOOKUP(N259,ByM!$A$2:$B$462)+LOOKUP(O259,ByM!$A$2:$B$462))","v":""}]
[null,null,null,null,null,null,null,null,null,null,null,null,null,null,null,{"$f":"IF(C260=\"\",\"\",#REF!+(LOOKUP(F260,Area!$A$2:$B$71))+G260-(E260*3))","v":""},{"$f":"IF(C260=\"\",\"\",LOOKUP(K260,ByM!$A$2:$B$462)+LOOKUP(L260,ByM!$A$2:$B$462)+LOOKUP(M260,ByM!$A$2:$B$462)+LOOKUP(N260,ByM!$A$2:$B$462)+LOOKUP(O260,ByM!$A$2:$B$462))","v":""}]
[null,null,null,null,null,null,null,null,null,null,null,null,null,null,null,{"$f":"IF(C261=\"\",\"\",#REF!+(LOOKUP(F261,Area!$A$2:$B$71))+G261-(E261*3))","v":""},{"$f":"IF(C261=\"\",\"\",LOOKUP(K261,ByM!$A$2:$B$462)+LOOKUP(L261,ByM!$A$2:$B$462)+LOOKUP(M261,ByM!$A$2:$B$462)+LOOKUP(N261,ByM!$A$2:$B$462)+LOOKUP(O261,ByM!$A$2:$B$462))","v":""}]
[null,null,null,null,null,null,null,null,null,null,null,null,null,null,null,{"$f":"IF(C262=\"\",\"\",#REF!+(LOOKUP(F262,Area!$A$2:$B$71))+G262-(E262*3))","v":""},{"$f":"IF(C262=\"\",\"\",LOOKUP(K262,ByM!$A$2:$B$462)+LOOKUP(L262,ByM!$A$2:$B$462)+LOOKUP(M262,ByM!$A$2:$B$462)+LOOKUP(N262,ByM!$A$2:$B$462)+LOOKUP(O262,ByM!$A$2:$B$462))","v":""}]
[null,null,null,null,null,null,null,null,null,null,null,null,null,null,null,{"$f":"IF(C263=\"\",\"\",#REF!+(LOOKUP(F263,Area!$A$2:$B$71))+G263-(E263*3))","v":""},{"$f":"IF(C263=\"\",\"\",LOOKUP(K263,ByM!$A$2:$B$462)+LOOKUP(L263,ByM!$A$2:$B$462)+LOOKUP(M263,ByM!$A$2:$B$462)+LOOKUP(N263,ByM!$A$2:$B$462)+LOOKUP(O263,ByM!$A$2:$B$462))","v":""}]
[null,null,null,null,null,null,null,null,null,null,null,null,null,null,null,{"$f":"IF(C264=\"\",\"\",#REF!+(LOOKUP(F264,Area!$A$2:$B$71))+G264-(E264*3))","v":""},{"$f":"IF(C264=\"\",\"\",LOOKUP(K264,ByM!$A$2:$B$462)+LOOKUP(L264,ByM!$A$2:$B$462)+LOOKUP(M264,ByM!$A$2:$B$462)+LOOKUP(N264,ByM!$A$2:$B$462)+LOOKUP(O264,ByM!$A$2:$B$462))","v":""}]
[null,null,null,null,null,null,null,null,null,null,null,null,null,null,null,{"$f":"IF(C265=\"\",\"\",#REF!+(LOOKUP(F265,Area!$A$2:$B$71))+G265-(E265*3))","v":""},{"$f":"IF(C265=\"\",\"\",LOOKUP(K265,ByM!$A$2:$B$462)+LOOKUP(L265,ByM!$A$2:$B$462)+LOOKUP(M265,ByM!$A$2:$B$462)+LOOKUP(N265,ByM!$A$2:$B$462)+LOOKUP(O265,ByM!$A$2:$B$462))","v":""}]
[null,null,null,null,null,null,null,null,null,null,null,null,null,null,null,{"$f":"IF(C266=\"\",\"\",#REF!+(LOOKUP(F266,Area!$A$2:$B$71))+G266-(E266*3))","v":""},{"$f":"IF(C266=\"\",\"\",LOOKUP(K266,ByM!$A$2:$B$462)+LOOKUP(L266,ByM!$A$2:$B$462)+LOOKUP(M266,ByM!$A$2:$B$462)+LOOKUP(N266,ByM!$A$2:$B$462)+LOOKUP(O266,ByM!$A$2:$B$462))","v":""}]
[null,null,null,null,null,null,null,null,null,null,null,null,null,null,null,{"$f":"IF(C267=\"\",\"\",#REF!+(LOOKUP(F267,Area!$A$2:$B$71))+G267-(E267*3))","v":""},{"$f":"IF(C267=\"\",\"\",LOOKUP(K267,ByM!$A$2:$B$462)+LOOKUP(L267,ByM!$A$2:$B$462)+LOOKUP(M267,ByM!$A$2:$B$462)+LOOKUP(N267,ByM!$A$2:$B$462)+LOOKUP(O267,ByM!$A$2:$B$462))","v":""}]
[null,null,null,null,null,null,null,null,null,null,null,null,null,null,null,{"$f":"IF(C268=\"\",\"\",#REF!+(LOOKUP(F268,Area!$A$2:$B$71))+G268-(E268*3))","v":""},{"$f":"IF(C268=\"\",\"\",LOOKUP(K268,ByM!$A$2:$B$462)+LOOKUP(L268,ByM!$A$2:$B$462)+LOOKUP(M268,ByM!$A$2:$B$462)+LOOKUP(N268,ByM!$A$2:$B$462)+LOOKUP(O268,ByM!$A$2:$B$462))","v":""}]
[null,null,null,null,null,null,null,null,null,null,null,null,null,null,null,{"$f":"IF(C269=\"\",\"\",#REF!+(LOOKUP(F269,Area!$A$2:$B$71))+G269-(E269*3))","v":""},{"$f":"IF(C269=\"\",\"\",LOOKUP(K269,ByM!$A$2:$B$462)+LOOKUP(L269,ByM!$A$2:$B$462)+LOOKUP(M269,ByM!$A$2:$B$462)+LOOKUP(N269,ByM!$A$2:$B$462)+LOOKUP(O269,ByM!$A$2:$B$462))","v":""}]
[null,null,null,null,null,null,null,null,null,null,null,null,null,null,null,{"$f":"IF(C270=\"\",\"\",#REF!+(LOOKUP(F270,Area!$A$2:$B$71))+G270-(E270*3))","v":""},{"$f":"IF(C270=\"\",\"\",LOOKUP(K270,ByM!$A$2:$B$462)+LOOKUP(L270,ByM!$A$2:$B$462)+LOOKUP(M270,ByM!$A$2:$B$462)+LOOKUP(N270,ByM!$A$2:$B$462)+LOOKUP(O270,ByM!$A$2:$B$462))","v":""}]
[null,null,null,null,null,null,null,null,null,null,null,null,null,null,null,{"$f":"IF(C271=\"\",\"\",#REF!+(LOOKUP(F271,Area!$A$2:$B$71))+G271-(E271*3))","v":""},{"$f":"IF(C271=\"\",\"\",LOOKUP(K271,ByM!$A$2:$B$462)+LOOKUP(L271,ByM!$A$2:$B$462)+LOOKUP(M271,ByM!$A$2:$B$462)+LOOKUP(N271,ByM!$A$2:$B$462)+LOOKUP(O271,ByM!$A$2:$B$462))","v":""}]
[null,null,null,null,null,null,null,null,null,null,null,null,null,null,null,{"$f":"IF(C272=\"\",\"\",#REF!+(LOOKUP(F272,Area!$A$2:$B$71))+G272-(E272*3))","v":""},{"$f":"IF(C272=\"\",\"\",LOOKUP(K272,ByM!$A$2:$B$462)+LOOKUP(L272,ByM!$A$2:$B$462)+LOOKUP(M272,ByM!$A$2:$B$462)+LOOKUP(N272,ByM!$A$2:$B$462)+LOOKUP(O272,ByM!$A$2:$B$462))","v":""}]
[null,null,null,null,null,null,null,null,null,null,null,null,null,null,null,{"$f":"IF(C273=\"\",\"\",#REF!+(LOOKUP(F273,Area!$A$2:$B$71))+G273-(E273*3))","v":""},{"$f":"IF(C273=\"\",\"\",LOOKUP(K273,ByM!$A$2:$B$462)+LOOKUP(L273,ByM!$A$2:$B$462)+LOOKUP(M273,ByM!$A$2:$B$462)+LOOKUP(N273,ByM!$A$2:$B$462)+LOOKUP(O273,ByM!$A$2:$B$462))","v":""}]
[null,null,null,null,null,null,null,null,null,null,null,null,null,null,null,{"$f":"IF(C274=\"\",\"\",#REF!+(LOOKUP(F274,Area!$A$2:$B$71))+G274-(E274*3))","v":""},{"$f":"IF(C274=\"\",\"\",LOOKUP(K274,ByM!$A$2:$B$462)+LOOKUP(L274,ByM!$A$2:$B$462)+LOOKUP(M274,ByM!$A$2:$B$462)+LOOKUP(N274,ByM!$A$2:$B$462)+LOOKUP(O274,ByM!$A$2:$B$462))","v":""}]
[null,null,null,null,null,null,null,null,null,null,null,null,null,null,null,{"$f":"IF(C275=\"\",\"\",#REF!+(LOOKUP(F275,Area!$A$2:$B$71))+G275-(E275*3))","v":""},{"$f":"IF(C275=\"\",\"\",LOOKUP(K275,ByM!$A$2:$B$462)+LOOKUP(L275,ByM!$A$2:$B$462)+LOOKUP(M275,ByM!$A$2:$B$462)+LOOKUP(N275,ByM!$A$2:$B$462)+LOOKUP(O275,ByM!$A$2:$B$462))","v":""}]
[null,null,null,null,null,null,null,null,null,null,null,null,null,null,null,{"$f":"IF(C276=\"\",\"\",#REF!+(LOOKUP(F276,Area!$A$2:$B$71))+G276-(E276*3))","v":""},{"$f":"IF(C276=\"\",\"\",LOOKUP(K276,ByM!$A$2:$B$462)+LOOKUP(L276,ByM!$A$2:$B$462)+LOOKUP(M276,ByM!$A$2:$B$462)+LOOKUP(N276,ByM!$A$2:$B$462)+LOOKUP(O276,ByM!$A$2:$B$462))","v":""}]
[null,null,null,null,null,null,null,null,null,null,null,null,null,null,null,{"$f":"IF(C277=\"\",\"\",#REF!+(LOOKUP(F277,Area!$A$2:$B$71))+G277-(E277*3))","v":""},{"$f":"IF(C277=\"\",\"\",LOOKUP(K277,ByM!$A$2:$B$462)+LOOKUP(L277,ByM!$A$2:$B$462)+LOOKUP(M277,ByM!$A$2:$B$462)+LOOKUP(N277,ByM!$A$2:$B$462)+LOOKUP(O277,ByM!$A$2:$B$462))","v":""}]
[null,null,null,null,null,null,null,null,null,null,null,null,null,null,null,{"$f":"IF(C278=\"\",\"\",#REF!+(LOOKUP(F278,Area!$A$2:$B$71))+G278-(E278*3))","v":""},{"$f":"IF(C278=\"\",\"\",LOOKUP(K278,ByM!$A$2:$B$462)+LOOKUP(L278,ByM!$A$2:$B$462)+LOOKUP(M278,ByM!$A$2:$B$462)+LOOKUP(N278,ByM!$A$2:$B$462)+LOOKUP(O278,ByM!$A$2:$B$462))","v":""}]
[null,null,null,null,null,null,null,null,null,null,null,null,null,null,null,{"$f":"IF(C279=\"\",\"\",#REF!+(LOOKUP(F279,Area!$A$2:$B$71))+G279-(E279*3))","v":""},{"$f":"IF(C279=\"\",\"\",LOOKUP(K279,ByM!$A$2:$B$462)+LOOKUP(L279,ByM!$A$2:$B$462)+LOOKUP(M279,ByM!$A$2:$B$462)+LOOKUP(N279,ByM!$A$2:$B$462)+LOOKUP(O279,ByM!$A$2:$B$462))","v":""}]
[null,null,null,null,null,null,null,null,null,null,null,null,null,null,null,{"$f":"IF(C280=\"\",\"\",#REF!+(LOOKUP(F280,Area!$A$2:$B$71))+G280-(E280*3))","v":""},{"$f":"IF(C280=\"\",\"\",LOOKUP(K280,ByM!$A$2:$B$462)+LOOKUP(L280,ByM!$A$2:$B$462)+LOOKUP(M280,ByM!$A$2:$B$462)+LOOKUP(N280,ByM!$A$2:$B$462)+LOOKUP(O280,ByM!$A$2:$B$462))","v":""}]
[null,null,null,null,null,null,null,null,null,null,null,null,null,null,null,{"$f":"IF(C281=\"\",\"\",#REF!+(LOOKUP(F281,Area!$A$2:$B$71))+G281-(E281*3))","v":""},{"$f":"IF(C281=\"\",\"\",LOOKUP(K281,ByM!$A$2:$B$462)+LOOKUP(L281,ByM!$A$2:$B$462)+LOOKUP(M281,ByM!$A$2:$B$462)+LOOKUP(N281,ByM!$A$2:$B$462)+LOOKUP(O281,ByM!$A$2:$B$462))","v":""}]
[null,null,null,null,null,null,null,null,null,null,null,null,null,null,null,{"$f":"IF(C282=\"\",\"\",#REF!+(LOOKUP(F282,Area!$A$2:$B$71))+G282-(E282*3))","v":""},{"$f":"IF(C282=\"\",\"\",LOOKUP(K282,ByM!$A$2:$B$462)+LOOKUP(L282,ByM!$A$2:$B$462)+LOOKUP(M282,ByM!$A$2:$B$462)+LOOKUP(N282,ByM!$A$2:$B$462)+LOOKUP(O282,ByM!$A$2:$B$462))","v":""}]
[null,null,null,null,null,null,null,null,null,null,null,null,null,null,null,{"$f":"IF(C283=\"\",\"\",#REF!+(LOOKUP(F283,Area!$A$2:$B$71))+G283-(E283*3))","v":""},{"$f":"IF(C283=\"\",\"\",LOOKUP(K283,ByM!$A$2:$B$462)+LOOKUP(L283,ByM!$A$2:$B$462)+LOOKUP(M283,ByM!$A$2:$B$462)+LOOKUP(N283,ByM!$A$2:$B$462)+LOOKUP(O283,ByM!$A$2:$B$462))","v":""}]
[null,null,null,null,null,null,null,null,null,null,null,null,null,null,null,{"$f":"IF(C284=\"\",\"\",#REF!+(LOOKUP(F284,Area!$A$2:$B$71))+G284-(E284*3))","v":""},{"$f":"IF(C284=\"\",\"\",LOOKUP(K284,ByM!$A$2:$B$462)+LOOKUP(L284,ByM!$A$2:$B$462)+LOOKUP(M284,ByM!$A$2:$B$462)+LOOKUP(N284,ByM!$A$2:$B$462)+LOOKUP(O284,ByM!$A$2:$B$462))","v":""}]
[null,null,null,null,null,null,null,null,null,null,null,null,null,null,null,{"$f":"IF(C285=\"\",\"\",#REF!+(LOOKUP(F285,Area!$A$2:$B$71))+G285-(E285*3))","v":""},{"$f":"IF(C285=\"\",\"\",LOOKUP(K285,ByM!$A$2:$B$462)+LOOKUP(L285,ByM!$A$2:$B$462)+LOOKUP(M285,ByM!$A$2:$B$462)+LOOKUP(N285,ByM!$A$2:$B$462)+LOOKUP(O285,ByM!$A$2:$B$462))","v":""}]
[null,null,null,null,null,null,null,null,null,null,null,null,null,null,null,{"$f":"IF(C286=\"\",\"\",#REF!+(LOOKUP(F286,Area!$A$2:$B$71))+G286-(E286*3))","v":""},{"$f":"IF(C286=\"\",\"\",LOOKUP(K286,ByM!$A$2:$B$462)+LOOKUP(L286,ByM!$A$2:$B$462)+LOOKUP(M286,ByM!$A$2:$B$462)+LOOKUP(N286,ByM!$A$2:$B$462)+LOOKUP(O286,ByM!$A$2:$B$462))","v":""}]
[null,null,null,null,null,null,null,null,null,null,null,null,null,null,null,{"$f":"IF(C287=\"\",\"\",#REF!+(LOOKUP(F287,Area!$A$2:$B$71))+G287-(E287*3))","v":""},{"$f":"IF(C287=\"\",\"\",LOOKUP(K287,ByM!$A$2:$B$462)+LOOKUP(L287,ByM!$A$2:$B$462)+LOOKUP(M287,ByM!$A$2:$B$462)+LOOKUP(N287,ByM!$A$2:$B$462)+LOOKUP(O287,ByM!$A$2:$B$462))","v":""}]
[null,null,null,null,null,null,null,null,null,null,null,null,null,null,null,{"$f":"IF(C288=\"\",\"\",#REF!+(LOOKUP(F288,Area!$A$2:$B$71))+G288-(E288*3))","v":""},{"$f":"IF(C288=\"\",\"\",LOOKUP(K288,ByM!$A$2:$B$462)+LOOKUP(L288,ByM!$A$2:$B$462)+LOOKUP(M288,ByM!$A$2:$B$462)+LOOKUP(N288,ByM!$A$2:$B$462)+LOOKUP(O288,ByM!$A$2:$B$462))","v":""}]
[null,null,null,null,null,null,null,null,null,null,null,null,null,null,null,{"$f":"IF(C289=\"\",\"\",#REF!+(LOOKUP(F289,Area!$A$2:$B$71))+G289-(E289*3))","v":""},{"$f":"IF(C289=\"\",\"\",LOOKUP(K289,ByM!$A$2:$B$462)+LOOKUP(L289,ByM!$A$2:$B$462)+LOOKUP(M289,ByM!$A$2:$B$462)+LOOKUP(N289,ByM!$A$2:$B$462)+LOOKUP(O289,ByM!$A$2:$B$462))","v":""}]
[null,null,null,null,null,null,null,null,null,null,null,null,null,null,null,{"$f":"IF(C290=\"\",\"\",#REF!+(LOOKUP(F290,Area!$A$2:$B$71))+G290-(E290*3))","v":""},{"$f":"IF(C290=\"\",\"\",LOOKUP(K290,ByM!$A$2:$B$462)+LOOKUP(L290,ByM!$A$2:$B$462)+LOOKUP(M290,ByM!$A$2:$B$462)+LOOKUP(N290,ByM!$A$2:$B$462)+LOOKUP(O290,ByM!$A$2:$B$462))","v":""}]
[null,null,null,null,null,null,null,null,null,null,null,null,null,null,null,{"$f":"IF(C291=\"\",\"\",#REF!+(LOOKUP(F291,Area!$A$2:$B$71))+G291-(E291*3))","v":""},{"$f":"IF(C291=\"\",\"\",LOOKUP(K291,ByM!$A$2:$B$462)+LOOKUP(L291,ByM!$A$2:$B$462)+LOOKUP(M291,ByM!$A$2:$B$462)+LOOKUP(N291,ByM!$A$2:$B$462)+LOOKUP(O291,ByM!$A$2:$B$462))","v":""}]
[null,null,null,null,null,null,null,null,null,null,null,null,null,null,null,{"$f":"IF(C292=\"\",\"\",#REF!+(LOOKUP(F292,Area!$A$2:$B$71))+G292-(E292*3))","v":""},{"$f":"IF(C292=\"\",\"\",LOOKUP(K292,ByM!$A$2:$B$462)+LOOKUP(L292,ByM!$A$2:$B$462)+LOOKUP(M292,ByM!$A$2:$B$462)+LOOKUP(N292,ByM!$A$2:$B$462)+LOOKUP(O292,ByM!$A$2:$B$462))","v":""}]
[null,null,null,null,null,null,null,null,null,null,null,null,null,null,null,{"$f":"IF(C293=\"\",\"\",#REF!+(LOOKUP(F293,Area!$A$2:$B$71))+G293-(E293*3))","v":""},{"$f":"IF(C293=\"\",\"\",LOOKUP(K293,ByM!$A$2:$B$462)+LOOKUP(L293,ByM!$A$2:$B$462)+LOOKUP(M293,ByM!$A$2:$B$462)+LOOKUP(N293,ByM!$A$2:$B$462)+LOOKUP(O293,ByM!$A$2:$B$462))","v":""}]
[null,null,null,null,null,null,null,null,null,null,null,null,null,null,null,{"$f":"IF(C294=\"\",\"\",#REF!+(LOOKUP(F294,Area!$A$2:$B$71))+G294-(E294*3))","v":""},{"$f":"IF(C294=\"\",\"\",LOOKUP(K294,ByM!$A$2:$B$462)+LOOKUP(L294,ByM!$A$2:$B$462)+LOOKUP(M294,ByM!$A$2:$B$462)+LOOKUP(N294,ByM!$A$2:$B$462)+LOOKUP(O294,ByM!$A$2:$B$462))","v":""}]
[null,null,null,null,null,null,null,null,null,null,null,null,null,null,null,{"$f":"IF(C295=\"\",\"\",#REF!+(LOOKUP(F295,Area!$A$2:$B$71))+G295-(E295*3))","v":""},{"$f":"IF(C295=\"\",\"\",LOOKUP(K295,ByM!$A$2:$B$462)+LOOKUP(L295,ByM!$A$2:$B$462)+LOOKUP(M295,ByM!$A$2:$B$462)+LOOKUP(N295,ByM!$A$2:$B$462)+LOOKUP(O295,ByM!$A$2:$B$462))","v":""}]
[null,null,null,null,null,null,null,null,null,null,null,null,null,null,null,{"$f":"IF(C296=\"\",\"\",#REF!+(LOOKUP(F296,Area!$A$2:$B$71))+G296-(E296*3))","v":""},{"$f":"IF(C296=\"\",\"\",LOOKUP(K296,ByM!$A$2:$B$462)+LOOKUP(L296,ByM!$A$2:$B$462)+LOOKUP(M296,ByM!$A$2:$B$462)+LOOKUP(N296,ByM!$A$2:$B$462)+LOOKUP(O296,ByM!$A$2:$B$462))","v":""}]
[null,null,null,null,null,null,null,null,null,null,null,null,null,null,null,{"$f":"IF(C297=\"\",\"\",#REF!+(LOOKUP(F297,Area!$A$2:$B$71))+G297-(E297*3))","v":""},{"$f":"IF(C297=\"\",\"\",LOOKUP(K297,ByM!$A$2:$B$462)+LOOKUP(L297,ByM!$A$2:$B$462)+LOOKUP(M297,ByM!$A$2:$B$462)+LOOKUP(N297,ByM!$A$2:$B$462)+LOOKUP(O297,ByM!$A$2:$B$462))","v":""}]
[null,null,null,null,null,null,null,null,null,null,null,null,null,null,null,{"$f":"IF(C298=\"\",\"\",#REF!+(LOOKUP(F298,Area!$A$2:$B$71))+G298-(E298*3))","v":""},{"$f":"IF(C298=\"\",\"\",LOOKUP(K298,ByM!$A$2:$B$462)+LOOKUP(L298,ByM!$A$2:$B$462)+LOOKUP(M298,ByM!$A$2:$B$462)+LOOKUP(N298,ByM!$A$2:$B$462)+LOOKUP(O298,ByM!$A$2:$B$462))","v":""}]
[null,null,null,null,null,null,null,null,null,null,null,null,null,null,null,{"$f":"IF(C299=\"\",\"\",#REF!+(LOOKUP(F299,Area!$A$2:$B$71))+G299-(E299*3))","v":""},{"$f":"IF(C299=\"\",\"\",LOOKUP(K299,ByM!$A$2:$B$462)+LOOKUP(L299,ByM!$A$2:$B$462)+LOOKUP(M299,ByM!$A$2:$B$462)+LOOKUP(N299,ByM!$A$2:$B$462)+LOOKUP(O299,ByM!$A$2:$B$462))","v":""}]
[null,null,null,null,null,null,null,null,null,null,null,null,null,null,null,{"$f":"IF(C300=\"\",\"\",#REF!+(LOOKUP(F300,Area!$A$2:$B$71))+G300-(E300*3))","v":""},{"$f":"IF(C300=\"\",\"\",LOOKUP(K300,ByM!$A$2:$B$462)+LOOKUP(L300,ByM!$A$2:$B$462)+LOOKUP(M300,ByM!$A$2:$B$462)+LOOKUP(N300,ByM!$A$2:$B$462)+LOOKUP(O300,ByM!$A$2:$B$462))","v":""}]
[null,null,null,null,null,null,null,null,null,null,null,null,null,null,null,{"$f":"IF(C301=\"\",\"\",#REF!+(LOOKUP(F301,Area!$A$2:$B$71))+G301-(E301*3))","v":""},{"$f":"IF(C301=\"\",\"\",LOOKUP(K301,ByM!$A$2:$B$462)+LOOKUP(L301,ByM!$A$2:$B$462)+LOOKUP(M301,ByM!$A$2:$B$462)+LOOKUP(N301,ByM!$A$2:$B$462)+LOOKUP(O301,ByM!$A$2:$B$462))","v":""}]
[null,null,null,null,null,null,null,null,null,null,null,null,null,null,null,{"$f":"IF(C302=\"\",\"\",#REF!+(LOOKUP(F302,Area!$A$2:$B$71))+G302-(E302*3))","v":""},{"$f":"IF(C302=\"\",\"\",LOOKUP(K302,ByM!$A$2:$B$462)+LOOKUP(L302,ByM!$A$2:$B$462)+LOOKUP(M302,ByM!$A$2:$B$462)+LOOKUP(N302,ByM!$A$2:$B$462)+LOOKUP(O302,ByM!$A$2:$B$462))","v":""}]
[null,null,null,null,null,null,null,null,null,null,null,null,null,null,null,{"$f":"IF(C303=\"\",\"\",#REF!+(LOOKUP(F303,Area!$A$2:$B$71))+G303-(E303*3))","v":""},{"$f":"IF(C303=\"\",\"\",LOOKUP(K303,ByM!$A$2:$B$462)+LOOKUP(L303,ByM!$A$2:$B$462)+LOOKUP(M303,ByM!$A$2:$B$462)+LOOKUP(N303,ByM!$A$2:$B$462)+LOOKUP(O303,ByM!$A$2:$B$462))","v":""}]
[null,null,null,null,null,null,null,null,null,null,null,null,null,null,null,{"$f":"IF(C304=\"\",\"\",#REF!+(LOOKUP(F304,Area!$A$2:$B$71))+G304-(E304*3))","v":""},{"$f":"IF(C304=\"\",\"\",LOOKUP(K304,ByM!$A$2:$B$462)+LOOKUP(L304,ByM!$A$2:$B$462)+LOOKUP(M304,ByM!$A$2:$B$462)+LOOKUP(N304,ByM!$A$2:$B$462)+LOOKUP(O304,ByM!$A$2:$B$462))","v":""}]
[null,null,null,null,null,null,null,null,null,null,null,null,null,null,null,{"$f":"IF(C305=\"\",\"\",#REF!+(LOOKUP(F305,Area!$A$2:$B$71))+G305-(E305*3))","v":""},{"$f":"IF(C305=\"\",\"\",LOOKUP(K305,ByM!$A$2:$B$462)+LOOKUP(L305,ByM!$A$2:$B$462)+LOOKUP(M305,ByM!$A$2:$B$462)+LOOKUP(N305,ByM!$A$2:$B$462)+LOOKUP(O305,ByM!$A$2:$B$462))","v":""}]
[null,null,null,null,null,null,null,null,null,null,null,null,null,null,null,{"$f":"IF(C306=\"\",\"\",#REF!+(LOOKUP(F306,Area!$A$2:$B$71))+G306-(E306*3))","v":""},{"$f":"IF(C306=\"\",\"\",LOOKUP(K306,ByM!$A$2:$B$462)+LOOKUP(L306,ByM!$A$2:$B$462)+LOOKUP(M306,ByM!$A$2:$B$462)+LOOKUP(N306,ByM!$A$2:$B$462)+LOOKUP(O306,ByM!$A$2:$B$462))","v":""}]
[null,null,null,null,null,null,null,null,null,null,null,null,null,null,null,{"$f":"IF(C307=\"\",\"\",#REF!+(LOOKUP(F307,Area!$A$2:$B$71))+G307-(E307*3))","v":""},{"$f":"IF(C307=\"\",\"\",LOOKUP(K307,ByM!$A$2:$B$462)+LOOKUP(L307,ByM!$A$2:$B$462)+LOOKUP(M307,ByM!$A$2:$B$462)+LOOKUP(N307,ByM!$A$2:$B$462)+LOOKUP(O307,ByM!$A$2:$B$462))","v":""}]
[null,null,null,null,null,null,null,null,null,null,null,null,null,null,null,{"$f":"IF(C308=\"\",\"\",#REF!+(LOOKUP(F308,Area!$A$2:$B$71))+G308-(E308*3))","v":""},{"$f":"IF(C308=\"\",\"\",LOOKUP(K308,ByM!$A$2:$B$462)+LOOKUP(L308,ByM!$A$2:$B$462)+LOOKUP(M308,ByM!$A$2:$B$462)+LOOKUP(N308,ByM!$A$2:$B$462)+LOOKUP(O308,ByM!$A$2:$B$462))","v":""}]
[null,null,null,null,null,null,null,null,null,null,null,null,null,null,null,{"$f":"IF(C309=\"\",\"\",#REF!+(LOOKUP(F309,Area!$A$2:$B$71))+G309-(E309*3))","v":""},{"$f":"IF(C309=\"\",\"\",LOOKUP(K309,ByM!$A$2:$B$462)+LOOKUP(L309,ByM!$A$2:$B$462)+LOOKUP(M309,ByM!$A$2:$B$462)+LOOKUP(N309,ByM!$A$2:$B$462)+LOOKUP(O309,ByM!$A$2:$B$462))","v":""}]
[null,null,null,null,null,null,null,null,null,null,null,null,null,null,null,{"$f":"IF(C310=\"\",\"\",#REF!+(LOOKUP(F310,Area!$A$2:$B$71))+G310-(E310*3))","v":""},{"$f":"IF(C310=\"\",\"\",LOOKUP(K310,ByM!$A$2:$B$462)+LOOKUP(L310,ByM!$A$2:$B$462)+LOOKUP(M310,ByM!$A$2:$B$462)+LOOKUP(N310,ByM!$A$2:$B$462)+LOOKUP(O310,ByM!$A$2:$B$462))","v":""}]
[null,null,null,null,null,null,null,null,null,null,null,null,null,null,null,{"$f":"IF(C311=\"\",\"\",#REF!+(LOOKUP(F311,Area!$A$2:$B$71))+G311-(E311*3))","v":""},{"$f":"IF(C311=\"\",\"\",LOOKUP(K311,ByM!$A$2:$B$462)+LOOKUP(L311,ByM!$A$2:$B$462)+LOOKUP(M311,ByM!$A$2:$B$462)+LOOKUP(N311,ByM!$A$2:$B$462)+LOOKUP(O311,ByM!$A$2:$B$462))","v":""}]
[null,null,null,null,null,null,null,null,null,null,null,null,null,null,null,{"$f":"IF(C312=\"\",\"\",#REF!+(LOOKUP(F312,Area!$A$2:$B$71))+G312-(E312*3))","v":""},{"$f":"IF(C312=\"\",\"\",LOOKUP(K312,ByM!$A$2:$B$462)+LOOKUP(L312,ByM!$A$2:$B$462)+LOOKUP(M312,ByM!$A$2:$B$462)+LOOKUP(N312,ByM!$A$2:$B$462)+LOOKUP(O312,ByM!$A$2:$B$462))","v":""}]
[null,null,null,null,null,null,null,null,null,null,null,null,null,null,null,{"$f":"IF(C313=\"\",\"\",#REF!+(LOOKUP(F313,Area!$A$2:$B$71))+G313-(E313*3))","v":""},{"$f":"IF(C313=\"\",\"\",LOOKUP(K313,ByM!$A$2:$B$462)+LOOKUP(L313,ByM!$A$2:$B$462)+LOOKUP(M313,ByM!$A$2:$B$462)+LOOKUP(N313,ByM!$A$2:$B$462)+LOOKUP(O313,ByM!$A$2:$B$462))","v":""}]
[null,null,null,null,null,null,null,null,null,null,null,null,null,null,null,{"$f":"IF(C314=\"\",\"\",#REF!+(LOOKUP(F314,Area!$A$2:$B$71))+G314-(E314*3))","v":""},{"$f":"IF(C314=\"\",\"\",LOOKUP(K314,ByM!$A$2:$B$462)+LOOKUP(L314,ByM!$A$2:$B$462)+LOOKUP(M314,ByM!$A$2:$B$462)+LOOKUP(N314,ByM!$A$2:$B$462)+LOOKUP(O314,ByM!$A$2:$B$462))","v":""}]
[null,null,null,null,null,null,null,null,null,null,null,null,null,null,null,{"$f":"IF(C315=\"\",\"\",#REF!+(LOOKUP(F315,Area!$A$2:$B$71))+G315-(E315*3))","v":""},{"$f":"IF(C315=\"\",\"\",LOOKUP(K315,ByM!$A$2:$B$462)+LOOKUP(L315,ByM!$A$2:$B$462)+LOOKUP(M315,ByM!$A$2:$B$462)+LOOKUP(N315,ByM!$A$2:$B$462)+LOOKUP(O315,ByM!$A$2:$B$462))","v":""}]
[null,null,null,null,null,null,null,null,null,null,null,null,null,null,null,{"$f":"IF(C316=\"\",\"\",#REF!+(LOOKUP(F316,Area!$A$2:$B$71))+G316-(E316*3))","v":""},{"$f":"IF(C316=\"\",\"\",LOOKUP(K316,ByM!$A$2:$B$462)+LOOKUP(L316,ByM!$A$2:$B$462)+LOOKUP(M316,ByM!$A$2:$B$462)+LOOKUP(N316,ByM!$A$2:$B$462)+LOOKUP(O316,ByM!$A$2:$B$462))","v":""}]
[null,null,null,null,null,null,null,null,null,null,null,null,null,null,null,{"$f":"IF(C317=\"\",\"\",#REF!+(LOOKUP(F317,Area!$A$2:$B$71))+G317-(E317*3))","v":""},{"$f":"IF(C317=\"\",\"\",LOOKUP(K317,ByM!$A$2:$B$462)+LOOKUP(L317,ByM!$A$2:$B$462)+LOOKUP(M317,ByM!$A$2:$B$462)+LOOKUP(N317,ByM!$A$2:$B$462)+LOOKUP(O317,ByM!$A$2:$B$462))","v":""}]
[null,null,null,null,null,null,null,null,null,null,null,null,null,null,null,{"$f":"IF(C318=\"\",\"\",#REF!+(LOOKUP(F318,Area!$A$2:$B$71))+G318-(E318*3))","v":""},{"$f":"IF(C318=\"\",\"\",LOOKUP(K318,ByM!$A$2:$B$462)+LOOKUP(L318,ByM!$A$2:$B$462)+LOOKUP(M318,ByM!$A$2:$B$462)+LOOKUP(N318,ByM!$A$2:$B$462)+LOOKUP(O318,ByM!$A$2:$B$462))","v":""}]
[null,null,null,null,null,null,null,null,null,null,null,null,null,null,null,{"$f":"IF(C319=\"\",\"\",#REF!+(LOOKUP(F319,Area!$A$2:$B$71))+G319-(E319*3))","v":""},{"$f":"IF(C319=\"\",\"\",LOOKUP(K319,ByM!$A$2:$B$462)+LOOKUP(L319,ByM!$A$2:$B$462)+LOOKUP(M319,ByM!$A$2:$B$462)+LOOKUP(N319,ByM!$A$2:$B$462)+LOOKUP(O319,ByM!$A$2:$B$462))","v":""}]
[null,null,null,null,null,null,null,null,null,null,null,null,null,null,null,{"$f":"IF(C320=\"\",\"\",#REF!+(LOOKUP(F320,Area!$A$2:$B$71))+G320-(E320*3))","v":""},{"$f":"IF(C320=\"\",\"\",LOOKUP(K320,ByM!$A$2:$B$462)+LOOKUP(L320,ByM!$A$2:$B$462)+LOOKUP(M320,ByM!$A$2:$B$462)+LOOKUP(N320,ByM!$A$2:$B$462)+LOOKUP(O320,ByM!$A$2:$B$462))","v":""}]
[null,null,null,null,null,null,null,null,null,null,null,null,null,null,null,{"$f":"IF(C321=\"\",\"\",#REF!+(LOOKUP(F321,Area!$A$2:$B$71))+G321-(E321*3))","v":""},{"$f":"IF(C321=\"\",\"\",LOOKUP(K321,ByM!$A$2:$B$462)+LOOKUP(L321,ByM!$A$2:$B$462)+LOOKUP(M321,ByM!$A$2:$B$462)+LOOKUP(N321,ByM!$A$2:$B$462)+LOOKUP(O321,ByM!$A$2:$B$462))","v":""}]
[null,null,null,null,null,null,null,null,null,null,null,null,null,null,null,{"$f":"IF(C322=\"\",\"\",#REF!+(LOOKUP(F322,Area!$A$2:$B$71))+G322-(E322*3))","v":""},{"$f":"IF(C322=\"\",\"\",LOOKUP(K322,ByM!$A$2:$B$462)+LOOKUP(L322,ByM!$A$2:$B$462)+LOOKUP(M322,ByM!$A$2:$B$462)+LOOKUP(N322,ByM!$A$2:$B$462)+LOOKUP(O322,ByM!$A$2:$B$462))","v":""}]
[null,null,null,null,null,null,null,null,null,null,null,null,null,null,null,{"$f":"IF(C323=\"\",\"\",#REF!+(LOOKUP(F323,Area!$A$2:$B$71))+G323-(E323*3))","v":""},{"$f":"IF(C323=\"\",\"\",LOOKUP(K323,ByM!$A$2:$B$462)+LOOKUP(L323,ByM!$A$2:$B$462)+LOOKUP(M323,ByM!$A$2:$B$462)+LOOKUP(N323,ByM!$A$2:$B$462)+LOOKUP(O323,ByM!$A$2:$B$462))","v":""}]
[null,null,null,null,null,null,null,null,null,null,null,null,null,null,null,{"$f":"IF(C324=\"\",\"\",#REF!+(LOOKUP(F324,Area!$A$2:$B$71))+G324-(E324*3))","v":""},{"$f":"IF(C324=\"\",\"\",LOOKUP(K324,ByM!$A$2:$B$462)+LOOKUP(L324,ByM!$A$2:$B$462)+LOOKUP(M324,ByM!$A$2:$B$462)+LOOKUP(N324,ByM!$A$2:$B$462)+LOOKUP(O324,ByM!$A$2:$B$462))","v":""}]
[null,null,null,null,null,null,null,null,null,null,null,null,null,null,null,{"$f":"IF(C325=\"\",\"\",#REF!+(LOOKUP(F325,Area!$A$2:$B$71))+G325-(E325*3))","v":""},{"$f":"IF(C325=\"\",\"\",LOOKUP(K325,ByM!$A$2:$B$462)+LOOKUP(L325,ByM!$A$2:$B$462)+LOOKUP(M325,ByM!$A$2:$B$462)+LOOKUP(N325,ByM!$A$2:$B$462)+LOOKUP(O325,ByM!$A$2:$B$462))","v":""}]
[null,null,null,null,null,null,null,null,null,null,null,null,null,null,null,{"$f":"IF(C326=\"\",\"\",#REF!+(LOOKUP(F326,Area!$A$2:$B$71))+G326-(E326*3))","v":""},{"$f":"IF(C326=\"\",\"\",LOOKUP(K326,ByM!$A$2:$B$462)+LOOKUP(L326,ByM!$A$2:$B$462)+LOOKUP(M326,ByM!$A$2:$B$462)+LOOKUP(N326,ByM!$A$2:$B$462)+LOOKUP(O326,ByM!$A$2:$B$462))","v":""}]
[null,null,null,null,null,null,null,null,null,null,null,null,null,null,null,{"$f":"IF(C327=\"\",\"\",#REF!+(LOOKUP(F327,Area!$A$2:$B$71))+G327-(E327*3))","v":""},{"$f":"IF(C327=\"\",\"\",LOOKUP(K327,ByM!$A$2:$B$462)+LOOKUP(L327,ByM!$A$2:$B$462)+LOOKUP(M327,ByM!$A$2:$B$462)+LOOKUP(N327,ByM!$A$2:$B$462)+LOOKUP(O327,ByM!$A$2:$B$462))","v":""}]
[null,null,null,null,null,null,null,null,null,null,null,null,null,null,null,{"$f":"IF(C328=\"\",\"\",#REF!+(LOOKUP(F328,Area!$A$2:$B$71))+G328-(E328*3))","v":""},{"$f":"IF(C328=\"\",\"\",LOOKUP(K328,ByM!$A$2:$B$462)+LOOKUP(L328,ByM!$A$2:$B$462)+LOOKUP(M328,ByM!$A$2:$B$462)+LOOKUP(N328,ByM!$A$2:$B$462)+LOOKUP(O328,ByM!$A$2:$B$462))","v":""}]
[null,null,null,null,null,null,null,null,null,null,null,null,null,null,null,{"$f":"IF(C329=\"\",\"\",#REF!+(LOOKUP(F329,Area!$A$2:$B$71))+G329-(E329*3))","v":""},{"$f":"IF(C329=\"\",\"\",LOOKUP(K329,ByM!$A$2:$B$462)+LOOKUP(L329,ByM!$A$2:$B$462)+LOOKUP(M329,ByM!$A$2:$B$462)+LOOKUP(N329,ByM!$A$2:$B$462)+LOOKUP(O329,ByM!$A$2:$B$462))","v":""}]
[null,null,null,null,null,null,null,null,null,null,null,null,null,null,null,{"$f":"IF(C330=\"\",\"\",LOOKUP(E330,$P$1:$Q$12)+LOOKUP(#REF!,$P$1:$Q$12)+LOOKUP(F330,$P$1:$Q$12)+LOOKUP(G330,$P$1:$Q$12)+LOOKUP(H330,$P$1:$Q$12))","v":""},{"$f":"IF(C330=\"\",\"\",LOOKUP(K330,ByM!$A$2:$B$462)+LOOKUP(L330,ByM!$A$2:$B$462)+LOOKUP(M330,ByM!$A$2:$B$462)+LOOKUP(N330,ByM!$A$2:$B$462)+LOOKUP(O330,ByM!$A$2:$B$462))","v":""}]
[null,null,null,null,null,null,null,null,null,null,null,null,null,null,null,{"$f":"IF(C331=\"\",\"\",LOOKUP(E331,$P$1:$Q$12)+LOOKUP(#REF!,$P$1:$Q$12)+LOOKUP(F331,$P$1:$Q$12)+LOOKUP(G331,$P$1:$Q$12)+LOOKUP(H331,$P$1:$Q$12))","v":""},{"$f":"IF(C331=\"\",\"\",LOOKUP(K331,ByM!$A$2:$B$462)+LOOKUP(L331,ByM!$A$2:$B$462)+LOOKUP(M331,ByM!$A$2:$B$462)+LOOKUP(N331,ByM!$A$2:$B$462)+LOOKUP(O331,ByM!$A$2:$B$462))","v":""}]
[null,null,null,null,null,null,null,null,null,null,null,null,null,null,null,{"$f":"IF(C332=\"\",\"\",LOOKUP(E332,$P$1:$Q$12)+LOOKUP(#REF!,$P$1:$Q$12)+LOOKUP(F332,$P$1:$Q$12)+LOOKUP(G332,$P$1:$Q$12)+LOOKUP(H332,$P$1:$Q$12))","v":""},{"$f":"IF(C332=\"\",\"\",LOOKUP(K332,ByM!$A$2:$B$462)+LOOKUP(L332,ByM!$A$2:$B$462)+LOOKUP(M332,ByM!$A$2:$B$462)+LOOKUP(N332,ByM!$A$2:$B$462)+LOOKUP(O332,ByM!$A$2:$B$462))","v":""}]

{"sheet":"Objeto","index":4,"n_rows":253,"n_cols":17,"rows_kept":253,"cut":false,"hidden":false,"merged":[]}
[]
[null,"Nombre:","Nombre",null,"Atributos:",null,null,null,null,null,"Coste del arquetipo"]
[null,"Bonus 1:","-",{"$f":"LOOKUP(C3,ByM!$A$2:$B$462)","v":0},"ENE","ALC","CAL",null,"ARE",null,{"$f":"IF(SUM(D3:D7,F5+G5+I5-E5)<1,1,SUM(D3:D7,F5+G5+I5-E5))","v":1},{"$f":"LOOKUP(C3,ByM!$A$2:$C$462)","v":"-"}]
[null,"Bonus 2:","-",{"$f":"LOOKUP(C4,ByM!$A$2:$B$462)","v":0},1,0,1,null,"-",null,null,{"$f":"LOOKUP(C4,ByM!$A$2:$C$462)","v":"-"}]
[null,"Bonus 3:","-",{"$f":"LOOKUP(C5,ByM!$A$2:$B$462)","v":0},{"$f":"E4","v":1},{"$f":"F4","v":0},{"$f":"G4","v":1},null,{"$f":"LOOKUP(I4,Area!$A$2:$B$71)","v":0},null,null,{"$f":"LOOKUP(C5,ByM!$A$2:$C$462)","v":"-"}]
[null,"Bonus 4:","-",{"$f":"LOOKUP(C6,ByM!$A$2:$B$462)","v":0},null,null,null,null,null,null,null,{"$f":"LOOKUP(C6,ByM!$A$2:$C$462)","v":"-"}]
[null,"Bonus 5:","-",{"$f":"LOOKUP(C7,ByM!$A$2:$B$462)","v":0},null,null,null,null,null,null,null,{"$f":"LOOKUP(C7,ByM!$A$2:$C$462)","v":"-"}]
[null,"Descripción:"]
[]
[]
[]
[]
[]
[null,"Tipo","Nombre","Desc","ENE","ALC",".","CAL","PTS","ARE","Bonus 1","Bonus 2","Bonus 3","Bonus 4","Bonus 5","Pts Atr.","Pts ByM"]
[null,"Objeto","¡Cuerpo a tierra!",null,2,0,null,5,1,"-","Escudo de energía N01","Un uso por aventura","-","-","-",{"$f":"IF(C15=\"\",\"\",F15+H15-(E15))","v":3},{"$f":"IF(C15=\"\",\"\",LOOKUP(J15,Area!$A$2:$B$71)+LOOKUP(K15,ByM!$A$2:$B$462)+LOOKUP(L15,ByM!$A$2:$B$462)+LOOKUP(M15,ByM!$A$2:$B$462)+LOOKUP(N15,ByM!$A$2:$B$462)+LOOKUP(O15,ByM!$A$2:$B$462))","v":-5}]
[null,"Objeto","¡Llegan los refuerzos!",null,1,0,null,3,10,"-","Tropas ocultas","-","-","-","-",{"$f":"IF(C16=\"\",\"\",F16+H16-(E16))","v":2},{"$f":"IF(C16=\"\",\"\",LOOKUP(J16,Area!$A$2:$B$71)+LOOKUP(K16,ByM!$A$2:$B$462)+LOOKUP(L16,ByM!$A$2:$B$462)+LOOKUP(M16,ByM!$A$2:$B$462)+LOOKUP(N16,ByM!$A$2:$B$462)+LOOKUP(O16,ByM!$A$2:$B$462))","v":8}]
[null,"Objeto","Ahora me ves",null,1,0,null,3,1,"-","Teletrans","Un uso por aventura","-","-","-",{"$f":"IF(C17=\"\",\"\",F17+H17-(E17))","v":2},{"$f":"IF(C17=\"\",\"\",LOOKUP(J17,Area!$A$2:$B$71)+LOOKUP(K17,ByM!$A$2:$B$462)+LOOKUP(L17,ByM!$A$2:$B$462)+LOOKUP(M17,ByM!$A$2:$B$462)+LOOKUP(N17,ByM!$A$2:$B$462)+LOOKUP(O17,ByM!$A$2:$B$462))","v":-5}]
[null,"Objeto","Albóndiga",null,1,0,null,5,14,"-","Mascota mágica (berserker, meta visión y súper sentidos)","-","-","-","-",{"$f":"IF(C18=\"\",\"\",F18+H18-(E18))","v":4},{"$f":"IF(C18=\"\",\"\",LOOKUP(J18,Area!$A$2:$B$71)+LOOKUP(K18,ByM!$A$2:$B$462)+LOOKUP(L18,ByM!$A$2:$B$462)+LOOKUP(M18,ByM!$A$2:$B$462)+LOOKUP(N18,ByM!$A$2:$B$462)+LOOKUP(O18,ByM!$A$2:$B$462))","v":10}]
[null,"Objeto","Ambrosía de la contención",null,2,0,null,2,1,"-","Droga","Niega (Ansia de sangre)","Tempus: actuación","-","-",{"$f":"IF(C19=\"\",\"\",F19+H19-(E19))","v":0},{"$f":"IF(C19=\"\",\"\",LOOKUP(J19,Area!$A$2:$B$71)+LOOKUP(K19,ByM!$A$2:$B$462)+LOOKUP(L19,ByM!$A$2:$B$462)+LOOKUP(M19,ByM!$A$2:$B$462)+LOOKUP(N19,ByM!$A$2:$B$462)+LOOKUP(O19,ByM!$A$2:$B$462))","v":-5}]
[null,"Objeto","Ambrosía de la genialidad",null,2,0,null,2,1,"-","Droga","Maestría (mecanismos)","Tempus: actuación","-","-",{"$f":"IF(C20=\"\",\"\",F20+H20-(E20))","v":0},{"$f":"IF(C20=\"\",\"\",LOOKUP(J20,Area!$A$2:$B$71)+LOOKUP(K20,ByM!$A$2:$B$462)+LOOKUP(L20,ByM!$A$2:$B$462)+LOOKUP(M20,ByM!$A$2:$B$462)+LOOKUP(N20,ByM!$A$2:$B$462)+LOOKUP(O20,ByM!$A$2:$B$462))","v":-5}]
[null,"Objeto","Ambrosía de la velocidad",null,2,0,null,2,1,"-","Droga","Rápido","Tempus: actuación","-","-",{"$f":"IF(C21=\"\",\"\",F21+H21-(E21))","v":0},{"$f":"IF(C21=\"\",\"\",LOOKUP(J21,Area!$A$2:$B$71)+LOOKUP(K21,ByM!$A$2:$B$462)+LOOKUP(L21,ByM!$A$2:$B$462)+LOOKUP(M21,ByM!$A$2:$B$462)+LOOKUP(N21,ByM!$A$2:$B$462)+LOOKUP(O21,ByM!$A$2:$B$462))","v":-5}]
[null,"Objeto","Ambrosía del acero",null,2,0,null,2,5,"-","Droga","Duro","Tempus: actuación","-","-",{"$f":"IF(C22=\"\",\"\",F22+H22-(E22))","v":0},{"$f":"IF(C22=\"\",\"\",LOOKUP(J22,Area!$A$2:$B$71)+LOOKUP(K22,ByM!$A$2:$B$462)+LOOKUP(L22,ByM!$A$2:$B$462)+LOOKUP(M22,ByM!$A$2:$B$462)+LOOKUP(N22,ByM!$A$2:$B$462)+LOOKUP(O22,ByM!$A$2:$B$462))","v":5}]
[null,"Objeto","Ambrosía del guerrero",null,2,0,null,2,1,"-","Droga","Profesión bárbaro","Tempus: actuación","-","-",{"$f":"IF(C23=\"\",\"\",F23+H23-(E23))","v":0},{"$f":"IF(C23=\"\",\"\",LOOKUP(J23,Area!$A$2:$B$71)+LOOKUP(K23,ByM!$A$2:$B$462)+LOOKUP(L23,ByM!$A$2:$B$462)+LOOKUP(M23,ByM!$A$2:$B$462)+LOOKUP(N23,ByM!$A$2:$B$462)+LOOKUP(O23,ByM!$A$2:$B$462))","v":0}]
[null,"Objeto","Ambrosía del viaje",null,2,0,null,2,1,"-","Droga","Tempus: actuación","Tropas de infiltración","-","-",{"$f":"IF(C24=\"\",\"\",F24+H24-(E24))","v":0},{"$f":"IF(C24=\"\",\"\",LOOKUP(J24,Area!$A$2:$B$71)+LOOKUP(K24,ByM!$A$2:$B$462)+LOOKUP(L24,ByM!$A$2:$B$462)+LOOKUP(M24,ByM!$A$2:$B$462)+LOOKUP(N24,ByM!$A$2:$B$462)+LOOKUP(O24,ByM!$A$2:$B$462))","v":-5}]
[null,"Objeto","Angel Artifice",null,1,0,null,9,13,"-","Reliquia","Refuerzo","Profesión bárbaro","-","-",{"$f":"IF(C25=\"\",\"\",F25+H25-(E25))","v":8},{"$f":"IF(C25=\"\",\"\",LOOKUP(J25,Area!$A$2:$B$71)+LOOKUP(K25,ByM!$A$2:$B$462)+LOOKUP(L25,ByM!$A$2:$B$462)+LOOKUP(M25,ByM!$A$2:$B$462)+LOOKUP(N25,ByM!$A$2:$B$462)+LOOKUP(O25,ByM!$A$2:$B$462))","v":5}]
[null,"Objeto","Apoyo - descaro",null,3,0,null,3,20,"-","Hálito de entumecimiento","Un uso por actuación","-","-","-",{"$f":"IF(C26=\"\",\"\",F26+H26-(E26))","v":0},{"$f":"IF(C26=\"\",\"\",LOOKUP(J26,Area!$A$2:$B$71)+LOOKUP(K26,ByM!$A$2:$B$462)+LOOKUP(L26,ByM!$A$2:$B$462)+LOOKUP(M26,ByM!$A$2:$B$462)+LOOKUP(N26,ByM!$A$2:$B$462)+LOOKUP(O26,ByM!$A$2:$B$462))","v":20}]
[null,"Objeto","Astucia alienígena",null,1,0,null,4,8,"-","Órdenes","-","-","-","-",{"$f":"IF(C27=\"\",\"\",F27+H27-(E27))","v":3},{"$f":"IF(C27=\"\",\"\",LOOKUP(J27,Area!$A$2:$B$71)+LOOKUP(K27,ByM!$A$2:$B$462)+LOOKUP(L27,ByM!$A$2:$B$462)+LOOKUP(M27,ByM!$A$2:$B$462)+LOOKUP(N27,ByM!$A$2:$B$462)+LOOKUP(O27,ByM!$A$2:$B$462))","v":5}]
[null,"Objeto","Ataque teleportado",null,1,0,null,7,14,"-","Tropas ocultas","-","-","-","-",{"$f":"IF(C28=\"\",\"\",F28+H28-(E28))","v":6},{"$f":"IF(C28=\"\",\"\",LOOKUP(J28,Area!$A$2:$B$71)+LOOKUP(K28,ByM!$A$2:$B$462)+LOOKUP(L28,ByM!$A$2:$B$462)+LOOKUP(M28,ByM!$A$2:$B$462)+LOOKUP(N28,ByM!$A$2:$B$462)+LOOKUP(O28,ByM!$A$2:$B$462))","v":8}]
[null,"Objeto","Aura de hierro",null,1,0,null,8,27,"-","Salvaguarda","-","-","-","-",{"$f":"IF(C29=\"\",\"\",F29+H29-(E29))","v":7},{"$f":"IF(C29=\"\",\"\",LOOKUP(J29,Area!$A$2:$B$71)+LOOKUP(K29,ByM!$A$2:$B$462)+LOOKUP(L29,ByM!$A$2:$B$462)+LOOKUP(M29,ByM!$A$2:$B$462)+LOOKUP(N29,ByM!$A$2:$B$462)+LOOKUP(O29,ByM!$A$2:$B$462))","v":20}]
[null,"Objeto","Baliza de teleportación",null,1,0,null,7,16,"-","Faro","-","-","-","-",{"$f":"IF(C30=\"\",\"\",F30+H30-(E30))","v":6},{"$f":"IF(C30=\"\",\"\",LOOKUP(J30,Area!$A$2:$B$71)+LOOKUP(K30,ByM!$A$2:$B$462)+LOOKUP(L30,ByM!$A$2:$B$462)+LOOKUP(M30,ByM!$A$2:$B$462)+LOOKUP(N30,ByM!$A$2:$B$462)+LOOKUP(O30,ByM!$A$2:$B$462))","v":10}]
[null,"Objeto","Bocina",null,1,0,null,1,1,"-","Contracarga","Un uso por aventura","-","-","-",{"$f":"IF(C31=\"\",\"\",F31+H31-(E31))","v":0},{"$f":"IF(C31=\"\",\"\",LOOKUP(J31,Area!$A$2:$B$71)+LOOKUP(K31,ByM!$A$2:$B$462)+LOOKUP(L31,ByM!$A$2:$B$462)+LOOKUP(M31,ByM!$A$2:$B$462)+LOOKUP(N31,ByM!$A$2:$B$462)+LOOKUP(O31,ByM!$A$2:$B$462))","v":-5}]
[null,"Objeto","Bomba fétida",null,2,10,null,2,25,"-","Hálito de imbecilidad","Un uso por aventura","-","-","-",{"$f":"IF(C32=\"\",\"\",F32+H32-(E32))","v":10},{"$f":"IF(C32=\"\",\"\",LOOKUP(J32,Area!$A$2:$B$71)+LOOKUP(K32,ByM!$A$2:$B$462)+LOOKUP(L32,ByM!$A$2:$B$462)+LOOKUP(M32,ByM!$A$2:$B$462)+LOOKUP(N32,ByM!$A$2:$B$462)+LOOKUP(O32,ByM!$A$2:$B$462))","v":15}]
[null,"Objeto","Bombona de butano",null,2,0,null,2,5,"-","Bomba viviente","-","-","-","-",{"$f":"IF(C33=\"\",\"\",F33+H33-(E33))","v":0},{"$f":"IF(C33=\"\",\"\",LOOKUP(J33,Area!$A$2:$B$71)+LOOKUP(K33,ByM!$A$2:$B$462)+LOOKUP(L33,ByM!$A$2:$B$462)+LOOKUP(M33,ByM!$A$2:$B$462)+LOOKUP(N33,ByM!$A$2:$B$462)+LOOKUP(O33,ByM!$A$2:$B$462))","v":5}]
[null,"Objeto","Botiquín",null,3,0,null,3,5,"-","Maestría (curar)","-","-","-","-",{"$f":"IF(C34=\"\",\"\",F34+H34-(E34))","v":0},{"$f":"IF(C34=\"\",\"\",LOOKUP(J34,Area!$A$2:$B$71)+LOOKUP(K34,ByM!$A$2:$B$462)+LOOKUP(L34,ByM!$A$2:$B$462)+LOOKUP(M34,ByM!$A$2:$B$462)+LOOKUP(N34,ByM!$A$2:$B$462)+LOOKUP(O34,ByM!$A$2:$B$462))","v":5}]
[null,"Objeto","Buho mecánico de hierro",null,3,20,null,7,27,"Área (R20)","Área despreciable","Sensor: Detecta tropas sin Línea de visión","-","-","-",{"$f":"IF(C35=\"\",\"\",F35+H35-(E35))","v":24},{"$f":"IF(C35=\"\",\"\",LOOKUP(J35,Area!$A$2:$B$71)+LOOKUP(K35,ByM!$A$2:$B$462)+LOOKUP(L35,ByM!$A$2:$B$462)+LOOKUP(M35,ByM!$A$2:$B$462)+LOOKUP(N35,ByM!$A$2:$B$462)+LOOKUP(O35,ByM!$A$2:$B$462))","v":8}]
[null,"Objeto","Cacharras del oficio",null,2,0,null,2,5,"-","Maestría (arreglar)","-","-","-","-",{"$f":"IF(C36=\"\",\"\",F36+H36-(E36))","v":0},{"$f":"IF(C36=\"\",\"\",LOOKUP(J36,Area!$A$2:$B$71)+LOOKUP(K36,ByM!$A$2:$B$462)+LOOKUP(L36,ByM!$A$2:$B$462)+LOOKUP(M36,ByM!$A$2:$B$462)+LOOKUP(N36,ByM!$A$2:$B$462)+LOOKUP(O36,ByM!$A$2:$B$462))","v":5}]
[null,"Objeto","Cacharros de mecánico",null,1,0,null,5,9,"-","Maestría (arreglar)","-","-","-","-",{"$f":"IF(C37=\"\",\"\",F37+H37-(E37))","v":4},{"$f":"IF(C37=\"\",\"\",LOOKUP(J37,Area!$A$2:$B$71)+LOOKUP(K37,ByM!$A$2:$B$462)+LOOKUP(L37,ByM!$A$2:$B$462)+LOOKUP(M37,ByM!$A$2:$B$462)+LOOKUP(N37,ByM!$A$2:$B$462)+LOOKUP(O37,ByM!$A$2:$B$462))","v":5}]
[null,"Objeto","Cama de cirujía automática",null,1,0,null,7,6,"-","Elixir N1","Un uso por actuación","-","-","-",{"$f":"IF(C38=\"\",\"\",F38+H38-(E38))","v":6},{"$f":"IF(C38=\"\",\"\",LOOKUP(J38,Area!$A$2:$B$71)+LOOKUP(K38,ByM!$A$2:$B$462)+LOOKUP(L38,ByM!$A$2:$B$462)+LOOKUP(M38,ByM!$A$2:$B$462)+LOOKUP(N38,ByM!$A$2:$B$462)+LOOKUP(O38,ByM!$A$2:$B$462))","v":0}]
[null,"Objeto","Cama de cirujía automática Pauling",null,1,0,null,7,16,"-","Elixir N3","Un uso por actuación","-","-","-",{"$f":"IF(C39=\"\",\"\",F39+H39-(E39))","v":6},{"$f":"IF(C39=\"\",\"\",LOOKUP(J39,Area!$A$2:$B$71)+LOOKUP(K39,ByM!$A$2:$B$462)+LOOKUP(L39,ByM!$A$2:$B$462)+LOOKUP(M39,ByM!$A$2:$B$462)+LOOKUP(N39,ByM!$A$2:$B$462)+LOOKUP(O39,ByM!$A$2:$B$462))","v":10}]
[null,"Objeto","Cañón lanzador",null,4,0,null,7,19,"-","Distorsión psíquica","Teleport","Tiro parabólico","-","-",{"$f":"IF(C40=\"\",\"\",F40+H40-(E40))","v":3},{"$f":"IF(C40=\"\",\"\",LOOKUP(J40,Area!$A$2:$B$71)+LOOKUP(K40,ByM!$A$2:$B$462)+LOOKUP(L40,ByM!$A$2:$B$462)+LOOKUP(M40,ByM!$A$2:$B$462)+LOOKUP(N40,ByM!$A$2:$B$462)+LOOKUP(O40,ByM!$A$2:$B$462))","v":16}]
[null,"Objeto","Capa de Camuflaje",null,1,0,null,3,12,"-","Camuflaje","-","-","-","-",{"$f":"IF(C41=\"\",\"\",F41+H41-(E41))","v":2},{"$f":"IF(C41=\"\",\"\",LOOKUP(J41,Area!$A$2:$B$71)+LOOKUP(K41,ByM!$A$2:$B$462)+LOOKUP(L41,ByM!$A$2:$B$462)+LOOKUP(M41,ByM!$A$2:$B$462)+LOOKUP(N41,ByM!$A$2:$B$462)+LOOKUP(O41,ByM!$A$2:$B$462))","v":10}]
[null,"Objeto","Capa de hilo fantasma",null,1,0,null,3,1,"-","Invisible","Reliquia","-","-","-",{"$f":"IF(C42=\"\",\"\",F42+H42-(E42))","v":2},{"$f":"IF(C42=\"\",\"\",LOOKUP(J42,Area!$A$2:$B$71)+LOOKUP(K42,ByM!$A$2:$B$462)+LOOKUP(L42,ByM!$A$2:$B$462)+LOOKUP(M42,ByM!$A$2:$B$462)+LOOKUP(N42,ByM!$A$2:$B$462)+LOOKUP(O42,ByM!$A$2:$B$462))","v":-5}]
[null,"Objeto","Capucha psíquica",null,1,0,null,4,13,"-","Runas de combate","-","-","-","-",{"$f":"IF(C43=\"\",\"\",F43+H43-(E43))","v":3},{"$f":"IF(C43=\"\",\"\",LOOKUP(J43,Area!$A$2:$B$71)+LOOKUP(K43,ByM!$A$2:$B$462)+LOOKUP(L43,ByM!$A$2:$B$462)+LOOKUP(M43,ByM!$A$2:$B$462)+LOOKUP(N43,ByM!$A$2:$B$462)+LOOKUP(O43,ByM!$A$2:$B$462))","v":10}]
[null,"Objeto","Catalejo",null,2,0,null,1,8,"-","Visor N03","-","-","-","-",{"$f":"IF(C44=\"\",\"\",F44+H44-(E44))","v":-1},{"$f":"IF(C44=\"\",\"\",LOOKUP(J44,Area!$A$2:$B$71)+LOOKUP(K44,ByM!$A$2:$B$462)+LOOKUP(L44,ByM!$A$2:$B$462)+LOOKUP(M44,ByM!$A$2:$B$462)+LOOKUP(N44,ByM!$A$2:$B$462)+LOOKUP(O44,ByM!$A$2:$B$462))","v":9}]
[null,"Objeto","Chute",null,1,0,null,1,1,"-","Droga","drogas de combate","un uso por actuación","-","-",{"$f":"IF(C45=\"\",\"\",F45+H45-(E45))","v":0},{"$f":"IF(C45=\"\",\"\",LOOKUP(J45,Area!$A$2:$B$71)+LOOKUP(K45,ByM!$A$2:$B$462)+LOOKUP(L45,ByM!$A$2:$B$462)+LOOKUP(M45,ByM!$A$2:$B$462)+LOOKUP(N45,ByM!$A$2:$B$462)+LOOKUP(O45,ByM!$A$2:$B$462))","v":-2}]
[null,"Objeto","Cocaína",null,1,0,null,2,1,"-","Droga","Drogas de combate","Neuropsico","-","-",{"$f":"IF(C46=\"\",\"\",F46+H46-(E46))","v":1},{"$f":"IF(C46=\"\",\"\",LOOKUP(J46,Area!$A$2:$B$71)+LOOKUP(K46,ByM!$A$2:$B$462)+LOOKUP(L46,ByM!$A$2:$B$462)+LOOKUP(M46,ByM!$A$2:$B$462)+LOOKUP(N46,ByM!$A$2:$B$462)+LOOKUP(O46,ByM!$A$2:$B$462))","v":-17}]
[null,"Objeto","Coche de pachachos",null,7,20,null,7,35,"-","Faro","Tropas de infiltración (este objeto se despliega desde la posición de su portador, a tantos K como ALC)","-","-","-",{"$f":"IF(C47=\"\",\"\",F47+H47-(E47))","v":20},{"$f":"IF(C47=\"\",\"\",LOOKUP(J47,Area!$A$2:$B$71)+LOOKUP(K47,ByM!$A$2:$B$462)+LOOKUP(L47,ByM!$A$2:$B$462)+LOOKUP(M47,ByM!$A$2:$B$462)+LOOKUP(N47,ByM!$A$2:$B$462)+LOOKUP(O47,ByM!$A$2:$B$462))","v":15}]
[null,"Objeto","Cojín de pedos",null,4,0,null,2,8,"-","7 vidas","Un uso por aventura","-","-","-",{"$f":"IF(C48=\"\",\"\",F48+H48-(E48))","v":-2},{"$f":"IF(C48=\"\",\"\",LOOKUP(J48,Area!$A$2:$B$71)+LOOKUP(K48,ByM!$A$2:$B$462)+LOOKUP(L48,ByM!$A$2:$B$462)+LOOKUP(M48,ByM!$A$2:$B$462)+LOOKUP(N48,ByM!$A$2:$B$462)+LOOKUP(O48,ByM!$A$2:$B$462))","v":10}]
[null,"Objeto","Comunicador de infiltrador",null,1,0,null,3,3,"-","Comunicador","-","-","-","-",{"$f":"IF(C49=\"\",\"\",F49+H49-(E49))","v":2},{"$f":"IF(C49=\"\",\"\",LOOKUP(J49,Area!$A$2:$B$71)+LOOKUP(K49,ByM!$A$2:$B$462)+LOOKUP(L49,ByM!$A$2:$B$462)+LOOKUP(M49,ByM!$A$2:$B$462)+LOOKUP(N49,ByM!$A$2:$B$462)+LOOKUP(O49,ByM!$A$2:$B$462))","v":1}]
[null,"Objeto","Control remoto de torretas",null,2,5,null,2,5,"-","Vulnerable","Puede utilizar una Torreta inteligente UA 571-C (sin LdV)","-","-","-",{"$f":"IF(C50=\"\",\"\",F50+H50-(E50))","v":5},{"$f":"IF(C50=\"\",\"\",LOOKUP(J50,Area!$A$2:$B$71)+LOOKUP(K50,ByM!$A$2:$B$462)+LOOKUP(L50,ByM!$A$2:$B$462)+LOOKUP(M50,ByM!$A$2:$B$462)+LOOKUP(N50,ByM!$A$2:$B$462)+LOOKUP(O50,ByM!$A$2:$B$462))","v":0}]
[null,"Objeto","Crux terminatus",null,1,0,null,7,26,"-","Salvaguarda","-","-","-","-",{"$f":"IF(C51=\"\",\"\",F51+H51-(E51))","v":6},{"$f":"IF(C51=\"\",\"\",LOOKUP(J51,Area!$A$2:$B$71)+LOOKUP(K51,ByM!$A$2:$B$462)+LOOKUP(L51,ByM!$A$2:$B$462)+LOOKUP(M51,ByM!$A$2:$B$462)+LOOKUP(N51,ByM!$A$2:$B$462)+LOOKUP(O51,ByM!$A$2:$B$462))","v":20}]
[null,"Objeto","Detector alien",null,5,0,null,3,1,"-","Área despreciable (G5/5)","-","-","-","-",{"$f":"IF(C52=\"\",\"\",F52+H52-(E52))","v":-2},{"$f":"IF(C52=\"\",\"\",LOOKUP(J52,Area!$A$2:$B$71)+LOOKUP(K52,ByM!$A$2:$B$462)+LOOKUP(L52,ByM!$A$2:$B$462)+LOOKUP(M52,ByM!$A$2:$B$462)+LOOKUP(N52,ByM!$A$2:$B$462)+LOOKUP(O52,ByM!$A$2:$B$462))","v":3}]
[null,"Objeto","Discurso berserker",null,5,0,null,3,1,"-","Grito berserker","Neuropsico","-","-","-",{"$f":"IF(C53=\"\",\"\",F53+H53-(E53))","v":-2},{"$f":"IF(C53=\"\",\"\",LOOKUP(J53,Area!$A$2:$B$71)+LOOKUP(K53,ByM!$A$2:$B$462)+LOOKUP(L53,ByM!$A$2:$B$462)+LOOKUP(M53,ByM!$A$2:$B$462)+LOOKUP(N53,ByM!$A$2:$B$462)+LOOKUP(O53,ByM!$A$2:$B$462))","v":0}]
[null,"Objeto","Discurso de guerra",null,5,0,null,3,8,"-","Grito de guerra","Neuropsico","-","-","-",{"$f":"IF(C54=\"\",\"\",F54+H54-(E54))","v":-2},{"$f":"IF(C54=\"\",\"\",LOOKUP(J54,Area!$A$2:$B$71)+LOOKUP(K54,ByM!$A$2:$B$462)+LOOKUP(L54,ByM!$A$2:$B$462)+LOOKUP(M54,ByM!$A$2:$B$462)+LOOKUP(N54,ByM!$A$2:$B$462)+LOOKUP(O54,ByM!$A$2:$B$462))","v":10}]
[null,"Objeto","Discurso de odio",null,5,0,null,3,3,"-","Grito de odio","Neuropsico","-","-","-",{"$f":"IF(C55=\"\",\"\",F55+H55-(E55))","v":-2},{"$f":"IF(C55=\"\",\"\",LOOKUP(J55,Area!$A$2:$B$71)+LOOKUP(K55,ByM!$A$2:$B$462)+LOOKUP(L55,ByM!$A$2:$B$462)+LOOKUP(M55,ByM!$A$2:$B$462)+LOOKUP(N55,ByM!$A$2:$B$462)+LOOKUP(O55,ByM!$A$2:$B$462))","v":5}]
[null,"Objeto","Dispositivo de control de sueño",null,3,0,null,7,4,"-","-","-","-","-","-",{"$f":"IF(C56=\"\",\"\",F56+H56-(E56))","v":4},{"$f":"IF(C56=\"\",\"\",LOOKUP(J56,Area!$A$2:$B$71)+LOOKUP(K56,ByM!$A$2:$B$462)+LOOKUP(L56,ByM!$A$2:$B$462)+LOOKUP(M56,ByM!$A$2:$B$462)+LOOKUP(N56,ByM!$A$2:$B$462)+LOOKUP(O56,ByM!$A$2:$B$462))","v":0}]
[null,"Objeto","Dispositivo de diagnosis Seegson",null,3,0,null,3,5,"-","Maestría (arreglar)","-","-","-","-",{"$f":"IF(C57=\"\",\"\",F57+H57-(E57))","v":0},{"$f":"IF(C57=\"\",\"\",LOOKUP(J57,Area!$A$2:$B$71)+LOOKUP(K57,ByM!$A$2:$B$462)+LOOKUP(L57,ByM!$A$2:$B$462)+LOOKUP(M57,ByM!$A$2:$B$462)+LOOKUP(N57,ByM!$A$2:$B$462)+LOOKUP(O57,ByM!$A$2:$B$462))","v":5}]
[null,"Objeto","Dispositivo holográfico",null,1,5,null,7,31,"-","Señuelo","-","-","-","-",{"$f":"IF(C58=\"\",\"\",F58+H58-(E58))","v":11},{"$f":"IF(C58=\"\",\"\",LOOKUP(J58,Area!$A$2:$B$71)+LOOKUP(K58,ByM!$A$2:$B$462)+LOOKUP(L58,ByM!$A$2:$B$462)+LOOKUP(M58,ByM!$A$2:$B$462)+LOOKUP(N58,ByM!$A$2:$B$462)+LOOKUP(O58,ByM!$A$2:$B$462))","v":20}]
[null,"Objeto","Doblón de oro",null,1,0,null,1,5,"-","Teleport","-","-","-","-",{"$f":"IF(C59=\"\",\"\",F59+H59-(E59))","v":0},{"$f":"IF(C59=\"\",\"\",LOOKUP(J59,Area!$A$2:$B$71)+LOOKUP(K59,ByM!$A$2:$B$462)+LOOKUP(L59,ByM!$A$2:$B$462)+LOOKUP(M59,ByM!$A$2:$B$462)+LOOKUP(N59,ByM!$A$2:$B$462)+LOOKUP(O59,ByM!$A$2:$B$462))","v":5}]
[null,"Objeto","Dron de escaneo aéreo",null,3,20,null,7,32,"-","Área despreciable (R20)","Sensor: Detecta tropas sin Línea de visión","-","-","-",{"$f":"IF(C60=\"\",\"\",F60+H60-(E60))","v":24},{"$f":"IF(C60=\"\",\"\",LOOKUP(J60,Area!$A$2:$B$71)+LOOKUP(K60,ByM!$A$2:$B$462)+LOOKUP(L60,ByM!$A$2:$B$462)+LOOKUP(M60,ByM!$A$2:$B$462)+LOOKUP(N60,ByM!$A$2:$B$462)+LOOKUP(O60,ByM!$A$2:$B$462))","v":8}]
[null,"Objeto","El juicio del emperador",null,1,0,null,9,1,"-","Reliquia","Señor del sometimiento","Radiante","-","-",{"$f":"IF(C61=\"\",\"\",F61+H61-(E61))","v":8},{"$f":"IF(C61=\"\",\"\",LOOKUP(J61,Area!$A$2:$B$71)+LOOKUP(K61,ByM!$A$2:$B$462)+LOOKUP(L61,ByM!$A$2:$B$462)+LOOKUP(M61,ByM!$A$2:$B$462)+LOOKUP(N61,ByM!$A$2:$B$462)+LOOKUP(O61,ByM!$A$2:$B$462))","v":-10}]
[null,"Objeto","Espectáculo de acróbatas",null,4,15,null,3,29,"-","Presencia de destreza (acróbatas)","Un uso por aventura","-","-","-",{"$f":"IF(C62=\"\",\"\",F62+H62-(E62))","v":14},{"$f":"IF(C62=\"\",\"\",LOOKUP(J62,Area!$A$2:$B$71)+LOOKUP(K62,ByM!$A$2:$B$462)+LOOKUP(L62,ByM!$A$2:$B$462)+LOOKUP(M62,ByM!$A$2:$B$462)+LOOKUP(N62,ByM!$A$2:$B$462)+LOOKUP(O62,ByM!$A$2:$B$462))","v":15}]
[null,"Objeto","Espectáculo de atención",null,4,0,null,3,1,"-","Radiante","Un uso por aventura","-","-","-",{"$f":"IF(C63=\"\",\"\",F63+H63-(E63))","v":-1},{"$f":"IF(C63=\"\",\"\",LOOKUP(J63,Area!$A$2:$B$71)+LOOKUP(K63,ByM!$A$2:$B$462)+LOOKUP(L63,ByM!$A$2:$B$462)+LOOKUP(M63,ByM!$A$2:$B$462)+LOOKUP(N63,ByM!$A$2:$B$462)+LOOKUP(O63,ByM!$A$2:$B$462))","v":-20}]
[null,"Objeto","Espectáculo de domadores",null,4,15,null,3,29,"-","Presencia de honor (domadores)","Un uso por aventura","-","-","-",{"$f":"IF(C64=\"\",\"\",F64+H64-(E64))","v":14},{"$f":"IF(C64=\"\",\"\",LOOKUP(J64,Area!$A$2:$B$71)+LOOKUP(K64,ByM!$A$2:$B$462)+LOOKUP(L64,ByM!$A$2:$B$462)+LOOKUP(M64,ByM!$A$2:$B$462)+LOOKUP(N64,ByM!$A$2:$B$462)+LOOKUP(O64,ByM!$A$2:$B$462))","v":15}]
[null,"Objeto","Espectáculo de forzudos",null,4,15,null,3,29,"-","Presencia de fuerza (forzudos)","Un uso por aventura","-","-","-",{"$f":"IF(C65=\"\",\"\",F65+H65-(E65))","v":14},{"$f":"IF(C65=\"\",\"\",LOOKUP(J65,Area!$A$2:$B$71)+LOOKUP(K65,ByM!$A$2:$B$462)+LOOKUP(L65,ByM!$A$2:$B$462)+LOOKUP(M65,ByM!$A$2:$B$462)+LOOKUP(N65,ByM!$A$2:$B$462)+LOOKUP(O65,ByM!$A$2:$B$462))","v":15}]
[null,"Objeto","Espectáculo de pachachos",null,4,15,null,3,34,"-","Presencia de protección (pachachos)","Un uso por aventura","-","-","-",{"$f":"IF(C66=\"\",\"\",F66+H66-(E66))","v":14},{"$f":"IF(C66=\"\",\"\",LOOKUP(J66,Area!$A$2:$B$71)+LOOKUP(K66,ByM!$A$2:$B$462)+LOOKUP(L66,ByM!$A$2:$B$462)+LOOKUP(M66,ByM!$A$2:$B$462)+LOOKUP(N66,ByM!$A$2:$B$462)+LOOKUP(O66,ByM!$A$2:$B$462))","v":20}]
[null,"Objeto","Estandarte astartes ",null,1,0,null,3,52,"-","Estandarte","Grito de venganza","-","-","-",{"$f":"IF(C67=\"\",\"\",F67+H67-(E67))","v":2},{"$f":"IF(C67=\"\",\"\",LOOKUP(J67,Area!$A$2:$B$71)+LOOKUP(K67,ByM!$A$2:$B$462)+LOOKUP(L67,ByM!$A$2:$B$462)+LOOKUP(M67,ByM!$A$2:$B$462)+LOOKUP(N67,ByM!$A$2:$B$462)+LOOKUP(O67,ByM!$A$2:$B$462))","v":50}]
[null,"Objeto","Estandarte de la venganza",null,1,0,null,3,52,"-","Estandarte","Grito de venganza","-","-","-",{"$f":"IF(C68=\"\",\"\",F68+H68-(E68))","v":2},{"$f":"IF(C68=\"\",\"\",LOOKUP(J68,Area!$A$2:$B$71)+LOOKUP(K68,ByM!$A$2:$B$462)+LOOKUP(L68,ByM!$A$2:$B$462)+LOOKUP(M68,ByM!$A$2:$B$462)+LOOKUP(N68,ByM!$A$2:$B$462)+LOOKUP(O68,ByM!$A$2:$B$462))","v":50}]
[null,"Objeto","Estandarte del capítulo",null,1,0,null,3,57,"-","Estandarte","Grito de odio","-","-","-",{"$f":"IF(C69=\"\",\"\",F69+H69-(E69))","v":2},{"$f":"IF(C69=\"\",\"\",LOOKUP(J69,Area!$A$2:$B$71)+LOOKUP(K69,ByM!$A$2:$B$462)+LOOKUP(L69,ByM!$A$2:$B$462)+LOOKUP(M69,ByM!$A$2:$B$462)+LOOKUP(N69,ByM!$A$2:$B$462)+LOOKUP(O69,ByM!$A$2:$B$462))","v":55}]
[null,"Objeto","Estandarte del Dios ascendente",null,1,0,null,9,58,"-","Estandarte","Aura de obstinación","Reliquia","-","-",{"$f":"IF(C70=\"\",\"\",F70+H70-(E70))","v":8},{"$f":"IF(C70=\"\",\"\",LOOKUP(J70,Area!$A$2:$B$71)+LOOKUP(K70,ByM!$A$2:$B$462)+LOOKUP(L70,ByM!$A$2:$B$462)+LOOKUP(M70,ByM!$A$2:$B$462)+LOOKUP(N70,ByM!$A$2:$B$462)+LOOKUP(O70,ByM!$A$2:$B$462))","v":50}]
[null,"Objeto","Estandarte del emperador ascendente",null,1,0,null,9,58,"-","Aura de obstinación","Estandarte","Reliquia","-","-",{"$f":"IF(C71=\"\",\"\",F71+H71-(E71))","v":8},{"$f":"IF(C71=\"\",\"\",LOOKUP(J71,Area!$A$2:$B$71)+LOOKUP(K71,ByM!$A$2:$B$462)+LOOKUP(L71,ByM!$A$2:$B$462)+LOOKUP(M71,ByM!$A$2:$B$462)+LOOKUP(N71,ByM!$A$2:$B$462)+LOOKUP(O71,ByM!$A$2:$B$462))","v":50}]
[null,"Objeto","Estandarte del odio",null,1,0,null,3,57,"-","Estandarte","Grito de odio","-","-","-",{"$f":"IF(C72=\"\",\"\",F72+H72-(E72))","v":2},{"$f":"IF(C72=\"\",\"\",LOOKUP(J72,Area!$A$2:$B$71)+LOOKUP(K72,ByM!$A$2:$B$462)+LOOKUP(L72,ByM!$A$2:$B$462)+LOOKUP(M72,ByM!$A$2:$B$462)+LOOKUP(N72,ByM!$A$2:$B$462)+LOOKUP(O72,ByM!$A$2:$B$462))","v":55}]
[null,"Objeto","Estandarte del odio justiciero",null,1,0,null,3,42,"-","Estandarte","Grito de venganza","Munición teledirigida","Reliquia","-",{"$f":"IF(C73=\"\",\"\",F73+H73-(E73))","v":2},{"$f":"IF(C73=\"\",\"\",LOOKUP(J73,Area!$A$2:$B$71)+LOOKUP(K73,ByM!$A$2:$B$462)+LOOKUP(L73,ByM!$A$2:$B$462)+LOOKUP(M73,ByM!$A$2:$B$462)+LOOKUP(N73,ByM!$A$2:$B$462)+LOOKUP(O73,ByM!$A$2:$B$462))","v":40}]
[null,"Objeto","Flor escupe agua",null,1,0,null,2,1,"-","Trilero","Un uso por aventura","-","-","-",{"$f":"IF(C74=\"\",\"\",F74+H74-(E74))","v":1},{"$f":"IF(C74=\"\",\"\",LOOKUP(J74,Area!$A$2:$B$71)+LOOKUP(K74,ByM!$A$2:$B$462)+LOOKUP(L74,ByM!$A$2:$B$462)+LOOKUP(M74,ByM!$A$2:$B$462)+LOOKUP(N74,ByM!$A$2:$B$462)+LOOKUP(O74,ByM!$A$2:$B$462))","v":-2}]
[null,"Objeto","Gato amargado",null,1,0,null,7,21,"-","Fortuna","-","-","-","-",{"$f":"IF(C75=\"\",\"\",F75+H75-(E75))","v":6},{"$f":"IF(C75=\"\",\"\",LOOKUP(J75,Area!$A$2:$B$71)+LOOKUP(K75,ByM!$A$2:$B$462)+LOOKUP(L75,ByM!$A$2:$B$462)+LOOKUP(M75,ByM!$A$2:$B$462)+LOOKUP(N75,ByM!$A$2:$B$462)+LOOKUP(O75,ByM!$A$2:$B$462))","v":15}]
[null,"Objeto","Globo que flota",null,3,0,null,1,1,"-","Bomba viviente","Un uso por aventura","-","-","-",{"$f":"IF(C76=\"\",\"\",F76+H76-(E76))","v":-2},{"$f":"IF(C76=\"\",\"\",LOOKUP(J76,Area!$A$2:$B$71)+LOOKUP(K76,ByM!$A$2:$B$462)+LOOKUP(L76,ByM!$A$2:$B$462)+LOOKUP(M76,ByM!$A$2:$B$462)+LOOKUP(N76,ByM!$A$2:$B$462)+LOOKUP(O76,ByM!$A$2:$B$462))","v":-5}]
[null,"Objeto","Grabadora de cintas Seegson C-Series",null,2,0,null,1,2,"R2","-","-","-","-","-",{"$f":"IF(C77=\"\",\"\",F77+H77-(E77))","v":-1},{"$f":"IF(C77=\"\",\"\",LOOKUP(J77,Area!$A$2:$B$71)+LOOKUP(K77,ByM!$A$2:$B$462)+LOOKUP(L77,ByM!$A$2:$B$462)+LOOKUP(M77,ByM!$A$2:$B$462)+LOOKUP(N77,ByM!$A$2:$B$462)+LOOKUP(O77,ByM!$A$2:$B$462))","v":3}]
[null,"Objeto","Guante con descarga",null,1,0,null,2,1,"-","Sangre de ácido","Un uso por aventura","-","-","-",{"$f":"IF(C78=\"\",\"\",F78+H78-(E78))","v":1},{"$f":"IF(C78=\"\",\"\",LOOKUP(J78,Area!$A$2:$B$71)+LOOKUP(K78,ByM!$A$2:$B$462)+LOOKUP(L78,ByM!$A$2:$B$462)+LOOKUP(M78,ByM!$A$2:$B$462)+LOOKUP(N78,ByM!$A$2:$B$462)+LOOKUP(O78,ByM!$A$2:$B$462))","v":-5}]
[null,"Objeto","Guantelete hélix",null,1,0,null,3,17,"-","Fortuna","-","-","-","-",{"$f":"IF(C79=\"\",\"\",F79+H79-(E79))","v":2},{"$f":"IF(C79=\"\",\"\",LOOKUP(J79,Area!$A$2:$B$71)+LOOKUP(K79,ByM!$A$2:$B$462)+LOOKUP(L79,ByM!$A$2:$B$462)+LOOKUP(M79,ByM!$A$2:$B$462)+LOOKUP(N79,ByM!$A$2:$B$462)+LOOKUP(O79,ByM!$A$2:$B$462))","v":15}]
[null,"Objeto","Habichuela mágica",null,3,0,null,1,8,"-","Droga","elixir N3","-","-","-",{"$f":"IF(C80=\"\",\"\",F80+H80-(E80))","v":-2},{"$f":"IF(C80=\"\",\"\",LOOKUP(J80,Area!$A$2:$B$71)+LOOKUP(K80,ByM!$A$2:$B$462)+LOOKUP(L80,ByM!$A$2:$B$462)+LOOKUP(M80,ByM!$A$2:$B$462)+LOOKUP(N80,ByM!$A$2:$B$462)+LOOKUP(O80,ByM!$A$2:$B$462))","v":10}]
[null,"Objeto","Halo indómitus",null,1,0,null,5,11,"-","Reliquia","Salvaguarda","Afortunado","-","-",{"$f":"IF(C81=\"\",\"\",F81+H81-(E81))","v":4},{"$f":"IF(C81=\"\",\"\",LOOKUP(J81,Area!$A$2:$B$71)+LOOKUP(K81,ByM!$A$2:$B$462)+LOOKUP(L81,ByM!$A$2:$B$462)+LOOKUP(M81,ByM!$A$2:$B$462)+LOOKUP(N81,ByM!$A$2:$B$462)+LOOKUP(O81,ByM!$A$2:$B$462))","v":7}]
[null,"Objeto","Herramientas",null,3,0,null,4,6,"-","Maestría (arreglar)","-","-","-","-",{"$f":"IF(C82=\"\",\"\",F82+H82-(E82))","v":1},{"$f":"IF(C82=\"\",\"\",LOOKUP(J82,Area!$A$2:$B$71)+LOOKUP(K82,ByM!$A$2:$B$462)+LOOKUP(L82,ByM!$A$2:$B$462)+LOOKUP(M82,ByM!$A$2:$B$462)+LOOKUP(N82,ByM!$A$2:$B$462)+LOOKUP(O82,ByM!$A$2:$B$462))","v":5}]
[null,"Objeto","Herramientas electrónicas",null,2,0,null,3,11,"-","Maestría (arreglar)","Maestría (mecanismos)","-","-","-",{"$f":"IF(C83=\"\",\"\",F83+H83-(E83))","v":1},{"$f":"IF(C83=\"\",\"\",LOOKUP(J83,Area!$A$2:$B$71)+LOOKUP(K83,ByM!$A$2:$B$462)+LOOKUP(L83,ByM!$A$2:$B$462)+LOOKUP(M83,ByM!$A$2:$B$462)+LOOKUP(N83,ByM!$A$2:$B$462)+LOOKUP(O83,ByM!$A$2:$B$462))","v":10}]
[null,"Objeto","Hierba de la buena",null,1,0,null,2,1,"-","Droga","Elixir N1","-","-","-",{"$f":"IF(C84=\"\",\"\",F84+H84-(E84))","v":1},{"$f":"IF(C84=\"\",\"\",LOOKUP(J84,Area!$A$2:$B$71)+LOOKUP(K84,ByM!$A$2:$B$462)+LOOKUP(L84,ByM!$A$2:$B$462)+LOOKUP(M84,ByM!$A$2:$B$462)+LOOKUP(N84,ByM!$A$2:$B$462)+LOOKUP(O84,ByM!$A$2:$B$462))","v":0}]
[null,"Objeto","Hierbas curativas",null,3,0,null,3,5,"-","Maestría (Curar)","-","-","-","-",{"$f":"IF(C85=\"\",\"\",F85+H85-(E85))","v":0},{"$f":"IF(C85=\"\",\"\",LOOKUP(J85,Area!$A$2:$B$71)+LOOKUP(K85,ByM!$A$2:$B$462)+LOOKUP(L85,ByM!$A$2:$B$462)+LOOKUP(M85,ByM!$A$2:$B$462)+LOOKUP(N85,ByM!$A$2:$B$462)+LOOKUP(O85,ByM!$A$2:$B$462))","v":5}]
[null,"Objeto","Holotab",null,1,0,null,7,11,"-","Orador","-","-","-","-",{"$f":"IF(C86=\"\",\"\",F86+H86-(E86))","v":6},{"$f":"IF(C86=\"\",\"\",LOOKUP(J86,Area!$A$2:$B$71)+LOOKUP(K86,ByM!$A$2:$B$462)+LOOKUP(L86,ByM!$A$2:$B$462)+LOOKUP(M86,ByM!$A$2:$B$462)+LOOKUP(N86,ByM!$A$2:$B$462)+LOOKUP(O86,ByM!$A$2:$B$462))","v":5}]
[null,"Objeto","Honor vehemente",null,1,0,null,2,6,"-","Reliquia","Grito de maestría","-","-","-",{"$f":"IF(C87=\"\",\"\",F87+H87-(E87))","v":1},{"$f":"IF(C87=\"\",\"\",LOOKUP(J87,Area!$A$2:$B$71)+LOOKUP(K87,ByM!$A$2:$B$462)+LOOKUP(L87,ByM!$A$2:$B$462)+LOOKUP(M87,ByM!$A$2:$B$462)+LOOKUP(N87,ByM!$A$2:$B$462)+LOOKUP(O87,ByM!$A$2:$B$462))","v":5}]
[null,"Objeto","Huida afortunada",null,1,0,null,4,18,"-","Elixir N3","-","-","-","-",{"$f":"IF(C88=\"\",\"\",F88+H88-(E88))","v":3},{"$f":"IF(C88=\"\",\"\",LOOKUP(J88,Area!$A$2:$B$71)+LOOKUP(K88,ByM!$A$2:$B$462)+LOOKUP(L88,ByM!$A$2:$B$462)+LOOKUP(M88,ByM!$A$2:$B$462)+LOOKUP(N88,ByM!$A$2:$B$462)+LOOKUP(O88,ByM!$A$2:$B$462))","v":15}]
[null,"Objeto","Ingenio humano",null,3,0,null,3,1,"-","Trilero","Un uso por aventura","-","-","-",{"$f":"IF(C89=\"\",\"\",F89+H89-(E89))","v":0},{"$f":"IF(C89=\"\",\"\",LOOKUP(J89,Area!$A$2:$B$71)+LOOKUP(K89,ByM!$A$2:$B$462)+LOOKUP(L89,ByM!$A$2:$B$462)+LOOKUP(M89,ByM!$A$2:$B$462)+LOOKUP(N89,ByM!$A$2:$B$462)+LOOKUP(O89,ByM!$A$2:$B$462))","v":-2}]
[null,"Objeto","Inyectable Naproleve",null,1,0,null,2,6,"-","Droga","Elixir N2","-","-","-",{"$f":"IF(C90=\"\",\"\",F90+H90-(E90))","v":1},{"$f":"IF(C90=\"\",\"\",LOOKUP(J90,Area!$A$2:$B$71)+LOOKUP(K90,ByM!$A$2:$B$462)+LOOKUP(L90,ByM!$A$2:$B$462)+LOOKUP(M90,ByM!$A$2:$B$462)+LOOKUP(N90,ByM!$A$2:$B$462)+LOOKUP(O90,ByM!$A$2:$B$462))","v":5}]
[null,"Objeto","Jet pack",null,1,0,null,5,14,"-","Súper salto","-","-","-","-",{"$f":"IF(C91=\"\",\"\",F91+H91-(E91))","v":4},{"$f":"IF(C91=\"\",\"\",LOOKUP(J91,Area!$A$2:$B$71)+LOOKUP(K91,ByM!$A$2:$B$462)+LOOKUP(L91,ByM!$A$2:$B$462)+LOOKUP(M91,ByM!$A$2:$B$462)+LOOKUP(N91,ByM!$A$2:$B$462)+LOOKUP(O91,ByM!$A$2:$B$462))","v":10}]
[null,"Objeto","Lanzador de halos infernum",null,1,0,null,7,21,"-","De precisión","-","-","-","-",{"$f":"IF(C92=\"\",\"\",F92+H92-(E92))","v":6},{"$f":"IF(C92=\"\",\"\",LOOKUP(J92,Area!$A$2:$B$71)+LOOKUP(K92,ByM!$A$2:$B$462)+LOOKUP(L92,ByM!$A$2:$B$462)+LOOKUP(M92,ByM!$A$2:$B$462)+LOOKUP(N92,ByM!$A$2:$B$462)+LOOKUP(O92,ByM!$A$2:$B$462))","v":15}]
[null,"Objeto","Lanzadores automáticos",null,3,0,null,5,1,"-","Humo","Un uso por actuación","-","-","-",{"$f":"IF(C93=\"\",\"\",F93+H93-(E93))","v":2},{"$f":"IF(C93=\"\",\"\",LOOKUP(J93,Area!$A$2:$B$71)+LOOKUP(K93,ByM!$A$2:$B$462)+LOOKUP(L93,ByM!$A$2:$B$462)+LOOKUP(M93,ByM!$A$2:$B$462)+LOOKUP(N93,ByM!$A$2:$B$462)+LOOKUP(O93,ByM!$A$2:$B$462))","v":-2}]
[null,"Objeto","Lanzadores de asalto",null,3,0,null,5,3,"-","Humo denso","Un uso por actuación","-","-","-",{"$f":"IF(C94=\"\",\"\",F94+H94-(E94))","v":2},{"$f":"IF(C94=\"\",\"\",LOOKUP(J94,Area!$A$2:$B$71)+LOOKUP(K94,ByM!$A$2:$B$462)+LOOKUP(L94,ByM!$A$2:$B$462)+LOOKUP(M94,ByM!$A$2:$B$462)+LOOKUP(N94,ByM!$A$2:$B$462)+LOOKUP(O94,ByM!$A$2:$B$462))","v":1}]
[null,"Objeto","Lanzagarfios",null,1,0,null,3,17,"-","Tropas tras las líneas enemigas","Araña","-","-","-",{"$f":"IF(C95=\"\",\"\",F95+H95-(E95))","v":2},{"$f":"IF(C95=\"\",\"\",LOOKUP(J95,Area!$A$2:$B$71)+LOOKUP(K95,ByM!$A$2:$B$462)+LOOKUP(L95,ByM!$A$2:$B$462)+LOOKUP(M95,ByM!$A$2:$B$462)+LOOKUP(N95,ByM!$A$2:$B$462)+LOOKUP(O95,ByM!$A$2:$B$462))","v":15}]
[null,"Objeto","Libro de Invocaciones",null,3,0,null,3,20,"-","Maná N3","Profesión sabio","Vulnerable","-","-",{"$f":"IF(C96=\"\",\"\",F96+H96-(E96))","v":0},{"$f":"IF(C96=\"\",\"\",LOOKUP(J96,Area!$A$2:$B$71)+LOOKUP(K96,ByM!$A$2:$B$462)+LOOKUP(L96,ByM!$A$2:$B$462)+LOOKUP(M96,ByM!$A$2:$B$462)+LOOKUP(N96,ByM!$A$2:$B$462)+LOOKUP(O96,ByM!$A$2:$B$462))","v":20}]
[null,"Objeto","Linterna",null,2,0,null,2,5,"-","Área despreciable (G6/2)","Luz","-","-","-",{"$f":"IF(C97=\"\",\"\",F97+H97-(E97))","v":0},{"$f":"IF(C97=\"\",\"\",LOOKUP(J97,Area!$A$2:$B$71)+LOOKUP(K97,ByM!$A$2:$B$462)+LOOKUP(L97,ByM!$A$2:$B$462)+LOOKUP(M97,ByM!$A$2:$B$462)+LOOKUP(N97,ByM!$A$2:$B$462)+LOOKUP(O97,ByM!$A$2:$B$462))","v":5}]
[null,"Objeto","Llave maestra",null,1,0,null,3,7,"-","Maestría (cerraduras)","-","-","-","-",{"$f":"IF(C98=\"\",\"\",F98+H98-(E98))","v":2},{"$f":"IF(C98=\"\",\"\",LOOKUP(J98,Area!$A$2:$B$71)+LOOKUP(K98,ByM!$A$2:$B$462)+LOOKUP(L98,ByM!$A$2:$B$462)+LOOKUP(M98,ByM!$A$2:$B$462)+LOOKUP(N98,ByM!$A$2:$B$462)+LOOKUP(O98,ByM!$A$2:$B$462))","v":5}]
[null,"Objeto","Llave martillo",null,3,0,null,2,1,"-","Maestría (arreglar)","Lastrado","-","-","-",{"$f":"IF(C99=\"\",\"\",F99+H99-(E99))","v":-1},{"$f":"IF(C99=\"\",\"\",LOOKUP(J99,Area!$A$2:$B$71)+LOOKUP(K99,ByM!$A$2:$B$462)+LOOKUP(L99,ByM!$A$2:$B$462)+LOOKUP(M99,ByM!$A$2:$B$462)+LOOKUP(N99,ByM!$A$2:$B$462)+LOOKUP(O99,ByM!$A$2:$B$462))","v":0}]
[null,"Objeto","Loto negro estigio",null,1,0,null,2,1,"-","Droga","Drogas de combate","Neuropsico","-","-",{"$f":"IF(C100=\"\",\"\",F100+H100-(E100))","v":1},{"$f":"IF(C100=\"\",\"\",LOOKUP(J100,Area!$A$2:$B$71)+LOOKUP(K100,ByM!$A$2:$B$462)+LOOKUP(L100,ByM!$A$2:$B$462)+LOOKUP(M100,ByM!$A$2:$B$462)+LOOKUP(N100,ByM!$A$2:$B$462)+LOOKUP(O100,ByM!$A$2:$B$462))","v":-17}]
[null,"Objeto","Mastín",null,1,0,null,5,14,"-","Profesión gladiador","-","-","-","-",{"$f":"IF(C101=\"\",\"\",F101+H101-(E101))","v":4},{"$f":"IF(C101=\"\",\"\",LOOKUP(J101,Area!$A$2:$B$71)+LOOKUP(K101,ByM!$A$2:$B$462)+LOOKUP(L101,ByM!$A$2:$B$462)+LOOKUP(M101,ByM!$A$2:$B$462)+LOOKUP(N101,ByM!$A$2:$B$462)+LOOKUP(O101,ByM!$A$2:$B$462))","v":10}]
[null,"Objeto","Medikit de cirujía",null,2,0,null,2,10,"-","Maestría (curar)","Maestría (medicina)","-","-","-",{"$f":"IF(C102=\"\",\"\",F102+H102-(E102))","v":0},{"$f":"IF(C102=\"\",\"\",LOOKUP(J102,Area!$A$2:$B$71)+LOOKUP(K102,ByM!$A$2:$B$462)+LOOKUP(L102,ByM!$A$2:$B$462)+LOOKUP(M102,ByM!$A$2:$B$462)+LOOKUP(N102,ByM!$A$2:$B$462)+LOOKUP(O102,ByM!$A$2:$B$462))","v":10}]
[null,"Objeto","Medikit personal",null,2,0,null,2,5,"-","Maestría (curar)","-","-","-","-",{"$f":"IF(C103=\"\",\"\",F103+H103-(E103))","v":0},{"$f":"IF(C103=\"\",\"\",LOOKUP(J103,Area!$A$2:$B$71)+LOOKUP(K103,ByM!$A$2:$B$462)+LOOKUP(L103,ByM!$A$2:$B$462)+LOOKUP(M103,ByM!$A$2:$B$462)+LOOKUP(N103,ByM!$A$2:$B$462)+LOOKUP(O103,ByM!$A$2:$B$462))","v":5}]
[null,"Objeto","Memoria cinta magnética",null,1,0,null,2,1,"-","-","-","-","-","-",{"$f":"IF(C104=\"\",\"\",F104+H104-(E104))","v":1},{"$f":"IF(C104=\"\",\"\",LOOKUP(J104,Area!$A$2:$B$71)+LOOKUP(K104,ByM!$A$2:$B$462)+LOOKUP(L104,ByM!$A$2:$B$462)+LOOKUP(M104,ByM!$A$2:$B$462)+LOOKUP(N104,ByM!$A$2:$B$462)+LOOKUP(O104,ByM!$A$2:$B$462))","v":0}]
[null,"Objeto","Memoria disco alta capacidad",null,1,0,null,2,1,"-","-","-","-","-","-",{"$f":"IF(C105=\"\",\"\",F105+H105-(E105))","v":1},{"$f":"IF(C105=\"\",\"\",LOOKUP(J105,Area!$A$2:$B$71)+LOOKUP(K105,ByM!$A$2:$B$462)+LOOKUP(L105,ByM!$A$2:$B$462)+LOOKUP(M105,ByM!$A$2:$B$462)+LOOKUP(N105,ByM!$A$2:$B$462)+LOOKUP(O105,ByM!$A$2:$B$462))","v":0}]
[null,"Objeto","Mesa holográfica Microview-2000SE",null,1,30,null,7,37,"-","Comunicador","(No puede enviar datos sólo visionarlos)","-","-","-",{"$f":"IF(C106=\"\",\"\",F106+H106-(E106))","v":36},{"$f":"IF(C106=\"\",\"\",LOOKUP(J106,Area!$A$2:$B$71)+LOOKUP(K106,ByM!$A$2:$B$462)+LOOKUP(L106,ByM!$A$2:$B$462)+LOOKUP(M106,ByM!$A$2:$B$462)+LOOKUP(N106,ByM!$A$2:$B$462)+LOOKUP(O106,ByM!$A$2:$B$462))","v":1}]
[null,"Objeto","Metal pesado",null,2,0,null,6,19,"-","Baño de acero","-","-","-","-",{"$f":"IF(C107=\"\",\"\",F107+H107-(E107))","v":4},{"$f":"IF(C107=\"\",\"\",LOOKUP(J107,Area!$A$2:$B$71)+LOOKUP(K107,ByM!$A$2:$B$462)+LOOKUP(L107,ByM!$A$2:$B$462)+LOOKUP(M107,ByM!$A$2:$B$462)+LOOKUP(N107,ByM!$A$2:$B$462)+LOOKUP(O107,ByM!$A$2:$B$462))","v":15}]
[null,"Objeto","Mira óptica infra",null,1,0,null,2,8,"-","Visor N01","Radar","-","-","-",{"$f":"IF(C108=\"\",\"\",F108+H108-(E108))","v":1},{"$f":"IF(C108=\"\",\"\",LOOKUP(J108,Area!$A$2:$B$71)+LOOKUP(K108,ByM!$A$2:$B$462)+LOOKUP(L108,ByM!$A$2:$B$462)+LOOKUP(M108,ByM!$A$2:$B$462)+LOOKUP(N108,ByM!$A$2:$B$462)+LOOKUP(O108,ByM!$A$2:$B$462))","v":7}]
[null,"Objeto","Mira óptica larga",null,1,0,null,2,10,"-","Visor N03","-","-","-","-",{"$f":"IF(C109=\"\",\"\",F109+H109-(E109))","v":1},{"$f":"IF(C109=\"\",\"\",LOOKUP(J109,Area!$A$2:$B$71)+LOOKUP(K109,ByM!$A$2:$B$462)+LOOKUP(L109,ByM!$A$2:$B$462)+LOOKUP(M109,ByM!$A$2:$B$462)+LOOKUP(N109,ByM!$A$2:$B$462)+LOOKUP(O109,ByM!$A$2:$B$462))","v":9}]
[null,"Objeto","Mira óptica media",null,1,0,null,2,7,"-","Visor N02","-","-","-","-",{"$f":"IF(C110=\"\",\"\",F110+H110-(E110))","v":1},{"$f":"IF(C110=\"\",\"\",LOOKUP(J110,Area!$A$2:$B$71)+LOOKUP(K110,ByM!$A$2:$B$462)+LOOKUP(L110,ByM!$A$2:$B$462)+LOOKUP(M110,ByM!$A$2:$B$462)+LOOKUP(N110,ByM!$A$2:$B$462)+LOOKUP(O110,ByM!$A$2:$B$462))","v":6}]
[null,"Objeto","Mira óptica nocturna",null,1,0,null,2,9,"-","Visor N01","Súper sentidos","-","-","-",{"$f":"IF(C111=\"\",\"\",F111+H111-(E111))","v":1},{"$f":"IF(C111=\"\",\"\",LOOKUP(J111,Area!$A$2:$B$71)+LOOKUP(K111,ByM!$A$2:$B$462)+LOOKUP(L111,ByM!$A$2:$B$462)+LOOKUP(M111,ByM!$A$2:$B$462)+LOOKUP(N111,ByM!$A$2:$B$462)+LOOKUP(O111,ByM!$A$2:$B$462))","v":8}]
[null,"Objeto","Mira telescópica",null,3,0,null,3,18,"-","Visor N06","-","-","-","-",{"$f":"IF(C112=\"\",\"\",F112+H112-(E112))","v":0},{"$f":"IF(C112=\"\",\"\",LOOKUP(J112,Area!$A$2:$B$71)+LOOKUP(K112,ByM!$A$2:$B$462)+LOOKUP(L112,ByM!$A$2:$B$462)+LOOKUP(M112,ByM!$A$2:$B$462)+LOOKUP(N112,ByM!$A$2:$B$462)+LOOKUP(O112,ByM!$A$2:$B$462))","v":18}]
[null,"Objeto","Munición chatarrera",null,1,0,null,1,1,"-","Peligro","Sin suerte","-","-","-",{"$f":"IF(C113=\"\",\"\",F113+H113-(E113))","v":0},{"$f":"IF(C113=\"\",\"\",LOOKUP(J113,Area!$A$2:$B$71)+LOOKUP(K113,ByM!$A$2:$B$462)+LOOKUP(L113,ByM!$A$2:$B$462)+LOOKUP(M113,ByM!$A$2:$B$462)+LOOKUP(N113,ByM!$A$2:$B$462)+LOOKUP(O113,ByM!$A$2:$B$462))","v":-20}]
[null,"Objeto","Munición contaminada",null,3,0,null,3,5,"-","Munición corrosiva","Peligro","-","-","-",{"$f":"IF(C114=\"\",\"\",F114+H114-(E114))","v":0},{"$f":"IF(C114=\"\",\"\",LOOKUP(J114,Area!$A$2:$B$71)+LOOKUP(K114,ByM!$A$2:$B$462)+LOOKUP(L114,ByM!$A$2:$B$462)+LOOKUP(M114,ByM!$A$2:$B$462)+LOOKUP(N114,ByM!$A$2:$B$462)+LOOKUP(O114,ByM!$A$2:$B$462))","v":5}]
[null,"Objeto","Munición irradiada",null,2,0,null,1,4,"-","Munición radiactiva","Peligro","-","-","-",{"$f":"IF(C115=\"\",\"\",F115+H115-(E115))","v":-1},{"$f":"IF(C115=\"\",\"\",LOOKUP(J115,Area!$A$2:$B$71)+LOOKUP(K115,ByM!$A$2:$B$462)+LOOKUP(L115,ByM!$A$2:$B$462)+LOOKUP(M115,ByM!$A$2:$B$462)+LOOKUP(N115,ByM!$A$2:$B$462)+LOOKUP(O115,ByM!$A$2:$B$462))","v":5}]
[null,"Objeto","Nariz de pachacho",null,1,0,null,2,9,"-","Tropas ocultas","-","-","-","-",{"$f":"IF(C116=\"\",\"\",F116+H116-(E116))","v":1},{"$f":"IF(C116=\"\",\"\",LOOKUP(J116,Area!$A$2:$B$71)+LOOKUP(K116,ByM!$A$2:$B$462)+LOOKUP(L116,ByM!$A$2:$B$462)+LOOKUP(M116,ByM!$A$2:$B$462)+LOOKUP(N116,ByM!$A$2:$B$462)+LOOKUP(O116,ByM!$A$2:$B$462))","v":8}]
[null,"Objeto","Narthecium ",null,5,0,null,5,10,"-","Maestría (curar)","Niega (droga)","-","-","-",{"$f":"IF(C117=\"\",\"\",F117+H117-(E117))","v":0},{"$f":"IF(C117=\"\",\"\",LOOKUP(J117,Area!$A$2:$B$71)+LOOKUP(K117,ByM!$A$2:$B$462)+LOOKUP(L117,ByM!$A$2:$B$462)+LOOKUP(M117,ByM!$A$2:$B$462)+LOOKUP(N117,ByM!$A$2:$B$462)+LOOKUP(O117,ByM!$A$2:$B$462))","v":10}]
[null,"Objeto","Nube de polvo",null,2,0,null,3,1,"-","Humo","Un uso por actuación","-","-","-",{"$f":"IF(C118=\"\",\"\",F118+H118-(E118))","v":1},{"$f":"IF(C118=\"\",\"\",LOOKUP(J118,Area!$A$2:$B$71)+LOOKUP(K118,ByM!$A$2:$B$462)+LOOKUP(L118,ByM!$A$2:$B$462)+LOOKUP(M118,ByM!$A$2:$B$462)+LOOKUP(N118,ByM!$A$2:$B$462)+LOOKUP(O118,ByM!$A$2:$B$462))","v":-2}]
[null,"Objeto","Omni-interferidor",null,1,0,null,3,12,"-","Distorsión psíquica","-","-","-","-",{"$f":"IF(C119=\"\",\"\",F119+H119-(E119))","v":2},{"$f":"IF(C119=\"\",\"\",LOOKUP(J119,Area!$A$2:$B$71)+LOOKUP(K119,ByM!$A$2:$B$462)+LOOKUP(L119,ByM!$A$2:$B$462)+LOOKUP(M119,ByM!$A$2:$B$462)+LOOKUP(N119,ByM!$A$2:$B$462)+LOOKUP(O119,ByM!$A$2:$B$462))","v":10}]
[null,"Objeto","Omniscopio",null,1,0,null,3,7,"-","Munición buscadora","-","-","-","-",{"$f":"IF(C120=\"\",\"\",F120+H120-(E120))","v":2},{"$f":"IF(C120=\"\",\"\",LOOKUP(J120,Area!$A$2:$B$71)+LOOKUP(K120,ByM!$A$2:$B$462)+LOOKUP(L120,ByM!$A$2:$B$462)+LOOKUP(M120,ByM!$A$2:$B$462)+LOOKUP(N120,ByM!$A$2:$B$462)+LOOKUP(O120,ByM!$A$2:$B$462))","v":5}]
[null,"Objeto","Pantalla de humo",null,3,0,null,5,1,"-","Humo","Un uso por actuación","-","-","-",{"$f":"IF(C121=\"\",\"\",F121+H121-(E121))","v":2},{"$f":"IF(C121=\"\",\"\",LOOKUP(J121,Area!$A$2:$B$71)+LOOKUP(K121,ByM!$A$2:$B$462)+LOOKUP(L121,ByM!$A$2:$B$462)+LOOKUP(M121,ByM!$A$2:$B$462)+LOOKUP(N121,ByM!$A$2:$B$462)+LOOKUP(O121,ByM!$A$2:$B$462))","v":-2}]
[null,"Objeto","Pañuelos infinitos",null,1,0,null,3,1,"-","Humo","Un uso por aventura","-","-","-",{"$f":"IF(C122=\"\",\"\",F122+H122-(E122))","v":2},{"$f":"IF(C122=\"\",\"\",LOOKUP(J122,Area!$A$2:$B$71)+LOOKUP(K122,ByM!$A$2:$B$462)+LOOKUP(L122,ByM!$A$2:$B$462)+LOOKUP(M122,ByM!$A$2:$B$462)+LOOKUP(N122,ByM!$A$2:$B$462)+LOOKUP(O122,ByM!$A$2:$B$462))","v":-7}]
[null,"Objeto","Parábola inteligencia verdadera",null,4,0,null,3,19,"-","Grito de guerra","Un uso por aventura","-","-","-",{"$f":"IF(C123=\"\",\"\",F123+H123-(E123))","v":-1},{"$f":"IF(C123=\"\",\"\",LOOKUP(J123,Area!$A$2:$B$71)+LOOKUP(K123,ByM!$A$2:$B$462)+LOOKUP(L123,ByM!$A$2:$B$462)+LOOKUP(M123,ByM!$A$2:$B$462)+LOOKUP(N123,ByM!$A$2:$B$462)+LOOKUP(O123,ByM!$A$2:$B$462))","v":20}]
[null,"Objeto","Parábola maná sagrado",null,6,20,null,3,37,"-","Señor de la corrosión","Un uso por aventura","-","-","-",{"$f":"IF(C124=\"\",\"\",F124+H124-(E124))","v":17},{"$f":"IF(C124=\"\",\"\",LOOKUP(J124,Area!$A$2:$B$71)+LOOKUP(K124,ByM!$A$2:$B$462)+LOOKUP(L124,ByM!$A$2:$B$462)+LOOKUP(M124,ByM!$A$2:$B$462)+LOOKUP(N124,ByM!$A$2:$B$462)+LOOKUP(O124,ByM!$A$2:$B$462))","v":20}]
[null,"Objeto","Parábola nuevo hombre",null,6,0,null,3,32,"-","Aura blindada","Un uso por aventura","-","-","-",{"$f":"IF(C125=\"\",\"\",F125+H125-(E125))","v":-3},{"$f":"IF(C125=\"\",\"\",LOOKUP(J125,Area!$A$2:$B$71)+LOOKUP(K125,ByM!$A$2:$B$462)+LOOKUP(L125,ByM!$A$2:$B$462)+LOOKUP(M125,ByM!$A$2:$B$462)+LOOKUP(N125,ByM!$A$2:$B$462)+LOOKUP(O125,ByM!$A$2:$B$462))","v":35}]
[null,"Objeto","Paracaídas gravítico de saqueador",null,1,0,null,7,14,"-","Tropas ocultas","-","-","-","-",{"$f":"IF(C126=\"\",\"\",F126+H126-(E126))","v":6},{"$f":"IF(C126=\"\",\"\",LOOKUP(J126,Area!$A$2:$B$71)+LOOKUP(K126,ByM!$A$2:$B$462)+LOOKUP(L126,ByM!$A$2:$B$462)+LOOKUP(M126,ByM!$A$2:$B$462)+LOOKUP(N126,ByM!$A$2:$B$462)+LOOKUP(O126,ByM!$A$2:$B$462))","v":8}]
[null,"Objeto","Pastillas Hydr8tion",null,1,0,null,2,6,"-","Elixir N1","-","-","-","-",{"$f":"IF(C127=\"\",\"\",F127+H127-(E127))","v":1},{"$f":"IF(C127=\"\",\"\",LOOKUP(J127,Area!$A$2:$B$71)+LOOKUP(K127,ByM!$A$2:$B$462)+LOOKUP(L127,ByM!$A$2:$B$462)+LOOKUP(M127,ByM!$A$2:$B$462)+LOOKUP(N127,ByM!$A$2:$B$462)+LOOKUP(O127,ByM!$A$2:$B$462))","v":5}]
[null,"Objeto","Pastillas para no dormir",null,1,0,null,2,1,"-","Droga","Cóctel de vitaminas","Neuropsico","-","-",{"$f":"IF(C128=\"\",\"\",F128+H128-(E128))","v":1},{"$f":"IF(C128=\"\",\"\",LOOKUP(J128,Area!$A$2:$B$71)+LOOKUP(K128,ByM!$A$2:$B$462)+LOOKUP(L128,ByM!$A$2:$B$462)+LOOKUP(M128,ByM!$A$2:$B$462)+LOOKUP(N128,ByM!$A$2:$B$462)+LOOKUP(O128,ByM!$A$2:$B$462))","v":-22}]
[null,"Objeto","Pendón de los caídos",null,1,0,null,3,32,"-","Reliquia","Estandarte","Grito de sangre","-","-",{"$f":"IF(C129=\"\",\"\",F129+H129-(E129))","v":2},{"$f":"IF(C129=\"\",\"\",LOOKUP(J129,Area!$A$2:$B$71)+LOOKUP(K129,ByM!$A$2:$B$462)+LOOKUP(L129,ByM!$A$2:$B$462)+LOOKUP(M129,ByM!$A$2:$B$462)+LOOKUP(N129,ByM!$A$2:$B$462)+LOOKUP(O129,ByM!$A$2:$B$462))","v":30}]
[null,"Objeto","Poción de invisibilidad",null,1,0,null,1,10,"-","Invisible","Tempus: actuación","-","-","-",{"$f":"IF(C130=\"\",\"\",F130+H130-(E130))","v":0},{"$f":"IF(C130=\"\",\"\",LOOKUP(J130,Area!$A$2:$B$71)+LOOKUP(K130,ByM!$A$2:$B$462)+LOOKUP(L130,ByM!$A$2:$B$462)+LOOKUP(M130,ByM!$A$2:$B$462)+LOOKUP(N130,ByM!$A$2:$B$462)+LOOKUP(O130,ByM!$A$2:$B$462))","v":10}]
[null,"Objeto","Poción de vida",null,4,0,null,1,12,"-","Elixir N3","-","-","-","-",{"$f":"IF(C131=\"\",\"\",F131+H131-(E131))","v":-3},{"$f":"IF(C131=\"\",\"\",LOOKUP(J131,Area!$A$2:$B$71)+LOOKUP(K131,ByM!$A$2:$B$462)+LOOKUP(L131,ByM!$A$2:$B$462)+LOOKUP(M131,ByM!$A$2:$B$462)+LOOKUP(N131,ByM!$A$2:$B$462)+LOOKUP(O131,ByM!$A$2:$B$462))","v":15}]
[null,"Objeto","Polen de loto berserker",null,2,0,null,2,1,"-","Berserker","Droga","Un uso por actuación","-","-",{"$f":"IF(C132=\"\",\"\",F132+H132-(E132))","v":0},{"$f":"IF(C132=\"\",\"\",LOOKUP(J132,Area!$A$2:$B$71)+LOOKUP(K132,ByM!$A$2:$B$462)+LOOKUP(L132,ByM!$A$2:$B$462)+LOOKUP(M132,ByM!$A$2:$B$462)+LOOKUP(N132,ByM!$A$2:$B$462)+LOOKUP(O132,ByM!$A$2:$B$462))","v":-5}]
[null,"Objeto","Polen de loto blanco",null,2,0,null,2,1,"-","Droga","Magia: tranquilizar","Un uso por actuación","-","-",{"$f":"IF(C133=\"\",\"\",F133+H133-(E133))","v":0},{"$f":"IF(C133=\"\",\"\",LOOKUP(J133,Area!$A$2:$B$71)+LOOKUP(K133,ByM!$A$2:$B$462)+LOOKUP(L133,ByM!$A$2:$B$462)+LOOKUP(M133,ByM!$A$2:$B$462)+LOOKUP(N133,ByM!$A$2:$B$462)+LOOKUP(O133,ByM!$A$2:$B$462))","v":-8}]
[null,"Objeto","Polen de loto euforizante",null,1,0,null,2,1,"-","Droga","Drogas de combate","Un uso por actuación","-","-",{"$f":"IF(C134=\"\",\"\",F134+H134-(E134))","v":1},{"$f":"IF(C134=\"\",\"\",LOOKUP(J134,Area!$A$2:$B$71)+LOOKUP(K134,ByM!$A$2:$B$462)+LOOKUP(L134,ByM!$A$2:$B$462)+LOOKUP(M134,ByM!$A$2:$B$462)+LOOKUP(N134,ByM!$A$2:$B$462)+LOOKUP(O134,ByM!$A$2:$B$462))","v":-2}]
[null,"Objeto","Polen de loto negro",null,1,0,null,2,1,"-","Cóctel de vitaminas","Droga","Un uso por actuación","-","-",{"$f":"IF(C135=\"\",\"\",F135+H135-(E135))","v":1},{"$f":"IF(C135=\"\",\"\",LOOKUP(J135,Area!$A$2:$B$71)+LOOKUP(K135,ByM!$A$2:$B$462)+LOOKUP(L135,ByM!$A$2:$B$462)+LOOKUP(M135,ByM!$A$2:$B$462)+LOOKUP(N135,ByM!$A$2:$B$462)+LOOKUP(O135,ByM!$A$2:$B$462))","v":-7}]
[null,"Objeto","Prismáticos",null,2,0,null,1,8,"-","Visor N03","-","-","-","-",{"$f":"IF(C136=\"\",\"\",F136+H136-(E136))","v":-1},{"$f":"IF(C136=\"\",\"\",LOOKUP(J136,Area!$A$2:$B$71)+LOOKUP(K136,ByM!$A$2:$B$462)+LOOKUP(L136,ByM!$A$2:$B$462)+LOOKUP(M136,ByM!$A$2:$B$462)+LOOKUP(N136,ByM!$A$2:$B$462)+LOOKUP(O136,ByM!$A$2:$B$462))","v":9}]
[null,"Objeto","Propulsor de salto",null,1,0,null,7,24,"-","Tropas ocultas","Súper salto","-","-","-",{"$f":"IF(C137=\"\",\"\",F137+H137-(E137))","v":6},{"$f":"IF(C137=\"\",\"\",LOOKUP(J137,Area!$A$2:$B$71)+LOOKUP(K137,ByM!$A$2:$B$462)+LOOKUP(L137,ByM!$A$2:$B$462)+LOOKUP(M137,ByM!$A$2:$B$462)+LOOKUP(N137,ByM!$A$2:$B$462)+LOOKUP(O137,ByM!$A$2:$B$462))","v":18}]
[null,"Objeto","Protección contra contaminación",null,5,0,null,3,6,"-","Invulnerable ( contaminación )","-","-","-","-",{"$f":"IF(C138=\"\",\"\",F138+H138-(E138))","v":-2},{"$f":"IF(C138=\"\",\"\",LOOKUP(J138,Area!$A$2:$B$71)+LOOKUP(K138,ByM!$A$2:$B$462)+LOOKUP(L138,ByM!$A$2:$B$462)+LOOKUP(M138,ByM!$A$2:$B$462)+LOOKUP(N138,ByM!$A$2:$B$462)+LOOKUP(O138,ByM!$A$2:$B$462))","v":8}]
[null,"Objeto","Proyectiles vórtice (bólter)",null,1,0,null,3,1,"-","Reliquia","Requiere (bólter)","Munición psíquica","Munición reforzada","-",{"$f":"IF(C139=\"\",\"\",F139+H139-(E139))","v":2},{"$f":"IF(C139=\"\",\"\",LOOKUP(J139,Area!$A$2:$B$71)+LOOKUP(K139,ByM!$A$2:$B$462)+LOOKUP(L139,ByM!$A$2:$B$462)+LOOKUP(M139,ByM!$A$2:$B$462)+LOOKUP(N139,ByM!$A$2:$B$462)+LOOKUP(O139,ByM!$A$2:$B$462))","v":-8}]
[null,"Objeto","Querubin de armorium",null,1,0,null,2,4,"-","Drogas de combate","Droga","-","-","-",{"$f":"IF(C140=\"\",\"\",F140+H140-(E140))","v":1},{"$f":"IF(C140=\"\",\"\",LOOKUP(J140,Area!$A$2:$B$71)+LOOKUP(K140,ByM!$A$2:$B$462)+LOOKUP(L140,ByM!$A$2:$B$462)+LOOKUP(M140,ByM!$A$2:$B$462)+LOOKUP(N140,ByM!$A$2:$B$462)+LOOKUP(O140,ByM!$A$2:$B$462))","v":3}]
[null,"Objeto","Ragnar, el gran danés",null,1,0,null,3,12,"-","Profesión gladiador","-","-","-","-",{"$f":"IF(C141=\"\",\"\",F141+H141-(E141))","v":2},{"$f":"IF(C141=\"\",\"\",LOOKUP(J141,Area!$A$2:$B$71)+LOOKUP(K141,ByM!$A$2:$B$462)+LOOKUP(L141,ByM!$A$2:$B$462)+LOOKUP(M141,ByM!$A$2:$B$462)+LOOKUP(N141,ByM!$A$2:$B$462)+LOOKUP(O141,ByM!$A$2:$B$462))","v":10}]
[null,"Objeto","Relicario de Gathalamor",null,1,0,null,9,8,"-","Reliquia","Distorsión psíquica","Distorsión envenenada","-","-",{"$f":"IF(C142=\"\",\"\",F142+H142-(E142))","v":8},{"$f":"IF(C142=\"\",\"\",LOOKUP(J142,Area!$A$2:$B$71)+LOOKUP(K142,ByM!$A$2:$B$462)+LOOKUP(L142,ByM!$A$2:$B$462)+LOOKUP(M142,ByM!$A$2:$B$462)+LOOKUP(N142,ByM!$A$2:$B$462)+LOOKUP(O142,ByM!$A$2:$B$462))","v":0}]
[null,"Objeto","Reliquia de la carne quemada",null,2,10,null,2,10,"-","Maestro carnicero","Un uso por aventura","-","-","-",{"$f":"IF(C143=\"\",\"\",F143+H143-(E143))","v":10},{"$f":"IF(C143=\"\",\"\",LOOKUP(J143,Area!$A$2:$B$71)+LOOKUP(K143,ByM!$A$2:$B$462)+LOOKUP(L143,ByM!$A$2:$B$462)+LOOKUP(M143,ByM!$A$2:$B$462)+LOOKUP(N143,ByM!$A$2:$B$462)+LOOKUP(O143,ByM!$A$2:$B$462))","v":0}]
[null,"Objeto","Reliquia del agua pura",null,2,10,null,2,5,"-","Un uso por aventura","Veneno","-","-","-",{"$f":"IF(C144=\"\",\"\",F144+H144-(E144))","v":10},{"$f":"IF(C144=\"\",\"\",LOOKUP(J144,Area!$A$2:$B$71)+LOOKUP(K144,ByM!$A$2:$B$462)+LOOKUP(L144,ByM!$A$2:$B$462)+LOOKUP(M144,ByM!$A$2:$B$462)+LOOKUP(N144,ByM!$A$2:$B$462)+LOOKUP(O144,ByM!$A$2:$B$462))","v":-5}]
[null,"Objeto","Reliquia del átomo de ano santo",null,2,10,null,2,21,"-","Blandito","Maleficio (Blandito)","Un uso por aventura","-","-",{"$f":"IF(C145=\"\",\"\",F145+H145-(E145))","v":10},{"$f":"IF(C145=\"\",\"\",LOOKUP(J145,Area!$A$2:$B$71)+LOOKUP(K145,ByM!$A$2:$B$462)+LOOKUP(L145,ByM!$A$2:$B$462)+LOOKUP(M145,ByM!$A$2:$B$462)+LOOKUP(N145,ByM!$A$2:$B$462)+LOOKUP(O145,ByM!$A$2:$B$462))","v":-29}]
[null,"Objeto","Reliquia del diamante de iridium",null,2,10,null,2,15,"-","Profesión caballero","Un uso por aventura","-","-","-",{"$f":"IF(C146=\"\",\"\",F146+H146-(E146))","v":10},{"$f":"IF(C146=\"\",\"\",LOOKUP(J146,Area!$A$2:$B$71)+LOOKUP(K146,ByM!$A$2:$B$462)+LOOKUP(L146,ByM!$A$2:$B$462)+LOOKUP(M146,ByM!$A$2:$B$462)+LOOKUP(N146,ByM!$A$2:$B$462)+LOOKUP(O146,ByM!$A$2:$B$462))","v":5}]
[null,"Objeto","Reliquia del hueso de pimiento choricero",null,2,10,null,2,10,"-","Profesión bárbaro","Un uso por aventura","-","-","-",{"$f":"IF(C147=\"\",\"\",F147+H147-(E147))","v":10},{"$f":"IF(C147=\"\",\"\",LOOKUP(J147,Area!$A$2:$B$71)+LOOKUP(K147,ByM!$A$2:$B$462)+LOOKUP(L147,ByM!$A$2:$B$462)+LOOKUP(M147,ByM!$A$2:$B$462)+LOOKUP(N147,ByM!$A$2:$B$462)+LOOKUP(O147,ByM!$A$2:$B$462))","v":0}]
[null,"Objeto","Reliquia del ojo radiactivo",null,2,10,null,2,10,"-","Profesión arquero","Un uso por aventura","-","-","-",{"$f":"IF(C148=\"\",\"\",F148+H148-(E148))","v":10},{"$f":"IF(C148=\"\",\"\",LOOKUP(J148,Area!$A$2:$B$71)+LOOKUP(K148,ByM!$A$2:$B$462)+LOOKUP(L148,ByM!$A$2:$B$462)+LOOKUP(M148,ByM!$A$2:$B$462)+LOOKUP(N148,ByM!$A$2:$B$462)+LOOKUP(O148,ByM!$A$2:$B$462))","v":0}]
[null,"Objeto","Reliquia del primarca",null,3,0,null,3,20,"-","Reliquia","Grito de maestría","Grito de fuego","Un uso por aventura","-",{"$f":"IF(C149=\"\",\"\",F149+H149-(E149))","v":0},{"$f":"IF(C149=\"\",\"\",LOOKUP(J149,Area!$A$2:$B$71)+LOOKUP(K149,ByM!$A$2:$B$462)+LOOKUP(L149,ByM!$A$2:$B$462)+LOOKUP(M149,ByM!$A$2:$B$462)+LOOKUP(N149,ByM!$A$2:$B$462)+LOOKUP(O149,ByM!$A$2:$B$462))","v":20}]
[null,"Objeto","Reloj Samani E-Series",null,1,0,null,2,6,"-","Elixir N1","-","-","-","-",{"$f":"IF(C150=\"\",\"\",F150+H150-(E150))","v":1},{"$f":"IF(C150=\"\",\"\",LOOKUP(J150,Area!$A$2:$B$71)+LOOKUP(K150,ByM!$A$2:$B$462)+LOOKUP(L150,ByM!$A$2:$B$462)+LOOKUP(M150,ByM!$A$2:$B$462)+LOOKUP(N150,ByM!$A$2:$B$462)+LOOKUP(O150,ByM!$A$2:$B$462))","v":5}]
[null,"Objeto","Restaurativos de combate",null,3,0,null,2,12,"-","Cóctel de vitaminas","Droga","Elixir N3","-","-",{"$f":"IF(C151=\"\",\"\",F151+H151-(E151))","v":-1},{"$f":"IF(C151=\"\",\"\",LOOKUP(J151,Area!$A$2:$B$71)+LOOKUP(K151,ByM!$A$2:$B$462)+LOOKUP(L151,ByM!$A$2:$B$462)+LOOKUP(M151,ByM!$A$2:$B$462)+LOOKUP(N151,ByM!$A$2:$B$462)+LOOKUP(O151,ByM!$A$2:$B$462))","v":13}]
[null,"Objeto","Retirada táctica",null,1,0,null,2,1,"R2","Humo denso","Un uso por aventura","-","-","-",{"$f":"IF(C152=\"\",\"\",F152+H152-(E152))","v":1},{"$f":"IF(C152=\"\",\"\",LOOKUP(J152,Area!$A$2:$B$71)+LOOKUP(K152,ByM!$A$2:$B$462)+LOOKUP(L152,ByM!$A$2:$B$462)+LOOKUP(M152,ByM!$A$2:$B$462)+LOOKUP(N152,ByM!$A$2:$B$462)+LOOKUP(O152,ByM!$A$2:$B$462))","v":-1}]
[null,"Objeto","Rosarius",null,1,0,null,7,26,"-","Salvaguarda","-","-","-","-",{"$f":"IF(C153=\"\",\"\",F153+H153-(E153))","v":6},{"$f":"IF(C153=\"\",\"\",LOOKUP(J153,Area!$A$2:$B$71)+LOOKUP(K153,ByM!$A$2:$B$462)+LOOKUP(L153,ByM!$A$2:$B$462)+LOOKUP(M153,ByM!$A$2:$B$462)+LOOKUP(N153,ByM!$A$2:$B$462)+LOOKUP(O153,ByM!$A$2:$B$462))","v":20}]
[null,"Objeto","Sensor de movimiento M314",null,1,0,null,7,9,"-","Un uso por actuación","Sensor: Detecta tropas sin Línea de visión","Área despreciable (R5)","-","-",{"$f":"IF(C154=\"\",\"\",F154+H154-(E154))","v":6},{"$f":"IF(C154=\"\",\"\",LOOKUP(J154,Area!$A$2:$B$71)+LOOKUP(K154,ByM!$A$2:$B$462)+LOOKUP(L154,ByM!$A$2:$B$462)+LOOKUP(M154,ByM!$A$2:$B$462)+LOOKUP(N154,ByM!$A$2:$B$462)+LOOKUP(O154,ByM!$A$2:$B$462))","v":3}]
[null,"Objeto","Sensor de movimiento M316",null,3,0,null,7,7,"-","Un uso por actuación","Sensor: Detecta tropas sin Línea de visión","Área despreciable (R10)","-","-",{"$f":"IF(C155=\"\",\"\",F155+H155-(E155))","v":4},{"$f":"IF(C155=\"\",\"\",LOOKUP(J155,Area!$A$2:$B$71)+LOOKUP(K155,ByM!$A$2:$B$462)+LOOKUP(L155,ByM!$A$2:$B$462)+LOOKUP(M155,ByM!$A$2:$B$462)+LOOKUP(N155,ByM!$A$2:$B$462)+LOOKUP(O155,ByM!$A$2:$B$462))","v":3}]
[null,"Objeto","Servidor nigromántico",null,3,0,null,4,36,"-","Elixir N3","Horror","Mascota mágica","Resurrección","-",{"$f":"IF(C156=\"\",\"\",F156+H156-(E156))","v":1},{"$f":"IF(C156=\"\",\"\",LOOKUP(J156,Area!$A$2:$B$71)+LOOKUP(K156,ByM!$A$2:$B$462)+LOOKUP(L156,ByM!$A$2:$B$462)+LOOKUP(M156,ByM!$A$2:$B$462)+LOOKUP(N156,ByM!$A$2:$B$462)+LOOKUP(O156,ByM!$A$2:$B$462))","v":35}]
[null,"Objeto","Sigilo",null,1,0,null,3,1,"-","Teleport","Un uso por aventura","-","-","-",{"$f":"IF(C157=\"\",\"\",F157+H157-(E157))","v":2},{"$f":"IF(C157=\"\",\"\",LOOKUP(J157,Area!$A$2:$B$71)+LOOKUP(K157,ByM!$A$2:$B$462)+LOOKUP(L157,ByM!$A$2:$B$462)+LOOKUP(M157,ByM!$A$2:$B$462)+LOOKUP(N157,ByM!$A$2:$B$462)+LOOKUP(O157,ByM!$A$2:$B$462))","v":-5}]
[null,"Objeto","Sistemas multiespectro",null,1,0,null,3,15,"-","Visor N03","Radar","-","-","-",{"$f":"IF(C158=\"\",\"\",F158+H158-(E158))","v":2},{"$f":"IF(C158=\"\",\"\",LOOKUP(J158,Area!$A$2:$B$71)+LOOKUP(K158,ByM!$A$2:$B$462)+LOOKUP(L158,ByM!$A$2:$B$462)+LOOKUP(M158,ByM!$A$2:$B$462)+LOOKUP(N158,ByM!$A$2:$B$462)+LOOKUP(O158,ByM!$A$2:$B$462))","v":13}]
[null,"Objeto","Somos vuestros amigos",null,2,0,null,3,1,"-","Droga","Profesión gladiador","un uso por actuación","-","-",{"$f":"IF(C159=\"\",\"\",F159+H159-(E159))","v":1},{"$f":"IF(C159=\"\",\"\",LOOKUP(J159,Area!$A$2:$B$71)+LOOKUP(K159,ByM!$A$2:$B$462)+LOOKUP(L159,ByM!$A$2:$B$462)+LOOKUP(M159,ByM!$A$2:$B$462)+LOOKUP(N159,ByM!$A$2:$B$462)+LOOKUP(O159,ByM!$A$2:$B$462))","v":0}]
[null,"Objeto","Suministro de aire N4",null,1,0,null,2,1,"-","-","-","-","-","-",{"$f":"IF(C160=\"\",\"\",F160+H160-(E160))","v":1},{"$f":"IF(C160=\"\",\"\",LOOKUP(J160,Area!$A$2:$B$71)+LOOKUP(K160,ByM!$A$2:$B$462)+LOOKUP(L160,ByM!$A$2:$B$462)+LOOKUP(M160,ByM!$A$2:$B$462)+LOOKUP(N160,ByM!$A$2:$B$462)+LOOKUP(O160,ByM!$A$2:$B$462))","v":0}]
[null,"Objeto","Suministro de aire N5",null,1,0,null,2,1,"-","-","-","-","-","-",{"$f":"IF(C161=\"\",\"\",F161+H161-(E161))","v":1},{"$f":"IF(C161=\"\",\"\",LOOKUP(J161,Area!$A$2:$B$71)+LOOKUP(K161,ByM!$A$2:$B$462)+LOOKUP(L161,ByM!$A$2:$B$462)+LOOKUP(M161,ByM!$A$2:$B$462)+LOOKUP(N161,ByM!$A$2:$B$462)+LOOKUP(O161,ByM!$A$2:$B$462))","v":0}]
[null,"Objeto","Suministro de aire N6",null,1,0,null,2,1,"-","-","-","-","-","-",{"$f":"IF(C162=\"\",\"\",F162+H162-(E162))","v":1},{"$f":"IF(C162=\"\",\"\",LOOKUP(J162,Area!$A$2:$B$71)+LOOKUP(K162,ByM!$A$2:$B$462)+LOOKUP(L162,ByM!$A$2:$B$462)+LOOKUP(M162,ByM!$A$2:$B$462)+LOOKUP(N162,ByM!$A$2:$B$462)+LOOKUP(O162,ByM!$A$2:$B$462))","v":0}]
[null,"Objeto","Tabaco",null,5,0,null,1,1,"-","cargas (15)","Droga","elixir N1","-","-",{"$f":"IF(C163=\"\",\"\",F163+H163-(E163))","v":-4},{"$f":"IF(C163=\"\",\"\",LOOKUP(J163,Area!$A$2:$B$71)+LOOKUP(K163,ByM!$A$2:$B$462)+LOOKUP(L163,ByM!$A$2:$B$462)+LOOKUP(M163,ByM!$A$2:$B$462)+LOOKUP(N163,ByM!$A$2:$B$462)+LOOKUP(O163,ByM!$A$2:$B$462))","v":-5}]
[null,"Objeto","Tableta receptora Seegson P-DAT",null,2,0,null,5,4,"-","Comunicador","(No puede enviar datos sólo visionarlos)","-","-","-",{"$f":"IF(C164=\"\",\"\",F164+H164-(E164))","v":3},{"$f":"IF(C164=\"\",\"\",LOOKUP(J164,Area!$A$2:$B$71)+LOOKUP(K164,ByM!$A$2:$B$462)+LOOKUP(L164,ByM!$A$2:$B$462)+LOOKUP(M164,ByM!$A$2:$B$462)+LOOKUP(N164,ByM!$A$2:$B$462)+LOOKUP(O164,ByM!$A$2:$B$462))","v":1}]
[null,"Objeto","Tela de vela",null,1,0,null,3,2,"-","-","-","-","-","-",{"$f":"IF(C165=\"\",\"\",F165+H165-(E165))","v":2},{"$f":"IF(C165=\"\",\"\",LOOKUP(J165,Area!$A$2:$B$71)+LOOKUP(K165,ByM!$A$2:$B$462)+LOOKUP(L165,ByM!$A$2:$B$462)+LOOKUP(M165,ByM!$A$2:$B$462)+LOOKUP(N165,ByM!$A$2:$B$462)+LOOKUP(O165,ByM!$A$2:$B$462))","v":0}]
[null,"Objeto","Telemetría por enlace de datos",null,1,0,null,3,3,"-","Comunicador","-","-","-","-",{"$f":"IF(C166=\"\",\"\",F166+H166-(E166))","v":2},{"$f":"IF(C166=\"\",\"\",LOOKUP(J166,Area!$A$2:$B$71)+LOOKUP(K166,ByM!$A$2:$B$462)+LOOKUP(L166,ByM!$A$2:$B$462)+LOOKUP(M166,ByM!$A$2:$B$462)+LOOKUP(N166,ByM!$A$2:$B$462)+LOOKUP(O166,ByM!$A$2:$B$462))","v":1}]
[null,"Objeto","Terminal informático",null,1,0,null,2,1,"-","Prueba de inteligencia","-","-","-","-",{"$f":"IF(C167=\"\",\"\",F167+H167-(E167))","v":1},{"$f":"IF(C167=\"\",\"\",LOOKUP(J167,Area!$A$2:$B$71)+LOOKUP(K167,ByM!$A$2:$B$462)+LOOKUP(L167,ByM!$A$2:$B$462)+LOOKUP(M167,ByM!$A$2:$B$462)+LOOKUP(N167,ByM!$A$2:$B$462)+LOOKUP(O167,ByM!$A$2:$B$462))","v":-10}]
[null,"Objeto","Terminal UpLink PR-PUT",null,3,0,null,7,1,"-","Prueba de inteligencia","-","-","-","-",{"$f":"IF(C168=\"\",\"\",F168+H168-(E168))","v":4},{"$f":"IF(C168=\"\",\"\",LOOKUP(J168,Area!$A$2:$B$71)+LOOKUP(K168,ByM!$A$2:$B$462)+LOOKUP(L168,ByM!$A$2:$B$462)+LOOKUP(M168,ByM!$A$2:$B$462)+LOOKUP(N168,ByM!$A$2:$B$462)+LOOKUP(O168,ByM!$A$2:$B$462))","v":-10}]
[null,"Objeto","Tomo de Malcador",null,1,0,null,9,3,"-","Maná N3","Reliquia","-","-","-",{"$f":"IF(C169=\"\",\"\",F169+H169-(E169))","v":8},{"$f":"IF(C169=\"\",\"\",LOOKUP(J169,Area!$A$2:$B$71)+LOOKUP(K169,ByM!$A$2:$B$462)+LOOKUP(L169,ByM!$A$2:$B$462)+LOOKUP(M169,ByM!$A$2:$B$462)+LOOKUP(N169,ByM!$A$2:$B$462)+LOOKUP(O169,ByM!$A$2:$B$462))","v":-5}]
[null,"Objeto","Transmisor Data Card",null,1,30,null,2,32,"-","Comunicador","-","-","-","-",{"$f":"IF(C170=\"\",\"\",F170+H170-(E170))","v":31},{"$f":"IF(C170=\"\",\"\",LOOKUP(J170,Area!$A$2:$B$71)+LOOKUP(K170,ByM!$A$2:$B$462)+LOOKUP(L170,ByM!$A$2:$B$462)+LOOKUP(M170,ByM!$A$2:$B$462)+LOOKUP(N170,ByM!$A$2:$B$462)+LOOKUP(O170,ByM!$A$2:$B$462))","v":1}]
[null,"Objeto","Transmisor de datos personal",null,1,25,null,1,26,"-","Comunicador","-","-","-","-",{"$f":"IF(C171=\"\",\"\",F171+H171-(E171))","v":25},{"$f":"IF(C171=\"\",\"\",LOOKUP(J171,Area!$A$2:$B$71)+LOOKUP(K171,ByM!$A$2:$B$462)+LOOKUP(L171,ByM!$A$2:$B$462)+LOOKUP(M171,ByM!$A$2:$B$462)+LOOKUP(N171,ByM!$A$2:$B$462)+LOOKUP(O171,ByM!$A$2:$B$462))","v":1}]
[null,"Objeto","Transpondedor de teleportación Astartes",null,1,0,null,3,1,"-","Reliquia","Tropas ocultas","-","-","-",{"$f":"IF(C172=\"\",\"\",F172+H172-(E172))","v":2},{"$f":"IF(C172=\"\",\"\",LOOKUP(J172,Area!$A$2:$B$71)+LOOKUP(K172,ByM!$A$2:$B$462)+LOOKUP(L172,ByM!$A$2:$B$462)+LOOKUP(M172,ByM!$A$2:$B$462)+LOOKUP(N172,ByM!$A$2:$B$462)+LOOKUP(O172,ByM!$A$2:$B$462))","v":-12}]
[null,"Objeto","Transpondedor IFF",null,1,20,null,3,22,"-","Niega (Área de activación)","Vulnerable","-","-","-",{"$f":"IF(C173=\"\",\"\",F173+H173-(E173))","v":22},{"$f":"IF(C173=\"\",\"\",LOOKUP(J173,Area!$A$2:$B$71)+LOOKUP(K173,ByM!$A$2:$B$462)+LOOKUP(L173,ByM!$A$2:$B$462)+LOOKUP(M173,ByM!$A$2:$B$462)+LOOKUP(N173,ByM!$A$2:$B$462)+LOOKUP(O173,ByM!$A$2:$B$462))","v":0}]
[null,"Objeto","Turbo",null,1,0,null,7,8,"-","Fuego en las venas","Requiere (Vehículo)","-","-","-",{"$f":"IF(C174=\"\",\"\",F174+H174-(E174))","v":6},{"$f":"IF(C174=\"\",\"\",LOOKUP(J174,Area!$A$2:$B$71)+LOOKUP(K174,ByM!$A$2:$B$462)+LOOKUP(L174,ByM!$A$2:$B$462)+LOOKUP(M174,ByM!$A$2:$B$462)+LOOKUP(N174,ByM!$A$2:$B$462)+LOOKUP(O174,ByM!$A$2:$B$462))","v":2}]
[null,"Objeto","Velo neuronal",null,1,0,null,9,3,"-","Orador","Reliquia","Runas de combate","-","-",{"$f":"IF(C175=\"\",\"\",F175+H175-(E175))","v":8},{"$f":"IF(C175=\"\",\"\",LOOKUP(J175,Area!$A$2:$B$71)+LOOKUP(K175,ByM!$A$2:$B$462)+LOOKUP(L175,ByM!$A$2:$B$462)+LOOKUP(M175,ByM!$A$2:$B$462)+LOOKUP(N175,ByM!$A$2:$B$462)+LOOKUP(O175,ByM!$A$2:$B$462))","v":-5}]
[null,"Objeto","Venimos en son de paz",null,2,0,null,3,1,"-","Droga","Profesión arquero","Un uso por actuación","-","-",{"$f":"IF(C176=\"\",\"\",F176+H176-(E176))","v":1},{"$f":"IF(C176=\"\",\"\",LOOKUP(J176,Area!$A$2:$B$71)+LOOKUP(K176,ByM!$A$2:$B$462)+LOOKUP(L176,ByM!$A$2:$B$462)+LOOKUP(M176,ByM!$A$2:$B$462)+LOOKUP(N176,ByM!$A$2:$B$462)+LOOKUP(O176,ByM!$A$2:$B$462))","v":0}]
[null,"Objeto","Virote envenenado",null,2,0,null,3,3,"-","Requiere (Garrapaga)","Veneno","-","-","-",{"$f":"IF(C177=\"\",\"\",F177+H177-(E177))","v":1},{"$f":"IF(C177=\"\",\"\",LOOKUP(J177,Area!$A$2:$B$71)+LOOKUP(K177,ByM!$A$2:$B$462)+LOOKUP(L177,ByM!$A$2:$B$462)+LOOKUP(M177,ByM!$A$2:$B$462)+LOOKUP(N177,ByM!$A$2:$B$462)+LOOKUP(O177,ByM!$A$2:$B$462))","v":2}]
[null,"Objeto","Virote penetrador",null,3,0,null,3,7,"-","Munición reforzada","Requiere (Garrapaga)","-","-","-",{"$f":"IF(C178=\"\",\"\",F178+H178-(E178))","v":0},{"$f":"IF(C178=\"\",\"\",LOOKUP(J178,Area!$A$2:$B$71)+LOOKUP(K178,ByM!$A$2:$B$462)+LOOKUP(L178,ByM!$A$2:$B$462)+LOOKUP(M178,ByM!$A$2:$B$462)+LOOKUP(N178,ByM!$A$2:$B$462)+LOOKUP(O178,ByM!$A$2:$B$462))","v":7}]
[null,"Objeto","Virote volador",null,2,0,null,3,3,"-","Más alcance","Requiere (Garrapaga)","-","-","-",{"$f":"IF(C179=\"\",\"\",F179+H179-(E179))","v":1},{"$f":"IF(C179=\"\",\"\",LOOKUP(J179,Area!$A$2:$B$71)+LOOKUP(K179,ByM!$A$2:$B$462)+LOOKUP(L179,ByM!$A$2:$B$462)+LOOKUP(M179,ByM!$A$2:$B$462)+LOOKUP(N179,ByM!$A$2:$B$462)+LOOKUP(O179,ByM!$A$2:$B$462))","v":2}]
[null,"Objeto","Vox Espiritum (Primaris)",null,1,0,null,5,1,"-","Reliquia","Requiere (Primaris)","Órdenes","-","-",{"$f":"IF(C180=\"\",\"\",F180+H180-(E180))","v":4},{"$f":"IF(C180=\"\",\"\",LOOKUP(J180,Area!$A$2:$B$71)+LOOKUP(K180,ByM!$A$2:$B$462)+LOOKUP(L180,ByM!$A$2:$B$462)+LOOKUP(M180,ByM!$A$2:$B$462)+LOOKUP(N180,ByM!$A$2:$B$462)+LOOKUP(O180,ByM!$A$2:$B$462))","v":-18}]
[null,"Objeto","Walkie talkie",null,1,0,null,3,3,"-","Comunicador","-","-","-","-",{"$f":"IF(C181=\"\",\"\",F181+H181-(E181))","v":2},{"$f":"IF(C181=\"\",\"\",LOOKUP(J181,Area!$A$2:$B$71)+LOOKUP(K181,ByM!$A$2:$B$462)+LOOKUP(L181,ByM!$A$2:$B$462)+LOOKUP(M181,ByM!$A$2:$B$462)+LOOKUP(N181,ByM!$A$2:$B$462)+LOOKUP(O181,ByM!$A$2:$B$462))","v":1}]
[null,null,"*"]
[null,null,null,null,null,null,null,null,null,null,null,null,null,null,null,{"$f":"IF(C183=\"\",\"\",F183+(LOOKUP(G183,Area!$A$2:$B$71))+H183-(E183*3))","v":""},{"$f":"IF(C183=\"\",\"\",LOOKUP(K183,ByM!$A$2:$B$462)+LOOKUP(L183,ByM!$A$2:$B$462)+LOOKUP(M183,ByM!$A$2:$B$462)+LOOKUP(N183,ByM!$A$2:$B$462)+LOOKUP(O183,ByM!$A$2:$B$462))","v":""}]
[null,null,null,null,null,null,null,null,null,null,null,null,null,null,null,{"$f":"IF(C184=\"\",\"\",F184+(LOOKUP(G184,Area!$A$2:$B$71))+H184-(E184*3))","v":""},{"$f":"IF(C184=\"\",\"\",LOOKUP(K184,ByM!$A$2:$B$462)+LOOKUP(L184,ByM!$A$2:$B$462)+LOOKUP(M184,ByM!$A$2:$B$462)+LOOKUP(N184,ByM!$A$2:$B$462)+LOOKUP(O184,ByM!$A$2:$B$462))","v":""}]
[null,null,null,null,null,null,null,null,null,null,null,null,null,null,null,{"$f":"IF(C185=\"\",\"\",F185+(LOOKUP(G185,Area!$A$2:$B$71))+H185-(E185*3))","v":""},{"$f":"IF(C185=\"\",\"\",LOOKUP(K185,ByM!$A$2:$B$462)+LOOKUP(L185,ByM!$A$2:$B$462)+LOOKUP(M185,ByM!$A$2:$B$462)+LOOKUP(N185,ByM!$A$2:$B$462)+LOOKUP(O185,ByM!$A$2:$B$462))","v":""}]
[null,null,null,null,null,null,null,null,null,null,null,null,null,null,null,{"$f":"IF(C186=\"\",\"\",F186+(LOOKUP(G186,Area!$A$2:$B$71))+H186-(E186*3))","v":""},{"$f":"IF(C186=\"\",\"\",LOOKUP(K186,ByM!$A$2:$B$462)+LOOKUP(L186,ByM!$A$2:$B$462)+LOOKUP(M186,ByM!$A$2:$B$462)+LOOKUP(N186,ByM!$A$2:$B$462)+LOOKUP(O186,ByM!$A$2:$B$462))","v":""}]
[null,null,null,null,null,null,null,null,null,null,null,null,null,null,null,{"$f":"IF(C187=\"\",\"\",F187+(LOOKUP(G187,Area!$A$2:$B$71))+H187-(E187*3))","v":""},{"$f":"IF(C187=\"\",\"\",LOOKUP(K187,ByM!$A$2:$B$462)+LOOKUP(L187,ByM!$A$2:$B$462)+LOOKUP(M187,ByM!$A$2:$B$462)+LOOKUP(N187,ByM!$A$2:$B$462)+LOOKUP(O187,ByM!$A$2:$B$462))","v":""}]
[null,null,null,null,null,null,null,null,null,null,null,null,null,null,null,{"$f":"IF(C188=\"\",\"\",F188+(LOOKUP(G188,Area!$A$2:$B$71))+H188-(E188*3))","v":""},{"$f":"IF(C188=\"\",\"\",LOOKUP(K188,ByM!$A$2:$B$462)+LOOKUP(L188,ByM!$A$2:$B$462)+LOOKUP(M188,ByM!$A$2:$B$462)+LOOKUP(N188,ByM!$A$2:$B$462)+LOOKUP(O188,ByM!$A$2:$B$462))","v":""}]
[null,null,null,null,null,null,null,null,null,null,null,null,null,null,null,{"$f":"IF(C189=\"\",\"\",F189+(LOOKUP(G189,Area!$A$2:$B$71))+H189-(E189*3))","v":""},{"$f":"IF(C189=\"\",\"\",LOOKUP(K189,ByM!$A$2:$B$462)+LOOKUP(L189,ByM!$A$2:$B$462)+LOOKUP(M189,ByM!$A$2:$B$462)+LOOKUP(N189,ByM!$A$2:$B$462)+LOOKUP(O189,ByM!$A$2:$B$462))","v":""}]
[null,null,null,null,null,null,null,null,null,null,null,null,null,null,null,{"$f":"IF(C190=\"\",\"\",F190+(LOOKUP(G190,Area!$A$2:$B$71))+H190-(E190*3))","v":""},{"$f":"IF(C190=\"\",\"\",LOOKUP(K190,ByM!$A$2:$B$462)+LOOKUP(L190,ByM!$A$2:$B$462)+LOOKUP(M190,ByM!$A$2:$B$462)+LOOKUP(N190,ByM!$A$2:$B$462)+LOOKUP(O190,ByM!$A$2:$B$462))","v":""}]
[null,null,null,null,null,null,null,null,null,null,null,null,null,null,null,{"$f":"IF(C191=\"\",\"\",F191+(LOOKUP(G191,Area!$A$2:$B$71))+H191-(E191*3))","v":""},{"$f":"IF(C191=\"\",\"\",LOOKUP(K191,ByM!$A$2:$B$462)+LOOKUP(L191,ByM!$A$2:$B$462)+LOOKUP(M191,ByM!$A$2:$B$462)+LOOKUP(N191,ByM!$A$2:$B$462)+LOOKUP(O191,ByM!$A$2:$B$462))","v":""}]
[null,null,null,null,null,null,null,null,null,null,null,null,null,null,null,{"$f":"IF(C192=\"\",\"\",F192+(LOOKUP(G192,Area!$A$2:$B$71))+H192-(E192*3))","v":""},{"$f":"IF(C192=\"\",\"\",LOOKUP(K192,ByM!$A$2:$B$462)+LOOKUP(L192,ByM!$A$2:$B$462)+LOOKUP(M192,ByM!$A$2:$B$462)+LOOKUP(N192,ByM!$A$2:$B$462)+LOOKUP(O192,ByM!$A$2:$B$462))","v":""}]
[null,null,null,null,null,null,null,null,null,null,null,null,null,null,null,{"$f":"IF(C193=\"\",\"\",F193+(LOOKUP(G193,Area!$A$2:$B$71))+H193-(E193*3))","v":""},{"$f":"IF(C193=\"\",\"\",LOOKUP(K193,ByM!$A$2:$B$462)+LOOKUP(L193,ByM!$A$2:$B$462)+LOOKUP(M193,ByM!$A$2:$B$462)+LOOKUP(N193,ByM!$A$2:$B$462)+LOOKUP(O193,ByM!$A$2:$B$462))","v":""}]
[null,null,null,null,null,null,null,null,null,null,null,null,null,null,null,{"$f":"IF(C194=\"\",\"\",F194+(LOOKUP(G194,Area!$A$2:$B$71))+H194-(E194*3))","v":""},{"$f":"IF(C194=\"\",\"\",LOOKUP(K194,ByM!$A$2:$B$462)+LOOKUP(L194,ByM!$A$2:$B$462)+LOOKUP(M194,ByM!$A$2:$B$462)+LOOKUP(N194,ByM!$A$2:$B$462)+LOOKUP(O194,ByM!$A$2:$B$462))","v":""}]
[null,null,null,null,null,null,null,null,null,null,null,null,null,null,null,{"$f":"IF(C195=\"\",\"\",F195+(LOOKUP(G195,Area!$A$2:$B$71))+H195-(E195*3))","v":""},{"$f":"IF(C195=\"\",\"\",LOOKUP(K195,ByM!$A$2:$B$462)+LOOKUP(L195,ByM!$A$2:$B$462)+LOOKUP(M195,ByM!$A$2:$B$462)+LOOKUP(N195,ByM!$A$2:$B$462)+LOOKUP(O195,ByM!$A$2:$B$462))","v":""}]
[null,null,null,null,null,null,null,null,null,null,null,null,null,null,null,{"$f":"IF(C196=\"\",\"\",F196+(LOOKUP(G196,Area!$A$2:$B$71))+H196-(E196*3))","v":""},{"$f":"IF(C196=\"\",\"\",LOOKUP(K196,ByM!$A$2:$B$462)+LOOKUP(L196,ByM!$A$2:$B$462)+LOOKUP(M196,ByM!$A$2:$B$462)+LOOKUP(N196,ByM!$A$2:$B$462)+LOOKUP(O196,ByM!$A$2:$B$462))","v":""}]
[null,null,null,null,null,null,null,null,null,null,null,null,null,null,null,{"$f":"IF(C197=\"\",\"\",F197+(LOOKUP(G197,Area!$A$2:$B$71))+H197-(E197*3))","v":""},{"$f":"IF(C197=\"\",\"\",LOOKUP(K197,ByM!$A$2:$B$462)+LOOKUP(L197,ByM!$A$2:$B$462)+LOOKUP(M197,ByM!$A$2:$B$462)+LOOKUP(N197,ByM!$A$2:$B$462)+LOOKUP(O197,ByM!$A$2:$B$462))","v":""}]
[null,null,null,null,null,null,null,null,null,null,null,null,null,null,null,{"$f":"IF(C198=\"\",\"\",F198+(LOOKUP(G198,Area!$A$2:$B$71))+H198-(E198*3))","v":""},{"$f":"IF(C198=\"\",\"\",LOOKUP(K198,ByM!$A$2:$B$462)+LOOKUP(L198,ByM!$A$2:$B$462)+LOOKUP(M198,ByM!$A$2:$B$462)+LOOKUP(N198,ByM!$A$2:$B$462)+LOOKUP(O198,ByM!$A$2:$B$462))","v":""}]
[null,null,null,null,null,null,null,null,null,null,null,null,null,null,null,{"$f":"IF(C199=\"\",\"\",F199+(LOOKUP(G199,Area!$A$2:$B$71))+H199-(E199*3))","v":""},{"$f":"IF(C199=\"\",\"\",LOOKUP(K199,ByM!$A$2:$B$462)+LOOKUP(L199,ByM!$A$2:$B$462)+LOOKUP(M199,ByM!$A$2:$B$462)+LOOKUP(N199,ByM!$A$2:$B$462)+LOOKUP(O199,ByM!$A$2:$B$462))","v":""}]
[null,null,null,null,null,null,null,null,null,null,null,null,null,null,null,{"$f":"IF(C200=\"\",\"\",F200+(LOOKUP(G200,Area!$A$2:$B$71))+H200-(E200*3))","v":""},{"$f":"IF(C200=\"\",\"\",LOOKUP(K200,ByM!$A$2:$B$462)+LOOKUP(L200,ByM!$A$2:$B$462)+LOOKUP(M200,ByM!$A$2:$B$462)+LOOKUP(N200,ByM!$A$2:$B$462)+LOOKUP(O200,ByM!$A$2:$B$462))","v":""}]
[null,null,null,null,null,null,null,null,null,null,null,null,null,null,null,{"$f":"IF(C201=\"\",\"\",F201+(LOOKUP(G201,Area!$A$2:$B$71))+H201-(E201*3))","v":""},{"$f":"IF(C201=\"\",\"\",LOOKUP(K201,ByM!$A$2:$B$462)+LOOKUP(L201,ByM!$A$2:$B$462)+LOOKUP(M201,ByM!$A$2:$B$462)+LOOKUP(N201,ByM!$A$2:$B$462)+LOOKUP(O201,ByM!$A$2:$B$462))","v":""}]
[null,null,null,null,null,null,null,null,null,null,null,null,null,null,null,{"$f":"IF(C202=\"\",\"\",F202+(LOOKUP(G202,Area!$A$2:$B$71))+H202-(E202*3))","v":""},{"$f":"IF(C202=\"\",\"\",LOOKUP(K202,ByM!$A$2:$B$462)+LOOKUP(L202,ByM!$A$2:$B$462)+LOOKUP(M202,ByM!$A$2:$B$462)+LOOKUP(N202,ByM!$A$2:$B$462)+LOOKUP(O202,ByM!$A$2:$B$462))","v":""}]
[null,null,null,null,null,null,null,null,null,null,null,null,null,null,null,{"$f":"IF(C203=\"\",\"\",F203+(LOOKUP(G203,Area!$A$2:$B$71))+H203-(E203*3))","v":""},{"$f":"IF(C203=\"\",\"\",LOOKUP(K203,ByM!$A$2:$B$462)+LOOKUP(L203,ByM!$A$2:$B$462)+LOOKUP(M203,ByM!$A$2:$B$462)+LOOKUP(N203,ByM!$A$2:$B$462)+LOOKUP(O203,ByM!$A$2:$B$462))","v":""}]
[null,null,null,null,null,null,null,null,null,null,null,null,null,null,null,{"$f":"IF(C204=\"\",\"\",F204+(LOOKUP(G204,Area!$A$2:$B$71))+H204-(E204*3))","v":""},{"$f":"IF(C204=\"\",\"\",LOOKUP(K204,ByM!$A$2:$B$462)+LOOKUP(L204,ByM!$A$2:$B$462)+LOOKUP(M204,ByM!$A$2:$B$462)+LOOKUP(N204,ByM!$A$2:$B$462)+LOOKUP(O204,ByM!$A$2:$B$462))","v":""}]
[null,null,null,null,null,null,null,null,null,null,null,null,null,null,null,{"$f":"IF(C205=\"\",\"\",F205+(LOOKUP(G205,Area!$A$2:$B$71))+H205-(E205*3))","v":""},{"$f":"IF(C205=\"\",\"\",LOOKUP(K205,ByM!$A$2:$B$462)+LOOKUP(L205,ByM!$A$2:$B$462)+LOOKUP(M205,ByM!$A$2:$B$462)+LOOKUP(N205,ByM!$A$2:$B$462)+LOOKUP(O205,ByM!$A$2:$B$462))","v":""}]
[null,null,null,null,null,null,null,null,null,null,null,null,null,null,null,{"$f":"IF(C206=\"\",\"\",F206+(LOOKUP(G206,Area!$A$2:$B$71))+H206-(E206*3))","v":""},{"$f":"IF(C206=\"\",\"\",LOOKUP(K206,ByM!$A$2:$B$462)+LOOKUP(L206,ByM!$A$2:$B$462)+LOOKUP(M206,ByM!$A$2:$B$462)+LOOKUP(N206,ByM!$A$2:$B$462)+LOOKUP(O206,ByM!$A$2:$B$462))","v":""}]
[null,null,null,null,null,null,null,null,null,null,null,null,null,null,null,{"$f":"IF(C207=\"\",\"\",F207+(LOOKUP(G207,Area!$A$2:$B$71))+H207-(E207*3))","v":""},{"$f":"IF(C207=\"\",\"\",LOOKUP(K207,ByM!$A$2:$B$462)+LOOKUP(L207,ByM!$A$2:$B$462)+LOOKUP(M207,ByM!$A$2:$B$462)+LOOKUP(N207,ByM!$A$2:$B$462)+LOOKUP(O207,ByM!$A$2:$B$462))","v":""}]
[null,null,null,null,null,null,null,null,null,null,null,null,null,null,null,{"$f":"IF(C208=\"\",\"\",F208+(LOOKUP(G208,Area!$A$2:$B$71))+H208-(E208*3))","v":""},{"$f":"IF(C208=\"\",\"\",LOOKUP(K208,ByM!$A$2:$B$462)+LOOKUP(L208,ByM!$A$2:$B$462)+LOOKUP(M208,ByM!$A$2:$B$462)+LOOKUP(N208,ByM!$A$2:$B$462)+LOOKUP(O208,ByM!$A$2:$B$462))","v":""}]
[null,null,null,null,null,null,null,null,null,null,null,null,null,null,null,{"$f":"IF(C209=\"\",\"\",F209+(LOOKUP(G209,Area!$A$2:$B$71))+H209-(E209*3))","v":""},{"$f":"IF(C209=\"\",\"\",LOOKUP(K209,ByM!$A$2:$B$462)+LOOKUP(L209,ByM!$A$2:$B$462)+LOOKUP(M209,ByM!$A$2:$B$462)+LOOKUP(N209,ByM!$A$2:$B$462)+LOOKUP(O209,ByM!$A$2:$B$462))","v":""}]
[null,null,null,null,null,null,null,null,null,null,null,null,null,null,null,{"$f":"IF(C210=\"\",\"\",F210+(LOOKUP(G210,Area!$A$2:$B$71))+H210-(E210*3))","v":""},{"$f":"IF(C210=\"\",\"\",LOOKUP(K210,ByM!$A$2:$B$462)+LOOKUP(L210,ByM!$A$2:$B$462)+LOOKUP(M210,ByM!$A$2:$B$462)+LOOKUP(N210,ByM!$A$2:$B$462)+LOOKUP(O210,ByM!$A$2:$B$462))","v":""}]
[null,null,null,null,null,null,null,null,null,null,null,null,null,null,null,{"$f":"IF(C211=\"\",\"\",F211+(LOOKUP(G211,Area!$A$2:$B$71))+H211-(E211*3))","v":""},{"$f":"IF(C211=\"\",\"\",LOOKUP(K211,ByM!$A$2:$B$462)+LOOKUP(L211,ByM!$A$2:$B$462)+LOOKUP(M211,ByM!$A$2:$B$462)+LOOKUP(N211,ByM!$A$2:$B$462)+LOOKUP(O211,ByM!$A$2:$B$462))","v":""}]
[null,null,null,null,null,null,null,null,null,null,null,null,null,null,null,{"$f":"IF(C212=\"\",\"\",F212+(LOOKUP(G212,Area!$A$2:$B$71))+H212-(E212*3))","v":""},{"$f":"IF(C212=\"\",\"\",LOOKUP(K212,ByM!$A$2:$B$462)+LOOKUP(L212,ByM!$A$2:$B$462)+LOOKUP(M212,ByM!$A$2:$B$462)+LOOKUP(N212,ByM!$A$2:$B$462)+LOOKUP(O212,ByM!$A$2:$B$462))","v":""}]
[null,null,null,null,null,null,null,null,null,null,null,null,null,null,null,{"$f":"IF(C213=\"\",\"\",F213+(LOOKUP(G213,Area!$A$2:$B$71))+H213-(E213*3))","v":""},{"$f":"IF(C213=\"\",\"\",LOOKUP(K213,ByM!$A$2:$B$462)+LOOKUP(L213,ByM!$A$2:$B$462)+LOOKUP(M213,ByM!$A$2:$B$462)+LOOKUP(N213,ByM!$A$2:$B$462)+LOOKUP(O213,ByM!$A$2:$B$462))","v":""}]
[null,null,null,null,null,null,null,null,null,null,null,null,null,null,null,{"$f":"IF(C214=\"\",\"\",F214+(LOOKUP(G214,Area!$A$2:$B$71))+H214-(E214*3))","v":""},{"$f":"IF(C214=\"\",\"\",LOOKUP(K214,ByM!$A$2:$B$462)+LOOKUP(L214,ByM!$A$2:$B$462)+LOOKUP(M214,ByM!$A$2:$B$462)+LOOKUP(N214,ByM!$A$2:$B$462)+LOOKUP(O214,ByM!$A$2:$B$462))","v":""}]
[null,null,null,null,null,null,null,null,null,null,null,null,null,null,null,{"$f":"IF(C215=\"\",\"\",F215+(LOOKUP(G215,Area!$A$2:$B$71))+H215-(E215*3))","v":""},{"$f":"IF(C215=\"\",\"\",LOOKUP(K215,ByM!$A$2:$B$462)+LOOKUP(L215,ByM!$A$2:$B$462)+LOOKUP(M215,ByM!$A$2:$B$462)+LOOKUP(N215,ByM!$A$2:$B$462)+LOOKUP(O215,ByM!$A$2:$B$462))","v":""}]
[null,null,null,null,null,null,null,null,null,null,null,null,null,null,null,{"$f":"IF(C216=\"\",\"\",F216+(LOOKUP(G216,Area!$A$2:$B$71))+H216-(E216*3))","v":""},{"$f":"IF(C216=\"\",\"\",LOOKUP(K216,ByM!$A$2:$B$462)+LOOKUP(L216,ByM!$A$2:$B$462)+LOOKUP(M216,ByM!$A$2:$B$462)+LOOKUP(N216,ByM!$A$2:$B$462)+LOOKUP(O216,ByM!$A$2:$B$462))","v":""}]
[null,null,null,null,null,null,null,null,null,null,null,null,null,null,null,{"$f":"IF(C217=\"\",\"\",F217+(LOOKUP(G217,Area!$A$2:$B$71))+H217-(E217*3))","v":""},{"$f":"IF(C217=\"\",\"\",LOOKUP(K217,ByM!$A$2:$B$462)+LOOKUP(L217,ByM!$A$2:$B$462)+LOOKUP(M217,ByM!$A$2:$B$462)+LOOKUP(N217,ByM!$A$2:$B$462)+LOOKUP(O217,ByM!$A$2:$B$462))","v":""}]
[null,null,null,null,null,null,null,null,null,null,null,null,null,null,null,{"$f":"IF(C218=\"\",\"\",F218+(LOOKUP(G218,Area!$A$2:$B$71))+H218-(E218*3))","v":""},{"$f":"IF(C218=\"\",\"\",LOOKUP(K218,ByM!$A$2:$B$462)+LOOKUP(L218,ByM!$A$2:$B$462)+LOOKUP(M218,ByM!$A$2:$B$462)+LOOKUP(N218,ByM!$A$2:$B$462)+LOOKUP(O218,ByM!$A$2:$B$462))","v":""}]
[null,null,null,null,null,null,null,null,null,null,null,null,null,null,null,{"$f":"IF(C219=\"\",\"\",F219+(LOOKUP(G219,Area!$A$2:$B$71))+H219-(E219*3))","v":""},{"$f":"IF(C219=\"\",\"\",LOOKUP(K219,ByM!$A$2:$B$462)+LOOKUP(L219,ByM!$A$2:$B$462)+LOOKUP(M219,ByM!$A$2:$B$462)+LOOKUP(N219,ByM!$A$2:$B$462)+LOOKUP(O219,ByM!$A$2:$B$462))","v":""}]
[null,null,null,null,null,null,null,null,null,null,null,null,null,null,null,{"$f":"IF(C220=\"\",\"\",F220+(LOOKUP(G220,Area!$A$2:$B$71))+H220-(E220*3))","v":""},{"$f":"IF(C220=\"\",\"\",LOOKUP(K220,ByM!$A$2:$B$462)+LOOKUP(L220,ByM!$A$2:$B$462)+LOOKUP(M220,ByM!$A$2:$B$462)+LOOKUP(N220,ByM!$A$2:$B$462)+LOOKUP(O220,ByM!$A$2:$B$462))","v":""}]
[null,null,null,null,null,null,null,null,null,null,null,null,null,null,null,{"$f":"IF(C221=\"\",\"\",F221+(LOOKUP(G221,Area!$A$2:$B$71))+H221-(E221*3))","v":""},{"$f":"IF(C221=\"\",\"\",LOOKUP(K221,ByM!$A$2:$B$462)+LOOKUP(L221,ByM!$A$2:$B$462)+LOOKUP(M221,ByM!$A$2:$B$462)+LOOKUP(N221,ByM!$A$2:$B$462)+LOOKUP(O221,ByM!$A$2:$B$462))","v":""}]
[null,null,null,null,null,null,null,null,null,null,null,null,null,null,null,{"$f":"IF(C222=\"\",\"\",F222+(LOOKUP(G222,Area!$A$2:$B$71))+H222-(E222*3))","v":""},{"$f":"IF(C222=\"\",\"\",LOOKUP(K222,ByM!$A$2:$B$462)+LOOKUP(L222,ByM!$A$2:$B$462)+LOOKUP(M222,ByM!$A$2:$B$462)+LOOKUP(N222,ByM!$A$2:$B$462)+LOOKUP(O222,ByM!$A$2:$B$462))","v":""}]
[null,null,null,null,null,null,null,null,null,null,null,null,null,null,null,{"$f":"IF(C223=\"\",\"\",F223+(LOOKUP(G223,Area!$A$2:$B$71))+H223-(E223*3))","v":""},{"$f":"IF(C223=\"\",\"\",LOOKUP(K223,ByM!$A$2:$B$462)+LOOKUP(L223,ByM!$A$2:$B$462)+LOOKUP(M223,ByM!$A$2:$B$462)+LOOKUP(N223,ByM!$A$2:$B$462)+LOOKUP(O223,ByM!$A$2:$B$462))","v":""}]
[null,null,null,null,null,null,null,null,null,null,null,null,null,null,null,{"$f":"IF(C224=\"\",\"\",F224+(LOOKUP(G224,Area!$A$2:$B$71))+H224-(E224*3))","v":""},{"$f":"IF(C224=\"\",\"\",LOOKUP(K224,ByM!$A$2:$B$462)+LOOKUP(L224,ByM!$A$2:$B$462)+LOOKUP(M224,ByM!$A$2:$B$462)+LOOKUP(N224,ByM!$A$2:$B$462)+LOOKUP(O224,ByM!$A$2:$B$462))","v":""}]
[null,null,null,null,null,null,null,null,null,null,null,null,null,null,null,{"$f":"IF(C225=\"\",\"\",F225+(LOOKUP(G225,Area!$A$2:$B$71))+H225-(E225*3))","v":""},{"$f":"IF(C225=\"\",\"\",LOOKUP(K225,ByM!$A$2:$B$462)+LOOKUP(L225,ByM!$A$2:$B$462)+LOOKUP(M225,ByM!$A$2:$B$462)+LOOKUP(N225,ByM!$A$2:$B$462)+LOOKUP(O225,ByM!$A$2:$B$462))","v":""}]
[null,null,null,null,null,null,null,null,null,null,null,null,null,null,null,{"$f":"IF(C226=\"\",\"\",F226+(LOOKUP(G226,Area!$A$2:$B$71))+H226-(E226*3))","v":""},{"$f":"IF(C226=\"\",\"\",LOOKUP(K226,ByM!$A$2:$B$462)+LOOKUP(L226,ByM!$A$2:$B$462)+LOOKUP(M226,ByM!$A$2:$B$462)+LOOKUP(N226,ByM!$A$2:$B$462)+LOOKUP(O226,ByM!$A$2:$B$462))","v":""}]
[null,null,null,null,null,null,null,null,null,null,null,null,null,null,null,{"$f":"IF(C227=\"\",\"\",F227+(LOOKUP(G227,Area!$A$2:$B$71))+H227-(E227*3))","v":""},{"$f":"IF(C227=\"\",\"\",LOOKUP(K227,ByM!$A$2:$B$462)+LOOKUP(L227,ByM!$A$2:$B$462)+LOOKUP(M227,ByM!$A$2:$B$462)+LOOKUP(N227,ByM!$A$2:$B$462)+LOOKUP(O227,ByM!$A$2:$B$462))","v":""}]
[null,null,null,null,null,null,null,null,null,null,null,null,null,null,null,{"$f":"IF(C228=\"\",\"\",F228+(LOOKUP(G228,Area!$A$2:$B$71))+H228-(E228*3))","v":""},{"$f":"IF(C228=\"\",\"\",LOOKUP(K228,ByM!$A$2:$B$462)+LOOKUP(L228,ByM!$A$2:$B$462)+LOOKUP(M228,ByM!$A$2:$B$462)+LOOKUP(N228,ByM!$A$2:$B$462)+LOOKUP(O228,ByM!$A$2:$B$462))","v":""}]
[null,null,null,null,null,null,null,null,null,null,null,null,null,null,null,{"$f":"IF(C229=\"\",\"\",F229+(LOOKUP(G229,Area!$A$2:$B$71))+H229-(E229*3))","v":""},{"$f":"IF(C229=\"\",\"\",LOOKUP(K229,ByM!$A$2:$B$462)+LOOKUP(L229,ByM!$A$2:$B$462)+LOOKUP(M229,ByM!$A$2:$B$462)+LOOKUP(N229,ByM!$A$2:$B$462)+LOOKUP(O229,ByM!$A$2:$B$462))","v":""}]
[null,null,null,null,null,null,null,null,null,null,null,null,null,null,null,{"$f":"IF(C230=\"\",\"\",F230+(LOOKUP(G230,Area!$A$2:$B$71))+H230-(E230*3))","v":""},{"$f":"IF(C230=\"\",\"\",LOOKUP(K230,ByM!$A$2:$B$462)+LOOKUP(L230,ByM!$A$2:$B$462)+LOOKUP(M230,ByM!$A$2:$B$462)+LOOKUP(N230,ByM!$A$2:$B$462)+LOOKUP(O230,ByM!$A$2:$B$462))","v":""}]
[null,null,null,null,null,null,null,null,null,null,null,null,null,null,null,{"$f":"IF(C231=\"\",\"\",F231+(LOOKUP(G231,Area!$A$2:$B$71))+H231-(E231*3))","v":""},{"$f":"IF(C231=\"\",\"\",LOOKUP(K231,ByM!$A$2:$B$462)+LOOKUP(L231,ByM!$A$2:$B$462)+LOOKUP(M231,ByM!$A$2:$B$462)+LOOKUP(N231,ByM!$A$2:$B$462)+LOOKUP(O231,ByM!$A$2:$B$462))","v":""}]
[null,null,null,null,null,null,null,null,null,null,null,null,null,null,null,{"$f":"IF(C232=\"\",\"\",F232+(LOOKUP(G232,Area!$A$2:$B$71))+H232-(E232*3))","v":""},{"$f":"IF(C232=\"\",\"\",LOOKUP(K232,ByM!$A$2:$B$462)+LOOKUP(L232,ByM!$A$2:$B$462)+LOOKUP(M232,ByM!$A$2:$B$462)+LOOKUP(N232,ByM!$A$2:$B$462)+LOOKUP(O232,ByM!$A$2:$B$462))","v":""}]
[null,null,null,null,null,null,null,null,null,null,null,null,null,null,null,{"$f":"IF(C233=\"\",\"\",F233+(LOOKUP(G233,Area!$A$2:$B$71))+H233-(E233*3))","v":""},{"$f":"IF(C233=\"\",\"\",LOOKUP(K233,ByM!$A$2:$B$462)+LOOKUP(L233,ByM!$A$2:$B$462)+LOOKUP(M233,ByM!$A$2:$B$462)+LOOKUP(N233,ByM!$A$2:$B$462)+LOOKUP(O233,ByM!$A$2:$B$462))","v":""}]
[null,null,null,null,null,null,null,null,null,null,null,null,null,null,null,{"$f":"IF(C234=\"\",\"\",F234+(LOOKUP(G234,Area!$A$2:$B$71))+H234-(E234*3))","v":""},{"$f":"IF(C234=\"\",\"\",LOOKUP(K234,ByM!$A$2:$B$462)+LOOKUP(L234,ByM!$A$2:$B$462)+LOOKUP(M234,ByM!$A$2:$B$462)+LOOKUP(N234,ByM!$A$2:$B$462)+LOOKUP(O234,ByM!$A$2:$B$462))","v":""}]
[null,null,null,null,null,null,null,null,null,null,null,null,null,null,null,{"$f":"IF(C235=\"\",\"\",F235+(LOOKUP(G235,Area!$A$2:$B$71))+H235-(E235*3))","v":""},{"$f":"IF(C235=\"\",\"\",LOOKUP(K235,ByM!$A$2:$B$462)+LOOKUP(L235,ByM!$A$2:$B$462)+LOOKUP(M235,ByM!$A$2:$B$462)+LOOKUP(N235,ByM!$A$2:$B$462)+LOOKUP(O235,ByM!$A$2:$B$462))","v":""}]
[null,null,null,null,null,null,null,null,null,null,null,null,null,null,null,{"$f":"IF(C236=\"\",\"\",F236+(LOOKUP(G236,Area!$A$2:$B$71))+H236-(E236*3))","v":""},{"$f":"IF(C236=\"\",\"\",LOOKUP(K236,ByM!$A$2:$B$462)+LOOKUP(L236,ByM!$A$2:$B$462)+LOOKUP(M236,ByM!$A$2:$B$462)+LOOKUP(N236,ByM!$A$2:$B$462)+LOOKUP(O236,ByM!$A$2:$B$462))","v":""}]
[null,null,null,null,null,null,null,null,null,null,null,null,null,null,null,{"$f":"IF(C237=\"\",\"\",F237+(LOOKUP(G237,Area!$A$2:$B$71))+H237-(E237*3))","v":""},{"$f":"IF(C237=\"\",\"\",LOOKUP(K237,ByM!$A$2:$B$462)+LOOKUP(L237,ByM!$A$2:$B$462)+LOOKUP(M237,ByM!$A$2:$B$462)+LOOKUP(N237,ByM!$A$2:$B$462)+LOOKUP(O237,ByM!$A$2:$B$462))","v":""}]
[null,null,null,null,null,null,null,null,null,null,null,null,null,null,null,{"$f":"IF(C238=\"\",\"\",F238+(LOOKUP(G238,Area!$A$2:$B$71))+H238-(E238*3))","v":""},{"$f":"IF(C238=\"\",\"\",LOOKUP(K238,ByM!$A$2:$B$462)+LOOKUP(L238,ByM!$A$2:$B$462)+LOOKUP(M238,ByM!$A$2:$B$462)+LOOKUP(N238,ByM!$A$2:$B$462)+LOOKUP(O238,ByM!$A$2:$B$462))","v":""}]
[null,null,null,null,null,null,null,null,null,null,null,null,null,null,null,{"$f":"IF(C239=\"\",\"\",F239+(LOOKUP(G239,Area!$A$2:$B$71))+H239-(E239*3))","v":""},{"$f":"IF(C239=\"\",\"\",LOOKUP(K239,ByM!$A$2:$B$462)+LOOKUP(L239,ByM!$A$2:$B$462)+LOOKUP(M239,ByM!$A$2:$B$462)+LOOKUP(N239,ByM!$A$2:$B$462)+LOOKUP(O239,ByM!$A$2:$B$462))","v":""}]
[null,null,null,null,null,null,null,null,null,null,null,null,null,null,null,{"$f":"IF(C240=\"\",\"\",F240+(LOOKUP(G240,Area!$A$2:$B$71))+H240-(E240*3))","v":""},{"$f":"IF(C240=\"\",\"\",LOOKUP(K240,ByM!$A$2:$B$462)+LOOKUP(L240,ByM!$A$2:$B$462)+LOOKUP(M240,ByM!$A$2:$B$462)+LOOKUP(N240,ByM!$A$2:$B$462)+LOOKUP(O240,ByM!$A$2:$B$462))","v":""}]
[null,null,null,null,null,null,null,null,null,null,null,null,null,null,null,{"$f":"IF(C241=\"\",\"\",F241+(LOOKUP(G241,Area!$A$2:$B$71))+H241-(E241*3))","v":""},{"$f":"IF(C241=\"\",\"\",LOOKUP(K241,ByM!$A$2:$B$462)+LOOKUP(L241,ByM!$A$2:$B$462)+LOOKUP(M241,ByM!$A$2:$B$462)+LOOKUP(N241,ByM!$A$2:$B$462)+LOOKUP(O241,ByM!$A$2:$B$462))","v":""}]
[null,null,null,null,null,null,null,null,null,null,null,null,null,null,null,{"$f":"IF(C242=\"\",\"\",F242+(LOOKUP(G242,Area!$A$2:$B$71))+H242-(E242*3))","v":""},{"$f":"IF(C242=\"\",\"\",LOOKUP(K242,ByM!$A$2:$B$462)+LOOKUP(L242,ByM!$A$2:$B$462)+LOOKUP(M242,ByM!$A$2:$B$462)+LOOKUP(N242,ByM!$A$2:$B$462)+LOOKUP(O242,ByM!$A$2:$B$462))","v":""}]
[null,null,null,null,null,null,null,null,null,null,null,null,null,null,null,{"$f":"IF(C243=\"\",\"\",F243+(LOOKUP(G243,Area!$A$2:$B$71))+H243-(E243*3))","v":""},{"$f":"IF(C243=\"\",\"\",LOOKUP(K243,ByM!$A$2:$B$462)+LOOKUP(L243,ByM!$A$2:$B$462)+LOOKUP(M243,ByM!$A$2:$B$462)+LOOKUP(N243,ByM!$A$2:$B$462)+LOOKUP(O243,ByM!$A$2:$B$462))","v":""}]
[null,null,null,null,null,null,null,null,null,null,null,null,null,null,null,{"$f":"IF(C244=\"\",\"\",F244+(LOOKUP(G244,Area!$A$2:$B$71))+H244-(E244*3))","v":""},{"$f":"IF(C244=\"\",\"\",LOOKUP(K244,ByM!$A$2:$B$462)+LOOKUP(L244,ByM!$A$2:$B$462)+LOOKUP(M244,ByM!$A$2:$B$462)+LOOKUP(N244,ByM!$A$2:$B$462)+LOOKUP(O244,ByM!$A$2:$B$462))","v":""}]
[null,null,null,null,null,null,null,null,null,null,null,null,null,null,null,{"$f":"IF(C245=\"\",\"\",F245+(LOOKUP(G245,Area!$A$2:$B$71))+H245-(E245*3))","v":""},{"$f":"IF(C245=\"\",\"\",LOOKUP(K245,ByM!$A$2:$B$462)+LOOKUP(L245,ByM!$A$2:$B$462)+LOOKUP(M245,ByM!$A$2:$B$462)+LOOKUP(N245,ByM!$A$2:$B$462)+LOOKUP(O245,ByM!$A$2:$B$462))","v":""}]
[null,null,null,null,null,null,null,null,null,null,null,null,null,null,null,{"$f":"IF(C246=\"\",\"\",F246+(LOOKUP(G246,Area!$A$2:$B$71))+H246-(E246*3))","v":""},{"$f":"IF(C246=\"\",\"\",LOOKUP(K246,ByM!$A$2:$B$462)+LOOKUP(L246,ByM!$A$2:$B$462)+LOOKUP(M246,ByM!$A$2:$B$462)+LOOKUP(N246,ByM!$A$2:$B$462)+LOOKUP(O246,ByM!$A$2:$B$462))","v":""}]
[null,null,null,null,null,null,null,null,null,null,null,null,null,null,null,{"$f":"IF(C247=\"\",\"\",F247+(LOOKUP(G247,Area!$A$2:$B$71))+H247-(E247*3))","v":""},{"$f":"IF(C247=\"\",\"\",LOOKUP(K247,ByM!$A$2:$B$462)+LOOKUP(L247,ByM!$A$2:$B$462)+LOOKUP(M247,ByM!$A$2:$B$462)+LOOKUP(N247,ByM!$A$2:$B$462)+LOOKUP(O247,ByM!$A$2:$B$462))","v":""}]
[null,null,null,null,null,null,null,null,null,null,null,null,null,null,null,{"$f":"IF(C248=\"\",\"\",F248+(LOOKUP(G248,Area!$A$2:$B$71))+H248-(E248*3))","v":""},{"$f":"IF(C248=\"\",\"\",LOOKUP(K248,ByM!$A$2:$B$462)+LOOKUP(L248,ByM!$A$2:$B$462)+LOOKUP(M248,ByM!$A$2:$B$462)+LOOKUP(N248,ByM!$A$2:$B$462)+LOOKUP(O248,ByM!$A$2:$B$462))","v":""}]
[null,null,null,null,null,null,null,null,null,null,null,null,null,null,null,{"$f":"IF(C249=\"\",\"\",F249+(LOOKUP(G249,Area!$A$2:$B$71))+H249-(E249*3))","v":""},{"$f":"IF(C249=\"\",\"\",LOOKUP(K249,ByM!$A$2:$B$462)+LOOKUP(L249,ByM!$A$2:$B$462)+LOOKUP(M249,ByM!$A$2:$B$462)+LOOKUP(N249,ByM!$A$2:$B$462)+LOOKUP(O249,ByM!$A$2:$B$462))","v":""}]
[null,null,null,null,null,null,null,null,null,null,null,null,null,null,null,{"$f":"IF(C250=\"\",\"\",F250+(LOOKUP(G250,Area!$A$2:$B$71))+H250-(E250*3))","v":""},{"$f":"IF(C250=\"\",\"\",LOOKUP(K250,ByM!$A$2:$B$462)+LOOKUP(L250,ByM!$A$2:$B$462)+LOOKUP(M250,ByM!$A$2:$B$462)+LOOKUP(N250,ByM!$A$2:$B$462)+LOOKUP(O250,ByM!$A$2:$B$462))","v":""}]
[null,null,null,null,null,null,null,null,null,null,null,null,null,null,null,{"$f":"IF(C251=\"\",\"\",LOOKUP(E251,$P$1:$Q$12)+LOOKUP(F251,$P$1:$Q$12)+LOOKUP(G251,$P$1:$Q$12)+LOOKUP(H251,$P$1:$Q$12)+LOOKUP(I251,$P$1:$Q$12))","v":""},{"$f":"IF(C251=\"\",\"\",LOOKUP(K251,ByM!$A$2:$B$462)+LOOKUP(L251,ByM!$A$2:$B$462)+LOOKUP(M251,ByM!$A$2:$B$462)+LOOKUP(N251,ByM!$A$2:$B$462)+LOOKUP(O251,ByM!$A$2:$B$462))","v":""}]
[null,null,null,null,null,null,null,null,null,null,null,null,null,null,null,{"$f":"IF(C252=\"\",\"\",LOOKUP(E252,$P$1:$Q$12)+LOOKUP(F252,$P$1:$Q$12)+LOOKUP(G252,$P$1:$Q$12)+LOOKUP(H252,$P$1:$Q$12)+LOOKUP(I252,$P$1:$Q$12))","v":""},{"$f":"IF(C252=\"\",\"\",LOOKUP(K252,ByM!$A$2:$B$462)+LOOKUP(L252,ByM!$A$2:$B$462)+LOOKUP(M252,ByM!$A$2:$B$462)+LOOKUP(N252,ByM!$A$2:$B$462)+LOOKUP(O252,ByM!$A$2:$B$462))","v":""}]
[null,null,null,null,null,null,null,null,null,null,null,null,null,null,null,{"$f":"IF(C253=\"\",\"\",LOOKUP(E253,$P$1:$Q$12)+LOOKUP(F253,$P$1:$Q$12)+LOOKUP(G253,$P$1:$Q$12)+LOOKUP(H253,$P$1:$Q$12)+LOOKUP(I253,$P$1:$Q$12))","v":""},{"$f":"IF(C253=\"\",\"\",LOOKUP(K253,ByM!$A$2:$B$462)+LOOKUP(L253,ByM!$A$2:$B$462)+LOOKUP(M253,ByM!$A$2:$B$462)+LOOKUP(N253,ByM!$A$2:$B$462)+LOOKUP(O253,ByM!$A$2:$B$462))","v":""}]

{"sheet":"Transporte","index":5,"n_rows":302,"n_cols":17,"rows_kept":302,"cut":false,"hidden":false,"merged":[]}
[]
[null,"Nombre:","Nombre",null,"Atributos:",null,null,null,null,null,"Coste del arquetipo:"]
[null,"Bonus 1:","-",{"$f":"LOOKUP(C3,ByM!$A$2:$B$462)","v":0},"ENE","MOV","DEF","CAL",null,null,{"$f":"IF(SUM(D3:D7,(F5+G5+H5-E5))<1,1,SUM(D3:D7,(F5+G5+H5-E5)))","v":4},{"$f":"LOOKUP(C3,ByM!$A$2:$C$462)","v":"-"}]
[null,"Bonus 2:","-",{"$f":"LOOKUP(C4,ByM!$A$2:$B$462)","v":0},1,1,1,1,null,null,null,{"$f":"LOOKUP(C4,ByM!$A$2:$C$462)","v":"-"}]
[null,"Bonus 3:","-",{"$f":"LOOKUP(C5,ByM!$A$2:$B$462)","v":0},{"$f":"E4","v":1},{"$f":"F4","v":1},{"$f":"G4*3","v":3},{"$f":"H4","v":1},null,null,null,{"$f":"LOOKUP(C5,ByM!$A$2:$C$462)","v":"-"}]
[null,"Bonus 4:","-",{"$f":"LOOKUP(C6,ByM!$A$2:$B$462)","v":0},null,null,null,null,null,null,null,{"$f":"LOOKUP(C6,ByM!$A$2:$C$462)","v":"-"}]
[null,"Bonus 5:","-",{"$f":"LOOKUP(C7,ByM!$A$2:$B$462)","v":0},null,null,null,null,null,null,null,{"$f":"LOOKUP(C7,ByM!$A$2:$C$462)","v":"-"}]
[null,"Descripción:"]
[]
[]
[]
[]
[]
[null,"Tipo","Nombre","Desc","ENE","MOV","DEF","CAL","PTS",".","Bonus 1","Bonus 2","Bonus 3","Bonus 4","Bonus 5","Pts Atr.","Pts ByM"]
[null,"Transporte","Bestia",null,9,3,4,5,16,null,"Todo terreno","-","-","-","-",{"$f":"IF(C15=\"\",\"\",F15+G15*3+H15-E15)","v":11},{"$f":"IF(C15=\"\",\"\",LOOKUP(K15,ByM!$A$2:$B$462)+LOOKUP(L15,ByM!$A$2:$B$462)+LOOKUP(M15,ByM!$A$2:$B$462)+LOOKUP(N15,ByM!$A$2:$B$462)+LOOKUP(O15,ByM!$A$2:$B$462))","v":5}]
[null,"Transporte","Bombardero Mangalor",null,6,12,5,8,66,null,"Vuelo espacial","vuelo a gran altitud","Escudo de energía N05","marcador de objetivos","-",{"$f":"IF(C16=\"\",\"\",F16+G16*3+H16-E16)","v":29},{"$f":"IF(C16=\"\",\"\",LOOKUP(K16,ByM!$A$2:$B$462)+LOOKUP(L16,ByM!$A$2:$B$462)+LOOKUP(M16,ByM!$A$2:$B$462)+LOOKUP(N16,ByM!$A$2:$B$462)+LOOKUP(O16,ByM!$A$2:$B$462))","v":37}]
[null,"Transporte","Bunker hammerfall",null,6,0,9,14,33,null,"Explota","Machina mors","Capacidad ( )","-","-",{"$f":"IF(C17=\"\",\"\",F17+G17*3+H17-E17)","v":35},{"$f":"IF(C17=\"\",\"\",LOOKUP(K17,ByM!$A$2:$B$462)+LOOKUP(L17,ByM!$A$2:$B$462)+LOOKUP(M17,ByM!$A$2:$B$462)+LOOKUP(N17,ByM!$A$2:$B$462)+LOOKUP(O17,ByM!$A$2:$B$462))","v":-2}]
[null,"Transporte","Caballo",null,2,2,4,4,24,null,"Capacidad (1)","Rápido","-","-","-",{"$f":"IF(C18=\"\",\"\",F18+G18*3+H18-E18)","v":16},{"$f":"IF(C18=\"\",\"\",LOOKUP(K18,ByM!$A$2:$B$462)+LOOKUP(L18,ByM!$A$2:$B$462)+LOOKUP(M18,ByM!$A$2:$B$462)+LOOKUP(N18,ByM!$A$2:$B$462)+LOOKUP(O18,ByM!$A$2:$B$462))","v":8}]
[null,"Transporte","Caballo de élite",null,2,3,5,6,30,null,"Capacidad (1)","Rápido","-","-","-",{"$f":"IF(C19=\"\",\"\",F19+G19*3+H19-E19)","v":22},{"$f":"IF(C19=\"\",\"\",LOOKUP(K19,ByM!$A$2:$B$462)+LOOKUP(L19,ByM!$A$2:$B$462)+LOOKUP(M19,ByM!$A$2:$B$462)+LOOKUP(N19,ByM!$A$2:$B$462)+LOOKUP(O19,ByM!$A$2:$B$462))","v":8}]
[null,"Transporte","Caballo de guerra",null,2,2,5,5,28,null,"Capacidad (1)","Rápido","-","-","-",{"$f":"IF(C20=\"\",\"\",F20+G20*3+H20-E20)","v":20},{"$f":"IF(C20=\"\",\"\",LOOKUP(K20,ByM!$A$2:$B$462)+LOOKUP(L20,ByM!$A$2:$B$462)+LOOKUP(M20,ByM!$A$2:$B$462)+LOOKUP(N20,ByM!$A$2:$B$462)+LOOKUP(O20,ByM!$A$2:$B$462))","v":8}]
[null,"Transporte","Cañonera stormraven",null,8,5,7,14,35,null,"Explota","Vuelo a gran altitud","Difícil de matar","Levitador","Capacidad ( )",{"$f":"IF(C21=\"\",\"\",F21+G21*3+H21-E21)","v":32},{"$f":"IF(C21=\"\",\"\",LOOKUP(K21,ByM!$A$2:$B$462)+LOOKUP(L21,ByM!$A$2:$B$462)+LOOKUP(M21,ByM!$A$2:$B$462)+LOOKUP(N21,ByM!$A$2:$B$462)+LOOKUP(O21,ByM!$A$2:$B$462))","v":3}]
[null,"Transporte","Cañonera stormtalon",null,6,5,6,10,27,null,"Explota","Vuelo a gran altitud","Difícil de matar","Levitador","-",{"$f":"IF(C22=\"\",\"\",F22+G22*3+H22-E22)","v":27},{"$f":"IF(C22=\"\",\"\",LOOKUP(K22,ByM!$A$2:$B$462)+LOOKUP(L22,ByM!$A$2:$B$462)+LOOKUP(M22,ByM!$A$2:$B$462)+LOOKUP(N22,ByM!$A$2:$B$462)+LOOKUP(O22,ByM!$A$2:$B$462))","v":0}]
[null,"Transporte","Cápsula de desembarco",null,6,0,7,8,32,null,"Explota","Tropas ocultas","Munición trazadora","Capacidad ( )","-",{"$f":"IF(C23=\"\",\"\",F23+G23*3+H23-E23)","v":23},{"$f":"IF(C23=\"\",\"\",LOOKUP(K23,ByM!$A$2:$B$462)+LOOKUP(L23,ByM!$A$2:$B$462)+LOOKUP(M23,ByM!$A$2:$B$462)+LOOKUP(N23,ByM!$A$2:$B$462)+LOOKUP(O23,ByM!$A$2:$B$462))","v":9}]
[null,"Transporte","Caza Mondoshaw",null,3,12,6,8,82,null,"Vuelo espacial","vuelo a gran altitud","caza","escudo de energía avanzado N03","marcador de objetivos",{"$f":"IF(C24=\"\",\"\",F24+G24*3+H24-E24)","v":35},{"$f":"IF(C24=\"\",\"\",LOOKUP(K24,ByM!$A$2:$B$462)+LOOKUP(L24,ByM!$A$2:$B$462)+LOOKUP(M24,ByM!$A$2:$B$462)+LOOKUP(N24,ByM!$A$2:$B$462)+LOOKUP(O24,ByM!$A$2:$B$462))","v":47}]
[null,"Transporte","Chasis Impulsor",null,7,3,9,12,45,null,"Explota","Humo denso","Levitador","Contracarga","Munición trazadora",{"$f":"IF(C25=\"\",\"\",F25+G25*3+H25-E25)","v":35},{"$f":"IF(C25=\"\",\"\",LOOKUP(K25,ByM!$A$2:$B$462)+LOOKUP(L25,ByM!$A$2:$B$462)+LOOKUP(M25,ByM!$A$2:$B$462)+LOOKUP(N25,ByM!$A$2:$B$462)+LOOKUP(O25,ByM!$A$2:$B$462))","v":10}]
[null,"Transporte","Chasis Land raider",null,8,3,9,16,37,null,"Explota","Humo denso","Capacidad ( )","-","-",{"$f":"IF(C26=\"\",\"\",F26+G26*3+H26-E26)","v":38},{"$f":"IF(C26=\"\",\"\",LOOKUP(K26,ByM!$A$2:$B$462)+LOOKUP(L26,ByM!$A$2:$B$462)+LOOKUP(M26,ByM!$A$2:$B$462)+LOOKUP(N26,ByM!$A$2:$B$462)+LOOKUP(O26,ByM!$A$2:$B$462))","v":-1}]
[null,"Transporte","Chasis Land speeder",null,4,4,6,6,16,null,"Explota","Vuelo","Comunicador","-","-",{"$f":"IF(C27=\"\",\"\",F27+G27*3+H27-E27)","v":24},{"$f":"IF(C27=\"\",\"\",LOOKUP(K27,ByM!$A$2:$B$462)+LOOKUP(L27,ByM!$A$2:$B$462)+LOOKUP(M27,ByM!$A$2:$B$462)+LOOKUP(N27,ByM!$A$2:$B$462)+LOOKUP(O27,ByM!$A$2:$B$462))","v":-8}]
[null,"Transporte","Chasis Repulsor",null,8,3,9,16,43,null,"Explota","Humo denso","Levitador","Contracarga","Capacidad ( )",{"$f":"IF(C28=\"\",\"\",F28+G28*3+H28-E28)","v":38},{"$f":"IF(C28=\"\",\"\",LOOKUP(K28,ByM!$A$2:$B$462)+LOOKUP(L28,ByM!$A$2:$B$462)+LOOKUP(M28,ByM!$A$2:$B$462)+LOOKUP(N28,ByM!$A$2:$B$462)+LOOKUP(O28,ByM!$A$2:$B$462))","v":5}]
[null,"Transporte","Chasis Rhino",null,6,3,8,10,27,null,"Explota","Humo denso","-","-","-",{"$f":"IF(C29=\"\",\"\",F29+G29*3+H29-E29)","v":31},{"$f":"IF(C29=\"\",\"\",LOOKUP(K29,ByM!$A$2:$B$462)+LOOKUP(L29,ByM!$A$2:$B$462)+LOOKUP(M29,ByM!$A$2:$B$462)+LOOKUP(N29,ByM!$A$2:$B$462)+LOOKUP(O29,ByM!$A$2:$B$462))","v":-4}]
[null,"Transporte","Chasis Storm speeder",null,5,4,6,10,18,null,"Explota","Vuelo","-","-","-",{"$f":"IF(C30=\"\",\"\",F30+G30*3+H30-E30)","v":27},{"$f":"IF(C30=\"\",\"\",LOOKUP(K30,ByM!$A$2:$B$462)+LOOKUP(L30,ByM!$A$2:$B$462)+LOOKUP(M30,ByM!$A$2:$B$462)+LOOKUP(N30,ByM!$A$2:$B$462)+LOOKUP(O30,ByM!$A$2:$B$462))","v":-9}]
[null,"Transporte","Chismeciclo",null,2,4,2,3,4,null,"Capacidad (1)","Prueba de constitución","-","-","-",{"$f":"IF(C31=\"\",\"\",F31+G31*3+H31-E31)","v":11},{"$f":"IF(C31=\"\",\"\",LOOKUP(K31,ByM!$A$2:$B$462)+LOOKUP(L31,ByM!$A$2:$B$462)+LOOKUP(M31,ByM!$A$2:$B$462)+LOOKUP(N31,ByM!$A$2:$B$462)+LOOKUP(O31,ByM!$A$2:$B$462))","v":-7}]
[null,"Transporte","Dreadnought",null,6,1,7,8,26,null,"Explota","Absorción de impacto","Mecha","Vulnerable","Humo denso",{"$f":"IF(C32=\"\",\"\",F32+G32*3+H32-E32)","v":24},{"$f":"IF(C32=\"\",\"\",LOOKUP(K32,ByM!$A$2:$B$462)+LOOKUP(L32,ByM!$A$2:$B$462)+LOOKUP(M32,ByM!$A$2:$B$462)+LOOKUP(N32,ByM!$A$2:$B$462)+LOOKUP(O32,ByM!$A$2:$B$462))","v":2}]
[null,"Transporte","Dreadnought desprecio",null,7,1,7,9,40,null,"Explota","Absorción de impacto","Mecha","Vulnerable","Salvaguarda",{"$f":"IF(C33=\"\",\"\",F33+G33*3+H33-E33)","v":24},{"$f":"IF(C33=\"\",\"\",LOOKUP(K33,ByM!$A$2:$B$462)+LOOKUP(L33,ByM!$A$2:$B$462)+LOOKUP(M33,ByM!$A$2:$B$462)+LOOKUP(N33,ByM!$A$2:$B$462)+LOOKUP(O33,ByM!$A$2:$B$462))","v":16}]
[null,"Transporte","Dreadnought redentor",null,7,1,7,13,24,null,"Explota","Absorción de impacto","Mecha","Vulnerable","-",{"$f":"IF(C34=\"\",\"\",F34+G34*3+H34-E34)","v":28},{"$f":"IF(C34=\"\",\"\",LOOKUP(K34,ByM!$A$2:$B$462)+LOOKUP(L34,ByM!$A$2:$B$462)+LOOKUP(M34,ByM!$A$2:$B$462)+LOOKUP(N34,ByM!$A$2:$B$462)+LOOKUP(O34,ByM!$A$2:$B$462))","v":-4}]
[null,"Transporte","Dreadnought robusto",null,6,1,8,8,43,null,"Explota","Absorción de impacto","Mecha","Vulnerable","Maestro guerrero",{"$f":"IF(C35=\"\",\"\",F35+G35*3+H35-E35)","v":27},{"$f":"IF(C35=\"\",\"\",LOOKUP(K35,ByM!$A$2:$B$462)+LOOKUP(L35,ByM!$A$2:$B$462)+LOOKUP(M35,ByM!$A$2:$B$462)+LOOKUP(N35,ByM!$A$2:$B$462)+LOOKUP(O35,ByM!$A$2:$B$462))","v":16}]
[null,"Transporte","Dreadnought venerable",null,6,1,7,8,27,null,"Explota","Absorción de impacto","Mecha","Vulnerable","Afortunado",{"$f":"IF(C36=\"\",\"\",F36+G36*3+H36-E36)","v":24},{"$f":"IF(C36=\"\",\"\",LOOKUP(K36,ByM!$A$2:$B$462)+LOOKUP(L36,ByM!$A$2:$B$462)+LOOKUP(M36,ByM!$A$2:$B$462)+LOOKUP(N36,ByM!$A$2:$B$462)+LOOKUP(O36,ByM!$A$2:$B$462))","v":3}]
[null,"Transporte","Exoesqueleto táctico invictor",null,7,2,6,13,25,null,"Explota","Tropas ocultas","Mecha","-","-",{"$f":"IF(C37=\"\",\"\",F37+G37*3+H37-E37)","v":26},{"$f":"IF(C37=\"\",\"\",LOOKUP(K37,ByM!$A$2:$B$462)+LOOKUP(L37,ByM!$A$2:$B$462)+LOOKUP(M37,ByM!$A$2:$B$462)+LOOKUP(N37,ByM!$A$2:$B$462)+LOOKUP(O37,ByM!$A$2:$B$462))","v":-1}]
[null,"Transporte","Halálkarma, gran pantera",null,5,3,4,7,25,null,"Capacidad (1)","Todo terreno","-","-","-",{"$f":"IF(C38=\"\",\"\",F38+G38*3+H38-E38)","v":17},{"$f":"IF(C38=\"\",\"\",LOOKUP(K38,ByM!$A$2:$B$462)+LOOKUP(L38,ByM!$A$2:$B$462)+LOOKUP(M38,ByM!$A$2:$B$462)+LOOKUP(N38,ByM!$A$2:$B$462)+LOOKUP(O38,ByM!$A$2:$B$462))","v":8}]
[null,"Transporte","Impulsor",null,7,3,8,11,49,null,"Explota","Salvaguarda","Contracarga","Capacidad (6)","-",{"$f":"IF(C39=\"\",\"\",F39+G39*3+H39-E39)","v":31},{"$f":"IF(C39=\"\",\"\",LOOKUP(K39,ByM!$A$2:$B$462)+LOOKUP(L39,ByM!$A$2:$B$462)+LOOKUP(M39,ByM!$A$2:$B$462)+LOOKUP(N39,ByM!$A$2:$B$462)+LOOKUP(O39,ByM!$A$2:$B$462))","v":18}]
[null,"Transporte","Incursor Mangalor",null,3,15,5,5,44,null,"Vuelo espacial","vuelo a gran altitud","caza","Maestría (pilotar naves)","-",{"$f":"IF(C40=\"\",\"\",F40+G40*3+H40-E40)","v":32},{"$f":"IF(C40=\"\",\"\",LOOKUP(K40,ByM!$A$2:$B$462)+LOOKUP(L40,ByM!$A$2:$B$462)+LOOKUP(M40,ByM!$A$2:$B$462)+LOOKUP(N40,ByM!$A$2:$B$462)+LOOKUP(O40,ByM!$A$2:$B$462))","v":12}]
[null,"Transporte","Interceptor stormhawk",null,6,5,7,10,35,null,"Explota","Vuelo a gran altitud","Difícil de matar","Caza","Levitador",{"$f":"IF(C41=\"\",\"\",F41+G41*3+H41-E41)","v":30},{"$f":"IF(C41=\"\",\"\",LOOKUP(K41,ByM!$A$2:$B$462)+LOOKUP(L41,ByM!$A$2:$B$462)+LOOKUP(M41,ByM!$A$2:$B$462)+LOOKUP(N41,ByM!$A$2:$B$462)+LOOKUP(O41,ByM!$A$2:$B$462))","v":5}]
[null,"Transporte","Land speeder tormenta",null,4,4,5,7,26,null,"Explota","Vuelo","Tropas tras las líneas enemigas","Capacidad (5)","-",{"$f":"IF(C42=\"\",\"\",F42+G42*3+H42-E42)","v":22},{"$f":"IF(C42=\"\",\"\",LOOKUP(K42,ByM!$A$2:$B$462)+LOOKUP(L42,ByM!$A$2:$B$462)+LOOKUP(M42,ByM!$A$2:$B$462)+LOOKUP(N42,ByM!$A$2:$B$462)+LOOKUP(O42,ByM!$A$2:$B$462))","v":4}]
[null,"Transporte","Lobo de guerra",null,3,3,5,5,23,null,"Capacidad (1)","-","-","-","-",{"$f":"IF(C43=\"\",\"\",F43+G43*3+H43-E43)","v":20},{"$f":"IF(C43=\"\",\"\",LOOKUP(K43,ByM!$A$2:$B$462)+LOOKUP(L43,ByM!$A$2:$B$462)+LOOKUP(M43,ByM!$A$2:$B$462)+LOOKUP(N43,ByM!$A$2:$B$462)+LOOKUP(O43,ByM!$A$2:$B$462))","v":3}]
[null,"Transporte","Moto",null,4,3,5,4,23,null,"Fuego en las venas","-","-","-","-",{"$f":"IF(C44=\"\",\"\",F44+G44*3+H44-E44)","v":18},{"$f":"IF(C44=\"\",\"\",LOOKUP(K44,ByM!$A$2:$B$462)+LOOKUP(L44,ByM!$A$2:$B$462)+LOOKUP(M44,ByM!$A$2:$B$462)+LOOKUP(N44,ByM!$A$2:$B$462)+LOOKUP(O44,ByM!$A$2:$B$462))","v":5}]
[null,"Transporte","Moto de ataque",null,4,3,5,4,23,null,"Fuego en las venas","-","-","-","-",{"$f":"IF(C45=\"\",\"\",F45+G45*3+H45-E45)","v":18},{"$f":"IF(C45=\"\",\"\",LOOKUP(K45,ByM!$A$2:$B$462)+LOOKUP(L45,ByM!$A$2:$B$462)+LOOKUP(M45,ByM!$A$2:$B$462)+LOOKUP(N45,ByM!$A$2:$B$462)+LOOKUP(O45,ByM!$A$2:$B$462))","v":5}]
[null,"Transporte","Moto de explorador",null,4,4,5,4,40,null,"Fuego en las venas","Tropas tras las líneas enemigas","Humo denso","-","-",{"$f":"IF(C46=\"\",\"\",F46+G46*3+H46-E46)","v":19},{"$f":"IF(C46=\"\",\"\",LOOKUP(K46,ByM!$A$2:$B$462)+LOOKUP(L46,ByM!$A$2:$B$462)+LOOKUP(M46,ByM!$A$2:$B$462)+LOOKUP(N46,ByM!$A$2:$B$462)+LOOKUP(O46,ByM!$A$2:$B$462))","v":21}]
[null,"Transporte","Moto Primaris",null,4,3,5,6,43,null,"Fuego en las venas","Maestro carnicero","Munición trazadora","-","-",{"$f":"IF(C47=\"\",\"\",F47+G47*3+H47-E47)","v":20},{"$f":"IF(C47=\"\",\"\",LOOKUP(K47,ByM!$A$2:$B$462)+LOOKUP(L47,ByM!$A$2:$B$462)+LOOKUP(M47,ByM!$A$2:$B$462)+LOOKUP(N47,ByM!$A$2:$B$462)+LOOKUP(O47,ByM!$A$2:$B$462))","v":23}]
[null,"Transporte","Motocicleta",null,4,3,4,4,33,null,"Caballería","Capacidad (1)","Fuego en las venas","Retirada ordenada","-",{"$f":"IF(C48=\"\",\"\",F48+G48*3+H48-E48)","v":15},{"$f":"IF(C48=\"\",\"\",LOOKUP(K48,ByM!$A$2:$B$462)+LOOKUP(L48,ByM!$A$2:$B$462)+LOOKUP(M48,ByM!$A$2:$B$462)+LOOKUP(N48,ByM!$A$2:$B$462)+LOOKUP(O48,ByM!$A$2:$B$462))","v":18}]
[null,"Transporte","Nave de carga Lifter WY-37B",null,17,2,4,12,12,null,"Vuelo","Vuelo a gran altitud","Vuelo espacial","-","-",{"$f":"IF(C49=\"\",\"\",F49+G49*3+H49-E49)","v":9},{"$f":"IF(C49=\"\",\"\",LOOKUP(K49,ByM!$A$2:$B$462)+LOOKUP(L49,ByM!$A$2:$B$462)+LOOKUP(M49,ByM!$A$2:$B$462)+LOOKUP(N49,ByM!$A$2:$B$462)+LOOKUP(O49,ByM!$A$2:$B$462))","v":3}]
[null,"Transporte","Nave de descenso UD-4L Cheyenne",null,26,6,7,10,17,null,"Capacidad (12)","Vuelo","Vuelo a gran altitud","Vuelo espacial","-",{"$f":"IF(C50=\"\",\"\",F50+G50*3+H50-E50)","v":11},{"$f":"IF(C50=\"\",\"\",LOOKUP(K50,ByM!$A$2:$B$462)+LOOKUP(L50,ByM!$A$2:$B$462)+LOOKUP(M50,ByM!$A$2:$B$462)+LOOKUP(N50,ByM!$A$2:$B$462)+LOOKUP(O50,ByM!$A$2:$B$462))","v":6}]
[null,"Transporte","Pez aéreo",null,7,2,4,5,18,null,"Capacidad (2)","levitador","pez","-","-",{"$f":"IF(C51=\"\",\"\",F51+G51*3+H51-E51)","v":12},{"$f":"IF(C51=\"\",\"\",LOOKUP(K51,ByM!$A$2:$B$462)+LOOKUP(L51,ByM!$A$2:$B$462)+LOOKUP(M51,ByM!$A$2:$B$462)+LOOKUP(N51,ByM!$A$2:$B$462)+LOOKUP(O51,ByM!$A$2:$B$462))","v":6}]
[null,"Transporte","Pinky",null,4,3,4,5,24,null,"Capacidad (1)","Saltador","-","-","-",{"$f":"IF(C52=\"\",\"\",F52+G52*3+H52-E52)","v":16},{"$f":"IF(C52=\"\",\"\",LOOKUP(K52,ByM!$A$2:$B$462)+LOOKUP(L52,ByM!$A$2:$B$462)+LOOKUP(M52,ByM!$A$2:$B$462)+LOOKUP(N52,ByM!$A$2:$B$462)+LOOKUP(O52,ByM!$A$2:$B$462))","v":8}]
[null,"Transporte","Pisoteador",null,3,3,4,6,23,null,"Caballería","-","-","-","-",{"$f":"IF(C53=\"\",\"\",F53+G53*3+H53-E53)","v":18},{"$f":"IF(C53=\"\",\"\",LOOKUP(K53,ByM!$A$2:$B$462)+LOOKUP(L53,ByM!$A$2:$B$462)+LOOKUP(M53,ByM!$A$2:$B$462)+LOOKUP(N53,ByM!$A$2:$B$462)+LOOKUP(O53,ByM!$A$2:$B$462))","v":5}]
[null,"Transporte","Predator aniquilador",null,6,3,8,11,28,null,"Explota","Humo denso","-","-","-",{"$f":"IF(C54=\"\",\"\",F54+G54*3+H54-E54)","v":32},{"$f":"IF(C54=\"\",\"\",LOOKUP(K54,ByM!$A$2:$B$462)+LOOKUP(L54,ByM!$A$2:$B$462)+LOOKUP(M54,ByM!$A$2:$B$462)+LOOKUP(N54,ByM!$A$2:$B$462)+LOOKUP(O54,ByM!$A$2:$B$462))","v":-4}]
[null,"Transporte","Predator destructor",null,6,3,8,11,28,null,"Explota","Humo denso","-","-","-",{"$f":"IF(C55=\"\",\"\",F55+G55*3+H55-E55)","v":32},{"$f":"IF(C55=\"\",\"\",LOOKUP(K55,ByM!$A$2:$B$462)+LOOKUP(L55,ByM!$A$2:$B$462)+LOOKUP(M55,ByM!$A$2:$B$462)+LOOKUP(N55,ByM!$A$2:$B$462)+LOOKUP(O55,ByM!$A$2:$B$462))","v":-4}]
[null,"Transporte","Quad",null,4,3,6,6,26,null,"Explota","Fuego en las venas","Munición trazadora","-","-",{"$f":"IF(C56=\"\",\"\",F56+G56*3+H56-E56)","v":23},{"$f":"IF(C56=\"\",\"\",LOOKUP(K56,ByM!$A$2:$B$462)+LOOKUP(L56,ByM!$A$2:$B$462)+LOOKUP(M56,ByM!$A$2:$B$462)+LOOKUP(N56,ByM!$A$2:$B$462)+LOOKUP(O56,ByM!$A$2:$B$462))","v":3}]
[null,"Transporte","Servotorreta",null,3,0,6,4,14,null,"Vulnerable","-","-","-","-",{"$f":"IF(C57=\"\",\"\",F57+G57*3+H57-E57)","v":19},{"$f":"IF(C57=\"\",\"\",LOOKUP(K57,ByM!$A$2:$B$462)+LOOKUP(L57,ByM!$A$2:$B$462)+LOOKUP(M57,ByM!$A$2:$B$462)+LOOKUP(N57,ByM!$A$2:$B$462)+LOOKUP(O57,ByM!$A$2:$B$462))","v":-5}]
[null,"Transporte","Soporte con orugas",null,3,1,6,4,20,null,"-","-","-","-","-",{"$f":"IF(C58=\"\",\"\",F58+G58*3+H58-E58)","v":20},{"$f":"IF(C58=\"\",\"\",LOOKUP(K58,ByM!$A$2:$B$462)+LOOKUP(L58,ByM!$A$2:$B$462)+LOOKUP(M58,ByM!$A$2:$B$462)+LOOKUP(N58,ByM!$A$2:$B$462)+LOOKUP(O58,ByM!$A$2:$B$462))","v":0}]
[null,"Transporte","Tanqueta marine",null,5,5,8,8,35,null,"Capacidad (10)","-","-","-","-",{"$f":"IF(C59=\"\",\"\",F59+G59*3+H59-E59)","v":32},{"$f":"IF(C59=\"\",\"\",LOOKUP(K59,ByM!$A$2:$B$462)+LOOKUP(L59,ByM!$A$2:$B$462)+LOOKUP(M59,ByM!$A$2:$B$462)+LOOKUP(N59,ByM!$A$2:$B$462)+LOOKUP(O59,ByM!$A$2:$B$462))","v":3}]
[null,"Transporte","Tractor Aerodyne Gyrocar",null,6,6,3,5,18,null,"Capacidad (2)","Vuelo","-","-","-",{"$f":"IF(C60=\"\",\"\",F60+G60*3+H60-E60)","v":14},{"$f":"IF(C60=\"\",\"\",LOOKUP(K60,ByM!$A$2:$B$462)+LOOKUP(L60,ByM!$A$2:$B$462)+LOOKUP(M60,ByM!$A$2:$B$462)+LOOKUP(N60,ByM!$A$2:$B$462)+LOOKUP(O60,ByM!$A$2:$B$462))","v":4}]
[null,"Transporte","Tractor Daihotai",null,12,2,4,6,16,null,"Capacidad (1)","Todo terreno","-","-","-",{"$f":"IF(C61=\"\",\"\",F61+G61*3+H61-E61)","v":8},{"$f":"IF(C61=\"\",\"\",LOOKUP(K61,ByM!$A$2:$B$462)+LOOKUP(L61,ByM!$A$2:$B$462)+LOOKUP(M61,ByM!$A$2:$B$462)+LOOKUP(N61,ByM!$A$2:$B$462)+LOOKUP(O61,ByM!$A$2:$B$462))","v":8}]
[null,"Transporte","Tractor Weyland NR-9 ATV",null,1,4,2,5,19,null,"Todo terreno","-","-","-","-",{"$f":"IF(C62=\"\",\"\",F62+G62*3+H62-E62)","v":14},{"$f":"IF(C62=\"\",\"\",LOOKUP(K62,ByM!$A$2:$B$462)+LOOKUP(L62,ByM!$A$2:$B$462)+LOOKUP(M62,ByM!$A$2:$B$462)+LOOKUP(N62,ByM!$A$2:$B$462)+LOOKUP(O62,ByM!$A$2:$B$462))","v":5}]
[null,"Transporte","Vehículo blindado M577 APC",null,25,4,8,8,14,null,"Capacidad (10)","-","-","-","-",{"$f":"IF(C63=\"\",\"\",F63+G63*3+H63-E63)","v":11},{"$f":"IF(C63=\"\",\"\",LOOKUP(K63,ByM!$A$2:$B$462)+LOOKUP(L63,ByM!$A$2:$B$462)+LOOKUP(M63,ByM!$A$2:$B$462)+LOOKUP(N63,ByM!$A$2:$B$462)+LOOKUP(O63,ByM!$A$2:$B$462))","v":3}]
[null,null,"zzz*"]
[null,null,null,null,null,null,null,null,null,null,null,null,null,null,null,{"$f":"IF(C65=\"\",\"\",F65+(G65*3)+H65+I65-E65)","v":""},{"$f":"IF(C65=\"\",\"\",LOOKUP(K65,ByM!$A$2:$B$462)+LOOKUP(L65,ByM!$A$2:$B$462)+LOOKUP(M65,ByM!$A$2:$B$462)+LOOKUP(N65,ByM!$A$2:$B$462)+LOOKUP(O65,ByM!$A$2:$B$462))","v":""}]
[null,null,null,null,null,null,null,null,null,null,null,null,null,null,null,{"$f":"IF(C66=\"\",\"\",F66+(G66*3)+H66+I66-E66)","v":""},{"$f":"IF(C66=\"\",\"\",LOOKUP(K66,ByM!$A$2:$B$462)+LOOKUP(L66,ByM!$A$2:$B$462)+LOOKUP(M66,ByM!$A$2:$B$462)+LOOKUP(N66,ByM!$A$2:$B$462)+LOOKUP(O66,ByM!$A$2:$B$462))","v":""}]
[null,null,null,null,null,null,null,null,null,null,null,null,null,null,null,{"$f":"IF(C67=\"\",\"\",F67+(G67*3)+H67+I67-E67)","v":""},{"$f":"IF(C67=\"\",\"\",LOOKUP(K67,ByM!$A$2:$B$462)+LOOKUP(L67,ByM!$A$2:$B$462)+LOOKUP(M67,ByM!$A$2:$B$462)+LOOKUP(N67,ByM!$A$2:$B$462)+LOOKUP(O67,ByM!$A$2:$B$462))","v":""}]
[null,null,null,null,null,null,null,null,null,null,null,null,null,null,null,{"$f":"IF(C68=\"\",\"\",F68+(G68*3)+H68+I68-E68)","v":""},{"$f":"IF(C68=\"\",\"\",LOOKUP(K68,ByM!$A$2:$B$462)+LOOKUP(L68,ByM!$A$2:$B$462)+LOOKUP(M68,ByM!$A$2:$B$462)+LOOKUP(N68,ByM!$A$2:$B$462)+LOOKUP(O68,ByM!$A$2:$B$462))","v":""}]
[null,null,null,null,null,null,null,null,null,null,null,null,null,null,null,{"$f":"IF(C69=\"\",\"\",F69+(G69*3)+H69+I69-E69)","v":""},{"$f":"IF(C69=\"\",\"\",LOOKUP(K69,ByM!$A$2:$B$462)+LOOKUP(L69,ByM!$A$2:$B$462)+LOOKUP(M69,ByM!$A$2:$B$462)+LOOKUP(N69,ByM!$A$2:$B$462)+LOOKUP(O69,ByM!$A$2:$B$462))","v":""}]
[null,null,null,null,null,null,null,null,null,null,null,null,null,null,null,{"$f":"IF(C70=\"\",\"\",F70+(G70*3)+H70+I70-E70)","v":""},{"$f":"IF(C70=\"\",\"\",LOOKUP(K70,ByM!$A$2:$B$462)+LOOKUP(L70,ByM!$A$2:$B$462)+LOOKUP(M70,ByM!$A$2:$B$462)+LOOKUP(N70,ByM!$A$2:$B$462)+LOOKUP(O70,ByM!$A$2:$B$462))","v":""}]
[null,null,null,null,null,null,null,null,null,null,null,null,null,null,null,{"$f":"IF(C71=\"\",\"\",F71+(G71*3)+H71+I71-E71)","v":""},{"$f":"IF(C71=\"\",\"\",LOOKUP(K71,ByM!$A$2:$B$462)+LOOKUP(L71,ByM!$A$2:$B$462)+LOOKUP(M71,ByM!$A$2:$B$462)+LOOKUP(N71,ByM!$A$2:$B$462)+LOOKUP(O71,ByM!$A$2:$B$462))","v":""}]
[null,null,null,null,null,null,null,null,null,null,null,null,null,null,null,{"$f":"IF(C72=\"\",\"\",F72+(G72*3)+H72+I72-E72)","v":""},{"$f":"IF(C72=\"\",\"\",LOOKUP(K72,ByM!$A$2:$B$462)+LOOKUP(L72,ByM!$A$2:$B$462)+LOOKUP(M72,ByM!$A$2:$B$462)+LOOKUP(N72,ByM!$A$2:$B$462)+LOOKUP(O72,ByM!$A$2:$B$462))","v":""}]
[null,null,null,null,null,null,null,null,null,null,null,null,null,null,null,{"$f":"IF(C73=\"\",\"\",F73+(G73*3)+H73+I73-E73)","v":""},{"$f":"IF(C73=\"\",\"\",LOOKUP(K73,ByM!$A$2:$B$462)+LOOKUP(L73,ByM!$A$2:$B$462)+LOOKUP(M73,ByM!$A$2:$B$462)+LOOKUP(N73,ByM!$A$2:$B$462)+LOOKUP(O73,ByM!$A$2:$B$462))","v":""}]
[null,null,null,null,null,null,null,null,null,null,null,null,null,null,null,{"$f":"IF(C74=\"\",\"\",F74+(G74*3)+H74+I74-E74)","v":""},{"$f":"IF(C74=\"\",\"\",LOOKUP(K74,ByM!$A$2:$B$462)+LOOKUP(L74,ByM!$A$2:$B$462)+LOOKUP(M74,ByM!$A$2:$B$462)+LOOKUP(N74,ByM!$A$2:$B$462)+LOOKUP(O74,ByM!$A$2:$B$462))","v":""}]
[null,null,null,null,null,null,null,null,null,null,null,null,null,null,null,{"$f":"IF(C75=\"\",\"\",F75+(G75*3)+H75+I75-E75)","v":""},{"$f":"IF(C75=\"\",\"\",LOOKUP(K75,ByM!$A$2:$B$462)+LOOKUP(L75,ByM!$A$2:$B$462)+LOOKUP(M75,ByM!$A$2:$B$462)+LOOKUP(N75,ByM!$A$2:$B$462)+LOOKUP(O75,ByM!$A$2:$B$462))","v":""}]
[null,null,null,null,null,null,null,null,null,null,null,null,null,null,null,{"$f":"IF(C76=\"\",\"\",F76+(G76*3)+H76+I76-E76)","v":""},{"$f":"IF(C76=\"\",\"\",LOOKUP(K76,ByM!$A$2:$B$462)+LOOKUP(L76,ByM!$A$2:$B$462)+LOOKUP(M76,ByM!$A$2:$B$462)+LOOKUP(N76,ByM!$A$2:$B$462)+LOOKUP(O76,ByM!$A$2:$B$462))","v":""}]
[null,null,null,null,null,null,null,null,null,null,null,null,null,null,null,{"$f":"IF(C77=\"\",\"\",F77+(G77*3)+H77+I77-E77)","v":""},{"$f":"IF(C77=\"\",\"\",LOOKUP(K77,ByM!$A$2:$B$462)+LOOKUP(L77,ByM!$A$2:$B$462)+LOOKUP(M77,ByM!$A$2:$B$462)+LOOKUP(N77,ByM!$A$2:$B$462)+LOOKUP(O77,ByM!$A$2:$B$462))","v":""}]
[null,null,null,null,null,null,null,null,null,null,null,null,null,null,null,{"$f":"IF(C78=\"\",\"\",F78+(G78*3)+H78+I78-E78)","v":""},{"$f":"IF(C78=\"\",\"\",LOOKUP(K78,ByM!$A$2:$B$462)+LOOKUP(L78,ByM!$A$2:$B$462)+LOOKUP(M78,ByM!$A$2:$B$462)+LOOKUP(N78,ByM!$A$2:$B$462)+LOOKUP(O78,ByM!$A$2:$B$462))","v":""}]
[null,null,null,null,null,null,null,null,null,null,null,null,null,null,null,{"$f":"IF(C79=\"\",\"\",F79+(G79*3)+H79+I79-E79)","v":""},{"$f":"IF(C79=\"\",\"\",LOOKUP(K79,ByM!$A$2:$B$462)+LOOKUP(L79,ByM!$A$2:$B$462)+LOOKUP(M79,ByM!$A$2:$B$462)+LOOKUP(N79,ByM!$A$2:$B$462)+LOOKUP(O79,ByM!$A$2:$B$462))","v":""}]
[null,null,null,null,null,null,null,null,null,null,null,null,null,null,null,{"$f":"IF(C80=\"\",\"\",F80+(G80*3)+H80+I80-E80)","v":""},{"$f":"IF(C80=\"\",\"\",LOOKUP(K80,ByM!$A$2:$B$462)+LOOKUP(L80,ByM!$A$2:$B$462)+LOOKUP(M80,ByM!$A$2:$B$462)+LOOKUP(N80,ByM!$A$2:$B$462)+LOOKUP(O80,ByM!$A$2:$B$462))","v":""}]
[null,null,null,null,null,null,null,null,null,null,null,null,null,null,null,{"$f":"IF(C81=\"\",\"\",F81+(G81*3)+H81+I81-E81)","v":""},{"$f":"IF(C81=\"\",\"\",LOOKUP(K81,ByM!$A$2:$B$462)+LOOKUP(L81,ByM!$A$2:$B$462)+LOOKUP(M81,ByM!$A$2:$B$462)+LOOKUP(N81,ByM!$A$2:$B$462)+LOOKUP(O81,ByM!$A$2:$B$462))","v":""}]
[null,null,null,null,null,null,null,null,null,null,null,null,null,null,null,{"$f":"IF(C82=\"\",\"\",F82+(G82*3)+H82+I82-E82)","v":""},{"$f":"IF(C82=\"\",\"\",LOOKUP(K82,ByM!$A$2:$B$462)+LOOKUP(L82,ByM!$A$2:$B$462)+LOOKUP(M82,ByM!$A$2:$B$462)+LOOKUP(N82,ByM!$A$2:$B$462)+LOOKUP(O82,ByM!$A$2:$B$462))","v":""}]
[null,null,null,null,null,null,null,null,null,null,null,null,null,null,null,{"$f":"IF(C83=\"\",\"\",F83+(G83*3)+H83+I83-E83)","v":""},{"$f":"IF(C83=\"\",\"\",LOOKUP(K83,ByM!$A$2:$B$462)+LOOKUP(L83,ByM!$A$2:$B$462)+LOOKUP(M83,ByM!$A$2:$B$462)+LOOKUP(N83,ByM!$A$2:$B$462)+LOOKUP(O83,ByM!$A$2:$B$462))","v":""}]
[null,null,null,null,null,null,null,null,null,null,null,null,null,null,null,{"$f":"IF(C84=\"\",\"\",F84+(G84*3)+H84+I84-E84)","v":""},{"$f":"IF(C84=\"\",\"\",LOOKUP(K84,ByM!$A$2:$B$462)+LOOKUP(L84,ByM!$A$2:$B$462)+LOOKUP(M84,ByM!$A$2:$B$462)+LOOKUP(N84,ByM!$A$2:$B$462)+LOOKUP(O84,ByM!$A$2:$B$462))","v":""}]
[null,null,null,null,null,null,null,null,null,null,null,null,null,null,null,{"$f":"IF(C85=\"\",\"\",F85+(G85*3)+H85+I85-E85)","v":""},{"$f":"IF(C85=\"\",\"\",LOOKUP(K85,ByM!$A$2:$B$462)+LOOKUP(L85,ByM!$A$2:$B$462)+LOOKUP(M85,ByM!$A$2:$B$462)+LOOKUP(N85,ByM!$A$2:$B$462)+LOOKUP(O85,ByM!$A$2:$B$462))","v":""}]
[null,null,null,null,null,null,null,null,null,null,null,null,null,null,null,{"$f":"IF(C86=\"\",\"\",F86+(G86*3)+H86+I86-E86)","v":""},{"$f":"IF(C86=\"\",\"\",LOOKUP(K86,ByM!$A$2:$B$462)+LOOKUP(L86,ByM!$A$2:$B$462)+LOOKUP(M86,ByM!$A$2:$B$462)+LOOKUP(N86,ByM!$A$2:$B$462)+LOOKUP(O86,ByM!$A$2:$B$462))","v":""}]
[null,null,null,null,null,null,null,null,null,null,null,null,null,null,null,{"$f":"IF(C87=\"\",\"\",F87+(G87*3)+H87+I87-E87)","v":""},{"$f":"IF(C87=\"\",\"\",LOOKUP(K87,ByM!$A$2:$B$462)+LOOKUP(L87,ByM!$A$2:$B$462)+LOOKUP(M87,ByM!$A$2:$B$462)+LOOKUP(N87,ByM!$A$2:$B$462)+LOOKUP(O87,ByM!$A$2:$B$462))","v":""}]
[null,null,null,null,null,null,null,null,null,null,null,null,null,null,null,{"$f":"IF(C88=\"\",\"\",F88+(G88*3)+H88+I88-E88)","v":""},{"$f":"IF(C88=\"\",\"\",LOOKUP(K88,ByM!$A$2:$B$462)+LOOKUP(L88,ByM!$A$2:$B$462)+LOOKUP(M88,ByM!$A$2:$B$462)+LOOKUP(N88,ByM!$A$2:$B$462)+LOOKUP(O88,ByM!$A$2:$B$462))","v":""}]
[null,null,null,null,null,null,null,null,null,null,null,null,null,null,null,{"$f":"IF(C89=\"\",\"\",F89+(G89*3)+H89+I89-E89)","v":""},{"$f":"IF(C89=\"\",\"\",LOOKUP(K89,ByM!$A$2:$B$462)+LOOKUP(L89,ByM!$A$2:$B$462)+LOOKUP(M89,ByM!$A$2:$B$462)+LOOKUP(N89,ByM!$A$2:$B$462)+LOOKUP(O89,ByM!$A$2:$B$462))","v":""}]
[null,null,null,null,null,null,null,null,null,null,null,null,null,null,null,{"$f":"IF(C90=\"\",\"\",F90+(G90*3)+H90+I90-E90)","v":""},{"$f":"IF(C90=\"\",\"\",LOOKUP(K90,ByM!$A$2:$B$462)+LOOKUP(L90,ByM!$A$2:$B$462)+LOOKUP(M90,ByM!$A$2:$B$462)+LOOKUP(N90,ByM!$A$2:$B$462)+LOOKUP(O90,ByM!$A$2:$B$462))","v":""}]
[null,null,null,null,null,null,null,null,null,null,null,null,null,null,null,{"$f":"IF(C91=\"\",\"\",F91+(G91*3)+H91+I91-E91)","v":""},{"$f":"IF(C91=\"\",\"\",LOOKUP(K91,ByM!$A$2:$B$462)+LOOKUP(L91,ByM!$A$2:$B$462)+LOOKUP(M91,ByM!$A$2:$B$462)+LOOKUP(N91,ByM!$A$2:$B$462)+LOOKUP(O91,ByM!$A$2:$B$462))","v":""}]
[null,null,null,null,null,null,null,null,null,null,null,null,null,null,null,{"$f":"IF(C92=\"\",\"\",F92+(G92*3)+H92+I92-E92)","v":""},{"$f":"IF(C92=\"\",\"\",LOOKUP(K92,ByM!$A$2:$B$462)+LOOKUP(L92,ByM!$A$2:$B$462)+LOOKUP(M92,ByM!$A$2:$B$462)+LOOKUP(N92,ByM!$A$2:$B$462)+LOOKUP(O92,ByM!$A$2:$B$462))","v":""}]
[null,null,null,null,null,null,null,null,null,null,null,null,null,null,null,{"$f":"IF(C93=\"\",\"\",F93+(G93*3)+H93+I93-E93)","v":""},{"$f":"IF(C93=\"\",\"\",LOOKUP(K93,ByM!$A$2:$B$462)+LOOKUP(L93,ByM!$A$2:$B$462)+LOOKUP(M93,ByM!$A$2:$B$462)+LOOKUP(N93,ByM!$A$2:$B$462)+LOOKUP(O93,ByM!$A$2:$B$462))","v":""}]
[null,null,null,null,null,null,null,null,null,null,null,null,null,null,null,{"$f":"IF(C94=\"\",\"\",F94+(G94*3)+H94+I94-E94)","v":""},{"$f":"IF(C94=\"\",\"\",LOOKUP(K94,ByM!$A$2:$B$462)+LOOKUP(L94,ByM!$A$2:$B$462)+LOOKUP(M94,ByM!$A$2:$B$462)+LOOKUP(N94,ByM!$A$2:$B$462)+LOOKUP(O94,ByM!$A$2:$B$462))","v":""}]
[null,null,null,null,null,null,null,null,null,null,null,null,null,null,null,{"$f":"IF(C95=\"\",\"\",F95+(G95*3)+H95+I95-E95)","v":""},{"$f":"IF(C95=\"\",\"\",LOOKUP(K95,ByM!$A$2:$B$462)+LOOKUP(L95,ByM!$A$2:$B$462)+LOOKUP(M95,ByM!$A$2:$B$462)+LOOKUP(N95,ByM!$A$2:$B$462)+LOOKUP(O95,ByM!$A$2:$B$462))","v":""}]
[null,null,null,null,null,null,null,null,null,null,null,null,null,null,null,{"$f":"IF(C96=\"\",\"\",F96+(G96*3)+H96+I96-E96)","v":""},{"$f":"IF(C96=\"\",\"\",LOOKUP(K96,ByM!$A$2:$B$462)+LOOKUP(L96,ByM!$A$2:$B$462)+LOOKUP(M96,ByM!$A$2:$B$462)+LOOKUP(N96,ByM!$A$2:$B$462)+LOOKUP(O96,ByM!$A$2:$B$462))","v":""}]
[null,null,null,null,null,null,null,null,null,null,null,null,null,null,null,{"$f":"IF(C97=\"\",\"\",F97+(G97*3)+H97+I97-E97)","v":""},{"$f":"IF(C97=\"\",\"\",LOOKUP(K97,ByM!$A$2:$B$462)+LOOKUP(L97,ByM!$A$2:$B$462)+LOOKUP(M97,ByM!$A$2:$B$462)+LOOKUP(N97,ByM!$A$2:$B$462)+LOOKUP(O97,ByM!$A$2:$B$462))","v":""}]
[null,null,null,null,null,null,null,null,null,null,null,null,null,null,null,{"$f":"IF(C98=\"\",\"\",F98+(G98*3)+H98+I98-E98)","v":""},{"$f":"IF(C98=\"\",\"\",LOOKUP(K98,ByM!$A$2:$B$462)+LOOKUP(L98,ByM!$A$2:$B$462)+LOOKUP(M98,ByM!$A$2:$B$462)+LOOKUP(N98,ByM!$A$2:$B$462)+LOOKUP(O98,ByM!$A$2:$B$462))","v":""}]
[null,null,null,null,null,null,null,null,null,null,null,null,null,null,null,{"$f":"IF(C99=\"\",\"\",F99+(G99*3)+H99+I99-E99)","v":""},{"$f":"IF(C99=\"\",\"\",LOOKUP(K99,ByM!$A$2:$B$462)+LOOKUP(L99,ByM!$A$2:$B$462)+LOOKUP(M99,ByM!$A$2:$B$462)+LOOKUP(N99,ByM!$A$2:$B$462)+LOOKUP(O99,ByM!$A$2:$B$462))","v":""}]
[null,null,null,null,null,null,null,null,null,null,null,null,null,null,null,{"$f":"IF(C100=\"\",\"\",F100+(G100*3)+H100+I100-E100)","v":""},{"$f":"IF(C100=\"\",\"\",LOOKUP(K100,ByM!$A$2:$B$462)+LOOKUP(L100,ByM!$A$2:$B$462)+LOOKUP(M100,ByM!$A$2:$B$462)+LOOKUP(N100,ByM!$A$2:$B$462)+LOOKUP(O100,ByM!$A$2:$B$462))","v":""}]
[null,null,null,null,null,null,null,null,null,null,null,null,null,null,null,{"$f":"IF(C101=\"\",\"\",F101+(G101*3)+H101+I101-E101)","v":""},{"$f":"IF(C101=\"\",\"\",LOOKUP(K101,ByM!$A$2:$B$462)+LOOKUP(L101,ByM!$A$2:$B$462)+LOOKUP(M101,ByM!$A$2:$B$462)+LOOKUP(N101,ByM!$A$2:$B$462)+LOOKUP(O101,ByM!$A$2:$B$462))","v":""}]
[null,null,null,null,null,null,null,null,null,null,null,null,null,null,null,{"$f":"IF(C102=\"\",\"\",F102+(G102*3)+H102+I102-E102)","v":""},{"$f":"IF(C102=\"\",\"\",LOOKUP(K102,ByM!$A$2:$B$462)+LOOKUP(L102,ByM!$A$2:$B$462)+LOOKUP(M102,ByM!$A$2:$B$462)+LOOKUP(N102,ByM!$A$2:$B$462)+LOOKUP(O102,ByM!$A$2:$B$462))","v":""}]
[null,null,null,null,null,null,null,null,null,null,null,null,null,null,null,{"$f":"IF(C103=\"\",\"\",F103+(G103*3)+H103+I103-E103)","v":""},{"$f":"IF(C103=\"\",\"\",LOOKUP(K103,ByM!$A$2:$B$462)+LOOKUP(L103,ByM!$A$2:$B$462)+LOOKUP(M103,ByM!$A$2:$B$462)+LOOKUP(N103,ByM!$A$2:$B$462)+LOOKUP(O103,ByM!$A$2:$B$462))","v":""}]
[null,null,null,null,null,null,null,null,null,null,null,null,null,null,null,{"$f":"IF(C104=\"\",\"\",F104+(G104*3)+H104+I104-E104)","v":""},{"$f":"IF(C104=\"\",\"\",LOOKUP(K104,ByM!$A$2:$B$462)+LOOKUP(L104,ByM!$A$2:$B$462)+LOOKUP(M104,ByM!$A$2:$B$462)+LOOKUP(N104,ByM!$A$2:$B$462)+LOOKUP(O104,ByM!$A$2:$B$462))","v":""}]
[null,null,null,null,null,null,null,null,null,null,null,null,null,null,null,{"$f":"IF(C105=\"\",\"\",F105+(G105*3)+H105+I105-E105)","v":""},{"$f":"IF(C105=\"\",\"\",LOOKUP(K105,ByM!$A$2:$B$462)+LOOKUP(L105,ByM!$A$2:$B$462)+LOOKUP(M105,ByM!$A$2:$B$462)+LOOKUP(N105,ByM!$A$2:$B$462)+LOOKUP(O105,ByM!$A$2:$B$462))","v":""}]
[null,null,null,null,null,null,null,null,null,null,null,null,null,null,null,{"$f":"IF(C106=\"\",\"\",F106+(G106*3)+H106+I106-E106)","v":""},{"$f":"IF(C106=\"\",\"\",LOOKUP(K106,ByM!$A$2:$B$462)+LOOKUP(L106,ByM!$A$2:$B$462)+LOOKUP(M106,ByM!$A$2:$B$462)+LOOKUP(N106,ByM!$A$2:$B$462)+LOOKUP(O106,ByM!$A$2:$B$462))","v":""}]
[null,null,null,null,null,null,null,null,null,null,null,null,null,null,null,{"$f":"IF(C107=\"\",\"\",F107+(G107*3)+H107+I107-E107)","v":""},{"$f":"IF(C107=\"\",\"\",LOOKUP(K107,ByM!$A$2:$B$462)+LOOKUP(L107,ByM!$A$2:$B$462)+LOOKUP(M107,ByM!$A$2:$B$462)+LOOKUP(N107,ByM!$A$2:$B$462)+LOOKUP(O107,ByM!$A$2:$B$462))","v":""}]
[null,null,null,null,null,null,null,null,null,null,null,null,null,null,null,{"$f":"IF(C108=\"\",\"\",F108+(G108*3)+H108+I108-E108)","v":""},{"$f":"IF(C108=\"\",\"\",LOOKUP(K108,ByM!$A$2:$B$462)+LOOKUP(L108,ByM!$A$2:$B$462)+LOOKUP(M108,ByM!$A$2:$B$462)+LOOKUP(N108,ByM!$A$2:$B$462)+LOOKUP(O108,ByM!$A$2:$B$462))","v":""}]
[null,null,null,null,null,null,null,null,null,null,null,null,null,null,null,{"$f":"IF(C109=\"\",\"\",F109+(G109*3)+H109+I109-E109)","v":""},{"$f":"IF(C109=\"\",\"\",LOOKUP(K109,ByM!$A$2:$B$462)+LOOKUP(L109,ByM!$A$2:$B$462)+LOOKUP(M109,ByM!$A$2:$B$462)+LOOKUP(N109,ByM!$A$2:$B$462)+LOOKUP(O109,ByM!$A$2:$B$462))","v":""}]
[null,null,null,null,null,null,null,null,null,null,null,null,null,null,null,{"$f":"IF(C110=\"\",\"\",F110+(G110*3)+H110+I110-E110)","v":""},{"$f":"IF(C110=\"\",\"\",LOOKUP(K110,ByM!$A$2:$B$462)+LOOKUP(L110,ByM!$A$2:$B$462)+LOOKUP(M110,ByM!$A$2:$B$462)+LOOKUP(N110,ByM!$A$2:$B$462)+LOOKUP(O110,ByM!$A$2:$B$462))","v":""}]
[null,null,null,null,null,null,null,null,null,null,null,null,null,null,null,{"$f":"IF(C111=\"\",\"\",F111+(G111*3)+H111+I111-E111)","v":""},{"$f":"IF(C111=\"\",\"\",LOOKUP(K111,ByM!$A$2:$B$462)+LOOKUP(L111,ByM!$A$2:$B$462)+LOOKUP(M111,ByM!$A$2:$B$462)+LOOKUP(N111,ByM!$A$2:$B$462)+LOOKUP(O111,ByM!$A$2:$B$462))","v":""}]
[null,null,null,null,null,null,null,null,null,null,null,null,null,null,null,{"$f":"IF(C112=\"\",\"\",F112+(G112*3)+H112+I112-E112)","v":""},{"$f":"IF(C112=\"\",\"\",LOOKUP(K112,ByM!$A$2:$B$462)+LOOKUP(L112,ByM!$A$2:$B$462)+LOOKUP(M112,ByM!$A$2:$B$462)+LOOKUP(N112,ByM!$A$2:$B$462)+LOOKUP(O112,ByM!$A$2:$B$462))","v":""}]
[null,null,null,null,null,null,null,null,null,null,null,null,null,null,null,{"$f":"IF(C113=\"\",\"\",F113+(G113*3)+H113+I113-E113)","v":""},{"$f":"IF(C113=\"\",\"\",LOOKUP(K113,ByM!$A$2:$B$462)+LOOKUP(L113,ByM!$A$2:$B$462)+LOOKUP(M113,ByM!$A$2:$B$462)+LOOKUP(N113,ByM!$A$2:$B$462)+LOOKUP(O113,ByM!$A$2:$B$462))","v":""}]
[null,null,null,null,null,null,null,null,null,null,null,null,null,null,null,{"$f":"IF(C114=\"\",\"\",F114+(G114*3)+H114+I114-E114)","v":""},{"$f":"IF(C114=\"\",\"\",LOOKUP(K114,ByM!$A$2:$B$462)+LOOKUP(L114,ByM!$A$2:$B$462)+LOOKUP(M114,ByM!$A$2:$B$462)+LOOKUP(N114,ByM!$A$2:$B$462)+LOOKUP(O114,ByM!$A$2:$B$462))","v":""}]
[null,null,null,null,null,null,null,null,null,null,null,null,null,null,null,{"$f":"IF(C115=\"\",\"\",F115+(G115*3)+H115+I115-E115)","v":""},{"$f":"IF(C115=\"\",\"\",LOOKUP(K115,ByM!$A$2:$B$462)+LOOKUP(L115,ByM!$A$2:$B$462)+LOOKUP(M115,ByM!$A$2:$B$462)+LOOKUP(N115,ByM!$A$2:$B$462)+LOOKUP(O115,ByM!$A$2:$B$462))","v":""}]
[null,null,null,null,null,null,null,null,null,null,null,null,null,null,null,{"$f":"IF(C116=\"\",\"\",F116+(G116*3)+H116+I116-E116)","v":""},{"$f":"IF(C116=\"\",\"\",LOOKUP(K116,ByM!$A$2:$B$462)+LOOKUP(L116,ByM!$A$2:$B$462)+LOOKUP(M116,ByM!$A$2:$B$462)+LOOKUP(N116,ByM!$A$2:$B$462)+LOOKUP(O116,ByM!$A$2:$B$462))","v":""}]
[null,null,null,null,null,null,null,null,null,null,null,null,null,null,null,{"$f":"IF(C117=\"\",\"\",F117+(G117*3)+H117+I117-E117)","v":""},{"$f":"IF(C117=\"\",\"\",LOOKUP(K117,ByM!$A$2:$B$462)+LOOKUP(L117,ByM!$A$2:$B$462)+LOOKUP(M117,ByM!$A$2:$B$462)+LOOKUP(N117,ByM!$A$2:$B$462)+LOOKUP(O117,ByM!$A$2:$B$462))","v":""}]
[null,null,null,null,null,null,null,null,null,null,null,null,null,null,null,{"$f":"IF(C118=\"\",\"\",F118+(G118*3)+H118+I118-E118)","v":""},{"$f":"IF(C118=\"\",\"\",LOOKUP(K118,ByM!$A$2:$B$462)+LOOKUP(L118,ByM!$A$2:$B$462)+LOOKUP(M118,ByM!$A$2:$B$462)+LOOKUP(N118,ByM!$A$2:$B$462)+LOOKUP(O118,ByM!$A$2:$B$462))","v":""}]
[null,null,null,null,null,null,null,null,null,null,null,null,null,null,null,{"$f":"IF(C119=\"\",\"\",F119+(G119*3)+H119+I119-E119)","v":""},{"$f":"IF(C119=\"\",\"\",LOOKUP(K119,ByM!$A$2:$B$462)+LOOKUP(L119,ByM!$A$2:$B$462)+LOOKUP(M119,ByM!$A$2:$B$462)+LOOKUP(N119,ByM!$A$2:$B$462)+LOOKUP(O119,ByM!$A$2:$B$462))","v":""}]
[null,null,null,null,null,null,null,null,null,null,null,null,null,null,null,{"$f":"IF(C120=\"\",\"\",F120+(G120*3)+H120+I120-E120)","v":""},{"$f":"IF(C120=\"\",\"\",LOOKUP(K120,ByM!$A$2:$B$462)+LOOKUP(L120,ByM!$A$2:$B$462)+LOOKUP(M120,ByM!$A$2:$B$462)+LOOKUP(N120,ByM!$A$2:$B$462)+LOOKUP(O120,ByM!$A$2:$B$462))","v":""}]
[null,null,null,null,null,null,null,null,null,null,null,null,null,null,null,{"$f":"IF(C121=\"\",\"\",F121+(G121*3)+H121+I121-E121)","v":""},{"$f":"IF(C121=\"\",\"\",LOOKUP(K121,ByM!$A$2:$B$462)+LOOKUP(L121,ByM!$A$2:$B$462)+LOOKUP(M121,ByM!$A$2:$B$462)+LOOKUP(N121,ByM!$A$2:$B$462)+LOOKUP(O121,ByM!$A$2:$B$462))","v":""}]
[null,null,null,null,null,null,null,null,null,null,null,null,null,null,null,{"$f":"IF(C122=\"\",\"\",F122+(G122*3)+H122+I122-E122)","v":""},{"$f":"IF(C122=\"\",\"\",LOOKUP(K122,ByM!$A$2:$B$462)+LOOKUP(L122,ByM!$A$2:$B$462)+LOOKUP(M122,ByM!$A$2:$B$462)+LOOKUP(N122,ByM!$A$2:$B$462)+LOOKUP(O122,ByM!$A$2:$B$462))","v":""}]
[null,null,null,null,null,null,null,null,null,null,null,null,null,null,null,{"$f":"IF(C123=\"\",\"\",F123+(G123*3)+H123+I123-E123)","v":""},{"$f":"IF(C123=\"\",\"\",LOOKUP(K123,ByM!$A$2:$B$462)+LOOKUP(L123,ByM!$A$2:$B$462)+LOOKUP(M123,ByM!$A$2:$B$462)+LOOKUP(N123,ByM!$A$2:$B$462)+LOOKUP(O123,ByM!$A$2:$B$462))","v":""}]
[null,null,null,null,null,null,null,null,null,null,null,null,null,null,null,{"$f":"IF(C124=\"\",\"\",F124+(G124*3)+H124+I124-E124)","v":""},{"$f":"IF(C124=\"\",\"\",LOOKUP(K124,ByM!$A$2:$B$462)+LOOKUP(L124,ByM!$A$2:$B$462)+LOOKUP(M124,ByM!$A$2:$B$462)+LOOKUP(N124,ByM!$A$2:$B$462)+LOOKUP(O124,ByM!$A$2:$B$462))","v":""}]
[null,null,null,null,null,null,null,null,null,null,null,null,null,null,null,{"$f":"IF(C125=\"\",\"\",F125+(G125*3)+H125+I125-E125)","v":""},{"$f":"IF(C125=\"\",\"\",LOOKUP(K125,ByM!$A$2:$B$462)+LOOKUP(L125,ByM!$A$2:$B$462)+LOOKUP(M125,ByM!$A$2:$B$462)+LOOKUP(N125,ByM!$A$2:$B$462)+LOOKUP(O125,ByM!$A$2:$B$462))","v":""}]
[null,null,null,null,null,null,null,null,null,null,null,null,null,null,null,{"$f":"IF(C126=\"\",\"\",F126+(G126*3)+H126+I126-E126)","v":""},{"$f":"IF(C126=\"\",\"\",LOOKUP(K126,ByM!$A$2:$B$462)+LOOKUP(L126,ByM!$A$2:$B$462)+LOOKUP(M126,ByM!$A$2:$B$462)+LOOKUP(N126,ByM!$A$2:$B$462)+LOOKUP(O126,ByM!$A$2:$B$462))","v":""}]
[null,null,null,null,null,null,null,null,null,null,null,null,null,null,null,{"$f":"IF(C127=\"\",\"\",F127+(G127*3)+H127+I127-E127)","v":""},{"$f":"IF(C127=\"\",\"\",LOOKUP(K127,ByM!$A$2:$B$462)+LOOKUP(L127,ByM!$A$2:$B$462)+LOOKUP(M127,ByM!$A$2:$B$462)+LOOKUP(N127,ByM!$A$2:$B$462)+LOOKUP(O127,ByM!$A$2:$B$462))","v":""}]
[null,null,null,null,null,null,null,null,null,null,null,null,null,null,null,{"$f":"IF(C128=\"\",\"\",F128+(G128*3)+H128+I128-E128)","v":""},{"$f":"IF(C128=\"\",\"\",LOOKUP(K128,ByM!$A$2:$B$462)+LOOKUP(L128,ByM!$A$2:$B$462)+LOOKUP(M128,ByM!$A$2:$B$462)+LOOKUP(N128,ByM!$A$2:$B$462)+LOOKUP(O128,ByM!$A$2:$B$462))","v":""}]
[null,null,null,null,null,null,null,null,null,null,null,null,null,null,null,{"$f":"IF(C129=\"\",\"\",F129+(G129*3)+H129+I129-E129)","v":""},{"$f":"IF(C129=\"\",\"\",LOOKUP(K129,ByM!$A$2:$B$462)+LOOKUP(L129,ByM!$A$2:$B$462)+LOOKUP(M129,ByM!$A$2:$B$462)+LOOKUP(N129,ByM!$A$2:$B$462)+LOOKUP(O129,ByM!$A$2:$B$462))","v":""}]
[null,null,null,null,null,null,null,null,null,null,null,null,null,null,null,{"$f":"IF(C130=\"\",\"\",F130+(G130*3)+H130+I130-E130)","v":""},{"$f":"IF(C130=\"\",\"\",LOOKUP(K130,ByM!$A$2:$B$462)+LOOKUP(L130,ByM!$A$2:$B$462)+LOOKUP(M130,ByM!$A$2:$B$462)+LOOKUP(N130,ByM!$A$2:$B$462)+LOOKUP(O130,ByM!$A$2:$B$462))","v":""}]
[null,null,null,null,null,null,null,null,null,null,null,null,null,null,null,{"$f":"IF(C131=\"\",\"\",F131+(G131*3)+H131+I131-E131)","v":""},{"$f":"IF(C131=\"\",\"\",LOOKUP(K131,ByM!$A$2:$B$462)+LOOKUP(L131,ByM!$A$2:$B$462)+LOOKUP(M131,ByM!$A$2:$B$462)+LOOKUP(N131,ByM!$A$2:$B$462)+LOOKUP(O131,ByM!$A$2:$B$462))","v":""}]
[null,null,null,null,null,null,null,null,null,null,null,null,null,null,null,{"$f":"IF(C132=\"\",\"\",F132+(G132*3)+H132+I132-E132)","v":""},{"$f":"IF(C132=\"\",\"\",LOOKUP(K132,ByM!$A$2:$B$462)+LOOKUP(L132,ByM!$A$2:$B$462)+LOOKUP(M132,ByM!$A$2:$B$462)+LOOKUP(N132,ByM!$A$2:$B$462)+LOOKUP(O132,ByM!$A$2:$B$462))","v":""}]
[null,null,null,null,null,null,null,null,null,null,null,null,null,null,null,{"$f":"IF(C133=\"\",\"\",F133+(G133*3)+H133+I133-E133)","v":""},{"$f":"IF(C133=\"\",\"\",LOOKUP(K133,ByM!$A$2:$B$462)+LOOKUP(L133,ByM!$A$2:$B$462)+LOOKUP(M133,ByM!$A$2:$B$462)+LOOKUP(N133,ByM!$A$2:$B$462)+LOOKUP(O133,ByM!$A$2:$B$462))","v":""}]
[null,null,null,null,null,null,null,null,null,null,null,null,null,null,null,{"$f":"IF(C134=\"\",\"\",F134+(G134*3)+H134+I134-E134)","v":""},{"$f":"IF(C134=\"\",\"\",LOOKUP(K134,ByM!$A$2:$B$462)+LOOKUP(L134,ByM!$A$2:$B$462)+LOOKUP(M134,ByM!$A$2:$B$462)+LOOKUP(N134,ByM!$A$2:$B$462)+LOOKUP(O134,ByM!$A$2:$B$462))","v":""}]
[null,null,null,null,null,null,null,null,null,null,null,null,null,null,null,{"$f":"IF(C135=\"\",\"\",F135+(G135*3)+H135+I135-E135)","v":""},{"$f":"IF(C135=\"\",\"\",LOOKUP(K135,ByM!$A$2:$B$462)+LOOKUP(L135,ByM!$A$2:$B$462)+LOOKUP(M135,ByM!$A$2:$B$462)+LOOKUP(N135,ByM!$A$2:$B$462)+LOOKUP(O135,ByM!$A$2:$B$462))","v":""}]
[null,null,null,null,null,null,null,null,null,null,null,null,null,null,null,{"$f":"IF(C136=\"\",\"\",F136+(G136*3)+H136+I136-E136)","v":""},{"$f":"IF(C136=\"\",\"\",LOOKUP(K136,ByM!$A$2:$B$462)+LOOKUP(L136,ByM!$A$2:$B$462)+LOOKUP(M136,ByM!$A$2:$B$462)+LOOKUP(N136,ByM!$A$2:$B$462)+LOOKUP(O136,ByM!$A$2:$B$462))","v":""}]
[null,null,null,null,null,null,null,null,null,null,null,null,null,null,null,{"$f":"IF(C137=\"\",\"\",F137+(G137*3)+H137+I137-E137)","v":""},{"$f":"IF(C137=\"\",\"\",LOOKUP(K137,ByM!$A$2:$B$462)+LOOKUP(L137,ByM!$A$2:$B$462)+LOOKUP(M137,ByM!$A$2:$B$462)+LOOKUP(N137,ByM!$A$2:$B$462)+LOOKUP(O137,ByM!$A$2:$B$462))","v":""}]
[null,null,null,null,null,null,null,null,null,null,null,null,null,null,null,{"$f":"IF(C138=\"\",\"\",F138+(G138*3)+H138+I138-E138)","v":""},{"$f":"IF(C138=\"\",\"\",LOOKUP(K138,ByM!$A$2:$B$462)+LOOKUP(L138,ByM!$A$2:$B$462)+LOOKUP(M138,ByM!$A$2:$B$462)+LOOKUP(N138,ByM!$A$2:$B$462)+LOOKUP(O138,ByM!$A$2:$B$462))","v":""}]
[null,null,null,null,null,null,null,null,null,null,null,null,null,null,null,{"$f":"IF(C139=\"\",\"\",F139+(G139*3)+H139+I139-E139)","v":""},{"$f":"IF(C139=\"\",\"\",LOOKUP(K139,ByM!$A$2:$B$462)+LOOKUP(L139,ByM!$A$2:$B$462)+LOOKUP(M139,ByM!$A$2:$B$462)+LOOKUP(N139,ByM!$A$2:$B$462)+LOOKUP(O139,ByM!$A$2:$B$462))","v":""}]
[null,null,null,null,null,null,null,null,null,null,null,null,null,null,null,{"$f":"IF(C140=\"\",\"\",F140+(G140*3)+H140+I140-E140)","v":""},{"$f":"IF(C140=\"\",\"\",LOOKUP(K140,ByM!$A$2:$B$462)+LOOKUP(L140,ByM!$A$2:$B$462)+LOOKUP(M140,ByM!$A$2:$B$462)+LOOKUP(N140,ByM!$A$2:$B$462)+LOOKUP(O140,ByM!$A$2:$B$462))","v":""}]
[null,null,null,null,null,null,null,null,null,null,null,null,null,null,null,{"$f":"IF(C141=\"\",\"\",F141+(G141*3)+H141+I141-E141)","v":""},{"$f":"IF(C141=\"\",\"\",LOOKUP(K141,ByM!$A$2:$B$462)+LOOKUP(L141,ByM!$A$2:$B$462)+LOOKUP(M141,ByM!$A$2:$B$462)+LOOKUP(N141,ByM!$A$2:$B$462)+LOOKUP(O141,ByM!$A$2:$B$462))","v":""}]
[null,null,null,null,null,null,null,null,null,null,null,null,null,null,null,{"$f":"IF(C142=\"\",\"\",F142+(G142*3)+H142+I142-E142)","v":""},{"$f":"IF(C142=\"\",\"\",LOOKUP(K142,ByM!$A$2:$B$462)+LOOKUP(L142,ByM!$A$2:$B$462)+LOOKUP(M142,ByM!$A$2:$B$462)+LOOKUP(N142,ByM!$A$2:$B$462)+LOOKUP(O142,ByM!$A$2:$B$462))","v":""}]
[null,null,null,null,null,null,null,null,null,null,null,null,null,null,null,{"$f":"IF(C143=\"\",\"\",F143+(G143*3)+H143+I143-E143)","v":""},{"$f":"IF(C143=\"\",\"\",LOOKUP(K143,ByM!$A$2:$B$462)+LOOKUP(L143,ByM!$A$2:$B$462)+LOOKUP(M143,ByM!$A$2:$B$462)+LOOKUP(N143,ByM!$A$2:$B$462)+LOOKUP(O143,ByM!$A$2:$B$462))","v":""}]
[null,null,null,null,null,null,null,null,null,null,null,null,null,null,null,{"$f":"IF(C144=\"\",\"\",F144+(G144*3)+H144+I144-E144)","v":""},{"$f":"IF(C144=\"\",\"\",LOOKUP(K144,ByM!$A$2:$B$462)+LOOKUP(L144,ByM!$A$2:$B$462)+LOOKUP(M144,ByM!$A$2:$B$462)+LOOKUP(N144,ByM!$A$2:$B$462)+LOOKUP(O144,ByM!$A$2:$B$462))","v":""}]
[null,null,null,null,null,null,null,null,null,null,null,null,null,null,null,{"$f":"IF(C145=\"\",\"\",F145+(G145*3)+H145+I145-E145)","v":""},{"$f":"IF(C145=\"\",\"\",LOOKUP(K145,ByM!$A$2:$B$462)+LOOKUP(L145,ByM!$A$2:$B$462)+LOOKUP(M145,ByM!$A$2:$B$462)+LOOKUP(N145,ByM!$A$2:$B$462)+LOOKUP(O145,ByM!$A$2:$B$462))","v":""}]
[null,null,null,null,null,null,null,null,null,null,null,null,null,null,null,{"$f":"IF(C146=\"\",\"\",F146+(G146*3)+H146+I146-E146)","v":""},{"$f":"IF(C146=\"\",\"\",LOOKUP(K146,ByM!$A$2:$B$462)+LOOKUP(L146,ByM!$A$2:$B$462)+LOOKUP(M146,ByM!$A$2:$B$462)+LOOKUP(N146,ByM!$A$2:$B$462)+LOOKUP(O146,ByM!$A$2:$B$462))","v":""}]
[null,null,null,null,null,null,null,null,null,null,null,null,null,null,null,{"$f":"IF(C147=\"\",\"\",F147+(G147*3)+H147+I147-E147)","v":""},{"$f":"IF(C147=\"\",\"\",LOOKUP(K147,ByM!$A$2:$B$462)+LOOKUP(L147,ByM!$A$2:$B$462)+LOOKUP(M147,ByM!$A$2:$B$462)+LOOKUP(N147,ByM!$A$2:$B$462)+LOOKUP(O147,ByM!$A$2:$B$462))","v":""}]
[null,null,null,null,null,null,null,null,null,null,null,null,null,null,null,{"$f":"IF(C148=\"\",\"\",F148+(G148*3)+H148+I148-E148)","v":""},{"$f":"IF(C148=\"\",\"\",LOOKUP(K148,ByM!$A$2:$B$462)+LOOKUP(L148,ByM!$A$2:$B$462)+LOOKUP(M148,ByM!$A$2:$B$462)+LOOKUP(N148,ByM!$A$2:$B$462)+LOOKUP(O148,ByM!$A$2:$B$462))","v":""}]
[null,null,null,null,null,null,null,null,null,null,null,null,null,null,null,{"$f":"IF(C149=\"\",\"\",F149+(G149*3)+H149+I149-E149)","v":""},{"$f":"IF(C149=\"\",\"\",LOOKUP(K149,ByM!$A$2:$B$462)+LOOKUP(L149,ByM!$A$2:$B$462)+LOOKUP(M149,ByM!$A$2:$B$462)+LOOKUP(N149,ByM!$A$2:$B$462)+LOOKUP(O149,ByM!$A$2:$B$462))","v":""}]
[null,null,null,null,null,null,null,null,null,null,null,null,null,null,null,{"$f":"IF(C150=\"\",\"\",F150+(G150*3)+H150+I150-E150)","v":""},{"$f":"IF(C150=\"\",\"\",LOOKUP(K150,ByM!$A$2:$B$462)+LOOKUP(L150,ByM!$A$2:$B$462)+LOOKUP(M150,ByM!$A$2:$B$462)+LOOKUP(N150,ByM!$A$2:$B$462)+LOOKUP(O150,ByM!$A$2:$B$462))","v":""}]
[null,null,null,null,null,null,null,null,null,null,null,null,null,null,null,{"$f":"IF(C151=\"\",\"\",F151+(G151*3)+H151+I151-E151)","v":""},{"$f":"IF(C151=\"\",\"\",LOOKUP(K151,ByM!$A$2:$B$462)+LOOKUP(L151,ByM!$A$2:$B$462)+LOOKUP(M151,ByM!$A$2:$B$462)+LOOKUP(N151,ByM!$A$2:$B$462)+LOOKUP(O151,ByM!$A$2:$B$462))","v":""}]
[null,null,null,null,null,null,null,null,null,null,null,null,null,null,null,{"$f":"IF(C152=\"\",\"\",F152+(G152*3)+H152+I152-E152)","v":""},{"$f":"IF(C152=\"\",\"\",LOOKUP(K152,ByM!$A$2:$B$462)+LOOKUP(L152,ByM!$A$2:$B$462)+LOOKUP(M152,ByM!$A$2:$B$462)+LOOKUP(N152,ByM!$A$2:$B$462)+LOOKUP(O152,ByM!$A$2:$B$462))","v":""}]
[null,null,null,null,null,null,null,null,null,null,null,null,null,null,null,{"$f":"IF(C153=\"\",\"\",F153+(G153*3)+H153+I153-E153)","v":""},{"$f":"IF(C153=\"\",\"\",LOOKUP(K153,ByM!$A$2:$B$462)+LOOKUP(L153,ByM!$A$2:$B$462)+LOOKUP(M153,ByM!$A$2:$B$462)+LOOKUP(N153,ByM!$A$2:$B$462)+LOOKUP(O153,ByM!$A$2:$B$462))","v":""}]
[null,null,null,null,null,null,null,null,null,null,null,null,null,null,null,{"$f":"IF(C154=\"\",\"\",F154+(G154*3)+H154+I154-E154)","v":""},{"$f":"IF(C154=\"\",\"\",LOOKUP(K154,ByM!$A$2:$B$462)+LOOKUP(L154,ByM!$A$2:$B$462)+LOOKUP(M154,ByM!$A$2:$B$462)+LOOKUP(N154,ByM!$A$2:$B$462)+LOOKUP(O154,ByM!$A$2:$B$462))","v":""}]
[null,null,null,null,null,null,null,null,null,null,null,null,null,null,null,{"$f":"IF(C155=\"\",\"\",F155+(G155*3)+H155+I155-E155)","v":""},{"$f":"IF(C155=\"\",\"\",LOOKUP(K155,ByM!$A$2:$B$462)+LOOKUP(L155,ByM!$A$2:$B$462)+LOOKUP(M155,ByM!$A$2:$B$462)+LOOKUP(N155,ByM!$A$2:$B$462)+LOOKUP(O155,ByM!$A$2:$B$462))","v":""}]
[null,null,null,null,null,null,null,null,null,null,null,null,null,null,null,{"$f":"IF(C156=\"\",\"\",F156+(G156*3)+H156+I156-E156)","v":""},{"$f":"IF(C156=\"\",\"\",LOOKUP(K156,ByM!$A$2:$B$462)+LOOKUP(L156,ByM!$A$2:$B$462)+LOOKUP(M156,ByM!$A$2:$B$462)+LOOKUP(N156,ByM!$A$2:$B$462)+LOOKUP(O156,ByM!$A$2:$B$462))","v":""}]
[null,null,null,null,null,null,null,null,null,null,null,null,null,null,null,{"$f":"IF(C157=\"\",\"\",F157+(G157*3)+H157+I157-E157)","v":""},{"$f":"IF(C157=\"\",\"\",LOOKUP(K157,ByM!$A$2:$B$462)+LOOKUP(L157,ByM!$A$2:$B$462)+LOOKUP(M157,ByM!$A$2:$B$462)+LOOKUP(N157,ByM!$A$2:$B$462)+LOOKUP(O157,ByM!$A$2:$B$462))","v":""}]
[null,null,null,null,null,null,null,null,null,null,null,null,null,null,null,{"$f":"IF(C158=\"\",\"\",F158+(G158*3)+H158+I158-E158)","v":""},{"$f":"IF(C158=\"\",\"\",LOOKUP(K158,ByM!$A$2:$B$462)+LOOKUP(L158,ByM!$A$2:$B$462)+LOOKUP(M158,ByM!$A$2:$B$462)+LOOKUP(N158,ByM!$A$2:$B$462)+LOOKUP(O158,ByM!$A$2:$B$462))","v":""}]
[null,null,null,null,null,null,null,null,null,null,null,null,null,null,null,{"$f":"IF(C159=\"\",\"\",F159+(G159*3)+H159+I159-E159)","v":""},{"$f":"IF(C159=\"\",\"\",LOOKUP(K159,ByM!$A$2:$B$462)+LOOKUP(L159,ByM!$A$2:$B$462)+LOOKUP(M159,ByM!$A$2:$B$462)+LOOKUP(N159,ByM!$A$2:$B$462)+LOOKUP(O159,ByM!$A$2:$B$462))","v":""}]
[null,null,null,null,null,null,null,null,null,null,null,null,null,null,null,{"$f":"IF(C160=\"\",\"\",F160+(G160*3)+H160+I160-E160)","v":""},{"$f":"IF(C160=\"\",\"\",LOOKUP(K160,ByM!$A$2:$B$462)+LOOKUP(L160,ByM!$A$2:$B$462)+LOOKUP(M160,ByM!$A$2:$B$462)+LOOKUP(N160,ByM!$A$2:$B$462)+LOOKUP(O160,ByM!$A$2:$B$462))","v":""}]
[null,null,null,null,null,null,null,null,null,null,null,null,null,null,null,{"$f":"IF(C161=\"\",\"\",F161+(G161*3)+H161+I161-E161)","v":""},{"$f":"IF(C161=\"\",\"\",LOOKUP(K161,ByM!$A$2:$B$462)+LOOKUP(L161,ByM!$A$2:$B$462)+LOOKUP(M161,ByM!$A$2:$B$462)+LOOKUP(N161,ByM!$A$2:$B$462)+LOOKUP(O161,ByM!$A$2:$B$462))","v":""}]
[null,null,null,null,null,null,null,null,null,null,null,null,null,null,null,{"$f":"IF(C162=\"\",\"\",F162+(G162*3)+H162+I162-E162)","v":""},{"$f":"IF(C162=\"\",\"\",LOOKUP(K162,ByM!$A$2:$B$462)+LOOKUP(L162,ByM!$A$2:$B$462)+LOOKUP(M162,ByM!$A$2:$B$462)+LOOKUP(N162,ByM!$A$2:$B$462)+LOOKUP(O162,ByM!$A$2:$B$462))","v":""}]
[null,null,null,null,null,null,null,null,null,null,null,null,null,null,null,{"$f":"IF(C163=\"\",\"\",F163+(G163*3)+H163+I163-E163)","v":""},{"$f":"IF(C163=\"\",\"\",LOOKUP(K163,ByM!$A$2:$B$462)+LOOKUP(L163,ByM!$A$2:$B$462)+LOOKUP(M163,ByM!$A$2:$B$462)+LOOKUP(N163,ByM!$A$2:$B$462)+LOOKUP(O163,ByM!$A$2:$B$462))","v":""}]
[null,null,null,null,null,null,null,null,null,null,null,null,null,null,null,{"$f":"IF(C164=\"\",\"\",F164+(G164*3)+H164+I164-E164)","v":""},{"$f":"IF(C164=\"\",\"\",LOOKUP(K164,ByM!$A$2:$B$462)+LOOKUP(L164,ByM!$A$2:$B$462)+LOOKUP(M164,ByM!$A$2:$B$462)+LOOKUP(N164,ByM!$A$2:$B$462)+LOOKUP(O164,ByM!$A$2:$B$462))","v":""}]
[null,null,null,null,null,null,null,null,null,null,null,null,null,null,null,{"$f":"IF(C165=\"\",\"\",F165+(G165*3)+H165+I165-E165)","v":""},{"$f":"IF(C165=\"\",\"\",LOOKUP(K165,ByM!$A$2:$B$462)+LOOKUP(L165,ByM!$A$2:$B$462)+LOOKUP(M165,ByM!$A$2:$B$462)+LOOKUP(N165,ByM!$A$2:$B$462)+LOOKUP(O165,ByM!$A$2:$B$462))","v":""}]
[null,null,null,null,null,null,null,null,null,null,null,null,null,null,null,{"$f":"IF(C166=\"\",\"\",F166+(G166*3)+H166+I166-E166)","v":""},{"$f":"IF(C166=\"\",\"\",LOOKUP(K166,ByM!$A$2:$B$462)+LOOKUP(L166,ByM!$A$2:$B$462)+LOOKUP(M166,ByM!$A$2:$B$462)+LOOKUP(N166,ByM!$A$2:$B$462)+LOOKUP(O166,ByM!$A$2:$B$462))","v":""}]
[null,null,null,null,null,null,null,null,null,null,null,null,null,null,null,{"$f":"IF(C167=\"\",\"\",F167+(G167*3)+H167+I167-E167)","v":""},{"$f":"IF(C167=\"\",\"\",LOOKUP(K167,ByM!$A$2:$B$462)+LOOKUP(L167,ByM!$A$2:$B$462)+LOOKUP(M167,ByM!$A$2:$B$462)+LOOKUP(N167,ByM!$A$2:$B$462)+LOOKUP(O167,ByM!$A$2:$B$462))","v":""}]
[null,null,null,null,null,null,null,null,null,null,null,null,null,null,null,{"$f":"IF(C168=\"\",\"\",F168+(G168*3)+H168+I168-E168)","v":""},{"$f":"IF(C168=\"\",\"\",LOOKUP(K168,ByM!$A$2:$B$462)+LOOKUP(L168,ByM!$A$2:$B$462)+LOOKUP(M168,ByM!$A$2:$B$462)+LOOKUP(N168,ByM!$A$2:$B$462)+LOOKUP(O168,ByM!$A$2:$B$462))","v":""}]
[null,null,null,null,null,null,null,null,null,null,null,null,null,null,null,{"$f":"IF(C169=\"\",\"\",F169+(G169*3)+H169+I169-E169)","v":""},{"$f":"IF(C169=\"\",\"\",LOOKUP(K169,ByM!$A$2:$B$462)+LOOKUP(L169,ByM!$A$2:$B$462)+LOOKUP(M169,ByM!$A$2:$B$462)+LOOKUP(N169,ByM!$A$2:$B$462)+LOOKUP(O169,ByM!$A$2:$B$462))","v":""}]
[null,null,null,null,null,null,null,null,null,null,null,null,null,null,null,{"$f":"IF(C170=\"\",\"\",F170+(G170*3)+H170+I170-E170)","v":""},{"$f":"IF(C170=\"\",\"\",LOOKUP(K170,ByM!$A$2:$B$462)+LOOKUP(L170,ByM!$A$2:$B$462)+LOOKUP(M170,ByM!$A$2:$B$462)+LOOKUP(N170,ByM!$A$2:$B$462)+LOOKUP(O170,ByM!$A$2:$B$462))","v":""}]
[null,null,null,null,null,null,null,null,null,null,null,null,null,null,null,{"$f":"IF(C171=\"\",\"\",F171+(G171*3)+H171+I171-E171)","v":""},{"$f":"IF(C171=\"\",\"\",LOOKUP(K171,ByM!$A$2:$B$462)+LOOKUP(L171,ByM!$A$2:$B$462)+LOOKUP(M171,ByM!$A$2:$B$462)+LOOKUP(N171,ByM!$A$2:$B$462)+LOOKUP(O171,ByM!$A$2:$B$462))","v":""}]
[null,null,null,null,null,null,null,null,null,null,null,null,null,null,null,{"$f":"IF(C172=\"\",\"\",F172+(G172*3)+H172+I172-E172)","v":""},{"$f":"IF(C172=\"\",\"\",LOOKUP(K172,ByM!$A$2:$B$462)+LOOKUP(L172,ByM!$A$2:$B$462)+LOOKUP(M172,ByM!$A$2:$B$462)+LOOKUP(N172,ByM!$A$2:$B$462)+LOOKUP(O172,ByM!$A$2:$B$462))","v":""}]
[null,null,null,null,null,null,null,null,null,null,null,null,null,null,null,{"$f":"IF(C173=\"\",\"\",F173+(G173*3)+H173+I173-E173)","v":""},{"$f":"IF(C173=\"\",\"\",LOOKUP(K173,ByM!$A$2:$B$462)+LOOKUP(L173,ByM!$A$2:$B$462)+LOOKUP(M173,ByM!$A$2:$B$462)+LOOKUP(N173,ByM!$A$2:$B$462)+LOOKUP(O173,ByM!$A$2:$B$462))","v":""}]
[null,null,null,null,null,null,null,null,null,null,null,null,null,null,null,{"$f":"IF(C174=\"\",\"\",F174+(G174*3)+H174+I174-E174)","v":""},{"$f":"IF(C174=\"\",\"\",LOOKUP(K174,ByM!$A$2:$B$462)+LOOKUP(L174,ByM!$A$2:$B$462)+LOOKUP(M174,ByM!$A$2:$B$462)+LOOKUP(N174,ByM!$A$2:$B$462)+LOOKUP(O174,ByM!$A$2:$B$462))","v":""}]
[null,null,null,null,null,null,null,null,null,null,null,null,null,null,null,{"$f":"IF(C175=\"\",\"\",F175+(G175*3)+H175+I175-E175)","v":""},{"$f":"IF(C175=\"\",\"\",LOOKUP(K175,ByM!$A$2:$B$462)+LOOKUP(L175,ByM!$A$2:$B$462)+LOOKUP(M175,ByM!$A$2:$B$462)+LOOKUP(N175,ByM!$A$2:$B$462)+LOOKUP(O175,ByM!$A$2:$B$462))","v":""}]
[null,null,null,null,null,null,null,null,null,null,null,null,null,null,null,{"$f":"IF(C176=\"\",\"\",F176+(G176*3)+H176+I176-E176)","v":""},{"$f":"IF(C176=\"\",\"\",LOOKUP(K176,ByM!$A$2:$B$462)+LOOKUP(L176,ByM!$A$2:$B$462)+LOOKUP(M176,ByM!$A$2:$B$462)+LOOKUP(N176,ByM!$A$2:$B$462)+LOOKUP(O176,ByM!$A$2:$B$462))","v":""}]
[null,null,null,null,null,null,null,null,null,null,null,null,null,null,null,{"$f":"IF(C177=\"\",\"\",F177+(G177*3)+H177+I177-E177)","v":""},{"$f":"IF(C177=\"\",\"\",LOOKUP(K177,ByM!$A$2:$B$462)+LOOKUP(L177,ByM!$A$2:$B$462)+LOOKUP(M177,ByM!$A$2:$B$462)+LOOKUP(N177,ByM!$A$2:$B$462)+LOOKUP(O177,ByM!$A$2:$B$462))","v":""}]
[null,null,null,null,null,null,null,null,null,null,null,null,null,null,null,{"$f":"IF(C178=\"\",\"\",F178+(G178*3)+H178+I178-E178)","v":""},{"$f":"IF(C178=\"\",\"\",LOOKUP(K178,ByM!$A$2:$B$462)+LOOKUP(L178,ByM!$A$2:$B$462)+LOOKUP(M178,ByM!$A$2:$B$462)+LOOKUP(N178,ByM!$A$2:$B$462)+LOOKUP(O178,ByM!$A$2:$B$462))","v":""}]
[null,null,null,null,null,null,null,null,null,null,null,null,null,null,null,{"$f":"IF(C179=\"\",\"\",F179+(G179*3)+H179+I179-E179)","v":""},{"$f":"IF(C179=\"\",\"\",LOOKUP(K179,ByM!$A$2:$B$462)+LOOKUP(L179,ByM!$A$2:$B$462)+LOOKUP(M179,ByM!$A$2:$B$462)+LOOKUP(N179,ByM!$A$2:$B$462)+LOOKUP(O179,ByM!$A$2:$B$462))","v":""}]
[null,null,null,null,null,null,null,null,null,null,null,null,null,null,null,{"$f":"IF(C180=\"\",\"\",F180+(G180*3)+H180+I180-E180)","v":""},{"$f":"IF(C180=\"\",\"\",LOOKUP(K180,ByM!$A$2:$B$462)+LOOKUP(L180,ByM!$A$2:$B$462)+LOOKUP(M180,ByM!$A$2:$B$462)+LOOKUP(N180,ByM!$A$2:$B$462)+LOOKUP(O180,ByM!$A$2:$B$462))","v":""}]
[null,null,null,null,null,null,null,null,null,null,null,null,null,null,null,{"$f":"IF(C181=\"\",\"\",F181+(G181*3)+H181+I181-E181)","v":""},{"$f":"IF(C181=\"\",\"\",LOOKUP(K181,ByM!$A$2:$B$462)+LOOKUP(L181,ByM!$A$2:$B$462)+LOOKUP(M181,ByM!$A$2:$B$462)+LOOKUP(N181,ByM!$A$2:$B$462)+LOOKUP(O181,ByM!$A$2:$B$462))","v":""}]
[null,null,null,null,null,null,null,null,null,null,null,null,null,null,null,{"$f":"IF(C182=\"\",\"\",F182+(G182*3)+H182+I182-E182)","v":""},{"$f":"IF(C182=\"\",\"\",LOOKUP(K182,ByM!$A$2:$B$462)+LOOKUP(L182,ByM!$A$2:$B$462)+LOOKUP(M182,ByM!$A$2:$B$462)+LOOKUP(N182,ByM!$A$2:$B$462)+LOOKUP(O182,ByM!$A$2:$B$462))","v":""}]
[null,null,null,null,null,null,null,null,null,null,null,null,null,null,null,{"$f":"IF(C183=\"\",\"\",F183+(G183*3)+H183+I183-E183)","v":""},{"$f":"IF(C183=\"\",\"\",LOOKUP(K183,ByM!$A$2:$B$462)+LOOKUP(L183,ByM!$A$2:$B$462)+LOOKUP(M183,ByM!$A$2:$B$462)+LOOKUP(N183,ByM!$A$2:$B$462)+LOOKUP(O183,ByM!$A$2:$B$462))","v":""}]
[null,null,null,null,null,null,null,null,null,null,null,null,null,null,null,{"$f":"IF(C184=\"\",\"\",F184+(G184*3)+H184+I184-E184)","v":""},{"$f":"IF(C184=\"\",\"\",LOOKUP(K184,ByM!$A$2:$B$462)+LOOKUP(L184,ByM!$A$2:$B$462)+LOOKUP(M184,ByM!$A$2:$B$462)+LOOKUP(N184,ByM!$A$2:$B$462)+LOOKUP(O184,ByM!$A$2:$B$462))","v":""}]
[null,null,null,null,null,null,null,null,null,null,null,null,null,null,null,{"$f":"IF(C185=\"\",\"\",F185+(G185*3)+H185+I185-E185)","v":""},{"$f":"IF(C185=\"\",\"\",LOOKUP(K185,ByM!$A$2:$B$462)+LOOKUP(L185,ByM!$A$2:$B$462)+LOOKUP(M185,ByM!$A$2:$B$462)+LOOKUP(N185,ByM!$A$2:$B$462)+LOOKUP(O185,ByM!$A$2:$B$462))","v":""}]
[null,null,null,null,null,null,null,null,null,null,null,null,null,null,null,{"$f":"IF(C186=\"\",\"\",F186+(G186*3)+H186+I186-E186)","v":""},{"$f":"IF(C186=\"\",\"\",LOOKUP(K186,ByM!$A$2:$B$462)+LOOKUP(L186,ByM!$A$2:$B$462)+LOOKUP(M186,ByM!$A$2:$B$462)+LOOKUP(N186,ByM!$A$2:$B$462)+LOOKUP(O186,ByM!$A$2:$B$462))","v":""}]
[null,null,null,null,null,null,null,null,null,null,null,null,null,null,null,{"$f":"IF(C187=\"\",\"\",F187+(G187*3)+H187+I187-E187)","v":""},{"$f":"IF(C187=\"\",\"\",LOOKUP(K187,ByM!$A$2:$B$462)+LOOKUP(L187,ByM!$A$2:$B$462)+LOOKUP(M187,ByM!$A$2:$B$462)+LOOKUP(N187,ByM!$A$2:$B$462)+LOOKUP(O187,ByM!$A$2:$B$462))","v":""}]
[null,null,null,null,null,null,null,null,null,null,null,null,null,null,null,{"$f":"IF(C188=\"\",\"\",F188+(G188*3)+H188+I188-E188)","v":""},{"$f":"IF(C188=\"\",\"\",LOOKUP(K188,ByM!$A$2:$B$462)+LOOKUP(L188,ByM!$A$2:$B$462)+LOOKUP(M188,ByM!$A$2:$B$462)+LOOKUP(N188,ByM!$A$2:$B$462)+LOOKUP(O188,ByM!$A$2:$B$462))","v":""}]
[null,null,null,null,null,null,null,null,null,null,null,null,null,null,null,{"$f":"IF(C189=\"\",\"\",F189+(G189*3)+H189+I189-E189)","v":""},{"$f":"IF(C189=\"\",\"\",LOOKUP(K189,ByM!$A$2:$B$462)+LOOKUP(L189,ByM!$A$2:$B$462)+LOOKUP(M189,ByM!$A$2:$B$462)+LOOKUP(N189,ByM!$A$2:$B$462)+LOOKUP(O189,ByM!$A$2:$B$462))","v":""}]
[null,null,null,null,null,null,null,null,null,null,null,null,null,null,null,{"$f":"IF(C190=\"\",\"\",F190+(G190*3)+H190+I190-E190)","v":""},{"$f":"IF(C190=\"\",\"\",LOOKUP(K190,ByM!$A$2:$B$462)+LOOKUP(L190,ByM!$A$2:$B$462)+LOOKUP(M190,ByM!$A$2:$B$462)+LOOKUP(N190,ByM!$A$2:$B$462)+LOOKUP(O190,ByM!$A$2:$B$462))","v":""}]
[null,null,null,null,null,null,null,null,null,null,null,null,null,null,null,{"$f":"IF(C191=\"\",\"\",F191+(G191*3)+H191+I191-E191)","v":""},{"$f":"IF(C191=\"\",\"\",LOOKUP(K191,ByM!$A$2:$B$462)+LOOKUP(L191,ByM!$A$2:$B$462)+LOOKUP(M191,ByM!$A$2:$B$462)+LOOKUP(N191,ByM!$A$2:$B$462)+LOOKUP(O191,ByM!$A$2:$B$462))","v":""}]
[null,null,null,null,null,null,null,null,null,null,null,null,null,null,null,{"$f":"IF(C192=\"\",\"\",F192+(G192*3)+H192+I192-E192)","v":""},{"$f":"IF(C192=\"\",\"\",LOOKUP(K192,ByM!$A$2:$B$462)+LOOKUP(L192,ByM!$A$2:$B$462)+LOOKUP(M192,ByM!$A$2:$B$462)+LOOKUP(N192,ByM!$A$2:$B$462)+LOOKUP(O192,ByM!$A$2:$B$462))","v":""}]
[null,null,null,null,null,null,null,null,null,null,null,null,null,null,null,{"$f":"IF(C193=\"\",\"\",F193+(G193*3)+H193+I193-E193)","v":""},{"$f":"IF(C193=\"\",\"\",LOOKUP(K193,ByM!$A$2:$B$462)+LOOKUP(L193,ByM!$A$2:$B$462)+LOOKUP(M193,ByM!$A$2:$B$462)+LOOKUP(N193,ByM!$A$2:$B$462)+LOOKUP(O193,ByM!$A$2:$B$462))","v":""}]
[null,null,null,null,null,null,null,null,null,null,null,null,null,null,null,{"$f":"IF(C194=\"\",\"\",F194+(G194*3)+H194+I194-E194)","v":""},{"$f":"IF(C194=\"\",\"\",LOOKUP(K194,ByM!$A$2:$B$462)+LOOKUP(L194,ByM!$A$2:$B$462)+LOOKUP(M194,ByM!$A$2:$B$462)+LOOKUP(N194,ByM!$A$2:$B$462)+LOOKUP(O194,ByM!$A$2:$B$462))","v":""}]
[null,null,null,null,null,null,null,null,null,null,null,null,null,null,null,{"$f":"IF(C195=\"\",\"\",F195+(G195*3)+H195+I195-E195)","v":""},{"$f":"IF(C195=\"\",\"\",LOOKUP(K195,ByM!$A$2:$B$462)+LOOKUP(L195,ByM!$A$2:$B$462)+LOOKUP(M195,ByM!$A$2:$B$462)+LOOKUP(N195,ByM!$A$2:$B$462)+LOOKUP(O195,ByM!$A$2:$B$462))","v":""}]
[null,null,null,null,null,null,null,null,null,null,null,null,null,null,null,{"$f":"IF(C196=\"\",\"\",F196+(G196*3)+H196+I196-E196)","v":""},{"$f":"IF(C196=\"\",\"\",LOOKUP(K196,ByM!$A$2:$B$462)+LOOKUP(L196,ByM!$A$2:$B$462)+LOOKUP(M196,ByM!$A$2:$B$462)+LOOKUP(N196,ByM!$A$2:$B$462)+LOOKUP(O196,ByM!$A$2:$B$462))","v":""}]
[null,null,null,null,null,null,null,null,null,null,null,null,null,null,null,{"$f":"IF(C197=\"\",\"\",F197+(G197*3)+H197+I197-E197)","v":""},{"$f":"IF(C197=\"\",\"\",LOOKUP(K197,ByM!$A$2:$B$462)+LOOKUP(L197,ByM!$A$2:$B$462)+LOOKUP(M197,ByM!$A$2:$B$462)+LOOKUP(N197,ByM!$A$2:$B$462)+LOOKUP(O197,ByM!$A$2:$B$462))","v":""}]
[null,null,null,null,null,null,null,null,null,null,null,null,null,null,null,{"$f":"IF(C198=\"\",\"\",F198+(G198*3)+H198+I198-E198)","v":""},{"$f":"IF(C198=\"\",\"\",LOOKUP(K198,ByM!$A$2:$B$462)+LOOKUP(L198,ByM!$A$2:$B$462)+LOOKUP(M198,ByM!$A$2:$B$462)+LOOKUP(N198,ByM!$A$2:$B$462)+LOOKUP(O198,ByM!$A$2:$B$462))","v":""}]
[null,null,null,null,null,null,null,null,null,null,null,null,null,null,null,{"$f":"IF(C199=\"\",\"\",F199+(G199*3)+H199+I199-E199)","v":""},{"$f":"IF(C199=\"\",\"\",LOOKUP(K199,ByM!$A$2:$B$462)+LOOKUP(L199,ByM!$A$2:$B$462)+LOOKUP(M199,ByM!$A$2:$B$462)+LOOKUP(N199,ByM!$A$2:$B$462)+LOOKUP(O199,ByM!$A$2:$B$462))","v":""}]
[null,null,null,null,null,null,null,null,null,null,null,null,null,null,null,{"$f":"IF(C200=\"\",\"\",F200+(G200*3)+H200+I200-E200)","v":""},{"$f":"IF(C200=\"\",\"\",LOOKUP(K200,ByM!$A$2:$B$462)+LOOKUP(L200,ByM!$A$2:$B$462)+LOOKUP(M200,ByM!$A$2:$B$462)+LOOKUP(N200,ByM!$A$2:$B$462)+LOOKUP(O200,ByM!$A$2:$B$462))","v":""}]
[null,null,null,null,null,null,null,null,null,null,null,null,null,null,null,{"$f":"IF(C201=\"\",\"\",F201+(G201*3)+H201+I201-E201)","v":""},{"$f":"IF(C201=\"\",\"\",LOOKUP(K201,ByM!$A$2:$B$462)+LOOKUP(L201,ByM!$A$2:$B$462)+LOOKUP(M201,ByM!$A$2:$B$462)+LOOKUP(N201,ByM!$A$2:$B$462)+LOOKUP(O201,ByM!$A$2:$B$462))","v":""}]
[null,null,null,null,null,null,null,null,null,null,null,null,null,null,null,{"$f":"IF(C202=\"\",\"\",F202+(G202*3)+H202+I202-E202)","v":""},{"$f":"IF(C202=\"\",\"\",LOOKUP(K202,ByM!$A$2:$B$462)+LOOKUP(L202,ByM!$A$2:$B$462)+LOOKUP(M202,ByM!$A$2:$B$462)+LOOKUP(N202,ByM!$A$2:$B$462)+LOOKUP(O202,ByM!$A$2:$B$462))","v":""}]
[null,null,null,null,null,null,null,null,null,null,null,null,null,null,null,{"$f":"IF(C203=\"\",\"\",F203+(G203*3)+H203+I203-E203)","v":""},{"$f":"IF(C203=\"\",\"\",LOOKUP(K203,ByM!$A$2:$B$462)+LOOKUP(L203,ByM!$A$2:$B$462)+LOOKUP(M203,ByM!$A$2:$B$462)+LOOKUP(N203,ByM!$A$2:$B$462)+LOOKUP(O203,ByM!$A$2:$B$462))","v":""}]
[null,null,null,null,null,null,null,null,null,null,null,null,null,null,null,{"$f":"IF(C204=\"\",\"\",F204+(G204*3)+H204+I204-E204)","v":""},{"$f":"IF(C204=\"\",\"\",LOOKUP(K204,ByM!$A$2:$B$462)+LOOKUP(L204,ByM!$A$2:$B$462)+LOOKUP(M204,ByM!$A$2:$B$462)+LOOKUP(N204,ByM!$A$2:$B$462)+LOOKUP(O204,ByM!$A$2:$B$462))","v":""}]
[null,null,null,null,null,null,null,null,null,null,null,null,null,null,null,{"$f":"IF(C205=\"\",\"\",F205+(G205*3)+H205+I205-E205)","v":""},{"$f":"IF(C205=\"\",\"\",LOOKUP(K205,ByM!$A$2:$B$462)+LOOKUP(L205,ByM!$A$2:$B$462)+LOOKUP(M205,ByM!$A$2:$B$462)+LOOKUP(N205,ByM!$A$2:$B$462)+LOOKUP(O205,ByM!$A$2:$B$462))","v":""}]
[null,null,null,null,null,null,null,null,null,null,null,null,null,null,null,{"$f":"IF(C206=\"\",\"\",F206+(G206*3)+H206+I206-E206)","v":""},{"$f":"IF(C206=\"\",\"\",LOOKUP(K206,ByM!$A$2:$B$462)+LOOKUP(L206,ByM!$A$2:$B$462)+LOOKUP(M206,ByM!$A$2:$B$462)+LOOKUP(N206,ByM!$A$2:$B$462)+LOOKUP(O206,ByM!$A$2:$B$462))","v":""}]
[null,null,null,null,null,null,null,null,null,null,null,null,null,null,null,{"$f":"IF(C207=\"\",\"\",F207+(G207*3)+H207+I207-E207)","v":""},{"$f":"IF(C207=\"\",\"\",LOOKUP(K207,ByM!$A$2:$B$462)+LOOKUP(L207,ByM!$A$2:$B$462)+LOOKUP(M207,ByM!$A$2:$B$462)+LOOKUP(N207,ByM!$A$2:$B$462)+LOOKUP(O207,ByM!$A$2:$B$462))","v":""}]
[null,null,null,null,null,null,null,null,null,null,null,null,null,null,null,{"$f":"IF(C208=\"\",\"\",F208+(G208*3)+H208+I208-E208)","v":""},{"$f":"IF(C208=\"\",\"\",LOOKUP(K208,ByM!$A$2:$B$462)+LOOKUP(L208,ByM!$A$2:$B$462)+LOOKUP(M208,ByM!$A$2:$B$462)+LOOKUP(N208,ByM!$A$2:$B$462)+LOOKUP(O208,ByM!$A$2:$B$462))","v":""}]
[null,null,null,null,null,null,null,null,null,null,null,null,null,null,null,{"$f":"IF(C209=\"\",\"\",F209+(G209*3)+H209+I209-E209)","v":""},{"$f":"IF(C209=\"\",\"\",LOOKUP(K209,ByM!$A$2:$B$462)+LOOKUP(L209,ByM!$A$2:$B$462)+LOOKUP(M209,ByM!$A$2:$B$462)+LOOKUP(N209,ByM!$A$2:$B$462)+LOOKUP(O209,ByM!$A$2:$B$462))","v":""}]
[null,null,null,null,null,null,null,null,null,null,null,null,null,null,null,{"$f":"IF(C210=\"\",\"\",F210+(G210*3)+H210+I210-E210)","v":""},{"$f":"IF(C210=\"\",\"\",LOOKUP(K210,ByM!$A$2:$B$462)+LOOKUP(L210,ByM!$A$2:$B$462)+LOOKUP(M210,ByM!$A$2:$B$462)+LOOKUP(N210,ByM!$A$2:$B$462)+LOOKUP(O210,ByM!$A$2:$B$462))","v":""}]
[null,null,null,null,null,null,null,null,null,null,null,null,null,null,null,{"$f":"IF(C211=\"\",\"\",F211+(G211*3)+H211+I211-E211)","v":""},{"$f":"IF(C211=\"\",\"\",LOOKUP(K211,ByM!$A$2:$B$462)+LOOKUP(L211,ByM!$A$2:$B$462)+LOOKUP(M211,ByM!$A$2:$B$462)+LOOKUP(N211,ByM!$A$2:$B$462)+LOOKUP(O211,ByM!$A$2:$B$462))","v":""}]
[null,null,null,null,null,null,null,null,null,null,null,null,null,null,null,{"$f":"IF(C212=\"\",\"\",F212+(G212*3)+H212+I212-E212)","v":""},{"$f":"IF(C212=\"\",\"\",LOOKUP(K212,ByM!$A$2:$B$462)+LOOKUP(L212,ByM!$A$2:$B$462)+LOOKUP(M212,ByM!$A$2:$B$462)+LOOKUP(N212,ByM!$A$2:$B$462)+LOOKUP(O212,ByM!$A$2:$B$462))","v":""}]
[null,null,null,null,null,null,null,null,null,null,null,null,null,null,null,{"$f":"IF(C213=\"\",\"\",F213+(G213*3)+H213+I213-E213)","v":""},{"$f":"IF(C213=\"\",\"\",LOOKUP(K213,ByM!$A$2:$B$462)+LOOKUP(L213,ByM!$A$2:$B$462)+LOOKUP(M213,ByM!$A$2:$B$462)+LOOKUP(N213,ByM!$A$2:$B$462)+LOOKUP(O213,ByM!$A$2:$B$462))","v":""}]
[null,null,null,null,null,null,null,null,null,null,null,null,null,null,null,{"$f":"IF(C214=\"\",\"\",F214+(G214*3)+H214+I214-E214)","v":""},{"$f":"IF(C214=\"\",\"\",LOOKUP(K214,ByM!$A$2:$B$462)+LOOKUP(L214,ByM!$A$2:$B$462)+LOOKUP(M214,ByM!$A$2:$B$462)+LOOKUP(N214,ByM!$A$2:$B$462)+LOOKUP(O214,ByM!$A$2:$B$462))","v":""}]
[null,null,null,null,null,null,null,null,null,null,null,null,null,null,null,{"$f":"IF(C215=\"\",\"\",F215+(G215*3)+H215+I215-E215)","v":""},{"$f":"IF(C215=\"\",\"\",LOOKUP(K215,ByM!$A$2:$B$462)+LOOKUP(L215,ByM!$A$2:$B$462)+LOOKUP(M215,ByM!$A$2:$B$462)+LOOKUP(N215,ByM!$A$2:$B$462)+LOOKUP(O215,ByM!$A$2:$B$462))","v":""}]
[null,null,null,null,null,null,null,null,null,null,null,null,null,null,null,{"$f":"IF(C216=\"\",\"\",F216+(G216*3)+H216+I216-E216)","v":""},{"$f":"IF(C216=\"\",\"\",LOOKUP(K216,ByM!$A$2:$B$462)+LOOKUP(L216,ByM!$A$2:$B$462)+LOOKUP(M216,ByM!$A$2:$B$462)+LOOKUP(N216,ByM!$A$2:$B$462)+LOOKUP(O216,ByM!$A$2:$B$462))","v":""}]
[null,null,null,null,null,null,null,null,null,null,null,null,null,null,null,{"$f":"IF(C217=\"\",\"\",F217+(G217*3)+H217+I217-E217)","v":""},{"$f":"IF(C217=\"\",\"\",LOOKUP(K217,ByM!$A$2:$B$462)+LOOKUP(L217,ByM!$A$2:$B$462)+LOOKUP(M217,ByM!$A$2:$B$462)+LOOKUP(N217,ByM!$A$2:$B$462)+LOOKUP(O217,ByM!$A$2:$B$462))","v":""}]
[null,null,null,null,null,null,null,null,null,null,null,null,null,null,null,{"$f":"IF(C218=\"\",\"\",F218+(G218*3)+H218+I218-E218)","v":""},{"$f":"IF(C218=\"\",\"\",LOOKUP(K218,ByM!$A$2:$B$462)+LOOKUP(L218,ByM!$A$2:$B$462)+LOOKUP(M218,ByM!$A$2:$B$462)+LOOKUP(N218,ByM!$A$2:$B$462)+LOOKUP(O218,ByM!$A$2:$B$462))","v":""}]
[null,null,null,null,null,null,null,null,null,null,null,null,null,null,null,{"$f":"IF(C219=\"\",\"\",F219+(G219*3)+H219+I219-E219)","v":""},{"$f":"IF(C219=\"\",\"\",LOOKUP(K219,ByM!$A$2:$B$462)+LOOKUP(L219,ByM!$A$2:$B$462)+LOOKUP(M219,ByM!$A$2:$B$462)+LOOKUP(N219,ByM!$A$2:$B$462)+LOOKUP(O219,ByM!$A$2:$B$462))","v":""}]
[null,null,null,null,null,null,null,null,null,null,null,null,null,null,null,{"$f":"IF(C220=\"\",\"\",F220+(G220*3)+H220+I220-E220)","v":""},{"$f":"IF(C220=\"\",\"\",LOOKUP(K220,ByM!$A$2:$B$462)+LOOKUP(L220,ByM!$A$2:$B$462)+LOOKUP(M220,ByM!$A$2:$B$462)+LOOKUP(N220,ByM!$A$2:$B$462)+LOOKUP(O220,ByM!$A$2:$B$462))","v":""}]
[null,null,null,null,null,null,null,null,null,null,null,null,null,null,null,{"$f":"IF(C221=\"\",\"\",F221+(G221*3)+H221+I221-E221)","v":""},{"$f":"IF(C221=\"\",\"\",LOOKUP(K221,ByM!$A$2:$B$462)+LOOKUP(L221,ByM!$A$2:$B$462)+LOOKUP(M221,ByM!$A$2:$B$462)+LOOKUP(N221,ByM!$A$2:$B$462)+LOOKUP(O221,ByM!$A$2:$B$462))","v":""}]
[null,null,null,null,null,null,null,null,null,null,null,null,null,null,null,{"$f":"IF(C222=\"\",\"\",F222+(G222*3)+H222+I222-E222)","v":""},{"$f":"IF(C222=\"\",\"\",LOOKUP(K222,ByM!$A$2:$B$462)+LOOKUP(L222,ByM!$A$2:$B$462)+LOOKUP(M222,ByM!$A$2:$B$462)+LOOKUP(N222,ByM!$A$2:$B$462)+LOOKUP(O222,ByM!$A$2:$B$462))","v":""}]
[null,null,null,null,null,null,null,null,null,null,null,null,null,null,null,{"$f":"IF(C223=\"\",\"\",F223+(G223*3)+H223+I223-E223)","v":""},{"$f":"IF(C223=\"\",\"\",LOOKUP(K223,ByM!$A$2:$B$462)+LOOKUP(L223,ByM!$A$2:$B$462)+LOOKUP(M223,ByM!$A$2:$B$462)+LOOKUP(N223,ByM!$A$2:$B$462)+LOOKUP(O223,ByM!$A$2:$B$462))","v":""}]
[null,null,null,null,null,null,null,null,null,null,null,null,null,null,null,{"$f":"IF(C224=\"\",\"\",F224+(G224*3)+H224+I224-E224)","v":""},{"$f":"IF(C224=\"\",\"\",LOOKUP(K224,ByM!$A$2:$B$462)+LOOKUP(L224,ByM!$A$2:$B$462)+LOOKUP(M224,ByM!$A$2:$B$462)+LOOKUP(N224,ByM!$A$2:$B$462)+LOOKUP(O224,ByM!$A$2:$B$462))","v":""}]
[null,null,null,null,null,null,null,null,null,null,null,null,null,null,null,{"$f":"IF(C225=\"\",\"\",F225+(G225*3)+H225+I225-E225)","v":""},{"$f":"IF(C225=\"\",\"\",LOOKUP(K225,ByM!$A$2:$B$462)+LOOKUP(L225,ByM!$A$2:$B$462)+LOOKUP(M225,ByM!$A$2:$B$462)+LOOKUP(N225,ByM!$A$2:$B$462)+LOOKUP(O225,ByM!$A$2:$B$462))","v":""}]
[null,null,null,null,null,null,null,null,null,null,null,null,null,null,null,{"$f":"IF(C226=\"\",\"\",F226+(G226*3)+H226+I226-E226)","v":""},{"$f":"IF(C226=\"\",\"\",LOOKUP(K226,ByM!$A$2:$B$462)+LOOKUP(L226,ByM!$A$2:$B$462)+LOOKUP(M226,ByM!$A$2:$B$462)+LOOKUP(N226,ByM!$A$2:$B$462)+LOOKUP(O226,ByM!$A$2:$B$462))","v":""}]
[null,null,null,null,null,null,null,null,null,null,null,null,null,null,null,{"$f":"IF(C227=\"\",\"\",F227+(G227*3)+H227+I227-E227)","v":""},{"$f":"IF(C227=\"\",\"\",LOOKUP(K227,ByM!$A$2:$B$462)+LOOKUP(L227,ByM!$A$2:$B$462)+LOOKUP(M227,ByM!$A$2:$B$462)+LOOKUP(N227,ByM!$A$2:$B$462)+LOOKUP(O227,ByM!$A$2:$B$462))","v":""}]
[null,null,null,null,null,null,null,null,null,null,null,null,null,null,null,{"$f":"IF(C228=\"\",\"\",F228+(G228*3)+H228+I228-E228)","v":""},{"$f":"IF(C228=\"\",\"\",LOOKUP(K228,ByM!$A$2:$B$462)+LOOKUP(L228,ByM!$A$2:$B$462)+LOOKUP(M228,ByM!$A$2:$B$462)+LOOKUP(N228,ByM!$A$2:$B$462)+LOOKUP(O228,ByM!$A$2:$B$462))","v":""}]
[null,null,null,null,null,null,null,null,null,null,null,null,null,null,null,{"$f":"IF(C229=\"\",\"\",F229+(G229*3)+H229+I229-E229)","v":""},{"$f":"IF(C229=\"\",\"\",LOOKUP(K229,ByM!$A$2:$B$462)+LOOKUP(L229,ByM!$A$2:$B$462)+LOOKUP(M229,ByM!$A$2:$B$462)+LOOKUP(N229,ByM!$A$2:$B$462)+LOOKUP(O229,ByM!$A$2:$B$462))","v":""}]
[null,null,null,null,null,null,null,null,null,null,null,null,null,null,null,{"$f":"IF(C230=\"\",\"\",F230+(G230*3)+H230+I230-E230)","v":""},{"$f":"IF(C230=\"\",\"\",LOOKUP(K230,ByM!$A$2:$B$462)+LOOKUP(L230,ByM!$A$2:$B$462)+LOOKUP(M230,ByM!$A$2:$B$462)+LOOKUP(N230,ByM!$A$2:$B$462)+LOOKUP(O230,ByM!$A$2:$B$462))","v":""}]
[null,null,null,null,null,null,null,null,null,null,null,null,null,null,null,{"$f":"IF(C231=\"\",\"\",F231+(G231*3)+H231+I231-E231)","v":""},{"$f":"IF(C231=\"\",\"\",LOOKUP(K231,ByM!$A$2:$B$462)+LOOKUP(L231,ByM!$A$2:$B$462)+LOOKUP(M231,ByM!$A$2:$B$462)+LOOKUP(N231,ByM!$A$2:$B$462)+LOOKUP(O231,ByM!$A$2:$B$462))","v":""}]
[null,null,null,null,null,null,null,null,null,null,null,null,null,null,null,{"$f":"IF(C232=\"\",\"\",F232+(G232*3)+H232+I232-E232)","v":""},{"$f":"IF(C232=\"\",\"\",LOOKUP(K232,ByM!$A$2:$B$462)+LOOKUP(L232,ByM!$A$2:$B$462)+LOOKUP(M232,ByM!$A$2:$B$462)+LOOKUP(N232,ByM!$A$2:$B$462)+LOOKUP(O232,ByM!$A$2:$B$462))","v":""}]
[null,null,null,null,null,null,null,null,null,null,null,null,null,null,null,{"$f":"IF(C233=\"\",\"\",F233+(G233*3)+H233+I233-E233)","v":""},{"$f":"IF(C233=\"\",\"\",LOOKUP(K233,ByM!$A$2:$B$462)+LOOKUP(L233,ByM!$A$2:$B$462)+LOOKUP(M233,ByM!$A$2:$B$462)+LOOKUP(N233,ByM!$A$2:$B$462)+LOOKUP(O233,ByM!$A$2:$B$462))","v":""}]
[null,null,null,null,null,null,null,null,null,null,null,null,null,null,null,{"$f":"IF(C234=\"\",\"\",F234+(G234*3)+H234+I234-E234)","v":""},{"$f":"IF(C234=\"\",\"\",LOOKUP(K234,ByM!$A$2:$B$462)+LOOKUP(L234,ByM!$A$2:$B$462)+LOOKUP(M234,ByM!$A$2:$B$462)+LOOKUP(N234,ByM!$A$2:$B$462)+LOOKUP(O234,ByM!$A$2:$B$462))","v":""}]
[null,null,null,null,null,null,null,null,null,null,null,null,null,null,null,{"$f":"IF(C235=\"\",\"\",F235+(G235*3)+H235+I235-E235)","v":""},{"$f":"IF(C235=\"\",\"\",LOOKUP(K235,ByM!$A$2:$B$462)+LOOKUP(L235,ByM!$A$2:$B$462)+LOOKUP(M235,ByM!$A$2:$B$462)+LOOKUP(N235,ByM!$A$2:$B$462)+LOOKUP(O235,ByM!$A$2:$B$462))","v":""}]
[null,null,null,null,null,null,null,null,null,null,null,null,null,null,null,{"$f":"IF(C236=\"\",\"\",F236+(G236*3)+H236+I236-E236)","v":""},{"$f":"IF(C236=\"\",\"\",LOOKUP(K236,ByM!$A$2:$B$462)+LOOKUP(L236,ByM!$A$2:$B$462)+LOOKUP(M236,ByM!$A$2:$B$462)+LOOKUP(N236,ByM!$A$2:$B$462)+LOOKUP(O236,ByM!$A$2:$B$462))","v":""}]
[null,null,null,null,null,null,null,null,null,null,null,null,null,null,null,{"$f":"IF(C237=\"\",\"\",F237+(G237*3)+H237+I237-E237)","v":""},{"$f":"IF(C237=\"\",\"\",LOOKUP(K237,ByM!$A$2:$B$462)+LOOKUP(L237,ByM!$A$2:$B$462)+LOOKUP(M237,ByM!$A$2:$B$462)+LOOKUP(N237,ByM!$A$2:$B$462)+LOOKUP(O237,ByM!$A$2:$B$462))","v":""}]
[null,null,null,null,null,null,null,null,null,null,null,null,null,null,null,{"$f":"IF(C238=\"\",\"\",F238+(G238*3)+H238+I238-E238)","v":""},{"$f":"IF(C238=\"\",\"\",LOOKUP(K238,ByM!$A$2:$B$462)+LOOKUP(L238,ByM!$A$2:$B$462)+LOOKUP(M238,ByM!$A$2:$B$462)+LOOKUP(N238,ByM!$A$2:$B$462)+LOOKUP(O238,ByM!$A$2:$B$462))","v":""}]
[null,null,null,null,null,null,null,null,null,null,null,null,null,null,null,{"$f":"IF(C239=\"\",\"\",F239+(G239*3)+H239+I239-E239)","v":""},{"$f":"IF(C239=\"\",\"\",LOOKUP(K239,ByM!$A$2:$B$462)+LOOKUP(L239,ByM!$A$2:$B$462)+LOOKUP(M239,ByM!$A$2:$B$462)+LOOKUP(N239,ByM!$A$2:$B$462)+LOOKUP(O239,ByM!$A$2:$B$462))","v":""}]
[null,null,null,null,null,null,null,null,null,null,null,null,null,null,null,{"$f":"IF(C240=\"\",\"\",F240+(G240*3)+H240+I240-E240)","v":""},{"$f":"IF(C240=\"\",\"\",LOOKUP(K240,ByM!$A$2:$B$462)+LOOKUP(L240,ByM!$A$2:$B$462)+LOOKUP(M240,ByM!$A$2:$B$462)+LOOKUP(N240,ByM!$A$2:$B$462)+LOOKUP(O240,ByM!$A$2:$B$462))","v":""}]
[null,null,null,null,null,null,null,null,null,null,null,null,null,null,null,{"$f":"IF(C241=\"\",\"\",F241+(G241*3)+H241+I241-E241)","v":""},{"$f":"IF(C241=\"\",\"\",LOOKUP(K241,ByM!$A$2:$B$462)+LOOKUP(L241,ByM!$A$2:$B$462)+LOOKUP(M241,ByM!$A$2:$B$462)+LOOKUP(N241,ByM!$A$2:$B$462)+LOOKUP(O241,ByM!$A$2:$B$462))","v":""}]
[null,null,null,null,null,null,null,null,null,null,null,null,null,null,null,{"$f":"IF(C242=\"\",\"\",F242+(G242*3)+H242+I242-E242)","v":""},{"$f":"IF(C242=\"\",\"\",LOOKUP(K242,ByM!$A$2:$B$462)+LOOKUP(L242,ByM!$A$2:$B$462)+LOOKUP(M242,ByM!$A$2:$B$462)+LOOKUP(N242,ByM!$A$2:$B$462)+LOOKUP(O242,ByM!$A$2:$B$462))","v":""}]
[null,null,null,null,null,null,null,null,null,null,null,null,null,null,null,{"$f":"IF(C243=\"\",\"\",F243+(G243*3)+H243+I243-E243)","v":""},{"$f":"IF(C243=\"\",\"\",LOOKUP(K243,ByM!$A$2:$B$462)+LOOKUP(L243,ByM!$A$2:$B$462)+LOOKUP(M243,ByM!$A$2:$B$462)+LOOKUP(N243,ByM!$A$2:$B$462)+LOOKUP(O243,ByM!$A$2:$B$462))","v":""}]
[null,null,null,null,null,null,null,null,null,null,null,null,null,null,null,{"$f":"IF(C244=\"\",\"\",F244+(G244*3)+H244+I244-E244)","v":""},{"$f":"IF(C244=\"\",\"\",LOOKUP(K244,ByM!$A$2:$B$462)+LOOKUP(L244,ByM!$A$2:$B$462)+LOOKUP(M244,ByM!$A$2:$B$462)+LOOKUP(N244,ByM!$A$2:$B$462)+LOOKUP(O244,ByM!$A$2:$B$462))","v":""}]
[null,null,null,null,null,null,null,null,null,null,null,null,null,null,null,{"$f":"IF(C245=\"\",\"\",F245+(G245*3)+H245+I245-E245)","v":""},{"$f":"IF(C245=\"\",\"\",LOOKUP(K245,ByM!$A$2:$B$462)+LOOKUP(L245,ByM!$A$2:$B$462)+LOOKUP(M245,ByM!$A$2:$B$462)+LOOKUP(N245,ByM!$A$2:$B$462)+LOOKUP(O245,ByM!$A$2:$B$462))","v":""}]
[null,null,null,null,null,null,null,null,null,null,null,null,null,null,null,{"$f":"IF(C246=\"\",\"\",F246+(G246*3)+H246+I246-E246)","v":""},{"$f":"IF(C246=\"\",\"\",LOOKUP(K246,ByM!$A$2:$B$462)+LOOKUP(L246,ByM!$A$2:$B$462)+LOOKUP(M246,ByM!$A$2:$B$462)+LOOKUP(N246,ByM!$A$2:$B$462)+LOOKUP(O246,ByM!$A$2:$B$462))","v":""}]
[null,null,null,null,null,null,null,null,null,null,null,null,null,null,null,{"$f":"IF(C247=\"\",\"\",F247+(G247*3)+H247+I247-E247)","v":""},{"$f":"IF(C247=\"\",\"\",LOOKUP(K247,ByM!$A$2:$B$462)+LOOKUP(L247,ByM!$A$2:$B$462)+LOOKUP(M247,ByM!$A$2:$B$462)+LOOKUP(N247,ByM!$A$2:$B$462)+LOOKUP(O247,ByM!$A$2:$B$462))","v":""}]
[null,null,null,null,null,null,null,null,null,null,null,null,null,null,null,{"$f":"IF(C248=\"\",\"\",F248+(G248*3)+H248+I248-E248)","v":""},{"$f":"IF(C248=\"\",\"\",LOOKUP(K248,ByM!$A$2:$B$462)+LOOKUP(L248,ByM!$A$2:$B$462)+LOOKUP(M248,ByM!$A$2:$B$462)+LOOKUP(N248,ByM!$A$2:$B$462)+LOOKUP(O248,ByM!$A$2:$B$462))","v":""}]
[null,null,null,null,null,null,null,null,null,null,null,null,null,null,null,{"$f":"IF(C249=\"\",\"\",F249+(G249*3)+H249+I249-E249)","v":""},{"$f":"IF(C249=\"\",\"\",LOOKUP(K249,ByM!$A$2:$B$462)+LOOKUP(L249,ByM!$A$2:$B$462)+LOOKUP(M249,ByM!$A$2:$B$462)+LOOKUP(N249,ByM!$A$2:$B$462)+LOOKUP(O249,ByM!$A$2:$B$462))","v":""}]
[null,null,null,null,null,null,null,null,null,null,null,null,null,null,null,{"$f":"IF(C250=\"\",\"\",F250+(G250*3)+H250+I250-E250)","v":""},{"$f":"IF(C250=\"\",\"\",LOOKUP(K250,ByM!$A$2:$B$462)+LOOKUP(L250,ByM!$A$2:$B$462)+LOOKUP(M250,ByM!$A$2:$B$462)+LOOKUP(N250,ByM!$A$2:$B$462)+LOOKUP(O250,ByM!$A$2:$B$462))","v":""}]
[null,null,null,null,null,null,null,null,null,null,null,null,null,null,null,{"$f":"IF(C251=\"\",\"\",F251+(G251*3)+H251+I251-E251)","v":""},{"$f":"IF(C251=\"\",\"\",LOOKUP(K251,ByM!$A$2:$B$462)+LOOKUP(L251,ByM!$A$2:$B$462)+LOOKUP(M251,ByM!$A$2:$B$462)+LOOKUP(N251,ByM!$A$2:$B$462)+LOOKUP(O251,ByM!$A$2:$B$462))","v":""}]
[null,null,null,null,null,null,null,null,null,null,null,null,null,null,null,{"$f":"IF(C252=\"\",\"\",F252+(G252*3)+H252+I252-E252)","v":""},{"$f":"IF(C252=\"\",\"\",LOOKUP(K252,ByM!$A$2:$B$462)+LOOKUP(L252,ByM!$A$2:$B$462)+LOOKUP(M252,ByM!$A$2:$B$462)+LOOKUP(N252,ByM!$A$2:$B$462)+LOOKUP(O252,ByM!$A$2:$B$462))","v":""}]
[null,null,null,null,null,null,null,null,null,null,null,null,null,null,null,{"$f":"IF(C253=\"\",\"\",F253+(G253*3)+H253+I253-E253)","v":""},{"$f":"IF(C253=\"\",\"\",LOOKUP(K253,ByM!$A$2:$B$462)+LOOKUP(L253,ByM!$A$2:$B$462)+LOOKUP(M253,ByM!$A$2:$B$462)+LOOKUP(N253,ByM!$A$2:$B$462)+LOOKUP(O253,ByM!$A$2:$B$462))","v":""}]
[null,null,null,null,null,null,null,null,null,null,null,null,null,null,null,{"$f":"IF(C254=\"\",\"\",F254+(G254*3)+H254+I254-E254)","v":""},{"$f":"IF(C254=\"\",\"\",LOOKUP(K254,ByM!$A$2:$B$462)+LOOKUP(L254,ByM!$A$2:$B$462)+LOOKUP(M254,ByM!$A$2:$B$462)+LOOKUP(N254,ByM!$A$2:$B$462)+LOOKUP(O254,ByM!$A$2:$B$462))","v":""}]
[null,null,null,null,null,null,null,null,null,null,null,null,null,null,null,{"$f":"IF(C255=\"\",\"\",F255+(G255*3)+H255+I255-E255)","v":""},{"$f":"IF(C255=\"\",\"\",LOOKUP(K255,ByM!$A$2:$B$462)+LOOKUP(L255,ByM!$A$2:$B$462)+LOOKUP(M255,ByM!$A$2:$B$462)+LOOKUP(N255,ByM!$A$2:$B$462)+LOOKUP(O255,ByM!$A$2:$B$462))","v":""}]
[null,null,null,null,null,null,null,null,null,null,null,null,null,null,null,{"$f":"IF(C256=\"\",\"\",F256+(G256*3)+H256+I256-E256)","v":""},{"$f":"IF(C256=\"\",\"\",LOOKUP(K256,ByM!$A$2:$B$462)+LOOKUP(L256,ByM!$A$2:$B$462)+LOOKUP(M256,ByM!$A$2:$B$462)+LOOKUP(N256,ByM!$A$2:$B$462)+LOOKUP(O256,ByM!$A$2:$B$462))","v":""}]
[null,null,null,null,null,null,null,null,null,null,null,null,null,null,null,{"$f":"IF(C257=\"\",\"\",F257+(G257*3)+H257+I257-E257)","v":""},{"$f":"IF(C257=\"\",\"\",LOOKUP(K257,ByM!$A$2:$B$462)+LOOKUP(L257,ByM!$A$2:$B$462)+LOOKUP(M257,ByM!$A$2:$B$462)+LOOKUP(N257,ByM!$A$2:$B$462)+LOOKUP(O257,ByM!$A$2:$B$462))","v":""}]
[null,null,null,null,null,null,null,null,null,null,null,null,null,null,null,{"$f":"IF(C258=\"\",\"\",F258+(G258*3)+H258+I258-E258)","v":""},{"$f":"IF(C258=\"\",\"\",LOOKUP(K258,ByM!$A$2:$B$462)+LOOKUP(L258,ByM!$A$2:$B$462)+LOOKUP(M258,ByM!$A$2:$B$462)+LOOKUP(N258,ByM!$A$2:$B$462)+LOOKUP(O258,ByM!$A$2:$B$462))","v":""}]
[null,null,null,null,null,null,null,null,null,null,null,null,null,null,null,{"$f":"IF(C259=\"\",\"\",F259+(G259*3)+H259+I259-E259)","v":""},{"$f":"IF(C259=\"\",\"\",LOOKUP(K259,ByM!$A$2:$B$462)+LOOKUP(L259,ByM!$A$2:$B$462)+LOOKUP(M259,ByM!$A$2:$B$462)+LOOKUP(N259,ByM!$A$2:$B$462)+LOOKUP(O259,ByM!$A$2:$B$462))","v":""}]
[null,null,null,null,null,null,null,null,null,null,null,null,null,null,null,{"$f":"IF(C260=\"\",\"\",F260+(G260*3)+H260+I260-E260)","v":""},{"$f":"IF(C260=\"\",\"\",LOOKUP(K260,ByM!$A$2:$B$462)+LOOKUP(L260,ByM!$A$2:$B$462)+LOOKUP(M260,ByM!$A$2:$B$462)+LOOKUP(N260,ByM!$A$2:$B$462)+LOOKUP(O260,ByM!$A$2:$B$462))","v":""}]
[null,null,null,null,null,null,null,null,null,null,null,null,null,null,null,{"$f":"IF(C261=\"\",\"\",F261+(G261*3)+H261+I261-E261)","v":""},{"$f":"IF(C261=\"\",\"\",LOOKUP(K261,ByM!$A$2:$B$462)+LOOKUP(L261,ByM!$A$2:$B$462)+LOOKUP(M261,ByM!$A$2:$B$462)+LOOKUP(N261,ByM!$A$2:$B$462)+LOOKUP(O261,ByM!$A$2:$B$462))","v":""}]
[null,null,null,null,null,null,null,null,null,null,null,null,null,null,null,{"$f":"IF(C262=\"\",\"\",F262+(G262*3)+H262+I262-E262)","v":""},{"$f":"IF(C262=\"\",\"\",LOOKUP(K262,ByM!$A$2:$B$462)+LOOKUP(L262,ByM!$A$2:$B$462)+LOOKUP(M262,ByM!$A$2:$B$462)+LOOKUP(N262,ByM!$A$2:$B$462)+LOOKUP(O262,ByM!$A$2:$B$462))","v":""}]
[null,null,null,null,null,null,null,null,null,null,null,null,null,null,null,{"$f":"IF(C263=\"\",\"\",F263+(G263*3)+H263+I263-E263)","v":""},{"$f":"IF(C263=\"\",\"\",LOOKUP(K263,ByM!$A$2:$B$462)+LOOKUP(L263,ByM!$A$2:$B$462)+LOOKUP(M263,ByM!$A$2:$B$462)+LOOKUP(N263,ByM!$A$2:$B$462)+LOOKUP(O263,ByM!$A$2:$B$462))","v":""}]
[null,null,null,null,null,null,null,null,null,null,null,null,null,null,null,{"$f":"IF(C264=\"\",\"\",F264+(G264*3)+H264+I264-E264)","v":""},{"$f":"IF(C264=\"\",\"\",LOOKUP(K264,ByM!$A$2:$B$462)+LOOKUP(L264,ByM!$A$2:$B$462)+LOOKUP(M264,ByM!$A$2:$B$462)+LOOKUP(N264,ByM!$A$2:$B$462)+LOOKUP(O264,ByM!$A$2:$B$462))","v":""}]
[null,null,null,null,null,null,null,null,null,null,null,null,null,null,null,{"$f":"IF(C265=\"\",\"\",F265+(G265*3)+H265+I265-E265)","v":""},{"$f":"IF(C265=\"\",\"\",LOOKUP(K265,ByM!$A$2:$B$462)+LOOKUP(L265,ByM!$A$2:$B$462)+LOOKUP(M265,ByM!$A$2:$B$462)+LOOKUP(N265,ByM!$A$2:$B$462)+LOOKUP(O265,ByM!$A$2:$B$462))","v":""}]
[null,null,null,null,null,null,null,null,null,null,null,null,null,null,null,{"$f":"IF(C266=\"\",\"\",F266+(G266*3)+H266+I266-E266)","v":""},{"$f":"IF(C266=\"\",\"\",LOOKUP(K266,ByM!$A$2:$B$462)+LOOKUP(L266,ByM!$A$2:$B$462)+LOOKUP(M266,ByM!$A$2:$B$462)+LOOKUP(N266,ByM!$A$2:$B$462)+LOOKUP(O266,ByM!$A$2:$B$462))","v":""}]
[null,null,null,null,null,null,null,null,null,null,null,null,null,null,null,{"$f":"IF(C267=\"\",\"\",F267+(G267*3)+H267+I267-E267)","v":""},{"$f":"IF(C267=\"\",\"\",LOOKUP(K267,ByM!$A$2:$B$462)+LOOKUP(L267,ByM!$A$2:$B$462)+LOOKUP(M267,ByM!$A$2:$B$462)+LOOKUP(N267,ByM!$A$2:$B$462)+LOOKUP(O267,ByM!$A$2:$B$462))","v":""}]
[null,null,null,null,null,null,null,null,null,null,null,null,null,null,null,{"$f":"IF(C268=\"\",\"\",F268+(G268*3)+H268+I268-E268)","v":""},{"$f":"IF(C268=\"\",\"\",LOOKUP(K268,ByM!$A$2:$B$462)+LOOKUP(L268,ByM!$A$2:$B$462)+LOOKUP(M268,ByM!$A$2:$B$462)+LOOKUP(N268,ByM!$A$2:$B$462)+LOOKUP(O268,ByM!$A$2:$B$462))","v":""}]
[null,null,null,null,null,null,null,null,null,null,null,null,null,null,null,{"$f":"IF(C269=\"\",\"\",F269+(G269*3)+H269+I269-E269)","v":""},{"$f":"IF(C269=\"\",\"\",LOOKUP(K269,ByM!$A$2:$B$462)+LOOKUP(L269,ByM!$A$2:$B$462)+LOOKUP(M269,ByM!$A$2:$B$462)+LOOKUP(N269,ByM!$A$2:$B$462)+LOOKUP(O269,ByM!$A$2:$B$462))","v":""}]
[null,null,null,null,null,null,null,null,null,null,null,null,null,null,null,{"$f":"IF(C270=\"\",\"\",F270+(G270*3)+H270+I270-E270)","v":""},{"$f":"IF(C270=\"\",\"\",LOOKUP(K270,ByM!$A$2:$B$462)+LOOKUP(L270,ByM!$A$2:$B$462)+LOOKUP(M270,ByM!$A$2:$B$462)+LOOKUP(N270,ByM!$A$2:$B$462)+LOOKUP(O270,ByM!$A$2:$B$462))","v":""}]
[null,null,null,null,null,null,null,null,null,null,null,null,null,null,null,{"$f":"IF(C271=\"\",\"\",F271+(G271*3)+H271+I271-E271)","v":""},{"$f":"IF(C271=\"\",\"\",LOOKUP(K271,ByM!$A$2:$B$462)+LOOKUP(L271,ByM!$A$2:$B$462)+LOOKUP(M271,ByM!$A$2:$B$462)+LOOKUP(N271,ByM!$A$2:$B$462)+LOOKUP(O271,ByM!$A$2:$B$462))","v":""}]
[null,null,null,null,null,null,null,null,null,null,null,null,null,null,null,{"$f":"IF(C272=\"\",\"\",F272+(G272*3)+H272+I272-E272)","v":""},{"$f":"IF(C272=\"\",\"\",LOOKUP(K272,ByM!$A$2:$B$462)+LOOKUP(L272,ByM!$A$2:$B$462)+LOOKUP(M272,ByM!$A$2:$B$462)+LOOKUP(N272,ByM!$A$2:$B$462)+LOOKUP(O272,ByM!$A$2:$B$462))","v":""}]
[null,null,null,null,null,null,null,null,null,null,null,null,null,null,null,{"$f":"IF(C273=\"\",\"\",F273+(G273*3)+H273+I273-E273)","v":""},{"$f":"IF(C273=\"\",\"\",LOOKUP(K273,ByM!$A$2:$B$462)+LOOKUP(L273,ByM!$A$2:$B$462)+LOOKUP(M273,ByM!$A$2:$B$462)+LOOKUP(N273,ByM!$A$2:$B$462)+LOOKUP(O273,ByM!$A$2:$B$462))","v":""}]
[null,null,null,null,null,null,null,null,null,null,null,null,null,null,null,{"$f":"IF(C274=\"\",\"\",F274+(G274*3)+H274+I274-E274)","v":""},{"$f":"IF(C274=\"\",\"\",LOOKUP(K274,ByM!$A$2:$B$462)+LOOKUP(L274,ByM!$A$2:$B$462)+LOOKUP(M274,ByM!$A$2:$B$462)+LOOKUP(N274,ByM!$A$2:$B$462)+LOOKUP(O274,ByM!$A$2:$B$462))","v":""}]
[null,null,null,null,null,null,null,null,null,null,null,null,null,null,null,{"$f":"IF(C275=\"\",\"\",F275+(G275*3)+H275+I275-E275)","v":""},{"$f":"IF(C275=\"\",\"\",LOOKUP(K275,ByM!$A$2:$B$462)+LOOKUP(L275,ByM!$A$2:$B$462)+LOOKUP(M275,ByM!$A$2:$B$462)+LOOKUP(N275,ByM!$A$2:$B$462)+LOOKUP(O275,ByM!$A$2:$B$462))","v":""}]
[null,null,null,null,null,null,null,null,null,null,null,null,null,null,null,{"$f":"IF(C276=\"\",\"\",F276+(G276*3)+H276+I276-E276)","v":""},{"$f":"IF(C276=\"\",\"\",LOOKUP(K276,ByM!$A$2:$B$462)+LOOKUP(L276,ByM!$A$2:$B$462)+LOOKUP(M276,ByM!$A$2:$B$462)+LOOKUP(N276,ByM!$A$2:$B$462)+LOOKUP(O276,ByM!$A$2:$B$462))","v":""}]
[null,null,null,null,null,null,null,null,null,null,null,null,null,null,null,{"$f":"IF(C277=\"\",\"\",F277+(G277*3)+H277+I277-E277)","v":""},{"$f":"IF(C277=\"\",\"\",LOOKUP(K277,ByM!$A$2:$B$462)+LOOKUP(L277,ByM!$A$2:$B$462)+LOOKUP(M277,ByM!$A$2:$B$462)+LOOKUP(N277,ByM!$A$2:$B$462)+LOOKUP(O277,ByM!$A$2:$B$462))","v":""}]
[null,null,null,null,null,null,null,null,null,null,null,null,null,null,null,{"$f":"IF(C278=\"\",\"\",F278+(G278*3)+H278+I278-E278)","v":""},{"$f":"IF(C278=\"\",\"\",LOOKUP(K278,ByM!$A$2:$B$462)+LOOKUP(L278,ByM!$A$2:$B$462)+LOOKUP(M278,ByM!$A$2:$B$462)+LOOKUP(N278,ByM!$A$2:$B$462)+LOOKUP(O278,ByM!$A$2:$B$462))","v":""}]
[null,null,null,null,null,null,null,null,null,null,null,null,null,null,null,{"$f":"IF(C279=\"\",\"\",F279+(G279*3)+H279+I279-E279)","v":""},{"$f":"IF(C279=\"\",\"\",LOOKUP(K279,ByM!$A$2:$B$462)+LOOKUP(L279,ByM!$A$2:$B$462)+LOOKUP(M279,ByM!$A$2:$B$462)+LOOKUP(N279,ByM!$A$2:$B$462)+LOOKUP(O279,ByM!$A$2:$B$462))","v":""}]
[null,null,null,null,null,null,null,null,null,null,null,null,null,null,null,{"$f":"IF(C280=\"\",\"\",F280+(G280*3)+H280+I280-E280)","v":""},{"$f":"IF(C280=\"\",\"\",LOOKUP(K280,ByM!$A$2:$B$462)+LOOKUP(L280,ByM!$A$2:$B$462)+LOOKUP(M280,ByM!$A$2:$B$462)+LOOKUP(N280,ByM!$A$2:$B$462)+LOOKUP(O280,ByM!$A$2:$B$462))","v":""}]
[null,null,null,null,null,null,null,null,null,null,null,null,null,null,null,{"$f":"IF(C281=\"\",\"\",F281+(G281*3)+H281+I281-E281)","v":""},{"$f":"IF(C281=\"\",\"\",LOOKUP(K281,ByM!$A$2:$B$462)+LOOKUP(L281,ByM!$A$2:$B$462)+LOOKUP(M281,ByM!$A$2:$B$462)+LOOKUP(N281,ByM!$A$2:$B$462)+LOOKUP(O281,ByM!$A$2:$B$462))","v":""}]
[null,null,null,null,null,null,null,null,null,null,null,null,null,null,null,{"$f":"IF(C282=\"\",\"\",F282+(G282*3)+H282+I282-E282)","v":""},{"$f":"IF(C282=\"\",\"\",LOOKUP(K282,ByM!$A$2:$B$462)+LOOKUP(L282,ByM!$A$2:$B$462)+LOOKUP(M282,ByM!$A$2:$B$462)+LOOKUP(N282,ByM!$A$2:$B$462)+LOOKUP(O282,ByM!$A$2:$B$462))","v":""}]
[null,null,null,null,null,null,null,null,null,null,null,null,null,null,null,{"$f":"IF(C283=\"\",\"\",F283+(G283*3)+H283+I283-E283)","v":""},{"$f":"IF(C283=\"\",\"\",LOOKUP(K283,ByM!$A$2:$B$462)+LOOKUP(L283,ByM!$A$2:$B$462)+LOOKUP(M283,ByM!$A$2:$B$462)+LOOKUP(N283,ByM!$A$2:$B$462)+LOOKUP(O283,ByM!$A$2:$B$462))","v":""}]
[null,null,null,null,null,null,null,null,null,null,null,null,null,null,null,{"$f":"IF(C284=\"\",\"\",F284+(G284*3)+H284+I284-E284)","v":""},{"$f":"IF(C284=\"\",\"\",LOOKUP(K284,ByM!$A$2:$B$462)+LOOKUP(L284,ByM!$A$2:$B$462)+LOOKUP(M284,ByM!$A$2:$B$462)+LOOKUP(N284,ByM!$A$2:$B$462)+LOOKUP(O284,ByM!$A$2:$B$462))","v":""}]
[null,null,null,null,null,null,null,null,null,null,null,null,null,null,null,{"$f":"IF(C285=\"\",\"\",F285+(G285*3)+H285+I285-E285)","v":""},{"$f":"IF(C285=\"\",\"\",LOOKUP(K285,ByM!$A$2:$B$462)+LOOKUP(L285,ByM!$A$2:$B$462)+LOOKUP(M285,ByM!$A$2:$B$462)+LOOKUP(N285,ByM!$A$2:$B$462)+LOOKUP(O285,ByM!$A$2:$B$462))","v":""}]
[null,null,null,null,null,null,null,null,null,null,null,null,null,null,null,{"$f":"IF(C286=\"\",\"\",F286+(G286*3)+H286+I286-E286)","v":""},{"$f":"IF(C286=\"\",\"\",LOOKUP(K286,ByM!$A$2:$B$462)+LOOKUP(L286,ByM!$A$2:$B$462)+LOOKUP(M286,ByM!$A$2:$B$462)+LOOKUP(N286,ByM!$A$2:$B$462)+LOOKUP(O286,ByM!$A$2:$B$462))","v":""}]
[null,null,null,null,null,null,null,null,null,null,null,null,null,null,null,{"$f":"IF(C287=\"\",\"\",F287+(G287*3)+H287+I287-E287)","v":""},{"$f":"IF(C287=\"\",\"\",LOOKUP(K287,ByM!$A$2:$B$462)+LOOKUP(L287,ByM!$A$2:$B$462)+LOOKUP(M287,ByM!$A$2:$B$462)+LOOKUP(N287,ByM!$A$2:$B$462)+LOOKUP(O287,ByM!$A$2:$B$462))","v":""}]
[null,null,null,null,null,null,null,null,null,null,null,null,null,null,null,{"$f":"IF(C288=\"\",\"\",F288+(G288*3)+H288+I288-E288)","v":""},{"$f":"IF(C288=\"\",\"\",LOOKUP(K288,ByM!$A$2:$B$462)+LOOKUP(L288,ByM!$A$2:$B$462)+LOOKUP(M288,ByM!$A$2:$B$462)+LOOKUP(N288,ByM!$A$2:$B$462)+LOOKUP(O288,ByM!$A$2:$B$462))","v":""}]
[null,null,null,null,null,null,null,null,null,null,null,null,null,null,null,{"$f":"IF(C289=\"\",\"\",F289+(G289*3)+H289+I289-E289)","v":""},{"$f":"IF(C289=\"\",\"\",LOOKUP(K289,ByM!$A$2:$B$462)+LOOKUP(L289,ByM!$A$2:$B$462)+LOOKUP(M289,ByM!$A$2:$B$462)+LOOKUP(N289,ByM!$A$2:$B$462)+LOOKUP(O289,ByM!$A$2:$B$462))","v":""}]
[null,null,null,null,null,null,null,null,null,null,null,null,null,null,null,{"$f":"IF(C290=\"\",\"\",F290+(G290*3)+H290+I290-E290)","v":""},{"$f":"IF(C290=\"\",\"\",LOOKUP(K290,ByM!$A$2:$B$462)+LOOKUP(L290,ByM!$A$2:$B$462)+LOOKUP(M290,ByM!$A$2:$B$462)+LOOKUP(N290,ByM!$A$2:$B$462)+LOOKUP(O290,ByM!$A$2:$B$462))","v":""}]
[null,null,null,null,null,null,null,null,null,null,null,null,null,null,null,{"$f":"IF(C291=\"\",\"\",F291+(G291*3)+H291+I291-E291)","v":""},{"$f":"IF(C291=\"\",\"\",LOOKUP(K291,ByM!$A$2:$B$462)+LOOKUP(L291,ByM!$A$2:$B$462)+LOOKUP(M291,ByM!$A$2:$B$462)+LOOKUP(N291,ByM!$A$2:$B$462)+LOOKUP(O291,ByM!$A$2:$B$462))","v":""}]
[null,null,null,null,null,null,null,null,null,null,null,null,null,null,null,{"$f":"IF(C292=\"\",\"\",F292+(G292*3)+H292+I292-E292)","v":""},{"$f":"IF(C292=\"\",\"\",LOOKUP(K292,ByM!$A$2:$B$462)+LOOKUP(L292,ByM!$A$2:$B$462)+LOOKUP(M292,ByM!$A$2:$B$462)+LOOKUP(N292,ByM!$A$2:$B$462)+LOOKUP(O292,ByM!$A$2:$B$462))","v":""}]
[null,null,null,null,null,null,null,null,null,null,null,null,null,null,null,{"$f":"IF(C293=\"\",\"\",F293+(G293*3)+H293+I293-E293)","v":""},{"$f":"IF(C293=\"\",\"\",LOOKUP(K293,ByM!$A$2:$B$462)+LOOKUP(L293,ByM!$A$2:$B$462)+LOOKUP(M293,ByM!$A$2:$B$462)+LOOKUP(N293,ByM!$A$2:$B$462)+LOOKUP(O293,ByM!$A$2:$B$462))","v":""}]
[null,null,null,null,null,null,null,null,null,null,null,null,null,null,null,{"$f":"IF(C294=\"\",\"\",F294+(G294*3)+H294+I294-E294)","v":""},{"$f":"IF(C294=\"\",\"\",LOOKUP(K294,ByM!$A$2:$B$462)+LOOKUP(L294,ByM!$A$2:$B$462)+LOOKUP(M294,ByM!$A$2:$B$462)+LOOKUP(N294,ByM!$A$2:$B$462)+LOOKUP(O294,ByM!$A$2:$B$462))","v":""}]
[null,null,null,null,null,null,null,null,null,null,null,null,null,null,null,{"$f":"IF(C295=\"\",\"\",F295+(G295*3)+H295+I295-E295)","v":""},{"$f":"IF(C295=\"\",\"\",LOOKUP(K295,ByM!$A$2:$B$462)+LOOKUP(L295,ByM!$A$2:$B$462)+LOOKUP(M295,ByM!$A$2:$B$462)+LOOKUP(N295,ByM!$A$2:$B$462)+LOOKUP(O295,ByM!$A$2:$B$462))","v":""}]
[null,null,null,null,null,null,null,null,null,null,null,null,null,null,null,{"$f":"IF(C296=\"\",\"\",F296+(G296*3)+H296+I296-E296)","v":""},{"$f":"IF(C296=\"\",\"\",LOOKUP(K296,ByM!$A$2:$B$462)+LOOKUP(L296,ByM!$A$2:$B$462)+LOOKUP(M296,ByM!$A$2:$B$462)+LOOKUP(N296,ByM!$A$2:$B$462)+LOOKUP(O296,ByM!$A$2:$B$462))","v":""}]
[null,null,null,null,null,null,null,null,null,null,null,null,null,null,null,{"$f":"IF(C297=\"\",\"\",F297+(G297*3)+H297+I297-E297)","v":""},{"$f":"IF(C297=\"\",\"\",LOOKUP(K297,ByM!$A$2:$B$462)+LOOKUP(L297,ByM!$A$2:$B$462)+LOOKUP(M297,ByM!$A$2:$B$462)+LOOKUP(N297,ByM!$A$2:$B$462)+LOOKUP(O297,ByM!$A$2:$B$462))","v":""}]
[null,null,null,null,null,null,null,null,null,null,null,null,null,null,null,{"$f":"IF(C298=\"\",\"\",F298+(G298*3)+H298+I298-E298)","v":""},{"$f":"IF(C298=\"\",\"\",LOOKUP(K298,ByM!$A$2:$B$462)+LOOKUP(L298,ByM!$A$2:$B$462)+LOOKUP(M298,ByM!$A$2:$B$462)+LOOKUP(N298,ByM!$A$2:$B$462)+LOOKUP(O298,ByM!$A$2:$B$462))","v":""}]
[null,null,null,null,null,null,null,null,null,null,null,null,null,null,null,{"$f":"IF(C299=\"\",\"\",F299+(G299*3)+H299+I299-E299)","v":""},{"$f":"IF(C299=\"\",\"\",LOOKUP(K299,ByM!$A$2:$B$462)+LOOKUP(L299,ByM!$A$2:$B$462)+LOOKUP(M299,ByM!$A$2:$B$462)+LOOKUP(N299,ByM!$A$2:$B$462)+LOOKUP(O299,ByM!$A$2:$B$462))","v":""}]
[null,null,null,null,null,null,null,null,null,null,null,null,null,null,null,{"$f":"IF(C300=\"\",\"\",LOOKUP(E300,$P$2:$Q$11)+LOOKUP(F300,$P$2:$Q$11)+LOOKUP(G300,$P$2:$Q$11)+LOOKUP(H300,$P$2:$Q$11)+LOOKUP(I300,$P$2:$Q$11))","v":""},{"$f":"IF(C300=\"\",\"\",LOOKUP(K300,ByM!$A$2:$B$462)+LOOKUP(L300,ByM!$A$2:$B$462)+LOOKUP(M300,ByM!$A$2:$B$462)+LOOKUP(N300,ByM!$A$2:$B$462)+LOOKUP(O300,ByM!$A$2:$B$462))","v":""}]
[null,null,null,null,null,null,null,null,null,null,null,null,null,null,null,{"$f":"IF(C301=\"\",\"\",LOOKUP(E301,$P$2:$Q$11)+LOOKUP(F301,$P$2:$Q$11)+LOOKUP(G301,$P$2:$Q$11)+LOOKUP(H301,$P$2:$Q$11)+LOOKUP(I301,$P$2:$Q$11))","v":""},{"$f":"IF(C301=\"\",\"\",LOOKUP(K301,ByM!$A$2:$B$462)+LOOKUP(L301,ByM!$A$2:$B$462)+LOOKUP(M301,ByM!$A$2:$B$462)+LOOKUP(N301,ByM!$A$2:$B$462)+LOOKUP(O301,ByM!$A$2:$B$462))","v":""}]
[null,null,null,null,null,null,null,null,null,null,null,null,null,null,null,{"$f":"IF(C302=\"\",\"\",LOOKUP(E302,$P$2:$Q$11)+LOOKUP(F302,$P$2:$Q$11)+LOOKUP(G302,$P$2:$Q$11)+LOOKUP(H302,$P$2:$Q$11)+LOOKUP(I302,$P$2:$Q$11))","v":""},{"$f":"IF(C302=\"\",\"\",LOOKUP(K302,ByM!$A$2:$B$462)+LOOKUP(L302,ByM!$A$2:$B$462)+LOOKUP(M302,ByM!$A$2:$B$462)+LOOKUP(N302,ByM!$A$2:$B$462)+LOOKUP(O302,ByM!$A$2:$B$462))","v":""}]

{"sheet":"ByM","index":6,"n_rows":464,"n_cols":6,"rows_kept":464,"cut":false,"hidden":false,"merged":[]}
["NOMBRE","PTS","DESCRIPCIÓN","Arquetipo","B o M","rango"]
["-",0,"-",0,"B",0]
["7 vidas",20,"Tiene un segundo CH DEF con DEF -1.","P","B",3]
["A 2 manos",-3,"Necesita 2 miembros útiles para poder usarse. A una mano, CH IMP -1.","A","M",2]
["Absorción de impacto",10,"Enemigo tiene DAÑ -1.","P","B",3]
["Acobardamiento",2,"Si impacta, objetivo CH PSI.","A","B",2]
["Aerostático",5,"En altura 3, puede pivotar como acción y realizar cualquier acción consecutiva.","T","B",5]
["Afilada",5,"DAÑ +1 en CaC. Se pierde con pifia.","A","B",2]
["Afortunado",7,"Si sufre DAÑ, 1D10: 1 ignorar  DAÑ.","R","B",1]
["Ajustable",3,"Sin penalización para CON distinta que TAL en 1 punto.","P","B",3]
["Alcance infinito",5,"Sin ALC máx. Debe estar en LdV. Si objetivo fuera del CdV, dispersión.","A","B",2]
["Alérgico ( )",-5,"Una sustancia te provoca DAÑ x2.","R","M",1]
["Anfibio",2,"El transporte puede moverse sobre tierra y agua. Nadar cuesta la misma","T","B",5]
["Animal",-10,"No puede reclamar puntos ni realizar acciones netamente humanas. ","R","M",1]
["Animal interior",-5,"Siempre carga sin un aliado a 10 K con bonus líder, aura de obstinación o presencia de honor.","R","M",1]
["Anónimo",10,"No se le puede cargar a este personaje. Tampoco disparar si hay otro Pj a 3K.","R","B",1]
["Ansia de sangre",-5,"Siempre carga si puede.","R","M",1]
["Anulador de agilidad",20,"Enemigo a 2 K, AGI /2.","M","B",4]
["Anulador de escudo",5,"Esta arma no hace DAÑ, pero si impacta quita 1 nivel de escudo de energía, sin CH DEF.","A","B",2]
["Anulador de inteligencia",20,"Enemigo a 2 K, INT /2.","M","B",4]
["Anulador de voluntad",20,"Enemigo a 2 K, VOL /2.","M","B",4]
["Anulador físico",20,"Enemigo a 2 K, CON /2.","M","B",4]
["Apestoso",-5,"Ningún aliado puede terminar su movimiento a menos de 3 K.","R","M",1]
["Aplasta",2,"Si impacta, CAL-1 a una protección enemiga.","A","B",2]
["Araña",5,"Puede mover por paredes y techos como si fuera terreno fácil.","R","B",1]
["Arco concentrado",15,"[Área de gota] Si dispara en modo concentrado, el área pasa a tipo lineal y DAÑ+2.","A","B",2]
["Área de activación",5,"Se activa cuando una mini entra a tantos K como ALC tenga el objeto.","M","B",4]
["Área despreciable",3,"Coste de ARE = 0 puntos.","M","B",4]
["Área menguante",-3,"El DAÑ de esta área se reduce en 1 por cada K que se aleje del centro.","A","M",2]
["Área permanente",5,"Si el objetivo es afectado o herido, los efectos permanecen en el punto de impacto.","M","B",4]
["Ariete",5,"DAÑ +1 embistiendo.","T","B",5]
["Arma arrojadiza",10,"Si se lanza, ALC=CON+AGI y DAÑ+1.","A","B",2]
["Arma ATA",1,"Permite combate entre distintas alturas.","A","B",2]
["Arma complicada",-10,"CH IMP -1.","A","M",2]
["Arma corta",1,"ALC = 0 en CaC en armas con hasta ALC 5.","A","B",2]
["Arma de campaña",-5,"Después de disparar esta arma ya no se puede disparar otra arma de campaña.","A","M",2]
["Arma de carga",5,"DAÑ +2 extra cargando y DEF -2 hasta el final del combate.","A","B",2]
["Arma de enjambre",3,"Disparar con otras armas de enjambre a la vez. Cada crítico, DEF-1. Cada pifia, anula un crítico. Puede llegar a ENE -10 actuando.","A","B",2]
["Arma de francotirador",15,"1 y 2, críticos en el CH IMP.","A","B",2]
["Arma muy larga",3,"Esta arma, con ALC 0, se puede CaC sin estar trabado. Enemigo a 2 K máx.","A","B",2]
["Arma pesada",-5,"El personaje debe tener más CON que DAÑ el arma para poder utilizarla.","A","M",2]
["Artificiero",5,"DAÑ+1 en armas con fuego o área > 0.","R","B",1]
["Artillero",4,"Sin negativos disparando desde y/o hacia un transporte en movimiento.","R","B",1]
["Artillero requerido",-5,"Necesita 1 personaje extra para poder utilizarse.","A","M",2]
["Asiento eyectable",3,"Si explota, sobrevive y dispersa a 1D10K.","T","B",5]
["Atadura",7,"[Titiritero] CH VOL. Metahabilidad.","M","B",1]
["Aura blindada",45,"Aliados a 5K repiten CH DEF.","R","B",1]
["Aura de acero",40,"Aliados a 5K repiten CH CON.","R","B",1]
["Aura de obstinación",40,"Aliados a 5K repiten CH VOL.","R","B",1]
["Aura de sabiduría",40,"Aliados a 5K repiten CH INT.","R","B",1]
["Aura de talento",40,"Aliados a 5K repiten CH AGI.","R","B",1]
["Avatar",-20,"Este personaje sólo puede desplegarse si se le invoca (ENE 3, CH INT).","R","M",1]
["Ave Fénix",10,"Si muere,  1D10: Crítico, revive sin heridas. 2 a 5, revive con CON-1 heridas. 6 a 9 espera. Pifia, es baja.","R","B",1]
["Baño de acero",15,"DEF +1.","P","B",3]
["Berserker",5,"Distancia de carga +2 si así llega a CaC.","R","B",1]
["Blandito",-20,"Sufre DAÑ x2.","R","M",1]
["Bomba autónoma",3,"[Área de activación] Se lanza a lo que entre en su área de activación si se mueve a 5 K o menos.","A","B",2]
["Bomba viviente",5,"Si muere, explota: DAÑ = CON/2, ARE = AGI/2.","R","B",1]
["Borracho",-10,"Después del 3er turno, CH ATR -1 acumulativo cada turno.","R","M",1]
["Bunkai",7,"[Cinético] CH AGI. Metahabilidad.","M","B",1]
["Caballería",5,"Cargando, DAÑ +2 en lugar de +1 .","T","B",5]
["Caer con estilo",5,"Sin daño cayendo desde altura.","R","B",1]
["Campo ciego N1",-5,"Esta arma no puede disparar en los 5 primeros K/N.","A","M",2]
["Campo ciego N2",-10,"Esta arma no puede disparar en los 5 primeros K/N.","A","M",2]
["Campo ciego N3",-15,"Esta arma no puede disparar en los 5 primeros K/N.","A","M",2]
["Campo ciego N4",-20,"Esta arma no puede disparar en los 5 primeros K/N.","A","M",2]
["Campo ciego N5",-25,"Esta arma no puede disparar en los 5 primeros K/N.","A","M",2]
["Campo de oscuridad N1",2,"A 2 K/N se perderán los objetivos marcados. Si explota, anula tantos niveles de escudo de energía y a tantos K como nivel.","T","B",5]
["Campo de oscuridad N2",4,"A 2 K/N se perderán los objetivos marcados. Si explota, anula tantos niveles de escudo de energía y a tantos K como nivel.","T","B",5]
["Campo de oscuridad N3",6,"A 2 K/N se perderán los objetivos marcados. Si explota, anula tantos niveles de escudo de energía y a tantos K como nivel.","T","B",5]
["Campo de oscuridad N4",8,"A 2 K/N se perderán los objetivos marcados. Si explota, anula tantos niveles de escudo de energía y a tantos K como nivel.","T","B",5]
["Campo de oscuridad N5",10,"A 2 K/N se perderán los objetivos marcados. Si explota, anula tantos niveles de escudo de energía y a tantos K como nivel.","T","B",5]
["Camuflaje",10,"Enemigo tiene CH IMP -1 a distancia.","P","B",3]
["Capacidad ( )",3,"(N) serán los niveles de carga. Una peana ocupa tantos N como K² de grande sea.","T","B",5]
["Cargadores ( )",-5,"Esta arma usa cargadores, con un cargador montado. (X) = munición. Si no hay X, X=10-DAÑ. Hay que recargar.","A","M",2]
["Cargas ( )",-5,"Usable un número de veces.","M","M",4]
["Caza",5,"Puede hacer un giro extra de 45º después de mover. CH AGI.","T","B",5]
["Cinético",1,"Puede realizar bunkais","R","B",1]
["Cobarde",-10,"Debe superar un CH PSI para atacar.","R","M",1]
["Cóctel de vitaminas",3," +1 nivel de un atributo por cóctel durante el resto de la actuación. Siguiente actuación, -1 a todos los atributos.","M","B",4]
["Cojitranco",-5,"Terreno un nivel más difícil.","R","M",1]
["Comunicador",1,"El portador puede comunicarse con otro con el mismo bonus.","P","B",3]
["Condenado",-10,"Gana bonus la mano de la muerte. Pierde 1 nivel de CON, AGI, INT, REA  y VOL si empieza con heridas y no asigna alguna.","R","M",1]
["Contracarga",5,"Sin bonus cuando le cargan.","R","B",1]
["Contramedidas",10,"Cualquier misil, torpedo, obús o proyectil similar, CH IMP -1.","T","B",5]
["Control del CHI",8,"Repite un chequeo por actuación.","R","B",1]
["Control remoto",3,"[Vulnerable] Se activará cuando quiera su controlador (ENE 1) sin LdV.","M","B",4]
["Corrector de puntería",15,"Repite dispersión.","A","B",2]
["Corto de vista",-5,"CdV -5K.","R","M",1]
["Cuerpo de luz",3,"Este personaje es invulnerable al DAÑ de las invocaciones que él mismo lanza.","R","B",1]
["Dañino",-10,"Cuando se usa, +1 herida.","M","M",4]
["Daño extra",3,"DAÑ +1 si crítico en CH IMP.","A","B",2]
["De Padrón",-10,"50% DAÑ=0.","A","M",2]
["De precisión",15,"Repite CH IMP, si no hay pifia.","A","B",2]
["Defectuoso",-5,"Cuando se use existe un 10% de que se estropee. Se debe reparar.","A","M",2]
["Desafiante",2,"Puede realizar la acción \"desafiar\" (ENE 3 y CH VOL ENF) para que otro Pj le ataque CaC.","R","B",1]
["Desaparecer",5,"Si el personaje no está en CaC, 1 vez por aventura, puede retirarse y volver a entrar por su borde de área de despliegue.","R","B",1]
["Despertando del letargo",5,"VOL igual al turno en juego.","R","B",1]
["Devora almas",8,"-1 herida si mata en CaC.","R","B",1]
["Difícil de matar",8,"Enemigo CH IMP -1.","R","B",1]
["Dios de la roca",60,"Supera CH CON con un crítico.","R","B",1]
["Dios del acero",60,"Supera CH DEF con un crítico.","R","B",1]
["Dios del agua",60,"Supera CH INT con un crítico.","R","B",1]
["Dios del fuego",60,"Supera CH VOL con un crítico.","R","B",1]
["Dios del viento",60,"Supera CH AGI con un crítico.","R","B",1]
["Dirección resistida",-5,"El transporte no puede girar más de 45º por acción.","T","M",5]
["Dispersión",-5,"Si en el CM IMP no hay crítico, dispersa: con LdV 1D10 K por cada 30 K, y sin LdV 1D10 K por cada 20 K.","A","M",2]
["Distorsión envenenada",10,"A 5 K de este objeto: 9 y 10 en 1D10 se considera pifia realizando invocaciones.","M","B",4]
["Distorsión psíquica",10,"A 5 K: neuromantes y titiriteros CH ATR -1, tropas desplegadas o teleportadas terreno difícil, y tropas por aire o teleportadas CH AGI. Si se falla, CH CON. Si se falla, 3 heridas.","M","B",4]
["Droga",-5,"30% de crear una adicción. El adicto deberá utilizar el objeto cada turno o sufrir: 1 estrés, CH PSI, CH ATR -1 el resto de la actuación y 10% de hacerse \"yonki\".","M","M",4]
["Drogas de combate",8,"[Droga] +5 ENE. ENE 0 en la siguiente actuación, sin poder reaccionar. 2 drogas de combate el mismo turno = 5 heridas al final de la actuación.","M","B",4]
["Duro",15,"DEF +1. No cuenta para sobrecarga.","R","B",1]
["Élite bestia",25,"Puede repetir CH CON.","R","B",1]
["Élite blindado",30,"Puede repetir CH DEF.","R","B",1]
["Élite combate",25,"Puede repetir CH AGI.","R","B",1]
["Élite erudito",25,"Puede repetir CH INT.","R","B",1]
["Élite ultra",35,"Puede repetir CH ATR.","R","B",1]
["Élite valiente",25,"Puede repetir CH VOL.","R","B",1]
["Elixir N1",5,"Sana 1 herida /N y elimina efectos como veneno. Después se elimina del juego.","M","B",4]
["Elixir N2",10,"Sana 1 herida /N y elimina efectos como veneno. Después se elimina del juego.","M","B",4]
["Elixir N3",15,"Sana 1 herida /N y elimina efectos como veneno. Después se elimina del juego.","M","B",4]
["Elixir N4",20,"Sana 1 herida /N y elimina efectos como veneno. Después se elimina del juego.","M","B",4]
["Elixir N5",25,"Sana 1 herida /N y elimina efectos como veneno. Después se elimina del juego.","M","B",4]
["Empuñadura larga",3,"Puede DAÑ+1 y DEF-1.","A","B",2]
["Energía psíquica",5,"Puede estrés+1 y ENE+3.","R","B",1]
["Energía vital",5,"En CaC, antes de CH DEF, puede DAÑ+X.  X=heridas ganadas.","R","B",1]
["Enfermo terminal",-10,"+1 herida tras cada actuación.","R","M",1]
["Enorme",-5,"sólo se puede equipar en transportes.","A","M",2]
["Entrenado para matar",5,"Repite CH IMP si pifia.","R","B",1]
["Entrenado para vivir",5,"Repite CH DEF si pifia.","R","B",1]
["Equipo pesado",-5,"Si el personaje tiene CON 4 o menos, terreno difícil. En transporte no.","A","M",2]
["Escuchimizado",-10,"DEF -1 (mínimo 0).","R","M",1]
["Escudo coriáceo N01",5,"Antes de sufrir heridas tiene que perder niveles de este bonus.","P","B",3]
["Escudo coriáceo N02",10,"Antes de sufrir heridas tiene que perder niveles de este bonus.","P","B",3]
["Escudo coriáceo N03",15,"Antes de sufrir heridas tiene que perder niveles de este bonus.","P","B",3]
["Escudo coriáceo N04",20,"Antes de sufrir heridas tiene que perder niveles de este bonus.","P","B",3]
["Escudo coriáceo N05",25,"Antes de sufrir heridas tiene que perder niveles de este bonus.","P","B",3]
["Escudo coriáceo N06",30,"Antes de sufrir heridas tiene que perder niveles de este bonus.","P","B",3]
["Escudo coriáceo N07",35,"Antes de sufrir heridas tiene que perder niveles de este bonus.","P","B",3]
["Escudo coriáceo N08",40,"Antes de sufrir heridas tiene que perder niveles de este bonus.","P","B",3]
["Escudo coriáceo N09",45,"Antes de sufrir heridas tiene que perder niveles de este bonus.","P","B",3]
["Escudo coriáceo N10",50,"Antes de sufrir heridas tiene que perder niveles de este bonus.","P","B",3]
["Escudo de energía avanzado N01",10,"Puedes CH DEF 6 para defenderte de un ataque a distancia. Si falla, se pierde un nivel de escudo. Se puede recuperar un nivel con ENE 6 si tiene nivel 1 o más.","P","B",3]
["Escudo de energía avanzado N02",20,"Puedes CH DEF 6 para defenderte de un ataque a distancia. Si falla, se pierde un nivel de escudo. Se puede recuperar un nivel con ENE 6 si tiene nivel 1 o más.","P","B",3]
["Escudo de energía avanzado N03",30,"Puedes CH DEF 6 para defenderte de un ataque a distancia. Si falla, se pierde un nivel de escudo. Se puede recuperar un nivel con ENE 6 si tiene nivel 1 o más.","P","B",3]
["Escudo de energía avanzado N04",40,"Puedes CH DEF 6 para defenderte de un ataque a distancia. Si falla, se pierde un nivel de escudo. Se puede recuperar un nivel con ENE 6 si tiene nivel 1 o más.","P","B",3]
["Escudo de energía avanzado N05",50,"Puedes CH DEF 6 para defenderte de un ataque a distancia. Si falla, se pierde un nivel de escudo. Se puede recuperar un nivel con ENE 6 si tiene nivel 1 o más.","P","B",3]
["Escudo de energía avanzado N06",60,"Puedes CH DEF 6 para defenderte de un ataque a distancia. Si falla, se pierde un nivel de escudo. Se puede recuperar un nivel con ENE 6 si tiene nivel 1 o más.","P","B",3]
["Escudo de energía avanzado N07",70,"Puedes CH DEF 6 para defenderte de un ataque a distancia. Si falla, se pierde un nivel de escudo. Se puede recuperar un nivel con ENE 6 si tiene nivel 1 o más.","P","B",3]
["Escudo de energía avanzado N08",80,"Puedes CH DEF 6 para defenderte de un ataque a distancia. Si falla, se pierde un nivel de escudo. Se puede recuperar un nivel con ENE 6 si tiene nivel 1 o más.","P","B",3]
["Escudo de energía avanzado N09",90,"Puedes CH DEF 6 para defenderte de un ataque a distancia. Si falla, se pierde un nivel de escudo. Se puede recuperar un nivel con ENE 6 si tiene nivel 1 o más.","P","B",3]
["Escudo de energía avanzado N10",100,"Puedes CH DEF 6 para defenderte de un ataque a distancia. Si falla, se pierde un nivel de escudo. Se puede recuperar un nivel con ENE 6 si tiene nivel 1 o más.","P","B",3]
["Escudo de energía N01",5,"Puedes CH DEF 4 para defenderte de un ataque a distancia. Si falla, se pierde un nivel de escudo. Se puede recuperar un nivel con ENE 4 si tiene nivel 1 o más.","P","B",3]
["Escudo de energía N010",50,"Puedes CH DEF 4 para defenderte de un ataque a distancia. Si falla, se pierde un nivel de escudo. Se puede recuperar un nivel con ENE 4 si tiene nivel 1 o más.","P","B",3]
["Escudo de energía N02",10,"Puedes CH DEF 4 para defenderte de un ataque a distancia. Si falla, se pierde un nivel de escudo. Se puede recuperar un nivel con ENE 4 si tiene nivel 1 o más.","P","B",3]
["Escudo de energía N03",15,"Puedes CH DEF 4 para defenderte de un ataque a distancia. Si falla, se pierde un nivel de escudo. Se puede recuperar un nivel con ENE 4 si tiene nivel 1 o más.","P","B",3]
["Escudo de energía N04",20,"Puedes CH DEF 4 para defenderte de un ataque a distancia. Si falla, se pierde un nivel de escudo. Se puede recuperar un nivel con ENE 4 si tiene nivel 1 o más.","P","B",3]
["Escudo de energía N05",25,"Puedes CH DEF 4 para defenderte de un ataque a distancia. Si falla, se pierde un nivel de escudo. Se puede recuperar un nivel con ENE 4 si tiene nivel 1 o más.","P","B",3]
["Escudo de energía N06",30,"Puedes CH DEF 4 para defenderte de un ataque a distancia. Si falla, se pierde un nivel de escudo. Se puede recuperar un nivel con ENE 4 si tiene nivel 1 o más.","P","B",3]
["Escudo de energía N07",35,"Puedes CH DEF 4 para defenderte de un ataque a distancia. Si falla, se pierde un nivel de escudo. Se puede recuperar un nivel con ENE 4 si tiene nivel 1 o más.","P","B",3]
["Escudo de energía N08",40,"Puedes CH DEF 4 para defenderte de un ataque a distancia. Si falla, se pierde un nivel de escudo. Se puede recuperar un nivel con ENE 4 si tiene nivel 1 o más.","P","B",3]
["Escudo de energía N09",45,"Puedes CH DEF 4 para defenderte de un ataque a distancia. Si falla, se pierde un nivel de escudo. Se puede recuperar un nivel con ENE 4 si tiene nivel 1 o más.","P","B",3]
["Estandarte",30,"CH VOL +1 a aliados a 10 K.","M","B",4]
["Explorador",2,"+1 a la tirada de ventaja.","R","B",1]
["Explota",-10,"50% de explotar al morir. Si explota, DAÑ igual al del ataque que lo hizo expltar, a tantos K como MOV.","T","M",5]
["Fanático",5,"Nunca huirá ni entrará en pánico.","R","B",1]
["Faro",10,"A 5 K: niega dispersión y distorsión y permite despliegue o teleport a 5 K de enemigos.","M","B",4]
["Fatality",5,"Cuando mata en CaC, enemigos a 5K sufren acobardamiento.","R","B",1]
["Filo romo",-10,"DAÑ-1","A","M",2]
["Fortuna",15,"Una vez por turno: ignorar DAÑ o pifia; anular dado,  recuperar 1 herida, éxito +1, DAÑ+1.","R","B",1]
["Fosforito",-10,"CH IMP +1 a distancia.","P","M",3]
["Francotirador",5,"Siempre acierta a un enemigo trabado en CaC o en una formación.","R","B",1]
["Frenesí",5,"Puede DAÑ +2 en 1 combate CaC, y DEF=0 hasta el inicio de su siguiente actuación.","R","B",1]
["Fuego a larga",5,"Puede ALCx2 y ENEx2.","A","B",2]
["Fuego a ráfagas",5,"Si realiza 3 ataques a distancia consecutivos contra un mismo objetivo, cada siguiente ataque costará ENE-1. El 4º ataque costará ENE.","A","B",2]
["Fuego automático",5,"CH IMP -1 y ENE -1 cada ataque a distancia consecutivo (ENE mín. 1).","A","B",2]
["Fuego en las venas",5,"Puede +3 K en cualquier acción de movimiento. Gana 1 herida.","T","B",5]
["Fuego pesado",5,"ENE +3 y DAÑ +3.","A","B",2]
["Fuego sostenido",5,"DAÑ+1 por cada impacto consecutivo a un mismo enemigo.","A","B",2]
["Gallina",-3,"Huye de CaC si su bando es inferior.","R","M",1]
["Garras y dientes",5,"DAÑ CaC sin armas igual a CON/2. No puede coger equipo.","R","B",1]
["Genio estratega",5,"Aliados a 3 K, ENE+1 al iniciar su acutación.","R","B",1]
["Golpe de los dioses",10,"[Dispersión] Puede atacar a cualquier punto a su alcance, a cielo abierto, sin LdV.","A","B",2]
["Gran bestia",10,"Solo es herido con DAÑ > CON/2.","R","B",1]
["Gran demonio",10,"Enemigos a tantos K como VOL: CH PSI. Si falla: CH LOC -2.","R","B",1]
["Grito berserker",20,"Aliados a 5K, distancia carga +2 si así llegan a CaC.","R","B",1]
["Grito de combate",25,"Aliados a 5K, DAÑ+1 en primer ataque cargando.","R","B",1]
["Grito de fuego",25,"Aliados a 5K, CH IMP +1 en combate a distancia.","R","B",1]
["Grito de guerra",30,"Aliados a 5K, repiten CH IMP.","R","B",1]
["Grito de hielo",25,"Enemigos a 5K DAÑ-1 en CaC.","R","B",1]
["Grito de maestría",25,"Armas de aliados a 5K ENE-1, mín. 1.","R","B",1]
["Grito de muerte",25,"Aliados 5K sin cargar DAÑ+1 CaC.","R","B",1]
["Grito de odio",25,"Aliados a 5K CH IMP+1 en CaC.","R","B",1]
["Grito de oscuridad",25,"Enemigos atacando a aliados a 5K de este personaje sufren CH IMP-1.","R","B",1]
["Grito de puntería",25,"Los objetivos a distancia de los aliados a 5K sufren CH DEF -1.","R","B",1]
["Grito de sangre",20,"Aliados a 5K, si matan en CaC, movimiento +2 para trabarse en CaC.","R","B",1]
["Grito de venganza",20,"Aliados a 5K,  si muere CaC, 1 ataque gratis contra su asesino.","R","B",1]
["Grito de veterano",25,"Aliados a 5K con crítico en CH IMP ganan ataque extra (ENE 0).","R","B",1]
["Guardaespaldas",2,"Puede asignarse el impacto de un ataque a un aliado a 3K. Cruza este Pj en la LdF.","R","B",1]
["Hálito de debilidad",25,"Enemigos a 5K CH CON -1.","R","B",1]
["Hálito de entumecimiento",25,"Enemigos a 5K CH AGI -1.","R","B",1]
["Hálito de hambre",25,"Enemigos a 5K ENE -1.","R","B",1]
["Hálito de imbecilidad",25,"Enemigos a 5K CH INT -1.","R","B",1]
["Hálito de miedo",25,"Enemigos a 5K CH VOL -1.","R","B",1]
["Hálito de podredumbre",30,"Enemigos a 5K CH DEF -1.","R","B",1]
["Héroe",2,"Si Her >= CON, inconsciente, -1 herida cada actuación.","R","B",1]
["Hielo",5,"Capacidad de contra atacar de un elemento ante ataques psíquicos. Si no tiene PJ dedicado, sus valores serán INT, VOL y CAL = 3."]
["Horror",5,"Enemigo CH PSI para poder atacar CaC.","R","B",1]
["Humo",3,"Crea esferas de humo de hasta 2 K. Ataques hacia o desde el humo CH IMP -1.","A","B",2]
["Humo denso",6,"Crea esferas de humo de hasta 4 K. Ataques hacia o desde el humo CH IMP -3.","A","B",2]
["Incapacidad ( )",-5,"CH ATR -1 en una acción genérica o de movimiento a elegir, o con un objeto.","R","M",1]
["Incapacidad de combate ( )",-10,"CH ATR -1 en una acción de combate, o con un arma.","R","M",1]
["Incorpóreo",5,"El personaje se hace traslúcido y puede cruzar obstáculos; pero no interactuar con otros, ni combatir, ni ser elegido para una acción.","M","B",4]
["Inflamable",-5,"Si muere, explota. Si pifia, 30% de explotar. Explosión: DAÑ=DAÑ/2 y ARE R(DAÑ).","A","M",2]
["Invisible",15,"Puedes retirar la miniatura del tablero (ENE1 y CH VOL). Se marcará su posición de alguna manera, a escondidas.","M","B",4]
["Invocación",7,"[Neuromante] Requiere superar un CH INT. El efecto dura hasta la siguiente actuación del Pj, o su muerte si ocurre antes.","M","B",4]
["Invulnerable ( )",8,"Inmune a una sustancia o elemento.","R","B",1]
["Ira",10,"Si es herido en CaC pero no muere, su siguiente actuación CH IMP y DAÑ +1 en combate CaC.","R","B",1]
["La mano de la muerte",5,"Puede (ENE 3, CH VOL) pasar 1 Her a otro Pj voluntario o inconsciente. Con VOL6, puede elegir origen y destino a VOL K. Con enemigo, CH VOL ENF.","R","B",1]
["Laborioso",-5,"No se puede comerciar con este objeto.","M","M",4]
["Larga vida",15,"No sufre heridas si supera el CH DEF.","R","B",1]
["Lastrado",-5,"No puede correr ni esprintar.","T","M",5]
["Lento",-10,"ENE+1 en acciones de movimiento.","R","M",1]
["Levitador",1,"Flota en altura 1 a una altura de 1/2 K.","T","B",5]
["Líder",3,"Comparte su nivel de VOL a 5K.","R","B",1]
["Loco",-10,"CH LOC -1.","R","M",1]
["Locura asesina",-5,"Al inicio de la actuación, si no está en CaC, 20% de que ataque a distancia a la mini más cercana, o a CaC con carga.","R","M",1]
["Lucha con 2 armas",10,"CH IMP +1 en CaC si empuña dos armas CaC.","R","B",1]
["Luchador consumado",3,"Enemigos en CaC múltiple no ganan bonus por sup. numérica.","R","B",1]
["Luz",2,"Ves y te ven en la oscuridad.","M","B",4]
["Machina mors",5,"Este arma puede reaccionar disparando con ENE 0 y sin CH VOL a todo en su CdT. CH IMP 4.","A","B",2]
["Maestría ( )",5,"CH ATR +1 en una acción genérica o de movimiento a elegir, o con un objeto.","R","B",1]
["Maestría en combate ( )",10,"CH ATR +1 en una acción de combate a elegir, o con un arma.","R","B",1]
["Maestro carnicero",10,"ENE -1 en armas con AGI.","R","B",1]
["Maestro de esgrima",10,"CH IMP, DAÑ o CH DEF +1 en CaC. Elige antes del CH IMP.","R","B",1]
["Maestro guerrero",20,"Repite CH IMP en CaC.","R","B",1]
["Maestro rúnico",10,"ENE -1 en armas con el bonus invocación.","R","B",1]
["Magia: anular",5,"[Metahabilidad] Anula un efecto, bonus, malus o invocación sobre un objetivo, hasta el inicio de la siguiente actuación del personaje anulando.","M","B",4]
["Magia: despistar",5,"[Metahabilidad] Mueve a un enemigo tantos K como INT.","M","B",4]
["Magia: dormir",5,"[Metahabilidad] Duerme a un enemigo que esté tranquilo.","M","B",4]
["Magia: resucitar",5,"[Metahabilidad, Shin] Puede poser un cadáver a tantos K como VOL. CON original, AGI 3, INT y VOL 1.","M","B",4]
["Magia: telekinesis",5,"[Metahabilidad] Mueve un objeto inanimado a distancia hasta tantos K como VOL. CON máx. = VOL.","M","B",4]
["Magia: tranquilizar",2,"[Metahabilidad] Tranquiliza a un enemigo.","M","B",4]
["Mal agüero",-1,"CH ATR -1 con bonus héroe.","A","M",2]
["Mala hechura",-10,"CH AGI -1.","P","M",3]
["Maldita armadura",-10,"CH DEF -1.","P","M",3]
["Maleficio ( )",1,"El malus en ( ) no afectan a su portador, sino al objetivo de la acción.","M","B",4]
["Malvado",-10,"Estrés+1 a quien lo use.","M","M",4]
["Maná N1",5,"Otorga cada principio de turno tanta ENE como N para usar metahabilidades.","M","B",4]
["Maná N2",10,"Otorga cada principio de turno tanta ENE como N para usar metahabilidades.","M","B",4]
["Maná N3",15,"Otorga cada principio de turno tanta ENE como N para usar metahabilidades.","M","B",4]
["Manipulador",3,"[Titiritero] Puede CH VOL ENF para dar un CH IMP-1 a quien le ataque a distancia, si tiene más VOL que el atacante.","R","B",1]
["Marcador de objetivos",10,"Permite marcar un objetivo (ENE 1) a tantos K como ALC. CH IMP +1 con el objetivo marcado.","T","B",5]
["Más alcance",5,"ALC +5 K.","A","B",2]
["Más munición",5,"Cada cargador, proyectiles x2.","A","B",2]
["Mascota mágica",10,"Acompaña al personaje: CON y DEF 3. Tiene 3 bonus. El Pj puede usar uno de estos bonus por aventura (ENE 1) que dura hasta el final de su siguiente actuación.","M","B",4]
["Matamuertos",10,"DAÑ +2 a enemigos \"no vivos\".","A","B",2]
["Matarife",10,"Con crítico en el CH IMP en CaC, DAÑ+2 en lugar de+1.","R","B",1]
["Mecha",1,"Este transporte se puede trabar en CaC. Se usan los atributos del piloto, excepto CON. Actúa como un Pj a pie.","T","B",5]
["Mega armadura",3,"Esta armadura puede equiparse con armas que tengan el malus \"enorme\".","P","B",3]
["Mente centrada",5,"La acción concentrarse otorga +2 en lugar de +1.","R","B",1]
["Meta visión",10,"Ve y selecciona objetivos a través de obstáculos opacos a tantos K como INT. Anula invisible o mimético.","R","B",1]
["Metamorfo",1,"Puede utilizar mutaciones","R","B",1]
["Miedo en las manos",-5,"Atacando a distancia debe elegir el enemigo más cercano.","R","M",1]
["Miembro extra",3,"Este personaje tiene un miembro útil más.","R","B",1]
["Miembros prescindibles",20,"Divide su cuerpo en zonas prescindibles (extremidades) y 1 zona crítica (Cabeza/tronco). Se acumularán heridas en cada extremidad hasta CON/2, que se perderá. Después en cabeza.","T","B",5]
["Mimético",5,"Este personaje y el enemigo que le ataque tienen CH IMP -3. Activar / desactivar, ENE 1.","P","B",3]
["Mucho más alcance",10,"ALC +10 K.","A","B",2]
["Mulo",5,"CON+1 para calcular DAÑ en CaC, embestir, mover objeto y sobrecarga.","R","B",1]
["Munición aliento de dragón",5,"ALC /2, DAÑ +2 y CAL -1.","A","B",2]
["Munición anti ( )",15,"DAÑ+2 contra ( ).","A","B",2]
["Munición atascada",-5,"10% de que el arma se atasque. Terminará la acción.","A","M",2]
["Munición aturdidora",5,"Si el objetivo es impactado, aunque no hiera, no podrá reaccionar y gana CT ATR -1.","A","B",2]
["Munición autopropulsada",10,"ALC x2.","A","B",2]
["Munición bendecida",10,"DAÑ +2 contra INT 6 o más.","A","B",2]
["Munición buscadora",5,"Niega DEF por cobertura.","A","B",2]
["Munición cegadora",5,"Si es impactado, ENE-3.","A","B",2]
["Munición corrosiva",10,"El objetivo, si supera el CH DEF, sufrirá 1 herida. Con pifia la sufre el atacante, sin CH DEF.","A","B",2]
["Munición de parada",5,"El objetivo se desplaza tantos K como DAÑ +2 - CON.","A","B",2]
["Munición de pulso",5,"DAÑ +2 contra vulnerable. Si no, DAÑ -2.","A","B",2]
["Munición de racimo",5,"DAÑ /2. ARE R(DAÑ).","A","B",2]
["Munición desestabilizadora",5,"Si el objetivo no muere, sus armas se descargarán, perderá los objetivos marcados, y anulará sus bonus hasta su siguiente actuación.","A","B",2]
["Munición estabilizadora",5,"Dispersa la mitad.","A","B",2]
["Munición excepcional",20,"Objetivo repite CH DEF si no lo supera con un crítico.","A","B",2]
["Munición experimental",20,"DAÑ +3 a ALC/2","A","B",2]
["Munición explosiva",20,"Impacta 2 veces (2 CH DEF).","A","B",2]
["Munición ígnea",5,"Si el arma hiere, el objetivo ganará el malus sobrecalentamiento.","A","B",2]
["Munición incendiaria",5,"Incendia si impacta. Estos, al principio de actuación, impacto automático de DAÑ 1. Puede apagar fuego (CH PSI y ENE 3).","A","B",2]
["Munición magnética",5,"La DEF de escudos de energía del objetivo = DEF/2. Sin escudos de energía, DAÑ/2.","A","B",2]
["Munición paralizante",10,"El objetivo, si es impactado, pierde tanta ENE como DAÑ.","A","B",2]
["Munición perforante",15,"El objetivo, DEF -2. No vale contra escudos de energía.","A","B",2]
["Munición psíquica",5,"Inflige estrés","A","B",2]
["Munición radiactiva",10,"Si hiere o mata, en ese punto se genera un área R3 permanente de DAÑ = DAÑ del arma.","A","B",2]
["Munición reforzada",10,"DAÑ +1 a distancia.","A","B",2]
["Munición regenerativa",2,"Gana 1 munición con una acción de ENE 1 y CH CAL. Si falla, CAL-1. ","A","B",2]
["Munición silenciosa",10,"CH DEF -1 atacando por un flanco o por detrás. No hace ruido.","A","B",2]
["Munición teledirigida",10,"El CH IMP siempre es 8.","A","B",2]
["Munición trazadora",8,"CH IMP +2 a distancia.","A","B",2]
["Munición ultraperforante",10,"DEF-5 si crítico.","A","B",2]
["Munición vida o muerte",8,"Niega repetir CH DEF.","A","B",2]
["Muro",5,"Esta protección protege contra estrés en lugar de contra heridas.","P","B",3]
["Mutación",7,"[Metamorfo] CH CON. Metahabilidad.","M","B",1]
["Muy débil",-10,"CH CON -1.","R","M",1]
["Muy miedoso",-10,"CH VOL -1.","R","M",1]
["Muy tonto",-10,"CH INT -1.","R","M",1]
["Muy torpe",-10,"CH AGI -1.","R","M",1]
["Necrófago",8,"Sanará 1 herida si se alimenta de un cadáver, ENE 5. Cada heridas recuperada, CON-1 del cadáver.","R","B",1]
["Neuromante",1,"Puede realizar invocaciones.","R","B",1]
["Neuropsico",-20,"CH PSI cuando se use este equipo.","M","M",4]
["Niega ( )",5,"Niega un bonus o característica.","M","B",4]
["No vivo",1,"No está vivo. Inmune a enfermedades y venenos.","R","B",1]
["Odiado",-20,"Enemigo en CaC CH IMP +1 y DAÑ +1.","R","M",1]
["Odio",20,"CH IMP y DAÑ +1 en CaC.","R","B",1]
["Orador",5,"Alcance VOLx2.","R","B",1]
["Órdenes",5,"1 vez por turno, puede dar hasta 3 ENE a un aliado a tantos K como VOL. Ese aliado actuará. Cuanto termine, seguirá el Pj con \"órdenes\".","R","B",1]
["Orgulloso",15,"Si gana heridas en CaC y no muere, podrá 1 ataque gratis a su agresor.","R","B",1]
["Otra oportunidad",15,"Tiene un 2º CH DEF con DEF /2.","P","B",3]
["Peligro",-5,"Si pifia en CH IMP, gana 1 DAÑ extra.","A","M",2]
["Pequeño",5,"CH IMP -1 en CaC. Enemigos CH IMP -1.","R","B",1]
["Perdido",-5,"Lo despliega el siguiente jugador enemigo.","R","M",1]
["Pez",2,"Respira bajo el agua. Nadar es como mover.","R","B",1]
["Piernas muy cortas",-10,"No puede esprintar. CH IMP -1 en combate CaC.","R","M",1]
["Piloto evasivo",5,"CH AGI +1 en acciones de movimiento complejas con transportes.","R","B",1]
["Pinchos",5,"DAÑ 2 en crítico de CH DEF en CaC.","P","B",3]
["Pista de aterrizaje",-5,"Necesita una superficie libre de obstáculos de 30 K de larga en línea recta para despegar y aterrizar.","T","M",5]
["Pivotante",5,"Puede pivotar, ENE 1.","T","B",5]
["Planeador",5,"Puede despegar, actuar en altura 2, y aterrizar por ENE 3. Si despega o aterriza en terreno difícil, CH AGI. Fallo, ENE -3 y CH CON. Fallo, 3 heridas.","T","B",5]
["Poderoso",10,"Poder +1 si recibe o inflige 1 herida (máx. 10). Puede incrementar DAÑ con Poder.","R","B",1]
["Ponzoña ( )",5,"Se puede derramar sobre armas para infectar al objetivo, al que se debe herir.","M","B",4]
["Presencia de claridad",25,"Aliados a 5K CH INT +1.","R","B",1]
["Presencia de destreza",25,"Aliados a 5K CH AGI +1.","R","B",1]
["Presencia de fuerza",25,"Aliados a 5K CH CON +1.","R","B",1]
["Presencia de honor",25,"Aliados a 5K CH VOL +1.","R","B",1]
["Presencia de protección",30,"Aliados 5K CH DEF +1.","R","B",1]
["Profesión acróbata",10,"CH AGI +1.","R","B",1]
["Profesión arquero",10,"CH IMP +1 a distancia.","R","B",1]
["Profesión bárbaro",10,"CH CON +1.","R","B",1]
["Profesión caballero",15,"CH DEF +1.","R","B",1]
["Profesión gladiador",10,"CH IMP +1 en CaC.","R","B",1]
["Profesión mago",10,"CH VOL +1.","R","B",1]
["Profesión sabio",10,"CH INT +1.","R","B",1]
["Proveedor pirata",-20,"Si pasa el CH DEF, hace otro.","P","M",3]
["Prueba de agilidad",-10,"Requiere superar un CH AGI.","M","M",4]
["Prueba de constitución",-10,"Requiere superar un CH CON.","M","M",4]
["Prueba de inteligencia",-10,"Requiere superar un CH INT.","M","M",4]
["Prueba de voluntad",-10,"Requiere superar un CH VOL.","M","M",4]
["Psicópata",5,"ENE +1 cada vez que hiera a alguien.","R","B",1]
["Pusilánime",-5,"ATR/2 sin un aliado a 10 K con bonus líder, aura de obstinación o presencia de honor.","R","M",1]
["Rabia",10,"CH IMP +1, DAÑ +1 y DEF -1 en CaC.","R","B",1]
["Radar",4,"Ignora invisible y mimético. Ve en oscuridad.","M","B",4]
["Radiante",-10,"Enemigos a 10 K deben atacarle a distancia antes que a otro, si no supurean un CH VOL.","R","M",1]
["Rambo",5,"Cualquier arma tendrá ENE 4 como máx.","R","B",1]
["Rápido",5,"Correr o esprintar +1 K.","R","B",1]
["Refuerzo",15,"CH DEF +1.","P","B",3]
["Regeneración",8,"Puede realizar una acción (ENE 3 y CH CON) para recuperar 1 herida.","R","B",1]
["Reliquia",-20,"Este equipo no se puede repetir en una lista de juego.","M","M",4]
["Rematador",3,"Lo que mata no puede resucitar.","A","B",2]
["Requiere ( )",-3,"El equipo exige al usuario una condición, objeto, bonus o cierto nivel.","M","M",4]
["Resistencia a ( )",10,"DEF+2 contra ( ).","P","B",3]
["Resistencia mental",5,"CH ATR -1 a las acciones contra este personaje que requieran CH VOL ENF.","R","B",1]
["Resonador",5,"Un neuromante puede invocar desde este Pj, que recibe 1 estrés y CH PSI. Puede resistirse con CH VOL ENF.","R","B",1]
["Resurrección",5,"Cada turno, después de morir, lanza 1D10. Crítico: vive con tantas her como CON-1.","R","B",1]
["Retirada ordenada",5,"CH ATR +2 destrabándose.","R","B",1]
["Retros",5,"Puede parar su movimiento en el aire, en altura 3 (ENE 1). Cuenta como acción de movimiento.","T","B",5]
["Revientamuros",10,"DAÑ+3 en CaC a puertas, muros, tanques.","A","B",2]
["Rey Dragón",40,"Siempre supera los CH VOL.","R","B",1]
["Rey Hechicero",40,"Siempre supera los CH INT.","R","B",1]
["Rey Inmortal",50,"Siempre supera los CH DEF.","R","B",1]
["Rey Mono",40,"Siempre supera los CH AGI.","R","B",1]
["Rey Titán",40,"Siempre supera los CH CON.","R","B",1]
["Runas de combate",10,"CH VOL ENF +1.","M","B",4]
["Runas de protección",3,"No sufre \"peligros de las metahabilidades\".","M","B",4]
["Runas de rechazo",10,"Puede repetir CH VOL ENF cuando es el objetivo de una acción.","M","B",4]
["Runas de vacío",5,"Puede anular, una vez por turno, los efectos de una metahabilidad sobre su persona con 5 o - en 1D10. Crítico, infligue un nivel de estrés al atacante (CH DEF = CH PSI).","M","B",4]
["Saikikku",5,"Si le hieren, todos en CaC ganan 1 estrés, sin CH DEF. Y un bonus deja de funcionarles hasta sus actuaciones.","R","B",1]
["Saltador",5,"Distancia de saltos +2 K. Puede saltar objetos tan altos como el pj. DAÑ/2 en caídas.","R","B",1]
["Salvaguarda",20,"Tiene un 2º CH DEF con DEF = 5.","P","B",3]
["Sangre de ácido",5,"Si le hieren, todos en CaC sufre una herida, sin CH DEF, y una Protección, -1 CAL.","R","B",1]
["Sanguinario",5,"Durante cada actuación, DAÑ +1 en CaC si hiere en CaC.","R","B",1]
["Sed de energía",5,"Puede robar ENE 3 a otro personaje, a tantos K como VOL (ENE 1 y CH VOL). Puede oponerse con CH VOL ENF. No se puede trabado en CaC.","R","B",1]
["Sed de sangre",5,"Tras acabar con su oponente en CaC, movimiento +2 si así puede volver a trabarse.","R","B",1]
["Sentido arácnido",5,"Puede reaccionar contra Pj escondidos, en silencio o invisibles, fuera de CdV, a tantos K como VOL. Puede pivotar hace ellos sin gastar ENE ni CH VOL.","R","B",1]
["Señor de la confusión",20,"Enemigos CaC o a distancia, CH INT -2 contra este personaje.","R","B",1]
["Señor de la congelación",20,"Enemigos CaC o a distancia, ENE -2 contra este personaje.","R","B",1]
["Señor de la corrosión",30,"Enemigos CaC o a distancia, CH DEF -2 contra este personaje.","R","B",1]
["Señor de la laceración",20,"Enemigos CaC o a distancia, DAÑ -2 contra este personaje.","R","B",1]
["Señor de Medusa",20,"Enemigos CaC o a distancia, CH AGI -2 contra este personaje.","R","B",1]
["Señor del hambre",20,"Enemigos CaC o a distancia, CH CON -2 contra este personaje.","R","B",1]
["Señor del sometimiento",20,"Enemigos CaC o a distancia, CH VOL -2 contra este personaje.","R","B",1]
["Señuelo",20,"Una vez por aventura, al final de su actuación, puede anunciar que la actuación fue un señuelo. Se ignora todo lo realizado excepto la ENE consumida y las heridas que este señuelo haya infligido o sufrido.","M","B",4]
["Serpiente",2,"Mover por recovecos es terreno fácil.","R","B",1]
["Servus",20,"CON y AGI +1.","P","B",3]
["Shin",5,"[Neuromante] DAÑ+1 en Corromper / Hackear.","R","B",1]
["Silenciador",3,"No hace ruido","A","B",2]
["Silencioso",3,"Mover sin hacer ruido cuesta tanta ENE como mover.","R","B",1]
["Sin cura",-20,"No puede recuperar heridas ni ser curado.","R","M",1]
["Sin daño",-10,"Esta arma no inflige heridas.","A","M",2]
["Sin dientes",-10,"No puede hacer críticos.","R","M",1]
["Sin estudios",-5,"No sabe leer","R","M",1]
["Sin miembro",-5,"Si la acción requiere ese miembro, será DIF.","R","M",1]
["Sin munición",-5,"Antes de realizar el CH IMP, 10% de que el arma no tenga munición. Se ","A","M",2]
["Sin sangre",-5,"Cualquier arma cuesta ENE +1.","R","M",1]
["Sin suerte",-15,"Resultados 9 y 10 son pifia.","R","M",1]
["Sobrecalentamiento",-10,"Si el transporte acumula 5 heridas, y realiza acciones de movimiento, CH DEF. Fallo, 1 herida.","T","M",5]
["Sombra",5,"DEF +1 tras cobertura. Puede \"esconderse\" sin estar tras cobertura.","R","B",1]
["Sub",1,"Puede mover en altura -3.","T","B",5]
["Súper fuerza",10,"Puede lanzar objetos como coches, CH CON, o camiones CH CON D -2, o cosas más grandes D -4. Si falla CH, +1 her sin CH DEF.","R","B",1]
["Súper salto",10,"Puede saltar 10 K (ENE 5 y CH AGI). Si despega o cae en terreno difícil, CH AGI. Si falla, ENE-2 y CH CON. Si falla, 3 her.","R","B",1]
["Súper sentidos",5,"Ignora elementos finos en la LdV, como humo, paredes de papel o noche, ventisca... ","R","B",1]
["Súper vista",3,"CdV +5 K.","R","B",1]
["Suspenso en gimnasia",-10,"Menos mover, todas las acciones de movimiento CH AGI.","R","M",1]
["Susto o muerte",2,"El objetivo puede elegir no hacer el CH DEF y DAÑ/2, o si hacerlo.","A","B",2]
["Talón de Aquiles ( )",-20,"DEF/2 contra ( ).","P","M",3]
["Teleport",5,"Puede tele transportarse una vez por aventura a un punto.","M","B",4]
["Teletrans",5,"Puede desaparecer y aparecer a 5 K (ENE 3). Si se traba, es carga.","R","B",1]
["Tembleque",-30,"CH IMP -3.","R","M",1]
["Temporizador",5,"[Vulnerable] Se activará pasado un tiempo a determinar.","M","B",4]
["Tempus: actuación",-5,"Efectos como metahabilidades.","M","M",4]
["Tempus: aventura",-5,"Los efectos permanecen hasta el final de la aventura.","M","M",4]
["Terrestre",0,"Puede mover 1 K en altura 1.","T","B",5]
["Terror",5,"Enemigos entrando o empezanso su actuación a tantos K como VOL: CH PSI.","R","B",1]
["Tirador mortal",5,"Crít. a distancia = DAÑ +2 (no +1).","R","B",1]
["Tiro parabólico",1,"El arma tiene tiro parabólico. Dispersa 1D10K por cada 30K al objetivo.","A","B",2]
["Titiritero",1,"Puede realizar ataduras","R","B",1]
["Todo terreno",5,"Dificultad del terreno inferior.","T","B",5]
["Transmutación",10,"Si muere o quiere (ENE3), se cambia por un nuevo Pj sin heridas, que debe tener comprado. Puede volver al Pj original si no ha muerto.","R","B",1]
["Trilero",8,"Repite 1 CH por turno.","R","B",1]
["Trípode",-5,"Si no se dispara apoyado, CH IMP -3.","A","M",2]
["Tripulación mínima ( )",-3,"Requiere (N) personajes extra para poder utilizarse.","T","M",5]
["Tropas avanzadas",5,"Puede mover hasta 5 K cuando se despliega, gratuitos y sin coste de ENE.","R","B",1]
["Tropas de incursión",5,"Puede entrar por cualquier borde del tablero a partir del turno 3, que no sea zona de despliegue enemiga.","R","B",1]
["Tropas de infiltración",5,"Despliega fuera de la zona del enemigo, a +10 K de un enemigo.","R","B",1]
["Tropas ocultas",8,"Despliega en cualquier punto del escenario, a +10 K de un enemigo.","R","B",1]
["Tropas tras las líneas enemigas",10,"Puede entrar por cualquier borde del tablero a partir del turno 3.","R","B",1]
["Tuerto",-10,"CH IMP -1.","R","M",1]
["Tullido",-10,"No puede cruzar obstáculos más de su rodilla, ni alcanzar a más de su pecho.","R","M",1]
["Ultraligero",20,"DEF -2 en sobrecarga.","P","B",3]
["Ultrarresistente",20,"DAÑ sufrido = DAÑ/2.","P","B",3]
["Un clavo ardiendo",3,"Si muere, 1D10. 1 ignora DAÑ.","R","B",1]
["Un uso por actuación",-5,"Sólo puede ser utilizado una vez por actuación y turno de juego.","M","M",4]
["Un uso por aventura",-10,"Sólo puede utilizarse una vez por aventura.","M","M",4]
["Velocista",5,"Puede esprintar 2 veces por actuación.","R","B",1]
["Veneno",5,"El objetivo sufrirá 1 herida al comenzar cada actuación. Si hay pifia en el CH IMP, se infecta el portador.","A","B",2]
["Venganza",5,"Si muere en CaC, ataque extra contra su Silencioso, con ENE 0.","R","B",1]
["Veterano",10,"Si crítico en combate, podrá realizar otra igual por ENE 0.","R","B",1]
["Vínculo ( )",-15,"Puede ser poseído por ( x ) aunque tenga menos estrés que VOL.","R","M",1]
["Visor N01",3," Ve con claridad de día, a 5 K/N. Anula los mod. negativos al atacar a larga distancia.","A","B",2]
["Visor N010",30," Ve con claridad de día, a 5 K/N. Anula los mod. negativos al atacar a larga distancia.","A","B",2]
["Visor N02",6," Ve con claridad de día, a 5 K/N. Anula los mod. negativos al atacar a larga distancia.","A","B",2]
["Visor N03",9," Ve con claridad de día, a 5 K/N. Anula los mod. negativos al atacar a larga distancia.","A","B",2]
["Visor N04",12," Ve con claridad de día, a 5 K/N. Anula los mod. negativos al atacar a larga distancia.","A","B",2]
["Visor N05",15," Ve con claridad de día, a 5 K/N. Anula los mod. negativos al atacar a larga distancia.","A","B",2]
["Visor N06",18," Ve con claridad de día, a 5 K/N. Anula los mod. negativos al atacar a larga distancia.","A","B",2]
["Visor N07",21," Ve con claridad de día, a 5 K/N. Anula los mod. negativos al atacar a larga distancia.","A","B",2]
["Visor N08",24," Ve con claridad de día, a 5 K/N. Anula los mod. negativos al atacar a larga distancia.","A","B",2]
["Visor N09",27," Ve con claridad de día, a 5 K/N. Anula los mod. negativos al atacar a larga distancia.","A","B",2]
["Vivir cansado",-10,"Las acciones cuestan ENE +1.","R","M",1]
["Vuelo",1,"Puede mover en altura 2.","T","B",5]
["Vuelo a gran altitud",1,"Puede mover en altura 3.","T","B",5]
["Vuelo espacial",1,"Puede mover en altura 4.","T","B",5]
["Vulnerable",-5,"Este equipo sufre +1 estrés con la acción \"corromper / hackear\".","M","M",4]
["Yonki",-5,"Puede usar droga sin ganar heridas, pero con CH LOC y CH CON. Si falla CH CON, inconsciente hasta su siguiente turno.","R","M",1]
["Zona de vacío",10,"Anula los  bonus o malus.","M","B",4]
["zzz*",0,null,"ZZZ","X",9]

{"sheet":"Area","index":7,"n_rows":71,"n_cols":7,"rows_kept":71,"cut":false,"hidden":false,"merged":[]}
["Area","Pts","Tamaño","Dato 1","Dato 2","Cm2"]
["-",0,0,0,0,0]
["G1/1",4,"l = 1, r = 1",1,1,{"$f":"(D3*3)+(PI()*((E3/2)*(E3/2)))","v":3.7853981633974483},4]
["G10/1",31,"l = 10, r = 1              33,14",10,1,{"$f":"(D4*3)+(PI()*((E4/2)*(E4/2)))","v":30.785398163397449},31]
["G10/2",33,"l = 10, r = 2              42,57",10,2,33.141592653589797,33]
["G10/3",37,"l = 10, r = 3              58,27",10,3,37.068583470577032,37]
["G10/4",43,"l = 10, r = 4              80,27",10,4,42.566370614359172,43]
["G2/1",7,"l = 2, r = 1",2,1,6.7853981633974483,7]
["G2/2",9,"l = 2, r = 2",2,2,9.1415926535897931,9]
["G3/1",10,"l = 3, r = 1",3,1,9.7853981633974492,10]
["G3/2",12,"l = 3, r = 2",3,2,12.141592653589793,12]
["G3/3",16,"l = 3, r = 3",3,3,16.068583470577035,16]
["G4/1",13,"l = 4, r = 1",4,1,12.785398163397449,13]
["G4/2",15,"l = 4, r = 2",4,2,15.141592653589793,15]
["G4/3",19,"l = 4, r = 3",4,3,19.068583470577035,19]
["G4/4",25,"l = 4, r = 4",4,4,24.566370614359172,25]
["G5/1",16,"l = 5, r = 1",5,1,15.785398163397449,16]
["G5/2",18,"l = 5, r = 2",5,2,18.141592653589793,18]
["G5/3",22,"l = 5, r = 3",5,3,22.068583470577035,22]
["G5/4",28,"l = 5, r = 4",5,4,27.566370614359172,28]
["G6/1",19,"l = 6, r = 1",6,1,18.785398163397449,19]
["G6/2",21,"l = 6, r = 2",6,2,21.141592653589793,21]
["G6/3",25,"l = 6, r = 3",6,3,25.068583470577035,25]
["G6/4",31,"l = 6, r = 4",6,4,30.566370614359172,31]
["G7/1",22,"l = 7, r = 1",7,1,21.785398163397449,22]
["G7/2",24,"l = 7, r = 2",7,2,24.141592653589793,24]
["G7/3",28,"l = 7, r = 3",7,3,28.068583470577035,28]
["G7/4",34,"l = 7, r = 4",7,4,33.566370614359172,34]
["G8/1",25,"l = 8, r = 1",8,1,24.785398163397449,25]
["G8/2",27,"l = 8, r = 2",8,2,27.141592653589793,27]
["G8/3",31,"l = 8, r = 3",8,3,31.068583470577035,31]
["G8/4",37,"l = 8, r = 4",8,4,36.566370614359172,37]
["G9/1",28,"l = 9, r = 1",9,1,27.785398163397449,28]
["G9/2",30,"l = 9, r = 2",9,2,30.141592653589793,30]
["G9/3",34,"l = 9, r = 3",9,3,34.068583470577032,34]
["G9/4",40,"l = 9, r = 4",9,4,39.566370614359172,40]
["L1",3,"largo = 1",1,null,{"$f":"D37*3","v":3},3]
["L10",30,"largo = 10",10,null,{"$f":"D38*3","v":30},30]
["L11",33,"largo = 11",11,null,33,33]
["L12",36,"largo = 12",12,null,36,36]
["L15",45,"largo = 15",15,null,45,45]
["L2",6,"largo = 2",2,null,6,6]
["L20",60,"largo = 20",20,null,60,60]
["L3",9,"largo = 3",3,null,9,9]
["L4",12,"largo = 4",4,null,12,12]
["L5",15,"largo = 5",5,null,15,15]
["L6",18,"largo = 6",6,null,18,18]
["L7",21,"largo = 7",7,null,21,21]
["L8",24,"largo = 8",8,null,24,24]
["L9",27,"largo = 9",9,null,27,27]
["R1",1,"diámetro = 1",1,null,{"$f":"PI()*((D51/2)*(D51/2))","v":0.78539816339744828},1]
["R10",79,"diámetro = 10",10,null,{"$f":"PI()*((D52/2)*(D52/2))","v":78.539816339744831},79]
["R2",3,"diámetro = 2",2,null,3.1415926535897931,3]
["R3",7,"diámetro = 3",3,null,7.0685834705770345,7]
["R4",13,"diámetro = 4",4,null,12.566370614359172,13]
["R5",20,"diámetro = 5",5,null,19.634954084936208,20]
["R6",28,"diámetro = 6",6,null,28.274333882308138,28]
["R7",38,"diámetro = 7",7,null,38.484510006474963,38]
["R8",50,"diámetro = 8",8,null,50.26548245743669,50]
["R9",64,"diámetro = 9",9,null,63.617251235193308,64]
["S1",3,"saltos = 1",1,null,{"$f":"D61*3","v":3},3]
["S10",30,"saltos = 10",10,null,{"$f":"D62*3","v":30},30]
["S2",6,"saltos = 2",2,null,6,6]
["S3",9,"saltos = 3",3,null,9,9]
["S4",12,"saltos = 4",4,null,12,12]
["S5",15,"saltos = 5",5,null,15,15]
["S6",18,"saltos = 6",6,null,18,18]
["S7",21,"saltos = 7",7,null,21,21]
["S8",24,"saltos = 8",8,null,24,24]
["S9",27,"saltos = 9",9,null,27,27]
["*",0,0,0,0,0]